{"text_format":"1","workbook":"xlsx","n_sheets":6,"sheets":["Blocked Macro Error Fix","Input","Development Details","Calculations","ICN Output","AICR Input"],"not_rendered":{"charts":0,"images":3,"macros":1,"external_links":0,"defined_names":43,"comments":0,"pivot_tables":0},"unopened":[],"bounds":{"document_bytes":16777216,"sheet_cells":100000,"rows_first":2000,"rows_last":500,"rows_between":2000,"halvings":0,"cell_chars":16384,"cell_head_chars":4096},"cells_cut":0,"cells_raw":0,"read":"whole","date_system":"1900"}

{"sheet":"Blocked Macro Error Fix","index":0,"n_rows":0,"n_cols":0,"rows_kept":0,"cut":false,"hidden":false,"merged":[]}

{"sheet":"Input","index":1,"n_rows":21,"n_cols":27,"rows_kept":21,"cut":false,"hidden":false,"merged":[]}
[null,null,null,null,null,null,null,null,null,null,null,null,null,null,null,null,null,null,null,null,null,null,null,null,null,null,{"$f":"PLANNING_SCHEME","v":"City of Mount Isa Planning Scheme (2020)"}]
[null,"Mount Isa City Council",null,null,null,null,null,null,null,null,null,null,null,null,null,null,null,null,null,null,null,null,null,null,null,null,{"$f":"AICR","v":"Adopted Infrastructure Charges Resolution No.3 (2020)"}]
[null,"Infrastructure Charges Calculator",null,null,null,null,null,null,null,null,null,null,null,null,null,null,null,null,null,null,null,null,null,null,null,null,{"$f":"APP_NO","v":0}]
[null,null,null,null,null,null,null,null,null,null,null,null,null,null,null,null,null,null,null,null,null,null,null,null,null,null,{"$f":"APP_NAME","v":0}]
[null,"City of Mount Isa Planning Scheme (2020)",null,null,null,null,null,null,null,null,null,null,null,null,null,null,null,null,null,null,null,null,null,null,null,null,{"$f":"FILEREF","v":0}]
[null,"Adopted Infrastructure Charges Resolution No.3 (2020)"]
[]
[]
["Development Application Number"]
[]
["Applicant Name"]
[]
["Real Property Description"]
[]
["Site Address"]
[]
["Date of Notice"]
[]
["Notice Number"]
[]
["File Reference"]

{"sheet":"Development Details","index":2,"n_rows":98,"n_cols":27,"rows_kept":98,"cut":false,"hidden":false,"merged":[]}
[null,null,null,null,null,null,null,null,null,null,null,null,null,null,null,null,null,null,null,null,null,null,null,null,null,null,{"$f":"PLANNING_SCHEME","v":"City of Mount Isa Planning Scheme (2020)"}]
["Development Details",null,null,null,null,null,null,null,null,null,null,null,null,null,null,null,null,null,null,null,null,null,null,null,null,null,{"$f":"AICR","v":"Adopted Infrastructure Charges Resolution No.3 (2020)"}]
[null,null,null,null,null,null,null,null,null,null,null,null,null,null,null,null,null,null,null,null,null,null,null,null,null,null,{"$f":"APP_NO","v":0}]
[null,"Charge Area/Region","Mt Isa - Fully Serviced",null,null,null,null,null,null,null,null,null,null,null,null,null,null,null,null,null,null,null,null,null,null,null,{"$f":"APP_NAME","v":0}]
[null,"Number of existing lots",1,"Component 1",null,null,null,null,null,null,null,null,null,null,null,null,null,null,null,null,null,null,null,null,null,null,{"$f":"FILEREF","v":0}]
[null,{"$f":"\"Lot credits - \"&D6","v":"Lot credits - Component 2"},null,"Component 2"]
[null,{"$f":"\"Lot credits - \"&D7","v":"Lot credits - Component 3"},null,"Component 3"]
[null,"Lot credits - Component 4",null,"Component 4"]
[null,"Lot credits - Component 5",null,"Component 5"]
[]
[null,"Application components",1]
[null,"(Number of chargeable uses)"]
[null,"Existing Use components",0]
[null,"(Number of chargeable uses)"]
[]
["Defined Use - Component 1",null,"Dwelling house"]
[]
[null,"Charge Type","Quantity"]
[]
[null,"3 or more bedrooms",4]
[]
[]
[]
["Defined Use - Component 2"]
[]
[null,"Charge Type","Quantity"]
[]
[]
[]
[]
[]
["Defined Use - Component 3"]
[]
[null,"Charge Type","Quantity"]
[]
[]
[]
[]
[]
["Defined Use - Component 4"]
[]
[null,"ChargeType","Quantity"]
[]
[]
[]
[]
[]
["Defined Use - Component 5"]
[]
[null,"Charge Type","Quantity"]
[]
[]
[]
[]
[]
[]
["Existing/Previous Use - Component 1"]
[]
[null,"Charge Type","Quantity"]
[]
[]
[]
[]
[]
["Existing/Previous Use - Component 2"]
[]
[null,"Charge Type","Quantity"]
[]
[]
[]
[]
[]
["Existing/Previous Use - Component 3"]
[]
[null,"Charge Type","Quantity"]
[]
[]
[]
[]
[]
["Existing/Previous Use - Component 4"]
[]
[null,"Charge Type","Quantity"]
[]
[]
[]
[]
[]
["Existing/Previous Use - Component 5"]
[]
[null,"Charge Type","Quantity"]
[]
[]
[]
[]
[]
[]
[null,"Previous Financial Contributions",0]

{"sheet":"Calculations","index":3,"n_rows":193,"n_cols":27,"rows_kept":193,"cut":false,"hidden":false,"merged":[]}
[null,null,null,null,null,null,null,null,null,null,null,null,null,null,null,null,null,null,null,null,null,null,null,null,null,null,{"$f":"PLANNING_SCHEME","v":"City of Mount Isa Planning Scheme (2020)"}]
[null,null,"Summary",null,null,null,null,null,null,null,null,null,null,null,null,null,null,null,null,null,null,null,null,null,null,null,{"$f":"AICR","v":"Adopted Infrastructure Charges Resolution No.3 (2020)"}]
[null,null,"Levied Charges",null,null,null,null,null,null,null,null,null,null,null,null,null,null,null,null,null,null,null,null,null,null,null,{"$f":"APP_NO","v":0}]
[null,null,"Infrastructure Network","Development Demand",{"$f":"IF(SUMIFS($H$18:$H$193,$A$18:$A$193,\"ED\")<SUMIFS($H$18:$H$193,$A$18:$A$193,\"EL\"),\"Previous Lawful Use\", \"Existing Lot Credit\")","v":"Existing Lot Credit"},"Levied Charge",null,null,null,null,null,null,null,null,null,null,null,null,null,null,null,null,null,null,null,null,{"$f":"APP_NAME","v":0}]
[null,null,"Water Supply",{"$f":"SUMIFS($H$18:$H$192,$B$18:$B$192,$C5&\"DD\")","v":16432},{"$f":"IF(SUMIFS($H$18:$H$193,$A$18:$A$193,\"ED\")<SUMIFS($H$18:$H$193,$A$18:$A$193,\"EL\"),SUMIFS($H$18:$H$193,$B$18:$B$193,$C5&\"ED\"), SUMIFS($H$18:$H$193,$B$18:$B$193,$C5&\"EL\"))","v":-4108},{"$f":"IF(-PFC<SUM($E$5:$E$9),D5,D5+E5)","v":12324},null,null,null,null,null,null,null,null,null,null,null,null,null,null,null,null,null,null,null,null,{"$f":"FILEREF","v":0}]
[null,null,"Wastewater",{"$f":"SUMIFS($H$18:$H$192,$B$18:$B$192,$C6&\"DD\")","v":10564},{"$f":"IF(SUMIFS($H$18:$H$193,$A$18:$A$193,\"ED\")<SUMIFS($H$18:$H$193,$A$18:$A$193,\"EL\"),SUMIFS($H$18:$H$193,$B$18:$B$193,$C6&\"ED\"), SUMIFS($H$18:$H$193,$B$18:$B$193,$C6&\"EL\"))","v":-2641},{"$f":"IF(-PFC<SUM($E$5:$E$9),D6,D6+E6)","v":7923}]
[null,null,"Stormwater",{"$f":"SUMIFS($H$18:$H$192,$B$18:$B$192,$C7&\"DD\")","v":1172},{"$f":"IF(SUMIFS($H$18:$H$193,$A$18:$A$193,\"ED\")<SUMIFS($H$18:$H$193,$A$18:$A$193,\"EL\"),SUMIFS($H$18:$H$193,$B$18:$B$193,$C7&\"ED\"), SUMIFS($H$18:$H$193,$B$18:$B$193,$C7&\"EL\"))","v":-293},{"$f":"IF(-PFC<SUM($E$5:$E$9),D7,D7+E7)","v":879}]
[null,null,"Transport",{"$f":"SUMIFS($H$18:$H$192,$B$18:$B$192,$C8&\"DD\")","v":29340},{"$f":"IF(SUMIFS($H$18:$H$193,$A$18:$A$193,\"ED\")<SUMIFS($H$18:$H$193,$A$18:$A$193,\"EL\"),SUMIFS($H$18:$H$193,$B$18:$B$193,$C8&\"ED\"), SUMIFS($H$18:$H$193,$B$18:$B$193,$C8&\"EL\"))","v":-7335},{"$f":"IF(-PFC<SUM($E$5:$E$9),D8,D8+E8)","v":22005}]
[null,null,"Parks",{"$f":"SUMIFS($H$18:$H$192,$B$18:$B$192,$C9&\"DD\")","v":1172},{"$f":"IF(SUMIFS($H$18:$H$193,$A$18:$A$193,\"ED\")<SUMIFS($H$18:$H$193,$A$18:$A$193,\"EL\"),SUMIFS($H$18:$H$193,$B$18:$B$193,$C9&\"ED\"), SUMIFS($H$18:$H$193,$B$18:$B$193,$C9&\"EL\"))","v":-293},{"$f":"IF(-PFC<SUM($E$5:$E$9),D9,D9+E9)","v":879}]
[null,null,null,null,"Previous Financial Contribution",{"$f":"-PFC","v":0}]
[null,null,null,null,"Total Adopted Charge",{"$f":"IF(F10<SUM(E5:E9),IF(SUM(D5:D9)+F10<0,0,SUM(D5:D9)+F10),IF(SUM(F5:F9)<0,0,SUM(F5:F9)))","v":44010}]
[]
[null,null,"Detailed Calculations"]
[]
[null,null,"Water Supply"]
[null,null,"Adopted Charges"]
[null,null,"Development Description","Units of Measure","Number of Units","Charge Rate","Reference","Amount"]
["DD",{"$f":"C15&\"DD\"","v":"Water SupplyDD"},{"$f":"\"Component 1 - \"&'Development Details'!$C$16","v":"Component 1 - Dwelling house"},{"$f":"IF('Development Details'!B$20=\"\",\"\",'Development Details'!B$20)","v":"3 or more bedrooms"},{"$f":"IF('Development Details'!C$20=\"\",\"\",'Development Details'!C$20)","v":4},{"$f":"IFERROR(INDEX(AICR_RATES,MATCH(CHARGE_AREA&COMP_1&$D18,AICR_REG&AICR_USE&AICR_CH_CAT,0),MATCH($C15,AICR_COL,0)),\"\")","v":4108},null,{"$f":"IFERROR(F18*E18,\"\")","v":16432},null,null,null,null,null,"Component 1 - UOM 1"]
["DD",{"$f":"C15&\"DD\"","v":"Water SupplyDD"},{"$f":"C18","v":"Component 1 - Dwelling house"},{"$f":"IF('Development Details'!B$21=\"\",\"\",'Development Details'!B$21)","v":""},{"$f":"IF('Development Details'!C$21=\"\",\"\",'Development Details'!C$21)","v":""},{"$f":"IFERROR(INDEX(AICR_RATES,MATCH(CHARGE_AREA&COMP_1&$D19,AICR_REG&AICR_USE&AICR_CH_CAT,0),MATCH($C15,AICR_COL,0)),\"\")","v":""},null,"",{"$f":"IF(H19=\"\",\"Y\",\"\")","v":"Y"},null,null,null,null,"Component 1 - UOM 2"]
["DD",{"$f":"C15&\"DD\"","v":"Water SupplyDD"},{"$f":"C18","v":"Component 1 - Dwelling house"},{"$f":"IF('Development Details'!B$22=\"\",\"\",'Development Details'!B$22)","v":""},{"$f":"IF('Development Details'!C$22=\"\",\"\",'Development Details'!C$22)","v":""},{"$f":"IFERROR(INDEX(AICR_RATES,MATCH(CHARGE_AREA&COMP_1&$D20,AICR_REG&AICR_USE&AICR_CH_CAT,0),MATCH($C15,AICR_COL,0)),\"\")","v":""},null,"",{"$f":"IF(H20=\"\",\"Y\",\"\")","v":"Y"},null,null,null,null,"Component 1 - UOM 3"]
["DD",{"$f":"C15&\"DD\"","v":"Water SupplyDD"},{"$f":"\"Component 2 - \"&'Development Details'!$C$24","v":"Component 2 - "},{"$f":"IF('Development Details'!B$28=\"\",\"\",'Development Details'!B$28)","v":""},{"$f":"IF('Development Details'!C$28=\"\",\"\",'Development Details'!C$28)","v":""},{"$f":"IFERROR(INDEX(AICR_RATES,MATCH(CHARGE_AREA&COMP_2&$D21,AICR_REG&AICR_USE&AICR_CH_CAT,0),MATCH($C15,AICR_COL,0)),\"\")","v":""},null,"",{"$f":"IF('Development Details'!$C$11=1,\"Y\",IF(H21=\"\",\"Y\",\"\"))","v":"Y"},null,null,null,null,"Component 2 - UOM 1"]
["DD",{"$f":"C15&\"DD\"","v":"Water SupplyDD"},{"$f":"C21","v":"Component 2 - "},{"$f":"IF('Development Details'!B$29=\"\",\"\",'Development Details'!B$29)","v":""},{"$f":"IF('Development Details'!C$29=\"\",\"\",'Development Details'!C$29)","v":""},{"$f":"IFERROR(INDEX(AICR_RATES,MATCH(CHARGE_AREA&COMP_2&$D22,AICR_REG&AICR_USE&AICR_CH_CAT,0),MATCH($C15,AICR_COL,0)),\"\")","v":""},null,"",{"$f":"IF('Development Details'!$C$11=1,\"Y\",IF(H22=\"\",\"Y\",\"\"))","v":"Y"},null,null,null,null,"Component 2 - UOM 2"]
["DD",{"$f":"C15&\"DD\"","v":"Water SupplyDD"},{"$f":"C21","v":"Component 2 - "},{"$f":"IF('Development Details'!B$30=\"\",\"\",'Development Details'!B$30)","v":""},{"$f":"IF('Development Details'!C$30=\"\",\"\",'Development Details'!C$30)","v":""},{"$f":"IFERROR(INDEX(AICR_RATES,MATCH(CHARGE_AREA&COMP_2&$D23,AICR_REG&AICR_USE&AICR_CH_CAT,0),MATCH($C15,AICR_COL,0)),\"\")","v":""},null,"",{"$f":"IF('Development Details'!$C$11=1,\"Y\",IF(H23=\"\",\"Y\",\"\"))","v":"Y"},null,null,null,null,"Component 2 - UOM 3"]
["DD",{"$f":"C15&\"DD\"","v":"Water SupplyDD"},{"$f":"\"Component 3 - \"&'Development Details'!$C$32","v":"Component 3 - "},{"$f":"IF('Development Details'!B$36=\"\",\"\",'Development Details'!B$36)","v":""},{"$f":"IF('Development Details'!C$36=\"\",\"\",'Development Details'!C$36)","v":""},{"$f":"IFERROR(INDEX(AICR_RATES,MATCH(CHARGE_AREA&COMP_3&$D24,AICR_REG&AICR_USE&AICR_CH_CAT,0),MATCH($C15,AICR_COL,0)),\"\")","v":""},null,"",{"$f":"IF('Development Details'!$C$11<3,\"Y\",IF(H24=\"\",\"Y\",\"\"))","v":"Y"},null,null,null,null,"Component 3 - UOM 1"]
["DD",{"$f":"C15&\"DD\"","v":"Water SupplyDD"},{"$f":"C24","v":"Component 3 - "},{"$f":"IF('Development Details'!B$37=\"\",\"\",'Development Details'!B$37)","v":""},{"$f":"IF('Development Details'!C$37=\"\",\"\",'Development Details'!C$37)","v":""},{"$f":"IFERROR(INDEX(AICR_RATES,MATCH(CHARGE_AREA&COMP_3&$D25,AICR_REG&AICR_USE&AICR_CH_CAT,0),MATCH($C15,AICR_COL,0)),\"\")","v":""},null,"",{"$f":"IF('Development Details'!$C$11<3,\"Y\",IF(H25=\"\",\"Y\",\"\"))","v":"Y"},null,null,null,null,"Component 3 - UOM 2"]
["DD",{"$f":"C15&\"DD\"","v":"Water SupplyDD"},{"$f":"C24","v":"Component 3 - "},{"$f":"IF('Development Details'!B$38=\"\",\"\",'Development Details'!B$38)","v":""},{"$f":"IF('Development Details'!C$38=\"\",\"\",'Development Details'!C$38)","v":""},{"$f":"IFERROR(INDEX(AICR_RATES,MATCH(CHARGE_AREA&COMP_3&$D26,AICR_REG&AICR_USE&AICR_CH_CAT,0),MATCH($C15,AICR_COL,0)),\"\")","v":""},null,"",{"$f":"IF('Development Details'!$C$11<3,\"Y\",IF(H26=\"\",\"Y\",\"\"))","v":"Y"},null,null,null,null,"Component 3 - UOM 3"]
["DD",{"$f":"C15&\"DD\"","v":"Water SupplyDD"},{"$f":"\"Component 4 - \"&'Development Details'!$C$40","v":"Component 4 - "},{"$f":"IF('Development Details'!B$44=\"\",\"\",'Development Details'!B$44)","v":""},{"$f":"IF('Development Details'!C$44=\"\",\"\",'Development Details'!C$44)","v":""},{"$f":"IFERROR(INDEX(AICR_RATES,MATCH(CHARGE_AREA&COMP_4&$D27,AICR_REG&AICR_USE&AICR_CH_CAT,0),MATCH($C15,AICR_COL,0)),\"\")","v":""},null,"",{"$f":"IF('Development Details'!$C$11<4,\"Y\",IF(H27=\"\",\"Y\",\"\"))","v":"Y"},null,null,null,null,"Component 4 - UOM 1"]
["DD",{"$f":"C15&\"DD\"","v":"Water SupplyDD"},{"$f":"C27","v":"Component 4 - "},{"$f":"IF('Development Details'!B$45=\"\",\"\",'Development Details'!B$45)","v":""},{"$f":"IF('Development Details'!C$45=\"\",\"\",'Development Details'!C$45)","v":""},{"$f":"IFERROR(INDEX(AICR_RATES,MATCH(CHARGE_AREA&COMP_4&$D28,AICR_REG&AICR_USE&AICR_CH_CAT,0),MATCH($C15,AICR_COL,0)),\"\")","v":""},null,"",{"$f":"IF('Development Details'!$C$11<4,\"Y\",IF(H28=\"\",\"Y\",\"\"))","v":"Y"},null,null,null,null,"Component 4 - UOM 2"]
["DD",{"$f":"C15&\"DD\"","v":"Water SupplyDD"},{"$f":"C27","v":"Component 4 - "},{"$f":"IF('Development Details'!B$46=\"\",\"\",'Development Details'!B$46)","v":""},{"$f":"IF('Development Details'!C$46=\"\",\"\",'Development Details'!C$46)","v":""},{"$f":"IFERROR(INDEX(AICR_RATES,MATCH(CHARGE_AREA&COMP_4&$D29,AICR_REG&AICR_USE&AICR_CH_CAT,0),MATCH($C15,AICR_COL,0)),\"\")","v":""},null,"",{"$f":"IF('Development Details'!$C$11<4,\"Y\",IF(H29=\"\",\"Y\",\"\"))","v":"Y"},null,null,null,null,"Component 4 - UOM 3"]
["DD",{"$f":"C15&\"DD\"","v":"Water SupplyDD"},{"$f":"\"Component 5 - \"&'Development Details'!$C$48","v":"Component 5 - "},{"$f":"IF('Development Details'!B$52=\"\",\"\",'Development Details'!B$52)","v":""},{"$f":"IF('Development Details'!C$52=\"\",\"\",'Development Details'!C$52)","v":""},{"$f":"IFERROR(INDEX(AICR_RATES,MATCH(CHARGE_AREA&COMP_5&$D30,AICR_REG&AICR_USE&AICR_CH_CAT,0),MATCH($C15,AICR_COL,0)),\"\")","v":""},null,"",{"$f":"IF('Development Details'!$C$11<5,\"Y\",IF(H30=\"\",\"Y\",\"\"))","v":"Y"},null,null,null,null,"Component 5 - UOM 1"]
["DD",{"$f":"C15&\"DD\"","v":"Water SupplyDD"},{"$f":"C30","v":"Component 5 - "},{"$f":"IF('Development Details'!B$53=\"\",\"\",'Development Details'!B$53)","v":""},{"$f":"IF('Development Details'!C$53=\"\",\"\",'Development Details'!C$53)","v":""},{"$f":"IFERROR(INDEX(AICR_RATES,MATCH(CHARGE_AREA&COMP_5&$D31,AICR_REG&AICR_USE&AICR_CH_CAT,0),MATCH($C15,AICR_COL,0)),\"\")","v":""},null,"",{"$f":"IF('Development Details'!$C$11<5,\"Y\",IF(H31=\"\",\"Y\",\"\"))","v":"Y"},null,null,null,null,"Component 5 - UOM 2"]
["DD",{"$f":"C15&\"DD\"","v":"Water SupplyDD"},{"$f":"C30","v":"Component 5 - "},{"$f":"IF('Development Details'!B$54=\"\",\"\",'Development Details'!B$54)","v":""},{"$f":"IF('Development Details'!C$54=\"\",\"\",'Development Details'!C$54)","v":""},{"$f":"IFERROR(INDEX(AICR_RATES,MATCH(CHARGE_AREA&COMP_5&$D32,AICR_REG&AICR_USE&AICR_CH_CAT,0),MATCH($C15,AICR_COL,0)),\"\")","v":""},null,"",{"$f":"IF('Development Details'!$C$11<5,\"Y\",IF(H32=\"\",\"Y\",\"\"))","v":"Y"},null,null,null,null,"Component 5 - UOM 3"]
[null,null,"Existing Demand"]
["ED",{"$f":"C15&\"ED\"","v":"Water SupplyED"},{"$f":"\"Existing Demand 1 - \"&'Development Details'!$C$57","v":"Existing Demand 1 - "},{"$f":"IF('Development Details'!B$61=\"\",\"\",'Development Details'!B$61)","v":""},{"$f":"IF('Development Details'!C$61=\"\",\"\",'Development Details'!C$61)","v":""},{"$f":"IFERROR(INDEX(AICR_RATES,MATCH(CHARGE_AREA&EXU_1&$D34,AICR_REG&AICR_USE&AICR_CH_CAT,0),MATCH($C15,AICR_COL,0))*-1,\"\")","v":""},null,{"$f":"IFERROR(F34*E34,\"\")","v":""},null,null,null,null,null,null,"Component 1 - UOM 1"]
["ED",{"$f":"C15&\"ED\"","v":"Water SupplyED"},{"$f":"C34","v":"Existing Demand 1 - "},{"$f":"IF('Development Details'!B$62=\"\",\"\",'Development Details'!B$62)","v":""},{"$f":"IF('Development Details'!C$62=\"\",\"\",'Development Details'!C$62)","v":""},{"$f":"IFERROR(INDEX(AICR_RATES,MATCH(CHARGE_AREA&EXU_1&$D35,AICR_REG&AICR_USE&AICR_CH_CAT,0),MATCH($C15,AICR_COL,0))*-1,\"\")","v":""},null,"",{"$f":"IF(H35=\"\",\"Y\",\"\")","v":"Y"},null,null,null,null,null,"Component 1 - UOM 2"]
["ED",{"$f":"C15&\"ED\"","v":"Water SupplyED"},{"$f":"C34","v":"Existing Demand 1 - "},{"$f":"IF('Development Details'!B$63=\"\",\"\",'Development Details'!B$63)","v":""},{"$f":"IF('Development Details'!C$63=\"\",\"\",'Development Details'!C$63)","v":""},{"$f":"IFERROR(INDEX(AICR_RATES,MATCH(CHARGE_AREA&EXU_1&$D36,AICR_REG&AICR_USE&AICR_CH_CAT,0),MATCH($C15,AICR_COL,0))*-1,\"\")","v":""},null,"",{"$f":"IF(H36=\"\",\"Y\",\"\")","v":"Y"},null,null,null,null,null,"Component 1 - UOM 3"]
["ED",{"$f":"C15&\"ED\"","v":"Water SupplyED"},{"$f":"\"Existing Demand 2 - \"&'Development Details'!$C$65","v":"Existing Demand 2 - "},{"$f":"IF('Development Details'!B$69=\"\",\"\",'Development Details'!B$69)","v":""},{"$f":"IF('Development Details'!C$69=\"\",\"\",'Development Details'!C$69)","v":""},{"$f":"IFERROR(INDEX(AICR_RATES,MATCH(CHARGE_AREA&EXU_2&$D37,AICR_REG&AICR_USE&AICR_CH_CAT,0),MATCH($C15,AICR_COL,0))*-1,\"\")","v":""},null,"",{"$f":"IF('Development Details'!$C$13=1,\"Y\",IF(H37=\"\",\"Y\",\"\"))","v":"Y"},null,null,null,null,null,"Component 2 - UOM 1"]
["ED",{"$f":"C15&\"ED\"","v":"Water SupplyED"},{"$f":"C37","v":"Existing Demand 2 - "},{"$f":"IF('Development Details'!B$70=\"\",\"\",'Development Details'!B$70)","v":""},{"$f":"IF('Development Details'!C$70=\"\",\"\",'Development Details'!C$70)","v":""},{"$f":"IFERROR(INDEX(AICR_RATES,MATCH(CHARGE_AREA&EXU_2&$D38,AICR_REG&AICR_USE&AICR_CH_CAT,0),MATCH($C15,AICR_COL,0))*-1,\"\")","v":""},null,"",{"$f":"IF('Development Details'!$C$13=1,\"Y\",IF(H38=\"\",\"Y\",\"\"))","v":"Y"},null,null,null,null,null,"Component 2 - UOM 2"]
["ED",{"$f":"C15&\"ED\"","v":"Water SupplyED"},{"$f":"C37","v":"Existing Demand 2 - "},{"$f":"IF('Development Details'!B$71=\"\",\"\",'Development Details'!B$71)","v":""},{"$f":"IF('Development Details'!C$71=\"\",\"\",'Development Details'!C$71)","v":""},{"$f":"IFERROR(INDEX(AICR_RATES,MATCH(CHARGE_AREA&EXU_2&$D39,AICR_REG&AICR_USE&AICR_CH_CAT,0),MATCH($C15,AICR_COL,0))*-1,\"\")","v":""},null,"",{"$f":"IF('Development Details'!$C$13=1,\"Y\",IF(H39=\"\",\"Y\",\"\"))","v":"Y"},null,null,null,null,null,"Component 2 - UOM 3"]
["ED",{"$f":"C15&\"ED\"","v":"Water SupplyED"},{"$f":"\"Existing Demand 3 - \"&'Development Details'!$C$73","v":"Existing Demand 3 - "},{"$f":"IF('Development Details'!B$77=\"\",\"\",'Development Details'!B$77)","v":""},{"$f":"IF('Development Details'!C$77=\"\",\"\",'Development Details'!C$77)","v":""},{"$f":"IFERROR(INDEX(AICR_RATES,MATCH(CHARGE_AREA&EXU_3&$D40,AICR_REG&AICR_USE&AICR_CH_CAT,0),MATCH($C15,AICR_COL,0))*-1,\"\")","v":""},null,"",{"$f":"IF('Development Details'!$C$13<3,\"Y\",IF(H40=\"\",\"Y\",\"\"))","v":"Y"},null,null,null,null,null,"Component 3 - UOM 1"]
["ED",{"$f":"C15&\"ED\"","v":"Water SupplyED"},{"$f":"C40","v":"Existing Demand 3 - "},{"$f":"IF('Development Details'!B$78=\"\",\"\",'Development Details'!B$78)","v":""},{"$f":"IF('Development Details'!C$78=\"\",\"\",'Development Details'!C$78)","v":""},{"$f":"IFERROR(INDEX(AICR_RATES,MATCH(CHARGE_AREA&EXU_3&$D41,AICR_REG&AICR_USE&AICR_CH_CAT,0),MATCH($C15,AICR_COL,0))*-1,\"\")","v":""},null,"",{"$f":"IF('Development Details'!$C$13<3,\"Y\",IF(H41=\"\",\"Y\",\"\"))","v":"Y"},null,null,null,null,null,"Component 3 - UOM 2"]
["ED",{"$f":"C15&\"ED\"","v":"Water SupplyED"},{"$f":"C40","v":"Existing Demand 3 - "},{"$f":"IF('Development Details'!B$79=\"\",\"\",'Development Details'!B$79)","v":""},{"$f":"IF('Development Details'!C$79=\"\",\"\",'Development Details'!C$79)","v":""},{"$f":"IFERROR(INDEX(AICR_RATES,MATCH(CHARGE_AREA&EXU_3&$D42,AICR_REG&AICR_USE&AICR_CH_CAT,0),MATCH($C15,AICR_COL,0))*-1,\"\")","v":""},null,"",{"$f":"IF('Development Details'!$C$13<3,\"Y\",IF(H42=\"\",\"Y\",\"\"))","v":"Y"},null,null,null,null,null,"Component 3 - UOM 3"]
["ED",{"$f":"C15&\"ED\"","v":"Water SupplyED"},{"$f":"\"Existing Demand 4 - \"&'Development Details'!$C$81","v":"Existing Demand 4 - "},{"$f":"IF('Development Details'!B$85=\"\",\"\",'Development Details'!B$85)","v":""},{"$f":"IF('Development Details'!C$85=\"\",\"\",'Development Details'!C$85)","v":""},{"$f":"IFERROR(INDEX(AICR_RATES,MATCH(CHARGE_AREA&EXU_4&$D43,AICR_REG&AICR_USE&AICR_CH_CAT,0),MATCH($C15,AICR_COL,0))*-1,\"\")","v":""},null,"",{"$f":"IF('Development Details'!$C$13<4,\"Y\",IF(H43=\"\",\"Y\",\"\"))","v":"Y"},null,null,null,null,null,"Component 4 - UOM 1"]
["ED",{"$f":"C15&\"ED\"","v":"Water SupplyED"},{"$f":"C43","v":"Existing Demand 4 - "},{"$f":"IF('Development Details'!B$86=\"\",\"\",'Development Details'!B$86)","v":""},{"$f":"IF('Development Details'!C$86=\"\",\"\",'Development Details'!C$86)","v":""},{"$f":"IFERROR(INDEX(AICR_RATES,MATCH(CHARGE_AREA&EXU_4&$D44,AICR_REG&AICR_USE&AICR_CH_CAT,0),MATCH($C15,AICR_COL,0))*-1,\"\")","v":""},null,"",{"$f":"IF('Development Details'!$C$13<4,\"Y\",IF(H44=\"\",\"Y\",\"\"))","v":"Y"},null,null,null,null,null,"Component 4 - UOM 2"]
["ED",{"$f":"C15&\"ED\"","v":"Water SupplyED"},{"$f":"C43","v":"Existing Demand 4 - "},{"$f":"IF('Development Details'!B$87=\"\",\"\",'Development Details'!B$87)","v":""},{"$f":"IF('Development Details'!C$87=\"\",\"\",'Development Details'!C$87)","v":""},{"$f":"IFERROR(INDEX(AICR_RATES,MATCH(CHARGE_AREA&EXU_4&$D45,AICR_REG&AICR_USE&AICR_CH_CAT,0),MATCH($C15,AICR_COL,0))*-1,\"\")","v":""},null,"",{"$f":"IF('Development Details'!$C$13<4,\"Y\",IF(H45=\"\",\"Y\",\"\"))","v":"Y"},null,null,null,null,null,"Component 4 - UOM 3"]
["ED",{"$f":"C15&\"ED\"","v":"Water SupplyED"},{"$f":"\"Existing Demand 5 - \"&'Development Details'!$C$89","v":"Existing Demand 5 - "},{"$f":"IF('Development Details'!B$93=\"\",\"\",'Development Details'!B$93)","v":""},{"$f":"IF('Development Details'!C$93=\"\",\"\",'Development Details'!C$93)","v":""},{"$f":"IFERROR(INDEX(AICR_RATES,MATCH(CHARGE_AREA&EXU_5&$D46,AICR_REG&AICR_USE&AICR_CH_CAT,0),MATCH($C15,AICR_COL,0))*-1,\"\")","v":""},null,"",{"$f":"IF('Development Details'!$C$13<5,\"Y\",IF(H46=\"\",\"Y\",\"\"))","v":"Y"},null,null,null,null,null,"Component 5 - UOM 1"]
["ED",{"$f":"C15&\"ED\"","v":"Water SupplyED"},{"$f":"C46","v":"Existing Demand 5 - "},{"$f":"IF('Development Details'!B$94=\"\",\"\",'Development Details'!B$94)","v":""},{"$f":"IF('Development Details'!C$94=\"\",\"\",'Development Details'!C$94)","v":""},{"$f":"IFERROR(INDEX(AICR_RATES,MATCH(CHARGE_AREA&EXU_5&$D47,AICR_REG&AICR_USE&AICR_CH_CAT,0),MATCH($C15,AICR_COL,0))*-1,\"\")","v":""},null,"",{"$f":"IF('Development Details'!$C$13<5,\"Y\",IF(H47=\"\",\"Y\",\"\"))","v":"Y"},null,null,null,null,null,"Component 5 - UOM 2"]
["ED",{"$f":"C15&\"ED\"","v":"Water SupplyED"},{"$f":"C46","v":"Existing Demand 5 - "},{"$f":"IF('Development Details'!B$95=\"\",\"\",'Development Details'!B$95)","v":""},{"$f":"IF('Development Details'!C$95=\"\",\"\",'Development Details'!C$95)","v":""},{"$f":"IFERROR(INDEX(AICR_RATES,MATCH(CHARGE_AREA&EXU_5&$D48,AICR_REG&AICR_USE&AICR_CH_CAT,0),MATCH($C15,AICR_COL,0))*-1,\"\")","v":""},null,"",{"$f":"IF('Development Details'!$C$13<5,\"Y\",IF(H48=\"\",\"Y\",\"\"))","v":"Y"},null,null,null,null,null,"Component 5 - UOM 3"]
["EL",{"$f":"C15&\"EL\"","v":"Water SupplyEL"},"Existing Lot Credit","Lots",{"$f":"SUM('Development Details'!$C$5:$C$9)","v":1},{"$f":"IFERROR(INDEX(AICR_RATES,MATCH(CHARGE_AREA&\"Reconfiguring a Lot - Residential\"&$D49,AICR_REG&AICR_USE&AICR_CH_CAT,0),MATCH($C15,AICR_COL,0))*-1,\"\")","v":-4108},null,-4108]
[]
[null,null,"Wastewater"]
[null,null,"Adopted Charges"]
[null,null,"Development Description","Units of Measure","Number of Units","Charge Rate","Reference","Amount"]
["DD",{"$f":"C51&\"DD\"","v":"WastewaterDD"},{"$f":"\"Component 1 - \"&'Development Details'!$C$16","v":"Component 1 - Dwelling house"},{"$f":"IF('Development Details'!B$20=\"\",\"\",'Development Details'!B$20)","v":"3 or more bedrooms"},{"$f":"IF('Development Details'!C$20=\"\",\"\",'Development Details'!C$20)","v":4},{"$f":"IFERROR(INDEX(AICR_RATES,MATCH(CHARGE_AREA&COMP_1&$D54,AICR_REG&AICR_USE&AICR_CH_CAT,0),MATCH($C51,AICR_COL,0)),\"\")","v":2641},null,{"$f":"IFERROR(F54*E54,\"\")","v":10564},null,null,null,null,null,"Component 1 - UOM 1"]
["DD",{"$f":"C51&\"DD\"","v":"WastewaterDD"},{"$f":"C54","v":"Component 1 - Dwelling house"},{"$f":"IF('Development Details'!B$21=\"\",\"\",'Development Details'!B$21)","v":""},{"$f":"IF('Development Details'!C$21=\"\",\"\",'Development Details'!C$21)","v":""},{"$f":"IFERROR(INDEX(AICR_RATES,MATCH(CHARGE_AREA&COMP_1&$D55,AICR_REG&AICR_USE&AICR_CH_CAT,0),MATCH($C51,AICR_COL,0)),\"\")","v":""},null,"",{"$f":"IF(H55=\"\",\"Y\",\"\")","v":"Y"},null,null,null,null,"Component 1 - UOM 2"]
["DD",{"$f":"C51&\"DD\"","v":"WastewaterDD"},{"$f":"C54","v":"Component 1 - Dwelling house"},{"$f":"IF('Development Details'!B$22=\"\",\"\",'Development Details'!B$22)","v":""},{"$f":"IF('Development Details'!C$22=\"\",\"\",'Development Details'!C$22)","v":""},{"$f":"IFERROR(INDEX(AICR_RATES,MATCH(CHARGE_AREA&COMP_1&$D56,AICR_REG&AICR_USE&AICR_CH_CAT,0),MATCH($C51,AICR_COL,0)),\"\")","v":""},null,"",{"$f":"IF(H56=\"\",\"Y\",\"\")","v":"Y"},null,null,null,null,"Component 1 - UOM 3"]
["DD",{"$f":"C51&\"DD\"","v":"WastewaterDD"},{"$f":"\"Component 2 - \"&'Development Details'!$C$24","v":"Component 2 - "},{"$f":"IF('Development Details'!B$28=\"\",\"\",'Development Details'!B$28)","v":""},{"$f":"IF('Development Details'!C$28=\"\",\"\",'Development Details'!C$28)","v":""},{"$f":"IFERROR(INDEX(AICR_RATES,MATCH(CHARGE_AREA&COMP_2&$D57,AICR_REG&AICR_USE&AICR_CH_CAT,0),MATCH($C51,AICR_COL,0)),\"\")","v":""},null,"",{"$f":"IF('Development Details'!$C$11=1,\"Y\",IF(H57=\"\",\"Y\",\"\"))","v":"Y"},null,null,null,null,"Component 2 - UOM 1"]
["DD",{"$f":"C51&\"DD\"","v":"WastewaterDD"},{"$f":"C57","v":"Component 2 - "},{"$f":"IF('Development Details'!B$29=\"\",\"\",'Development Details'!B$29)","v":""},{"$f":"IF('Development Details'!C$29=\"\",\"\",'Development Details'!C$29)","v":""},{"$f":"IFERROR(INDEX(AICR_RATES,MATCH(CHARGE_AREA&COMP_2&$D58,AICR_REG&AICR_USE&AICR_CH_CAT,0),MATCH($C51,AICR_COL,0)),\"\")","v":""},null,"",{"$f":"IF('Development Details'!$C$11=1,\"Y\",IF(H58=\"\",\"Y\",\"\"))","v":"Y"},null,null,null,null,"Component 2 - UOM 2"]
["DD",{"$f":"C51&\"DD\"","v":"WastewaterDD"},{"$f":"C57","v":"Component 2 - "},{"$f":"IF('Development Details'!B$30=\"\",\"\",'Development Details'!B$30)","v":""},{"$f":"IF('Development Details'!C$30=\"\",\"\",'Development Details'!C$30)","v":""},{"$f":"IFERROR(INDEX(AICR_RATES,MATCH(CHARGE_AREA&COMP_2&$D59,AICR_REG&AICR_USE&AICR_CH_CAT,0),MATCH($C51,AICR_COL,0)),\"\")","v":""},null,"",{"$f":"IF('Development Details'!$C$11=1,\"Y\",IF(H59=\"\",\"Y\",\"\"))","v":"Y"},null,null,null,null,"Component 2 - UOM 3"]
["DD",{"$f":"C51&\"DD\"","v":"WastewaterDD"},{"$f":"\"Component 3 - \"&'Development Details'!$C$32","v":"Component 3 - "},{"$f":"IF('Development Details'!B$36=\"\",\"\",'Development Details'!B$36)","v":""},{"$f":"IF('Development Details'!C$36=\"\",\"\",'Development Details'!C$36)","v":""},{"$f":"IFERROR(INDEX(AICR_RATES,MATCH(CHARGE_AREA&COMP_3&$D60,AICR_REG&AICR_USE&AICR_CH_CAT,0),MATCH($C51,AICR_COL,0)),\"\")","v":""},null,"",{"$f":"IF('Development Details'!$C$11<3,\"Y\",IF(H60=\"\",\"Y\",\"\"))","v":"Y"},null,null,null,null,"Component 3 - UOM 1"]
["DD",{"$f":"C51&\"DD\"","v":"WastewaterDD"},{"$f":"C60","v":"Component 3 - "},{"$f":"IF('Development Details'!B$37=\"\",\"\",'Development Details'!B$37)","v":""},{"$f":"IF('Development Details'!C$37=\"\",\"\",'Development Details'!C$37)","v":""},{"$f":"IFERROR(INDEX(AICR_RATES,MATCH(CHARGE_AREA&COMP_3&$D61,AICR_REG&AICR_USE&AICR_CH_CAT,0),MATCH($C51,AICR_COL,0)),\"\")","v":""},null,"",{"$f":"IF('Development Details'!$C$11<3,\"Y\",IF(H61=\"\",\"Y\",\"\"))","v":"Y"},null,null,null,null,"Component 3 - UOM 2"]
["DD",{"$f":"C51&\"DD\"","v":"WastewaterDD"},{"$f":"C60","v":"Component 3 - "},{"$f":"IF('Development Details'!B$38=\"\",\"\",'Development Details'!B$38)","v":""},{"$f":"IF('Development Details'!C$38=\"\",\"\",'Development Details'!C$38)","v":""},{"$f":"IFERROR(INDEX(AICR_RATES,MATCH(CHARGE_AREA&COMP_3&$D62,AICR_REG&AICR_USE&AICR_CH_CAT,0),MATCH($C51,AICR_COL,0)),\"\")","v":""},null,"",{"$f":"IF('Development Details'!$C$11<3,\"Y\",IF(H62=\"\",\"Y\",\"\"))","v":"Y"},null,null,null,null,"Component 3 - UOM 3"]
["DD",{"$f":"C51&\"DD\"","v":"WastewaterDD"},{"$f":"\"Component 4 - \"&'Development Details'!$C$40","v":"Component 4 - "},{"$f":"IF('Development Details'!B$44=\"\",\"\",'Development Details'!B$44)","v":""},{"$f":"IF('Development Details'!C$44=\"\",\"\",'Development Details'!C$44)","v":""},{"$f":"IFERROR(INDEX(AICR_RATES,MATCH(CHARGE_AREA&COMP_4&$D63,AICR_REG&AICR_USE&AICR_CH_CAT,0),MATCH($C51,AICR_COL,0)),\"\")","v":""},null,"",{"$f":"IF('Development Details'!$C$11<4,\"Y\",IF(H63=\"\",\"Y\",\"\"))","v":"Y"},null,null,null,null,"Component 4 - UOM 1"]
["DD",{"$f":"C51&\"DD\"","v":"WastewaterDD"},{"$f":"C63","v":"Component 4 - "},{"$f":"IF('Development Details'!B$45=\"\",\"\",'Development Details'!B$45)","v":""},{"$f":"IF('Development Details'!C$45=\"\",\"\",'Development Details'!C$45)","v":""},{"$f":"IFERROR(INDEX(AICR_RATES,MATCH(CHARGE_AREA&COMP_4&$D64,AICR_REG&AICR_USE&AICR_CH_CAT,0),MATCH($C51,AICR_COL,0)),\"\")","v":""},null,"",{"$f":"IF('Development Details'!$C$11<4,\"Y\",IF(H64=\"\",\"Y\",\"\"))","v":"Y"},null,null,null,null,"Component 4 - UOM 2"]
["DD",{"$f":"C51&\"DD\"","v":"WastewaterDD"},{"$f":"C63","v":"Component 4 - "},{"$f":"IF('Development Details'!B$46=\"\",\"\",'Development Details'!B$46)","v":""},{"$f":"IF('Development Details'!C$46=\"\",\"\",'Development Details'!C$46)","v":""},{"$f":"IFERROR(INDEX(AICR_RATES,MATCH(CHARGE_AREA&COMP_4&$D65,AICR_REG&AICR_USE&AICR_CH_CAT,0),MATCH($C51,AICR_COL,0)),\"\")","v":""},null,"",{"$f":"IF('Development Details'!$C$11<4,\"Y\",IF(H65=\"\",\"Y\",\"\"))","v":"Y"},null,null,null,null,"Component 4 - UOM 3"]
["DD",{"$f":"C51&\"DD\"","v":"WastewaterDD"},{"$f":"\"Component 5 - \"&'Development Details'!$C$48","v":"Component 5 - "},{"$f":"IF('Development Details'!B$52=\"\",\"\",'Development Details'!B$52)","v":""},{"$f":"IF('Development Details'!C$52=\"\",\"\",'Development Details'!C$52)","v":""},{"$f":"IFERROR(INDEX(AICR_RATES,MATCH(CHARGE_AREA&COMP_5&$D66,AICR_REG&AICR_USE&AICR_CH_CAT,0),MATCH($C51,AICR_COL,0)),\"\")","v":""},null,"",{"$f":"IF('Development Details'!$C$11<5,\"Y\",IF(H66=\"\",\"Y\",\"\"))","v":"Y"},null,null,null,null,"Component 5 - UOM 1"]
["DD",{"$f":"C51&\"DD\"","v":"WastewaterDD"},{"$f":"C66","v":"Component 5 - "},{"$f":"IF('Development Details'!B$53=\"\",\"\",'Development Details'!B$53)","v":""},{"$f":"IF('Development Details'!C$53=\"\",\"\",'Development Details'!C$53)","v":""},{"$f":"IFERROR(INDEX(AICR_RATES,MATCH(CHARGE_AREA&COMP_5&$D67,AICR_REG&AICR_USE&AICR_CH_CAT,0),MATCH($C51,AICR_COL,0)),\"\")","v":""},null,"",{"$f":"IF('Development Details'!$C$11<5,\"Y\",IF(H67=\"\",\"Y\",\"\"))","v":"Y"},null,null,null,null,"Component 5 - UOM 2"]
["DD",{"$f":"C51&\"DD\"","v":"WastewaterDD"},{"$f":"C66","v":"Component 5 - "},{"$f":"IF('Development Details'!B$54=\"\",\"\",'Development Details'!B$54)","v":""},{"$f":"IF('Development Details'!C$54=\"\",\"\",'Development Details'!C$54)","v":""},{"$f":"IFERROR(INDEX(AICR_RATES,MATCH(CHARGE_AREA&COMP_5&$D68,AICR_REG&AICR_USE&AICR_CH_CAT,0),MATCH($C51,AICR_COL,0)),\"\")","v":""},null,"",{"$f":"IF('Development Details'!$C$11<5,\"Y\",IF(H68=\"\",\"Y\",\"\"))","v":"Y"},null,null,null,null,"Component 5 - UOM 3"]
[null,null,"Existing Demand"]
["ED",{"$f":"C51&\"ED\"","v":"WastewaterED"},{"$f":"\"Existing Demand 1 - \"&'Development Details'!$C$57","v":"Existing Demand 1 - "},{"$f":"IF('Development Details'!B$61=\"\",\"\",'Development Details'!B$61)","v":""},{"$f":"IF('Development Details'!C$61=\"\",\"\",'Development Details'!C$61)","v":""},{"$f":"IFERROR(INDEX(AICR_RATES,MATCH(CHARGE_AREA&EXU_1&$D70,AICR_REG&AICR_USE&AICR_CH_CAT,0),MATCH($C51,AICR_COL,0))*-1,\"\")","v":""},null,{"$f":"IFERROR(F70*E70,\"\")","v":""},null,null,null,null,null,null,"Component 1 - UOM 1"]
["ED",{"$f":"C51&\"ED\"","v":"WastewaterED"},{"$f":"C70","v":"Existing Demand 1 - "},{"$f":"IF('Development Details'!B$62=\"\",\"\",'Development Details'!B$62)","v":""},{"$f":"IF('Development Details'!C$62=\"\",\"\",'Development Details'!C$62)","v":""},{"$f":"IFERROR(INDEX(AICR_RATES,MATCH(CHARGE_AREA&EXU_1&$D71,AICR_REG&AICR_USE&AICR_CH_CAT,0),MATCH($C51,AICR_COL,0))*-1,\"\")","v":""},null,"",{"$f":"IF(H71=\"\",\"Y\",\"\")","v":"Y"},null,null,null,null,null,"Component 1 - UOM 2"]
["ED",{"$f":"C51&\"ED\"","v":"WastewaterED"},{"$f":"C70","v":"Existing Demand 1 - "},{"$f":"IF('Development Details'!B$63=\"\",\"\",'Development Details'!B$63)","v":""},{"$f":"IF('Development Details'!C$63=\"\",\"\",'Development Details'!C$63)","v":""},{"$f":"IFERROR(INDEX(AICR_RATES,MATCH(CHARGE_AREA&EXU_1&$D72,AICR_REG&AICR_USE&AICR_CH_CAT,0),MATCH($C51,AICR_COL,0))*-1,\"\")","v":""},null,"",{"$f":"IF(H72=\"\",\"Y\",\"\")","v":"Y"},null,null,null,null,null,"Component 1 - UOM 3"]
["ED",{"$f":"C51&\"ED\"","v":"WastewaterED"},{"$f":"\"Existing Demand 2 - \"&'Development Details'!$C$65","v":"Existing Demand 2 - "},{"$f":"IF('Development Details'!B$69=\"\",\"\",'Development Details'!B$69)","v":""},{"$f":"IF('Development Details'!C$69=\"\",\"\",'Development Details'!C$69)","v":""},{"$f":"IFERROR(INDEX(AICR_RATES,MATCH(CHARGE_AREA&EXU_2&$D73,AICR_REG&AICR_USE&AICR_CH_CAT,0),MATCH($C51,AICR_COL,0))*-1,\"\")","v":""},null,"",{"$f":"IF('Development Details'!$C$13=1,\"Y\",IF(H73=\"\",\"Y\",\"\"))","v":"Y"},null,null,null,null,null,"Component 2 - UOM 1"]
["ED",{"$f":"C51&\"ED\"","v":"WastewaterED"},{"$f":"C73","v":"Existing Demand 2 - "},{"$f":"IF('Development Details'!B$70=\"\",\"\",'Development Details'!B$70)","v":""},{"$f":"IF('Development Details'!C$70=\"\",\"\",'Development Details'!C$70)","v":""},{"$f":"IFERROR(INDEX(AICR_RATES,MATCH(CHARGE_AREA&EXU_2&$D74,AICR_REG&AICR_USE&AICR_CH_CAT,0),MATCH($C51,AICR_COL,0))*-1,\"\")","v":""},null,"",{"$f":"IF('Development Details'!$C$13=1,\"Y\",IF(H74=\"\",\"Y\",\"\"))","v":"Y"},null,null,null,null,null,"Component 2 - UOM 2"]
["ED",{"$f":"C51&\"ED\"","v":"WastewaterED"},{"$f":"C73","v":"Existing Demand 2 - "},{"$f":"IF('Development Details'!B$71=\"\",\"\",'Development Details'!B$71)","v":""},{"$f":"IF('Development Details'!C$71=\"\",\"\",'Development Details'!C$71)","v":""},{"$f":"IFERROR(INDEX(AICR_RATES,MATCH(CHARGE_AREA&EXU_2&$D75,AICR_REG&AICR_USE&AICR_CH_CAT,0),MATCH($C51,AICR_COL,0))*-1,\"\")","v":""},null,"",{"$f":"IF('Development Details'!$C$13=1,\"Y\",IF(H75=\"\",\"Y\",\"\"))","v":"Y"},null,null,null,null,null,"Component 2 - UOM 3"]
["ED",{"$f":"C51&\"ED\"","v":"WastewaterED"},{"$f":"\"Existing Demand 3 - \"&'Development Details'!$C$73","v":"Existing Demand 3 - "},{"$f":"IF('Development Details'!B$77=\"\",\"\",'Development Details'!B$77)","v":""},{"$f":"IF('Development Details'!C$77=\"\",\"\",'Development Details'!C$77)","v":""},{"$f":"IFERROR(INDEX(AICR_RATES,MATCH(CHARGE_AREA&EXU_3&$D76,AICR_REG&AICR_USE&AICR_CH_CAT,0),MATCH($C51,AICR_COL,0))*-1,\"\")","v":""},null,"",{"$f":"IF('Development Details'!$C$13<3,\"Y\",IF(H76=\"\",\"Y\",\"\"))","v":"Y"},null,null,null,null,null,"Component 3 - UOM 1"]
["ED",{"$f":"C51&\"ED\"","v":"WastewaterED"},{"$f":"C76","v":"Existing Demand 3 - "},{"$f":"IF('Development Details'!B$78=\"\",\"\",'Development Details'!B$78)","v":""},{"$f":"IF('Development Details'!C$78=\"\",\"\",'Development Details'!C$78)","v":""},{"$f":"IFERROR(INDEX(AICR_RATES,MATCH(CHARGE_AREA&EXU_3&$D77,AICR_REG&AICR_USE&AICR_CH_CAT,0),MATCH($C51,AICR_COL,0))*-1,\"\")","v":""},null,"",{"$f":"IF('Development Details'!$C$13<3,\"Y\",IF(H77=\"\",\"Y\",\"\"))","v":"Y"},null,null,null,null,null,"Component 3 - UOM 2"]
["ED",{"$f":"C51&\"ED\"","v":"WastewaterED"},{"$f":"C76","v":"Existing Demand 3 - "},{"$f":"IF('Development Details'!B$79=\"\",\"\",'Development Details'!B$79)","v":""},{"$f":"IF('Development Details'!C$79=\"\",\"\",'Development Details'!C$79)","v":""},{"$f":"IFERROR(INDEX(AICR_RATES,MATCH(CHARGE_AREA&EXU_3&$D78,AICR_REG&AICR_USE&AICR_CH_CAT,0),MATCH($C51,AICR_COL,0))*-1,\"\")","v":""},null,"",{"$f":"IF('Development Details'!$C$13<3,\"Y\",IF(H78=\"\",\"Y\",\"\"))","v":"Y"},null,null,null,null,null,"Component 3 - UOM 3"]
["ED",{"$f":"C51&\"ED\"","v":"WastewaterED"},{"$f":"\"Existing Demand 4 - \"&'Development Details'!$C$81","v":"Existing Demand 4 - "},{"$f":"IF('Development Details'!B$85=\"\",\"\",'Development Details'!B$85)","v":""},{"$f":"IF('Development Details'!C$85=\"\",\"\",'Development Details'!C$85)","v":""},{"$f":"IFERROR(INDEX(AICR_RATES,MATCH(CHARGE_AREA&EXU_4&$D79,AICR_REG&AICR_USE&AICR_CH_CAT,0),MATCH($C51,AICR_COL,0))*-1,\"\")","v":""},null,"",{"$f":"IF('Development Details'!$C$13<4,\"Y\",IF(H79=\"\",\"Y\",\"\"))","v":"Y"},null,null,null,null,null,"Component 4 - UOM 1"]
["ED",{"$f":"C51&\"ED\"","v":"WastewaterED"},{"$f":"C79","v":"Existing Demand 4 - "},{"$f":"IF('Development Details'!B$86=\"\",\"\",'Development Details'!B$86)","v":""},{"$f":"IF('Development Details'!C$86=\"\",\"\",'Development Details'!C$86)","v":""},{"$f":"IFERROR(INDEX(AICR_RATES,MATCH(CHARGE_AREA&EXU_4&$D80,AICR_REG&AICR_USE&AICR_CH_CAT,0),MATCH($C51,AICR_COL,0))*-1,\"\")","v":""},null,"",{"$f":"IF('Development Details'!$C$13<4,\"Y\",IF(H80=\"\",\"Y\",\"\"))","v":"Y"},null,null,null,null,null,"Component 4 - UOM 2"]
["ED",{"$f":"C51&\"ED\"","v":"WastewaterED"},{"$f":"C79","v":"Existing Demand 4 - "},{"$f":"IF('Development Details'!B$87=\"\",\"\",'Development Details'!B$87)","v":""},{"$f":"IF('Development Details'!C$87=\"\",\"\",'Development Details'!C$87)","v":""},{"$f":"IFERROR(INDEX(AICR_RATES,MATCH(CHARGE_AREA&EXU_4&$D81,AICR_REG&AICR_USE&AICR_CH_CAT,0),MATCH($C51,AICR_COL,0))*-1,\"\")","v":""},null,"",{"$f":"IF('Development Details'!$C$13<4,\"Y\",IF(H81=\"\",\"Y\",\"\"))","v":"Y"},null,null,null,null,null,"Component 4 - UOM 3"]
["ED",{"$f":"C51&\"ED\"","v":"WastewaterED"},{"$f":"\"Existing Demand 5 - \"&'Development Details'!$C$89","v":"Existing Demand 5 - "},{"$f":"IF('Development Details'!B$93=\"\",\"\",'Development Details'!B$93)","v":""},{"$f":"IF('Development Details'!C$93=\"\",\"\",'Development Details'!C$93)","v":""},{"$f":"IFERROR(INDEX(AICR_RATES,MATCH(CHARGE_AREA&EXU_5&$D82,AICR_REG&AICR_USE&AICR_CH_CAT,0),MATCH($C51,AICR_COL,0))*-1,\"\")","v":""},null,"",{"$f":"IF('Development Details'!$C$13<5,\"Y\",IF(H82=\"\",\"Y\",\"\"))","v":"Y"},null,null,null,null,null,"Component 5 - UOM 1"]
["ED",{"$f":"C51&\"ED\"","v":"WastewaterED"},{"$f":"C82","v":"Existing Demand 5 - "},{"$f":"IF('Development Details'!B$94=\"\",\"\",'Development Details'!B$94)","v":""},{"$f":"IF('Development Details'!C$94=\"\",\"\",'Development Details'!C$94)","v":""},{"$f":"IFERROR(INDEX(AICR_RATES,MATCH(CHARGE_AREA&EXU_5&$D83,AICR_REG&AICR_USE&AICR_CH_CAT,0),MATCH($C51,AICR_COL,0))*-1,\"\")","v":""},null,"",{"$f":"IF('Development Details'!$C$13<5,\"Y\",IF(H83=\"\",\"Y\",\"\"))","v":"Y"},null,null,null,null,null,"Component 5 - UOM 2"]
["ED",{"$f":"C51&\"ED\"","v":"WastewaterED"},{"$f":"C82","v":"Existing Demand 5 - "},{"$f":"IF('Development Details'!B$95=\"\",\"\",'Development Details'!B$95)","v":""},{"$f":"IF('Development Details'!C$95=\"\",\"\",'Development Details'!C$95)","v":""},{"$f":"IFERROR(INDEX(AICR_RATES,MATCH(CHARGE_AREA&EXU_5&$D84,AICR_REG&AICR_USE&AICR_CH_CAT,0),MATCH($C51,AICR_COL,0))*-1,\"\")","v":""},null,"",{"$f":"IF('Development Details'!$C$13<5,\"Y\",IF(H84=\"\",\"Y\",\"\"))","v":"Y"},null,null,null,null,null,"Component 5 - UOM 3"]
["EL",{"$f":"C51&\"EL\"","v":"WastewaterEL"},"Existing Lot Credit","Lots",{"$f":"SUM('Development Details'!$C$5:$C$9)","v":1},{"$f":"IFERROR(INDEX(AICR_RATES,MATCH(CHARGE_AREA&\"Reconfiguring a Lot - Residential\"&$D85,AICR_REG&AICR_USE&AICR_CH_CAT,0),MATCH($C51,AICR_COL,0))*-1,\"\")","v":-2641},null,-2641]
[]
[null,null,"Stormwater"]
[null,null,"Adopted Charges"]
[null,null,"Development Description","Units of Measure","Number of Units","Charge Rate","Reference","Amount"]
["DD",{"$f":"C87&\"DD\"","v":"StormwaterDD"},{"$f":"\"SW Component 1 - \"&'Development Details'!$C$16","v":"SW Component 1 - Dwelling house"},{"$f":"IF('Development Details'!B$20=\"\",\"\",'Development Details'!B$20)","v":"3 or more bedrooms"},{"$f":"IF('Development Details'!C$20=\"\",\"\",'Development Details'!C$20)","v":4},{"$f":"IFERROR(INDEX(AICR_RATES,MATCH(CHARGE_AREA&COMP_1&$D90,AICR_REG&AICR_USE&AICR_CH_CAT,0),MATCH($C87,AICR_COL,0)),\"\")","v":293},null,{"$f":"IFERROR(F90*E90,\"\")","v":1172},null,null,null,null,null,"SW Component 1 - UOM 1"]
["DD",{"$f":"C87&\"DD\"","v":"StormwaterDD"},{"$f":"C90","v":"SW Component 1 - Dwelling house"},{"$f":"IF('Development Details'!B$21=\"\",\"\",'Development Details'!B$21)","v":""},{"$f":"IF('Development Details'!C$21=\"\",\"\",'Development Details'!C$21)","v":""},{"$f":"IFERROR(INDEX(AICR_RATES,MATCH(CHARGE_AREA&COMP_1&$D91,AICR_REG&AICR_USE&AICR_CH_CAT,0),MATCH($C87,AICR_COL,0)),\"\")","v":""},null,"",{"$f":"IF(H91=\"\",\"Y\",\"\")","v":"Y"},null,null,null,null,"SW Component 1 - UOM 2"]
["DD",{"$f":"C87&\"DD\"","v":"StormwaterDD"},{"$f":"C90","v":"SW Component 1 - Dwelling house"},{"$f":"IF('Development Details'!B$22=\"\",\"\",'Development Details'!B$22)","v":""},{"$f":"IF('Development Details'!C$22=\"\",\"\",'Development Details'!C$22)","v":""},{"$f":"IFERROR(INDEX(AICR_RATES,MATCH(CHARGE_AREA&COMP_1&$D92,AICR_REG&AICR_USE&AICR_CH_CAT,0),MATCH($C87,AICR_COL,0)),\"\")","v":""},null,"",{"$f":"IF(H92=\"\",\"Y\",\"\")","v":"Y"},null,null,null,null,"SW Component 1 - UOM 3"]
["DD",{"$f":"C87&\"DD\"","v":"StormwaterDD"},{"$f":"\"SW Component 2 - \"&'Development Details'!$C$24","v":"SW Component 2 - "},{"$f":"IF('Development Details'!B$28=\"\",\"\",'Development Details'!B$28)","v":""},{"$f":"IF('Development Details'!C$28=\"\",\"\",'Development Details'!C$28)","v":""},{"$f":"IFERROR(INDEX(AICR_RATES,MATCH(CHARGE_AREA&COMP_2&$D93,AICR_REG&AICR_USE&AICR_CH_CAT,0),MATCH($C87,AICR_COL,0)),\"\")","v":""},null,"",{"$f":"IF('Development Details'!$C$11=1,\"Y\",IF(H93=\"\",\"Y\",\"\"))","v":"Y"},null,null,null,null,"SW Component 2 - UOM 1"]
["DD",{"$f":"C87&\"DD\"","v":"StormwaterDD"},{"$f":"C93","v":"SW Component 2 - "},{"$f":"IF('Development Details'!B$29=\"\",\"\",'Development Details'!B$29)","v":""},{"$f":"IF('Development Details'!C$29=\"\",\"\",'Development Details'!C$29)","v":""},{"$f":"IFERROR(INDEX(AICR_RATES,MATCH(CHARGE_AREA&COMP_2&$D94,AICR_REG&AICR_USE&AICR_CH_CAT,0),MATCH($C87,AICR_COL,0)),\"\")","v":""},null,"",{"$f":"IF('Development Details'!$C$11=1,\"Y\",IF(H94=\"\",\"Y\",\"\"))","v":"Y"},null,null,null,null,"SW Component 2 - UOM 2"]
["DD",{"$f":"C87&\"DD\"","v":"StormwaterDD"},{"$f":"C93","v":"SW Component 2 - "},{"$f":"IF('Development Details'!B$30=\"\",\"\",'Development Details'!B$30)","v":""},{"$f":"IF('Development Details'!C$30=\"\",\"\",'Development Details'!C$30)","v":""},{"$f":"IFERROR(INDEX(AICR_RATES,MATCH(CHARGE_AREA&COMP_2&$D95,AICR_REG&AICR_USE&AICR_CH_CAT,0),MATCH($C87,AICR_COL,0)),\"\")","v":""},null,"",{"$f":"IF('Development Details'!$C$11=1,\"Y\",IF(H95=\"\",\"Y\",\"\"))","v":"Y"},null,null,null,null,"SW Component 2 - UOM 3"]
["DD",{"$f":"C87&\"DD\"","v":"StormwaterDD"},{"$f":"\"SW Component 3 - \"&'Development Details'!$C$32","v":"SW Component 3 - "},{"$f":"IF('Development Details'!B$36=\"\",\"\",'Development Details'!B$36)","v":""},{"$f":"IF('Development Details'!C$36=\"\",\"\",'Development Details'!C$36)","v":""},{"$f":"IFERROR(INDEX(AICR_RATES,MATCH(CHARGE_AREA&COMP_3&$D96,AICR_REG&AICR_USE&AICR_CH_CAT,0),MATCH($C87,AICR_COL,0)),\"\")","v":""},null,"",{"$f":"IF('Development Details'!$C$11<3,\"Y\",IF(H96=\"\",\"Y\",\"\"))","v":"Y"},null,null,null,null,"SW Component 3 - UOM 1"]
["DD",{"$f":"C87&\"DD\"","v":"StormwaterDD"},{"$f":"C96","v":"SW Component 3 - "},{"$f":"IF('Development Details'!B$37=\"\",\"\",'Development Details'!B$37)","v":""},{"$f":"IF('Development Details'!C$37=\"\",\"\",'Development Details'!C$37)","v":""},{"$f":"IFERROR(INDEX(AICR_RATES,MATCH(CHARGE_AREA&COMP_3&$D97,AICR_REG&AICR_USE&AICR_CH_CAT,0),MATCH($C87,AICR_COL,0)),\"\")","v":""},null,"",{"$f":"IF('Development Details'!$C$11<3,\"Y\",IF(H97=\"\",\"Y\",\"\"))","v":"Y"},null,null,null,null,"SW Component 3 - UOM 2"]
["DD",{"$f":"C87&\"DD\"","v":"StormwaterDD"},{"$f":"C96","v":"SW Component 3 - "},{"$f":"IF('Development Details'!B$38=\"\",\"\",'Development Details'!B$38)","v":""},{"$f":"IF('Development Details'!C$38=\"\",\"\",'Development Details'!C$38)","v":""},{"$f":"IFERROR(INDEX(AICR_RATES,MATCH(CHARGE_AREA&COMP_3&$D98,AICR_REG&AICR_USE&AICR_CH_CAT,0),MATCH($C87,AICR_COL,0)),\"\")","v":""},null,"",{"$f":"IF('Development Details'!$C$11<3,\"Y\",IF(H98=\"\",\"Y\",\"\"))","v":"Y"},null,null,null,null,"SW Component 3 - UOM 3"]
["DD",{"$f":"C87&\"DD\"","v":"StormwaterDD"},{"$f":"\"SW Component 4 - \"&'Development Details'!$C$40","v":"SW Component 4 - "},{"$f":"IF('Development Details'!B$44=\"\",\"\",'Development Details'!B$44)","v":""},{"$f":"IF('Development Details'!C$44=\"\",\"\",'Development Details'!C$44)","v":""},{"$f":"IFERROR(INDEX(AICR_RATES,MATCH(CHARGE_AREA&COMP_4&$D99,AICR_REG&AICR_USE&AICR_CH_CAT,0),MATCH($C87,AICR_COL,0)),\"\")","v":""},null,"",{"$f":"IF('Development Details'!$C$11<4,\"Y\",IF(H99=\"\",\"Y\",\"\"))","v":"Y"},null,null,null,null,"SW Component 4 - UOM 1"]
["DD",{"$f":"C87&\"DD\"","v":"StormwaterDD"},{"$f":"C99","v":"SW Component 4 - "},{"$f":"IF('Development Details'!B$45=\"\",\"\",'Development Details'!B$45)","v":""},{"$f":"IF('Development Details'!C$45=\"\",\"\",'Development Details'!C$45)","v":""},{"$f":"IFERROR(INDEX(AICR_RATES,MATCH(CHARGE_AREA&COMP_4&$D100,AICR_REG&AICR_USE&AICR_CH_CAT,0),MATCH($C87,AICR_COL,0)),\"\")","v":""},null,"",{"$f":"IF('Development Details'!$C$11<4,\"Y\",IF(H100=\"\",\"Y\",\"\"))","v":"Y"},null,null,null,null,"SW Component 4 - UOM 2"]
["DD",{"$f":"C87&\"DD\"","v":"StormwaterDD"},{"$f":"C99","v":"SW Component 4 - "},{"$f":"IF('Development Details'!B$46=\"\",\"\",'Development Details'!B$46)","v":""},{"$f":"IF('Development Details'!C$46=\"\",\"\",'Development Details'!C$46)","v":""},{"$f":"IFERROR(INDEX(AICR_RATES,MATCH(CHARGE_AREA&COMP_4&$D101,AICR_REG&AICR_USE&AICR_CH_CAT,0),MATCH($C87,AICR_COL,0)),\"\")","v":""},null,"",{"$f":"IF('Development Details'!$C$11<4,\"Y\",IF(H101=\"\",\"Y\",\"\"))","v":"Y"},null,null,null,null,"SW Component 4 - UOM 3"]
["DD",{"$f":"C87&\"DD\"","v":"StormwaterDD"},{"$f":"\"SW Component 5 - \"&'Development Details'!$C$48","v":"SW Component 5 - "},{"$f":"IF('Development Details'!B$52=\"\",\"\",'Development Details'!B$52)","v":""},{"$f":"IF('Development Details'!C$52=\"\",\"\",'Development Details'!C$52)","v":""},{"$f":"IFERROR(INDEX(AICR_RATES,MATCH(CHARGE_AREA&COMP_5&$D102,AICR_REG&AICR_USE&AICR_CH_CAT,0),MATCH($C87,AICR_COL,0)),\"\")","v":""},null,"",{"$f":"IF('Development Details'!$C$11<5,\"Y\",IF(H102=\"\",\"Y\",\"\"))","v":"Y"},null,null,null,null,"SW Component 5 - UOM 1"]
["DD",{"$f":"C87&\"DD\"","v":"StormwaterDD"},{"$f":"C102","v":"SW Component 5 - "},{"$f":"IF('Development Details'!B$53=\"\",\"\",'Development Details'!B$53)","v":""},{"$f":"IF('Development Details'!C$53=\"\",\"\",'Development Details'!C$53)","v":""},{"$f":"IFERROR(INDEX(AICR_RATES,MATCH(CHARGE_AREA&COMP_5&$D103,AICR_REG&AICR_USE&AICR_CH_CAT,0),MATCH($C87,AICR_COL,0)),\"\")","v":""},null,"",{"$f":"IF('Development Details'!$C$11<5,\"Y\",IF(H103=\"\",\"Y\",\"\"))","v":"Y"},null,null,null,null,"SW Component 5 - UOM 2"]
["DD",{"$f":"C87&\"DD\"","v":"StormwaterDD"},{"$f":"C102","v":"SW Component 5 - "},{"$f":"IF('Development Details'!B$54=\"\",\"\",'Development Details'!B$54)","v":""},{"$f":"IF('Development Details'!C$54=\"\",\"\",'Development Details'!C$54)","v":""},{"$f":"IFERROR(INDEX(AICR_RATES,MATCH(CHARGE_AREA&COMP_5&$D104,AICR_REG&AICR_USE&AICR_CH_CAT,0),MATCH($C87,AICR_COL,0)),\"\")","v":""},null,"",{"$f":"IF('Development Details'!$C$11<5,\"Y\",IF(H104=\"\",\"Y\",\"\"))","v":"Y"},null,null,null,null,"SW Component 5 - UOM 3"]
[null,null,"Existing Demand"]
["ED",{"$f":"C87&\"ED\"","v":"StormwaterED"},{"$f":"\"Existing SW Demand 1 - \"&'Development Details'!$C$57","v":"Existing SW Demand 1 - "},{"$f":"IF('Development Details'!B$61=\"\",\"\",'Development Details'!B$61)","v":""},{"$f":"IF('Development Details'!C$61=\"\",\"\",'Development Details'!C$61)","v":""},{"$f":"IFERROR(INDEX(AICR_RATES,MATCH(CHARGE_AREA&EXU_1&$D106,AICR_REG&AICR_USE&AICR_CH_CAT,0),MATCH($C87,AICR_COL,0))*-1,\"\")","v":""},null,{"$f":"IFERROR(F106*E106,\"\")","v":""},null,null,null,null,null,null,"SW Component 1 - UOM 1"]
["ED",{"$f":"C87&\"ED\"","v":"StormwaterED"},{"$f":"C106","v":"Existing SW Demand 1 - "},{"$f":"IF('Development Details'!B$62=\"\",\"\",'Development Details'!B$62)","v":""},{"$f":"IF('Development Details'!C$62=\"\",\"\",'Development Details'!C$62)","v":""},{"$f":"IFERROR(INDEX(AICR_RATES,MATCH(CHARGE_AREA&EXU_1&$D107,AICR_REG&AICR_USE&AICR_CH_CAT,0),MATCH($C87,AICR_COL,0))*-1,\"\")","v":""},null,"",{"$f":"IF(H107=\"\",\"Y\",\"\")","v":"Y"},null,null,null,null,null,"SW Component 1 - UOM 2"]
["ED",{"$f":"C87&\"ED\"","v":"StormwaterED"},{"$f":"C106","v":"Existing SW Demand 1 - "},{"$f":"IF('Development Details'!B$63=\"\",\"\",'Development Details'!B$63)","v":""},{"$f":"IF('Development Details'!C$63=\"\",\"\",'Development Details'!C$63)","v":""},{"$f":"IFERROR(INDEX(AICR_RATES,MATCH(CHARGE_AREA&EXU_1&$D108,AICR_REG&AICR_USE&AICR_CH_CAT,0),MATCH($C87,AICR_COL,0))*-1,\"\")","v":""},null,"",{"$f":"IF(H108=\"\",\"Y\",\"\")","v":"Y"},null,null,null,null,null,"SW Component 1 - UOM 3"]
["ED",{"$f":"C87&\"ED\"","v":"StormwaterED"},{"$f":"\"Existing SW Demand 2 - \"&'Development Details'!$C$65","v":"Existing SW Demand 2 - "},{"$f":"IF('Development Details'!B$69=\"\",\"\",'Development Details'!B$69)","v":""},{"$f":"IF('Development Details'!C$69=\"\",\"\",'Development Details'!C$69)","v":""},{"$f":"IFERROR(INDEX(AICR_RATES,MATCH(CHARGE_AREA&EXU_2&$D109,AICR_REG&AICR_USE&AICR_CH_CAT,0),MATCH($C87,AICR_COL,0))*-1,\"\")","v":""},null,"",{"$f":"IF('Development Details'!$C$13=1,\"Y\",IF(H109=\"\",\"Y\",\"\"))","v":"Y"},null,null,null,null,null,"SW Component 2 - UOM 1"]
["ED",{"$f":"C87&\"ED\"","v":"StormwaterED"},{"$f":"C109","v":"Existing SW Demand 2 - "},{"$f":"IF('Development Details'!B$70=\"\",\"\",'Development Details'!B$70)","v":""},{"$f":"IF('Development Details'!C$70=\"\",\"\",'Development Details'!C$70)","v":""},{"$f":"IFERROR(INDEX(AICR_RATES,MATCH(CHARGE_AREA&EXU_2&$D110,AICR_REG&AICR_USE&AICR_CH_CAT,0),MATCH($C87,AICR_COL,0))*-1,\"\")","v":""},null,"",{"$f":"IF('Development Details'!$C$13=1,\"Y\",IF(H110=\"\",\"Y\",\"\"))","v":"Y"},null,null,null,null,null,"SW Component 2 - UOM 2"]
["ED",{"$f":"C87&\"ED\"","v":"StormwaterED"},{"$f":"C109","v":"Existing SW Demand 2 - "},{"$f":"IF('Development Details'!B$71=\"\",\"\",'Development Details'!B$71)","v":""},{"$f":"IF('Development Details'!C$71=\"\",\"\",'Development Details'!C$71)","v":""},{"$f":"IFERROR(INDEX(AICR_RATES,MATCH(CHARGE_AREA&EXU_2&$D111,AICR_REG&AICR_USE&AICR_CH_CAT,0),MATCH($C87,AICR_COL,0))*-1,\"\")","v":""},null,"",{"$f":"IF('Development Details'!$C$13=1,\"Y\",IF(H111=\"\",\"Y\",\"\"))","v":"Y"},null,null,null,null,null,"SW Component 2 - UOM 3"]
["ED",{"$f":"C87&\"ED\"","v":"StormwaterED"},{"$f":"\"Existing SW Demand 3 - \"&'Development Details'!$C$73","v":"Existing SW Demand 3 - "},{"$f":"IF('Development Details'!B$77=\"\",\"\",'Development Details'!B$77)","v":""},{"$f":"IF('Development Details'!C$77=\"\",\"\",'Development Details'!C$77)","v":""},{"$f":"IFERROR(INDEX(AICR_RATES,MATCH(CHARGE_AREA&EXU_3&$D112,AICR_REG&AICR_USE&AICR_CH_CAT,0),MATCH($C87,AICR_COL,0))*-1,\"\")","v":""},null,"",{"$f":"IF('Development Details'!$C$13<3,\"Y\",IF(H112=\"\",\"Y\",\"\"))","v":"Y"},null,null,null,null,null,"SW Component 3 - UOM 1"]
["ED",{"$f":"C87&\"ED\"","v":"StormwaterED"},{"$f":"C112","v":"Existing SW Demand 3 - "},{"$f":"IF('Development Details'!B$78=\"\",\"\",'Development Details'!B$78)","v":""},{"$f":"IF('Development Details'!C$78=\"\",\"\",'Development Details'!C$78)","v":""},{"$f":"IFERROR(INDEX(AICR_RATES,MATCH(CHARGE_AREA&EXU_3&$D113,AICR_REG&AICR_USE&AICR_CH_CAT,0),MATCH($C87,AICR_COL,0))*-1,\"\")","v":""},null,"",{"$f":"IF('Development Details'!$C$13<3,\"Y\",IF(H113=\"\",\"Y\",\"\"))","v":"Y"},null,null,null,null,null,"SW Component 3 - UOM 2"]
["ED",{"$f":"C87&\"ED\"","v":"StormwaterED"},{"$f":"C112","v":"Existing SW Demand 3 - "},{"$f":"IF('Development Details'!B$79=\"\",\"\",'Development Details'!B$79)","v":""},{"$f":"IF('Development Details'!C$79=\"\",\"\",'Development Details'!C$79)","v":""},{"$f":"IFERROR(INDEX(AICR_RATES,MATCH(CHARGE_AREA&EXU_3&$D114,AICR_REG&AICR_USE&AICR_CH_CAT,0),MATCH($C87,AICR_COL,0))*-1,\"\")","v":""},null,"",{"$f":"IF('Development Details'!$C$13<3,\"Y\",IF(H114=\"\",\"Y\",\"\"))","v":"Y"},null,null,null,null,null,"SW Component 3 - UOM 3"]
["ED",{"$f":"C87&\"ED\"","v":"StormwaterED"},{"$f":"\"Existing SW Demand 4 - \"&'Development Details'!$C$81","v":"Existing SW Demand 4 - "},{"$f":"IF('Development Details'!B$85=\"\",\"\",'Development Details'!B$85)","v":""},{"$f":"IF('Development Details'!C$85=\"\",\"\",'Development Details'!C$85)","v":""},{"$f":"IFERROR(INDEX(AICR_RATES,MATCH(CHARGE_AREA&EXU_4&$D115,AICR_REG&AICR_USE&AICR_CH_CAT,0),MATCH($C87,AICR_COL,0))*-1,\"\")","v":""},null,"",{"$f":"IF('Development Details'!$C$13<4,\"Y\",IF(H115=\"\",\"Y\",\"\"))","v":"Y"},null,null,null,null,null,"SW Component 4 - UOM 1"]
["ED",{"$f":"C87&\"ED\"","v":"StormwaterED"},{"$f":"C115","v":"Existing SW Demand 4 - "},{"$f":"IF('Development Details'!B$86=\"\",\"\",'Development Details'!B$86)","v":""},{"$f":"IF('Development Details'!C$86=\"\",\"\",'Development Details'!C$86)","v":""},{"$f":"IFERROR(INDEX(AICR_RATES,MATCH(CHARGE_AREA&EXU_4&$D116,AICR_REG&AICR_USE&AICR_CH_CAT,0),MATCH($C87,AICR_COL,0))*-1,\"\")","v":""},null,"",{"$f":"IF('Development Details'!$C$13<4,\"Y\",IF(H116=\"\",\"Y\",\"\"))","v":"Y"},null,null,null,null,null,"SW Component 4 - UOM 2"]
["ED",{"$f":"C87&\"ED\"","v":"StormwaterED"},{"$f":"C115","v":"Existing SW Demand 4 - "},{"$f":"IF('Development Details'!B$87=\"\",\"\",'Development Details'!B$87)","v":""},{"$f":"IF('Development Details'!C$87=\"\",\"\",'Development Details'!C$87)","v":""},{"$f":"IFERROR(INDEX(AICR_RATES,MATCH(CHARGE_AREA&EXU_4&$D117,AICR_REG&AICR_USE&AICR_CH_CAT,0),MATCH($C87,AICR_COL,0))*-1,\"\")","v":""},null,"",{"$f":"IF('Development Details'!$C$13<4,\"Y\",IF(H117=\"\",\"Y\",\"\"))","v":"Y"},null,null,null,null,null,"SW Component 4 - UOM 3"]
["ED",{"$f":"C87&\"ED\"","v":"StormwaterED"},{"$f":"\"Existing SW Demand 5 - \"&'Development Details'!$C$89","v":"Existing SW Demand 5 - "},{"$f":"IF('Development Details'!B$93=\"\",\"\",'Development Details'!B$93)","v":""},{"$f":"IF('Development Details'!C$93=\"\",\"\",'Development Details'!C$93)","v":""},{"$f":"IFERROR(INDEX(AICR_RATES,MATCH(CHARGE_AREA&EXU_5&$D118,AICR_REG&AICR_USE&AICR_CH_CAT,0),MATCH($C87,AICR_COL,0))*-1,\"\")","v":""},null,"",{"$f":"IF('Development Details'!$C$13<5,\"Y\",IF(H118=\"\",\"Y\",\"\"))","v":"Y"},null,null,null,null,null,"SW Component 5 - UOM 1"]
["ED",{"$f":"C87&\"ED\"","v":"StormwaterED"},{"$f":"C118","v":"Existing SW Demand 5 - "},{"$f":"IF('Development Details'!B$94=\"\",\"\",'Development Details'!B$94)","v":""},{"$f":"IF('Development Details'!C$94=\"\",\"\",'Development Details'!C$94)","v":""},{"$f":"IFERROR(INDEX(AICR_RATES,MATCH(CHARGE_AREA&EXU_5&$D119,AICR_REG&AICR_USE&AICR_CH_CAT,0),MATCH($C87,AICR_COL,0))*-1,\"\")","v":""},null,"",{"$f":"IF('Development Details'!$C$13<5,\"Y\",IF(H119=\"\",\"Y\",\"\"))","v":"Y"},null,null,null,null,null,"SW Component 5 - UOM 2"]
["ED",{"$f":"C87&\"ED\"","v":"StormwaterED"},{"$f":"C118","v":"Existing SW Demand 5 - "},{"$f":"IF('Development Details'!B$95=\"\",\"\",'Development Details'!B$95)","v":""},{"$f":"IF('Development Details'!C$95=\"\",\"\",'Development Details'!C$95)","v":""},{"$f":"IFERROR(INDEX(AICR_RATES,MATCH(CHARGE_AREA&EXU_5&$D120,AICR_REG&AICR_USE&AICR_CH_CAT,0),MATCH($C87,AICR_COL,0))*-1,\"\")","v":""},null,"",{"$f":"IF('Development Details'!$C$13<5,\"Y\",IF(H120=\"\",\"Y\",\"\"))","v":"Y"},null,null,null,null,null,"SW Component 5 - UOM 3"]
["EL",{"$f":"C87&\"EL\"","v":"StormwaterEL"},"Existing Lot Credit","Lots",{"$f":"SUM('Development Details'!$C$5:$C$9)","v":1},{"$f":"IFERROR(INDEX(AICR_RATES,MATCH(CHARGE_AREA&\"Reconfiguring a Lot - Residential\"&$D121,AICR_REG&AICR_USE&AICR_CH_CAT,0),MATCH($C87,AICR_COL,0))*-1,\"\")","v":-293},null,-293]
[]
[null,null,"Transport"]
[null,null,"Adopted Charges"]
[null,null,"Development Description","Units of Measure","Number of Units","Charge Rate","Reference","Amount"]
["DD",{"$f":"C123&\"DD\"","v":"TransportDD"},{"$f":"\"Component 1 - \"&'Development Details'!$C$16","v":"Component 1 - Dwelling house"},{"$f":"IF('Development Details'!B$20=\"\",\"\",'Development Details'!B$20)","v":"3 or more bedrooms"},{"$f":"IF('Development Details'!C$20=\"\",\"\",'Development Details'!C$20)","v":4},{"$f":"IFERROR(INDEX(AICR_RATES,MATCH(CHARGE_AREA&COMP_1&$D126,AICR_REG&AICR_USE&AICR_CH_CAT,0),MATCH($C123,AICR_COL,0)),\"\")","v":7335},null,{"$f":"IFERROR(F126*E126,\"\")","v":29340},null,null,null,null,null,"Component 1 - UOM 1"]
["DD",{"$f":"C123&\"DD\"","v":"TransportDD"},{"$f":"C126","v":"Component 1 - Dwelling house"},{"$f":"IF('Development Details'!B$21=\"\",\"\",'Development Details'!B$21)","v":""},{"$f":"IF('Development Details'!C$21=\"\",\"\",'Development Details'!C$21)","v":""},{"$f":"IFERROR(INDEX(AICR_RATES,MATCH(CHARGE_AREA&COMP_1&$D127,AICR_REG&AICR_USE&AICR_CH_CAT,0),MATCH($C123,AICR_COL,0)),\"\")","v":""},null,"",{"$f":"IF(H127=\"\",\"Y\",\"\")","v":"Y"},null,null,null,null,"Component 1 - UOM 2"]
["DD",{"$f":"C123&\"DD\"","v":"TransportDD"},{"$f":"C126","v":"Component 1 - Dwelling house"},{"$f":"IF('Development Details'!B$22=\"\",\"\",'Development Details'!B$22)","v":""},{"$f":"IF('Development Details'!C$22=\"\",\"\",'Development Details'!C$22)","v":""},{"$f":"IFERROR(INDEX(AICR_RATES,MATCH(CHARGE_AREA&COMP_1&$D128,AICR_REG&AICR_USE&AICR_CH_CAT,0),MATCH($C123,AICR_COL,0)),\"\")","v":""},null,"",{"$f":"IF(H128=\"\",\"Y\",\"\")","v":"Y"},null,null,null,null,"Component 1 - UOM 3"]
["DD",{"$f":"C123&\"DD\"","v":"TransportDD"},{"$f":"\"Component 2 - \"&'Development Details'!$C$24","v":"Component 2 - "},{"$f":"IF('Development Details'!B$28=\"\",\"\",'Development Details'!B$28)","v":""},{"$f":"IF('Development Details'!C$28=\"\",\"\",'Development Details'!C$28)","v":""},{"$f":"IFERROR(INDEX(AICR_RATES,MATCH(CHARGE_AREA&COMP_2&$D129,AICR_REG&AICR_USE&AICR_CH_CAT,0),MATCH($C123,AICR_COL,0)),\"\")","v":""},null,"",{"$f":"IF('Development Details'!$C$11=1,\"Y\",IF(H129=\"\",\"Y\",\"\"))","v":"Y"},null,null,null,null,"Component 2 - UOM 1"]
["DD",{"$f":"C123&\"DD\"","v":"TransportDD"},{"$f":"C129","v":"Component 2 - "},{"$f":"IF('Development Details'!B$29=\"\",\"\",'Development Details'!B$29)","v":""},{"$f":"IF('Development Details'!C$29=\"\",\"\",'Development Details'!C$29)","v":""},{"$f":"IFERROR(INDEX(AICR_RATES,MATCH(CHARGE_AREA&COMP_2&$D130,AICR_REG&AICR_USE&AICR_CH_CAT,0),MATCH($C123,AICR_COL,0)),\"\")","v":""},null,"",{"$f":"IF('Development Details'!$C$11=1,\"Y\",IF(H130=\"\",\"Y\",\"\"))","v":"Y"},null,null,null,null,"Component 2 - UOM 2"]
["DD",{"$f":"C123&\"DD\"","v":"TransportDD"},{"$f":"C129","v":"Component 2 - "},{"$f":"IF('Development Details'!B$30=\"\",\"\",'Development Details'!B$30)","v":""},{"$f":"IF('Development Details'!C$30=\"\",\"\",'Development Details'!C$30)","v":""},{"$f":"IFERROR(INDEX(AICR_RATES,MATCH(CHARGE_AREA&COMP_2&$D131,AICR_REG&AICR_USE&AICR_CH_CAT,0),MATCH($C123,AICR_COL,0)),\"\")","v":""},null,"",{"$f":"IF('Development Details'!$C$11=1,\"Y\",IF(H131=\"\",\"Y\",\"\"))","v":"Y"},null,null,null,null,"Component 2 - UOM 3"]
["DD",{"$f":"C123&\"DD\"","v":"TransportDD"},{"$f":"\"Component 3 - \"&'Development Details'!$C$32","v":"Component 3 - "},{"$f":"IF('Development Details'!B$36=\"\",\"\",'Development Details'!B$36)","v":""},{"$f":"IF('Development Details'!C$36=\"\",\"\",'Development Details'!C$36)","v":""},{"$f":"IFERROR(INDEX(AICR_RATES,MATCH(CHARGE_AREA&COMP_3&$D132,AICR_REG&AICR_USE&AICR_CH_CAT,0),MATCH($C123,AICR_COL,0)),\"\")","v":""},null,"",{"$f":"IF('Development Details'!$C$11<3,\"Y\",IF(H132=\"\",\"Y\",\"\"))","v":"Y"},null,null,null,null,"Component 3 - UOM 1"]
["DD",{"$f":"C123&\"DD\"","v":"TransportDD"},{"$f":"C132","v":"Component 3 - "},{"$f":"IF('Development Details'!B$37=\"\",\"\",'Development Details'!B$37)","v":""},{"$f":"IF('Development Details'!C$37=\"\",\"\",'Development Details'!C$37)","v":""},{"$f":"IFERROR(INDEX(AICR_RATES,MATCH(CHARGE_AREA&COMP_3&$D133,AICR_REG&AICR_USE&AICR_CH_CAT,0),MATCH($C123,AICR_COL,0)),\"\")","v":""},null,"",{"$f":"IF('Development Details'!$C$11<3,\"Y\",IF(H133=\"\",\"Y\",\"\"))","v":"Y"},null,null,null,null,"Component 3 - UOM 2"]
["DD",{"$f":"C123&\"DD\"","v":"TransportDD"},{"$f":"C132","v":"Component 3 - "},{"$f":"IF('Development Details'!B$38=\"\",\"\",'Development Details'!B$38)","v":""},{"$f":"IF('Development Details'!C$38=\"\",\"\",'Development Details'!C$38)","v":""},{"$f":"IFERROR(INDEX(AICR_RATES,MATCH(CHARGE_AREA&COMP_3&$D134,AICR_REG&AICR_USE&AICR_CH_CAT,0),MATCH($C123,AICR_COL,0)),\"\")","v":""},null,"",{"$f":"IF('Development Details'!$C$11<3,\"Y\",IF(H134=\"\",\"Y\",\"\"))","v":"Y"},null,null,null,null,"Component 3 - UOM 3"]
["DD",{"$f":"C123&\"DD\"","v":"TransportDD"},{"$f":"\"Component 4 - \"&'Development Details'!$C$40","v":"Component 4 - "},{"$f":"IF('Development Details'!B$44=\"\",\"\",'Development Details'!B$44)","v":""},{"$f":"IF('Development Details'!C$44=\"\",\"\",'Development Details'!C$44)","v":""},{"$f":"IFERROR(INDEX(AICR_RATES,MATCH(CHARGE_AREA&COMP_4&$D135,AICR_REG&AICR_USE&AICR_CH_CAT,0),MATCH($C123,AICR_COL,0)),\"\")","v":""},null,"",{"$f":"IF('Development Details'!$C$11<4,\"Y\",IF(H135=\"\",\"Y\",\"\"))","v":"Y"},null,null,null,null,"Component 4 - UOM 1"]
["DD",{"$f":"C123&\"DD\"","v":"TransportDD"},{"$f":"C135","v":"Component 4 - "},{"$f":"IF('Development Details'!B$45=\"\",\"\",'Development Details'!B$45)","v":""},{"$f":"IF('Development Details'!C$45=\"\",\"\",'Development Details'!C$45)","v":""},{"$f":"IFERROR(INDEX(AICR_RATES,MATCH(CHARGE_AREA&COMP_4&$D136,AICR_REG&AICR_USE&AICR_CH_CAT,0),MATCH($C123,AICR_COL,0)),\"\")","v":""},null,"",{"$f":"IF('Development Details'!$C$11<4,\"Y\",IF(H136=\"\",\"Y\",\"\"))","v":"Y"},null,null,null,null,"Component 4 - UOM 2"]
["DD",{"$f":"C123&\"DD\"","v":"TransportDD"},{"$f":"C135","v":"Component 4 - "},{"$f":"IF('Development Details'!B$46=\"\",\"\",'Development Details'!B$46)","v":""},{"$f":"IF('Development Details'!C$46=\"\",\"\",'Development Details'!C$46)","v":""},{"$f":"IFERROR(INDEX(AICR_RATES,MATCH(CHARGE_AREA&COMP_4&$D137,AICR_REG&AICR_USE&AICR_CH_CAT,0),MATCH($C123,AICR_COL,0)),\"\")","v":""},null,"",{"$f":"IF('Development Details'!$C$11<4,\"Y\",IF(H137=\"\",\"Y\",\"\"))","v":"Y"},null,null,null,null,"Component 4 - UOM 3"]
["DD",{"$f":"C123&\"DD\"","v":"TransportDD"},{"$f":"\"Component 5 - \"&'Development Details'!$C$48","v":"Component 5 - "},{"$f":"IF('Development Details'!B$52=\"\",\"\",'Development Details'!B$52)","v":""},{"$f":"IF('Development Details'!C$52=\"\",\"\",'Development Details'!C$52)","v":""},{"$f":"IFERROR(INDEX(AICR_RATES,MATCH(CHARGE_AREA&COMP_5&$D138,AICR_REG&AICR_USE&AICR_CH_CAT,0),MATCH($C123,AICR_COL,0)),\"\")","v":""},null,"",{"$f":"IF('Development Details'!$C$11<5,\"Y\",IF(H138=\"\",\"Y\",\"\"))","v":"Y"},null,null,null,null,"Component 5 - UOM 1"]
["DD",{"$f":"C123&\"DD\"","v":"TransportDD"},{"$f":"C138","v":"Component 5 - "},{"$f":"IF('Development Details'!B$53=\"\",\"\",'Development Details'!B$53)","v":""},{"$f":"IF('Development Details'!C$53=\"\",\"\",'Development Details'!C$53)","v":""},{"$f":"IFERROR(INDEX(AICR_RATES,MATCH(CHARGE_AREA&COMP_5&$D139,AICR_REG&AICR_USE&AICR_CH_CAT,0),MATCH($C123,AICR_COL,0)),\"\")","v":""},null,"",{"$f":"IF('Development Details'!$C$11<5,\"Y\",IF(H139=\"\",\"Y\",\"\"))","v":"Y"},null,null,null,null,"Component 5 - UOM 2"]
["DD",{"$f":"C123&\"DD\"","v":"TransportDD"},{"$f":"C138","v":"Component 5 - "},{"$f":"IF('Development Details'!B$54=\"\",\"\",'Development Details'!B$54)","v":""},{"$f":"IF('Development Details'!C$54=\"\",\"\",'Development Details'!C$54)","v":""},{"$f":"IFERROR(INDEX(AICR_RATES,MATCH(CHARGE_AREA&COMP_5&$D140,AICR_REG&AICR_USE&AICR_CH_CAT,0),MATCH($C123,AICR_COL,0)),\"\")","v":""},null,"",{"$f":"IF('Development Details'!$C$11<5,\"Y\",IF(H140=\"\",\"Y\",\"\"))","v":"Y"},null,null,null,null,"Component 5 - UOM 3"]
[null,null,"Existing Demand"]
["ED",{"$f":"C123&\"ED\"","v":"TransportED"},{"$f":"\"Existing Demand 1 - \"&'Development Details'!$C$57","v":"Existing Demand 1 - "},{"$f":"IF('Development Details'!B$61=\"\",\"\",'Development Details'!B$61)","v":""},{"$f":"IF('Development Details'!C$61=\"\",\"\",'Development Details'!C$61)","v":""},{"$f":"IFERROR(INDEX(AICR_RATES,MATCH(CHARGE_AREA&EXU_1&$D142,AICR_REG&AICR_USE&AICR_CH_CAT,0),MATCH($C123,AICR_COL,0))*-1,\"\")","v":""},null,{"$f":"IFERROR(F142*E142,\"\")","v":""},null,null,null,null,null,null,"Component 1 - UOM 1"]
["ED",{"$f":"C123&\"ED\"","v":"TransportED"},{"$f":"C142","v":"Existing Demand 1 - "},{"$f":"IF('Development Details'!B$62=\"\",\"\",'Development Details'!B$62)","v":""},{"$f":"IF('Development Details'!C$62=\"\",\"\",'Development Details'!C$62)","v":""},{"$f":"IFERROR(INDEX(AICR_RATES,MATCH(CHARGE_AREA&EXU_1&$D143,AICR_REG&AICR_USE&AICR_CH_CAT,0),MATCH($C123,AICR_COL,0))*-1,\"\")","v":""},null,"",{"$f":"IF(H143=\"\",\"Y\",\"\")","v":"Y"},null,null,null,null,null,"Component 1 - UOM 2"]
["ED",{"$f":"C123&\"ED\"","v":"TransportED"},{"$f":"C142","v":"Existing Demand 1 - "},{"$f":"IF('Development Details'!B$63=\"\",\"\",'Development Details'!B$63)","v":""},{"$f":"IF('Development Details'!C$63=\"\",\"\",'Development Details'!C$63)","v":""},{"$f":"IFERROR(INDEX(AICR_RATES,MATCH(CHARGE_AREA&EXU_1&$D144,AICR_REG&AICR_USE&AICR_CH_CAT,0),MATCH($C123,AICR_COL,0))*-1,\"\")","v":""},null,"",{"$f":"IF(H144=\"\",\"Y\",\"\")","v":"Y"},null,null,null,null,null,"Component 1 - UOM 3"]
["ED",{"$f":"C123&\"ED\"","v":"TransportED"},{"$f":"\"Existing Demand 2 - \"&'Development Details'!$C$65","v":"Existing Demand 2 - "},{"$f":"IF('Development Details'!B$69=\"\",\"\",'Development Details'!B$69)","v":""},{"$f":"IF('Development Details'!C$69=\"\",\"\",'Development Details'!C$69)","v":""},{"$f":"IFERROR(INDEX(AICR_RATES,MATCH(CHARGE_AREA&EXU_2&$D145,AICR_REG&AICR_USE&AICR_CH_CAT,0),MATCH($C123,AICR_COL,0))*-1,\"\")","v":""},null,"",{"$f":"IF('Development Details'!$C$13=1,\"Y\",IF(H145=\"\",\"Y\",\"\"))","v":"Y"},null,null,null,null,null,"Component 2 - UOM 1"]
["ED",{"$f":"C123&\"ED\"","v":"TransportED"},{"$f":"C145","v":"Existing Demand 2 - "},{"$f":"IF('Development Details'!B$70=\"\",\"\",'Development Details'!B$70)","v":""},{"$f":"IF('Development Details'!C$70=\"\",\"\",'Development Details'!C$70)","v":""},{"$f":"IFERROR(INDEX(AICR_RATES,MATCH(CHARGE_AREA&EXU_2&$D146,AICR_REG&AICR_USE&AICR_CH_CAT,0),MATCH($C123,AICR_COL,0))*-1,\"\")","v":""},null,"",{"$f":"IF('Development Details'!$C$13=1,\"Y\",IF(H146=\"\",\"Y\",\"\"))","v":"Y"},null,null,null,null,null,"Component 2 - UOM 2"]
["ED",{"$f":"C123&\"ED\"","v":"TransportED"},{"$f":"C145","v":"Existing Demand 2 - "},{"$f":"IF('Development Details'!B$71=\"\",\"\",'Development Details'!B$71)","v":""},{"$f":"IF('Development Details'!C$71=\"\",\"\",'Development Details'!C$71)","v":""},{"$f":"IFERROR(INDEX(AICR_RATES,MATCH(CHARGE_AREA&EXU_2&$D147,AICR_REG&AICR_USE&AICR_CH_CAT,0),MATCH($C123,AICR_COL,0))*-1,\"\")","v":""},null,"",{"$f":"IF('Development Details'!$C$13=1,\"Y\",IF(H147=\"\",\"Y\",\"\"))","v":"Y"},null,null,null,null,null,"Component 2 - UOM 3"]
["ED",{"$f":"C123&\"ED\"","v":"TransportED"},{"$f":"\"Existing Demand 3 - \"&'Development Details'!$C$73","v":"Existing Demand 3 - "},{"$f":"IF('Development Details'!B$77=\"\",\"\",'Development Details'!B$77)","v":""},{"$f":"IF('Development Details'!C$77=\"\",\"\",'Development Details'!C$77)","v":""},{"$f":"IFERROR(INDEX(AICR_RATES,MATCH(CHARGE_AREA&EXU_3&$D148,AICR_REG&AICR_USE&AICR_CH_CAT,0),MATCH($C123,AICR_COL,0))*-1,\"\")","v":""},null,"",{"$f":"IF('Development Details'!$C$13<3,\"Y\",IF(H148=\"\",\"Y\",\"\"))","v":"Y"},null,null,null,null,null,"Component 3 - UOM 1"]
["ED",{"$f":"C123&\"ED\"","v":"TransportED"},{"$f":"C148","v":"Existing Demand 3 - "},{"$f":"IF('Development Details'!B$78=\"\",\"\",'Development Details'!B$78)","v":""},{"$f":"IF('Development Details'!C$78=\"\",\"\",'Development Details'!C$78)","v":""},{"$f":"IFERROR(INDEX(AICR_RATES,MATCH(CHARGE_AREA&EXU_3&$D149,AICR_REG&AICR_USE&AICR_CH_CAT,0),MATCH($C123,AICR_COL,0))*-1,\"\")","v":""},null,"",{"$f":"IF('Development Details'!$C$13<3,\"Y\",IF(H149=\"\",\"Y\",\"\"))","v":"Y"},null,null,null,null,null,"Component 3 - UOM 2"]
["ED",{"$f":"C123&\"ED\"","v":"TransportED"},{"$f":"C148","v":"Existing Demand 3 - "},{"$f":"IF('Development Details'!B$79=\"\",\"\",'Development Details'!B$79)","v":""},{"$f":"IF('Development Details'!C$79=\"\",\"\",'Development Details'!C$79)","v":""},{"$f":"IFERROR(INDEX(AICR_RATES,MATCH(CHARGE_AREA&EXU_3&$D150,AICR_REG&AICR_USE&AICR_CH_CAT,0),MATCH($C123,AICR_COL,0))*-1,\"\")","v":""},null,"",{"$f":"IF('Development Details'!$C$13<3,\"Y\",IF(H150=\"\",\"Y\",\"\"))","v":"Y"},null,null,null,null,null,"Component 3 - UOM 3"]
["ED",{"$f":"C123&\"ED\"","v":"TransportED"},{"$f":"\"Existing Demand 4 - \"&'Development Details'!$C$81","v":"Existing Demand 4 - "},{"$f":"IF('Development Details'!B$85=\"\",\"\",'Development Details'!B$85)","v":""},{"$f":"IF('Development Details'!C$85=\"\",\"\",'Development Details'!C$85)","v":""},{"$f":"IFERROR(INDEX(AICR_RATES,MATCH(CHARGE_AREA&EXU_4&$D151,AICR_REG&AICR_USE&AICR_CH_CAT,0),MATCH($C123,AICR_COL,0))*-1,\"\")","v":""},null,"",{"$f":"IF('Development Details'!$C$13<4,\"Y\",IF(H151=\"\",\"Y\",\"\"))","v":"Y"},null,null,null,null,null,"Component 4 - UOM 1"]
["ED",{"$f":"C123&\"ED\"","v":"TransportED"},{"$f":"C151","v":"Existing Demand 4 - "},{"$f":"IF('Development Details'!B$86=\"\",\"\",'Development Details'!B$86)","v":""},{"$f":"IF('Development Details'!C$86=\"\",\"\",'Development Details'!C$86)","v":""},{"$f":"IFERROR(INDEX(AICR_RATES,MATCH(CHARGE_AREA&EXU_4&$D152,AICR_REG&AICR_USE&AICR_CH_CAT,0),MATCH($C123,AICR_COL,0))*-1,\"\")","v":""},null,"",{"$f":"IF('Development Details'!$C$13<4,\"Y\",IF(H152=\"\",\"Y\",\"\"))","v":"Y"},null,null,null,null,null,"Component 4 - UOM 2"]
["ED",{"$f":"C123&\"ED\"","v":"TransportED"},{"$f":"C151","v":"Existing Demand 4 - "},{"$f":"IF('Development Details'!B$87=\"\",\"\",'Development Details'!B$87)","v":""},{"$f":"IF('Development Details'!C$87=\"\",\"\",'Development Details'!C$87)","v":""},{"$f":"IFERROR(INDEX(AICR_RATES,MATCH(CHARGE_AREA&EXU_4&$D153,AICR_REG&AICR_USE&AICR_CH_CAT,0),MATCH($C123,AICR_COL,0))*-1,\"\")","v":""},null,"",{"$f":"IF('Development Details'!$C$13<4,\"Y\",IF(H153=\"\",\"Y\",\"\"))","v":"Y"},null,null,null,null,null,"Component 4 - UOM 3"]
["ED",{"$f":"C123&\"ED\"","v":"TransportED"},{"$f":"\"Existing Demand 5 - \"&'Development Details'!$C$89","v":"Existing Demand 5 - "},{"$f":"IF('Development Details'!B$93=\"\",\"\",'Development Details'!B$93)","v":""},{"$f":"IF('Development Details'!C$93=\"\",\"\",'Development Details'!C$93)","v":""},{"$f":"IFERROR(INDEX(AICR_RATES,MATCH(CHARGE_AREA&EXU_5&$D154,AICR_REG&AICR_USE&AICR_CH_CAT,0),MATCH($C123,AICR_COL,0))*-1,\"\")","v":""},null,"",{"$f":"IF('Development Details'!$C$13<5,\"Y\",IF(H154=\"\",\"Y\",\"\"))","v":"Y"},null,null,null,null,null,"Component 5 - UOM 1"]
["ED",{"$f":"C123&\"ED\"","v":"TransportED"},{"$f":"C154","v":"Existing Demand 5 - "},{"$f":"IF('Development Details'!B$94=\"\",\"\",'Development Details'!B$94)","v":""},{"$f":"IF('Development Details'!C$94=\"\",\"\",'Development Details'!C$94)","v":""},{"$f":"IFERROR(INDEX(AICR_RATES,MATCH(CHARGE_AREA&EXU_5&$D155,AICR_REG&AICR_USE&AICR_CH_CAT,0),MATCH($C123,AICR_COL,0))*-1,\"\")","v":""},null,"",{"$f":"IF('Development Details'!$C$13<5,\"Y\",IF(H155=\"\",\"Y\",\"\"))","v":"Y"},null,null,null,null,null,"Component 5 - UOM 2"]
["ED",{"$f":"C123&\"ED\"","v":"TransportED"},{"$f":"C154","v":"Existing Demand 5 - "},{"$f":"IF('Development Details'!B$95=\"\",\"\",'Development Details'!B$95)","v":""},{"$f":"IF('Development Details'!C$95=\"\",\"\",'Development Details'!C$95)","v":""},{"$f":"IFERROR(INDEX(AICR_RATES,MATCH(CHARGE_AREA&EXU_5&$D156,AICR_REG&AICR_USE&AICR_CH_CAT,0),MATCH($C123,AICR_COL,0))*-1,\"\")","v":""},null,"",{"$f":"IF('Development Details'!$C$13<5,\"Y\",IF(H156=\"\",\"Y\",\"\"))","v":"Y"},null,null,null,null,null,"Component 5 - UOM 3"]
["EL",{"$f":"C123&\"EL\"","v":"TransportEL"},"Existing Lot Credit","Lots",{"$f":"SUM('Development Details'!$C$5:$C$9)","v":1},{"$f":"IFERROR(INDEX(AICR_RATES,MATCH(CHARGE_AREA&\"Reconfiguring a Lot - Residential\"&$D157,AICR_REG&AICR_USE&AICR_CH_CAT,0),MATCH($C123,AICR_COL,0))*-1,\"\")","v":-7335},null,-7335]
[]
[null,null,"Parks"]
[null,null,"Adopted Charges"]
[null,null,"Development Description","Units of Measure","Number of Units","Charge Rate","Reference","Amount"]
["DD",{"$f":"C159&\"DD\"","v":"ParksDD"},{"$f":"\"Component 1 - \"&'Development Details'!$C$16","v":"Component 1 - Dwelling house"},{"$f":"IF('Development Details'!B$20=\"\",\"\",'Development Details'!B$20)","v":"3 or more bedrooms"},{"$f":"IF('Development Details'!C$20=\"\",\"\",'Development Details'!C$20)","v":4},{"$f":"IFERROR(INDEX(AICR_RATES,MATCH(CHARGE_AREA&COMP_1&$D162,AICR_REG&AICR_USE&AICR_CH_CAT,0),MATCH($C159,AICR_COL,0)),\"\")","v":293},null,{"$f":"IFERROR(F162*E162,\"\")","v":1172},null,null,null,null,null,"Component 1 - UOM 1"]
["DD",{"$f":"C159&\"DD\"","v":"ParksDD"},{"$f":"C162","v":"Component 1 - Dwelling house"},{"$f":"IF('Development Details'!B$21=\"\",\"\",'Development Details'!B$21)","v":""},{"$f":"IF('Development Details'!C$21=\"\",\"\",'Development Details'!C$21)","v":""},{"$f":"IFERROR(INDEX(AICR_RATES,MATCH(CHARGE_AREA&COMP_1&$D163,AICR_REG&AICR_USE&AICR_CH_CAT,0),MATCH($C159,AICR_COL,0)),\"\")","v":""},null,"",{"$f":"IF(H163=\"\",\"Y\",\"\")","v":"Y"},null,null,null,null,"Component 1 - UOM 2"]
["DD",{"$f":"C159&\"DD\"","v":"ParksDD"},{"$f":"C162","v":"Component 1 - Dwelling house"},{"$f":"IF('Development Details'!B$22=\"\",\"\",'Development Details'!B$22)","v":""},{"$f":"IF('Development Details'!C$22=\"\",\"\",'Development Details'!C$22)","v":""},{"$f":"IFERROR(INDEX(AICR_RATES,MATCH(CHARGE_AREA&COMP_1&$D164,AICR_REG&AICR_USE&AICR_CH_CAT,0),MATCH($C159,AICR_COL,0)),\"\")","v":""},null,"",{"$f":"IF(H164=\"\",\"Y\",\"\")","v":"Y"},null,null,null,null,"Component 1 - UOM 3"]
["DD",{"$f":"C159&\"DD\"","v":"ParksDD"},{"$f":"\"Component 2 - \"&'Development Details'!$C$24","v":"Component 2 - "},{"$f":"IF('Development Details'!B$28=\"\",\"\",'Development Details'!B$28)","v":""},{"$f":"IF('Development Details'!C$28=\"\",\"\",'Development Details'!C$28)","v":""},{"$f":"IFERROR(INDEX(AICR_RATES,MATCH(CHARGE_AREA&COMP_2&$D165,AICR_REG&AICR_USE&AICR_CH_CAT,0),MATCH($C159,AICR_COL,0)),\"\")","v":""},null,"",{"$f":"IF('Development Details'!$C$11=1,\"Y\",IF(H165=\"\",\"Y\",\"\"))","v":"Y"},null,null,null,null,"Component 2 - UOM 1"]
["DD",{"$f":"C159&\"DD\"","v":"ParksDD"},{"$f":"C165","v":"Component 2 - "},{"$f":"IF('Development Details'!B$29=\"\",\"\",'Development Details'!B$29)","v":""},{"$f":"IF('Development Details'!C$29=\"\",\"\",'Development Details'!C$29)","v":""},{"$f":"IFERROR(INDEX(AICR_RATES,MATCH(CHARGE_AREA&COMP_2&$D166,AICR_REG&AICR_USE&AICR_CH_CAT,0),MATCH($C159,AICR_COL,0)),\"\")","v":""},null,"",{"$f":"IF('Development Details'!$C$11=1,\"Y\",IF(H166=\"\",\"Y\",\"\"))","v":"Y"},null,null,null,null,"Component 2 - UOM 2"]
["DD",{"$f":"C159&\"DD\"","v":"ParksDD"},{"$f":"C165","v":"Component 2 - "},{"$f":"IF('Development Details'!B$30=\"\",\"\",'Development Details'!B$30)","v":""},{"$f":"IF('Development Details'!C$30=\"\",\"\",'Development Details'!C$30)","v":""},{"$f":"IFERROR(INDEX(AICR_RATES,MATCH(CHARGE_AREA&COMP_2&$D167,AICR_REG&AICR_USE&AICR_CH_CAT,0),MATCH($C159,AICR_COL,0)),\"\")","v":""},null,"",{"$f":"IF('Development Details'!$C$11=1,\"Y\",IF(H167=\"\",\"Y\",\"\"))","v":"Y"},null,null,null,null,"Component 2 - UOM 3"]
["DD",{"$f":"C159&\"DD\"","v":"ParksDD"},{"$f":"\"Component 3 - \"&'Development Details'!$C$32","v":"Component 3 - "},{"$f":"IF('Development Details'!B$36=\"\",\"\",'Development Details'!B$36)","v":""},{"$f":"IF('Development Details'!C$36=\"\",\"\",'Development Details'!C$36)","v":""},{"$f":"IFERROR(INDEX(AICR_RATES,MATCH(CHARGE_AREA&COMP_3&$D168,AICR_REG&AICR_USE&AICR_CH_CAT,0),MATCH($C159,AICR_COL,0)),\"\")","v":""},null,"",{"$f":"IF('Development Details'!$C$11<3,\"Y\",IF(H168=\"\",\"Y\",\"\"))","v":"Y"},null,null,null,null,"Component 3 - UOM 1"]
["DD",{"$f":"C159&\"DD\"","v":"ParksDD"},{"$f":"C168","v":"Component 3 - "},{"$f":"IF('Development Details'!B$37=\"\",\"\",'Development Details'!B$37)","v":""},{"$f":"IF('Development Details'!C$37=\"\",\"\",'Development Details'!C$37)","v":""},{"$f":"IFERROR(INDEX(AICR_RATES,MATCH(CHARGE_AREA&COMP_3&$D169,AICR_REG&AICR_USE&AICR_CH_CAT,0),MATCH($C159,AICR_COL,0)),\"\")","v":""},null,"",{"$f":"IF('Development Details'!$C$11<3,\"Y\",IF(H169=\"\",\"Y\",\"\"))","v":"Y"},null,null,null,null,"Component 3 - UOM 2"]
["DD",{"$f":"C159&\"DD\"","v":"ParksDD"},{"$f":"C168","v":"Component 3 - "},{"$f":"IF('Development Details'!B$38=\"\",\"\",'Development Details'!B$38)","v":""},{"$f":"IF('Development Details'!C$38=\"\",\"\",'Development Details'!C$38)","v":""},{"$f":"IFERROR(INDEX(AICR_RATES,MATCH(CHARGE_AREA&COMP_3&$D170,AICR_REG&AICR_USE&AICR_CH_CAT,0),MATCH($C159,AICR_COL,0)),\"\")","v":""},null,"",{"$f":"IF('Development Details'!$C$11<3,\"Y\",IF(H170=\"\",\"Y\",\"\"))","v":"Y"},null,null,null,null,"Component 3 - UOM 3"]
["DD",{"$f":"C159&\"DD\"","v":"ParksDD"},{"$f":"\"Component 4 - \"&'Development Details'!$C$40","v":"Component 4 - "},{"$f":"IF('Development Details'!B$44=\"\",\"\",'Development Details'!B$44)","v":""},{"$f":"IF('Development Details'!C$44=\"\",\"\",'Development Details'!C$44)","v":""},{"$f":"IFERROR(INDEX(AICR_RATES,MATCH(CHARGE_AREA&COMP_4&$D171,AICR_REG&AICR_USE&AICR_CH_CAT,0),MATCH($C159,AICR_COL,0)),\"\")","v":""},null,"",{"$f":"IF('Development Details'!$C$11<4,\"Y\",IF(H171=\"\",\"Y\",\"\"))","v":"Y"},null,null,null,null,"Component 4 - UOM 1"]
["DD",{"$f":"C159&\"DD\"","v":"ParksDD"},{"$f":"C171","v":"Component 4 - "},{"$f":"IF('Development Details'!B$45=\"\",\"\",'Development Details'!B$45)","v":""},{"$f":"IF('Development Details'!C$45=\"\",\"\",'Development Details'!C$45)","v":""},{"$f":"IFERROR(INDEX(AICR_RATES,MATCH(CHARGE_AREA&COMP_4&$D172,AICR_REG&AICR_USE&AICR_CH_CAT,0),MATCH($C159,AICR_COL,0)),\"\")","v":""},null,"",{"$f":"IF('Development Details'!$C$11<4,\"Y\",IF(H172=\"\",\"Y\",\"\"))","v":"Y"},null,null,null,null,"Component 4 - UOM 2"]
["DD",{"$f":"C159&\"DD\"","v":"ParksDD"},{"$f":"C171","v":"Component 4 - "},{"$f":"IF('Development Details'!B$46=\"\",\"\",'Development Details'!B$46)","v":""},{"$f":"IF('Development Details'!C$46=\"\",\"\",'Development Details'!C$46)","v":""},{"$f":"IFERROR(INDEX(AICR_RATES,MATCH(CHARGE_AREA&COMP_4&$D173,AICR_REG&AICR_USE&AICR_CH_CAT,0),MATCH($C159,AICR_COL,0)),\"\")","v":""},null,"",{"$f":"IF('Development Details'!$C$11<4,\"Y\",IF(H173=\"\",\"Y\",\"\"))","v":"Y"},null,null,null,null,"Component 4 - UOM 3"]
["DD",{"$f":"C159&\"DD\"","v":"ParksDD"},{"$f":"\"Component 5 - \"&'Development Details'!$C$48","v":"Component 5 - "},{"$f":"IF('Development Details'!B$52=\"\",\"\",'Development Details'!B$52)","v":""},{"$f":"IF('Development Details'!C$52=\"\",\"\",'Development Details'!C$52)","v":""},{"$f":"IFERROR(INDEX(AICR_RATES,MATCH(CHARGE_AREA&COMP_5&$D174,AICR_REG&AICR_USE&AICR_CH_CAT,0),MATCH($C159,AICR_COL,0)),\"\")","v":""},null,"",{"$f":"IF('Development Details'!$C$11<5,\"Y\",IF(H174=\"\",\"Y\",\"\"))","v":"Y"},null,null,null,null,"Component 5 - UOM 1"]
["DD",{"$f":"C159&\"DD\"","v":"ParksDD"},{"$f":"C174","v":"Component 5 - "},{"$f":"IF('Development Details'!B$53=\"\",\"\",'Development Details'!B$53)","v":""},{"$f":"IF('Development Details'!C$53=\"\",\"\",'Development Details'!C$53)","v":""},{"$f":"IFERROR(INDEX(AICR_RATES,MATCH(CHARGE_AREA&COMP_5&$D175,AICR_REG&AICR_USE&AICR_CH_CAT,0),MATCH($C159,AICR_COL,0)),\"\")","v":""},null,"",{"$f":"IF('Development Details'!$C$11<5,\"Y\",IF(H175=\"\",\"Y\",\"\"))","v":"Y"},null,null,null,null,"Component 5 - UOM 2"]
["DD",{"$f":"C159&\"DD\"","v":"ParksDD"},{"$f":"C174","v":"Component 5 - "},{"$f":"IF('Development Details'!B$54=\"\",\"\",'Development Details'!B$54)","v":""},{"$f":"IF('Development Details'!C$54=\"\",\"\",'Development Details'!C$54)","v":""},{"$f":"IFERROR(INDEX(AICR_RATES,MATCH(CHARGE_AREA&COMP_5&$D176,AICR_REG&AICR_USE&AICR_CH_CAT,0),MATCH($C159,AICR_COL,0)),\"\")","v":""},null,"",{"$f":"IF('Development Details'!$C$11<5,\"Y\",IF(H176=\"\",\"Y\",\"\"))","v":"Y"},null,null,null,null,"Component 5 - UOM 3"]
[null,null,"Existing Demand"]
["ED",{"$f":"C159&\"ED\"","v":"ParksED"},{"$f":"\"Existing Demand 1 - \"&'Development Details'!$C$57","v":"Existing Demand 1 - "},{"$f":"IF('Development Details'!B$61=\"\",\"\",'Development Details'!B$61)","v":""},{"$f":"IF('Development Details'!C$61=\"\",\"\",'Development Details'!C$61)","v":""},{"$f":"IFERROR(INDEX(AICR_RATES,MATCH(CHARGE_AREA&EXU_1&$D178,AICR_REG&AICR_USE&AICR_CH_CAT,0),MATCH($C159,AICR_COL,0))*-1,\"\")","v":""},null,{"$f":"IFERROR(F178*E178,\"\")","v":""},null,null,null,null,null,null,"Component 1 - UOM 1"]
["ED",{"$f":"C159&\"ED\"","v":"ParksED"},{"$f":"C178","v":"Existing Demand 1 - "},{"$f":"IF('Development Details'!B$62=\"\",\"\",'Development Details'!B$62)","v":""},{"$f":"IF('Development Details'!C$62=\"\",\"\",'Development Details'!C$62)","v":""},{"$f":"IFERROR(INDEX(AICR_RATES,MATCH(CHARGE_AREA&EXU_1&$D179,AICR_REG&AICR_USE&AICR_CH_CAT,0),MATCH($C159,AICR_COL,0))*-1,\"\")","v":""},null,"",{"$f":"IF(H179=\"\",\"Y\",\"\")","v":"Y"},null,null,null,null,null,"Component 1 - UOM 2"]
["ED",{"$f":"C159&\"ED\"","v":"ParksED"},{"$f":"C178","v":"Existing Demand 1 - "},{"$f":"IF('Development Details'!B$63=\"\",\"\",'Development Details'!B$63)","v":""},{"$f":"IF('Development Details'!C$63=\"\",\"\",'Development Details'!C$63)","v":""},{"$f":"IFERROR(INDEX(AICR_RATES,MATCH(CHARGE_AREA&EXU_1&$D180,AICR_REG&AICR_USE&AICR_CH_CAT,0),MATCH($C159,AICR_COL,0))*-1,\"\")","v":""},null,"",{"$f":"IF(H180=\"\",\"Y\",\"\")","v":"Y"},null,null,null,null,null,"Component 1 - UOM 3"]
["ED",{"$f":"C159&\"ED\"","v":"ParksED"},{"$f":"\"Existing Demand 2 - \"&'Development Details'!$C$65","v":"Existing Demand 2 - "},{"$f":"IF('Development Details'!B$69=\"\",\"\",'Development Details'!B$69)","v":""},{"$f":"IF('Development Details'!C$69=\"\",\"\",'Development Details'!C$69)","v":""},{"$f":"IFERROR(INDEX(AICR_RATES,MATCH(CHARGE_AREA&EXU_2&$D181,AICR_REG&AICR_USE&AICR_CH_CAT,0),MATCH($C159,AICR_COL,0))*-1,\"\")","v":""},null,"",{"$f":"IF('Development Details'!$C$13=1,\"Y\",IF(H181=\"\",\"Y\",\"\"))","v":"Y"},null,null,null,null,null,"Component 2 - UOM 1"]
["ED",{"$f":"C159&\"ED\"","v":"ParksED"},{"$f":"C181","v":"Existing Demand 2 - "},{"$f":"IF('Development Details'!B$70=\"\",\"\",'Development Details'!B$70)","v":""},{"$f":"IF('Development Details'!C$70=\"\",\"\",'Development Details'!C$70)","v":""},{"$f":"IFERROR(INDEX(AICR_RATES,MATCH(CHARGE_AREA&EXU_2&$D182,AICR_REG&AICR_USE&AICR_CH_CAT,0),MATCH($C159,AICR_COL,0))*-1,\"\")","v":""},null,"",{"$f":"IF('Development Details'!$C$13=1,\"Y\",IF(H182=\"\",\"Y\",\"\"))","v":"Y"},null,null,null,null,null,"Component 2 - UOM 2"]
["ED",{"$f":"C159&\"ED\"","v":"ParksED"},{"$f":"C181","v":"Existing Demand 2 - "},{"$f":"IF('Development Details'!B$71=\"\",\"\",'Development Details'!B$71)","v":""},{"$f":"IF('Development Details'!C$71=\"\",\"\",'Development Details'!C$71)","v":""},{"$f":"IFERROR(INDEX(AICR_RATES,MATCH(CHARGE_AREA&EXU_2&$D183,AICR_REG&AICR_USE&AICR_CH_CAT,0),MATCH($C159,AICR_COL,0))*-1,\"\")","v":""},null,"",{"$f":"IF('Development Details'!$C$13=1,\"Y\",IF(H183=\"\",\"Y\",\"\"))","v":"Y"},null,null,null,null,null,"Component 2 - UOM 3"]
["ED",{"$f":"C159&\"ED\"","v":"ParksED"},{"$f":"\"Existing Demand 3 - \"&'Development Details'!$C$73","v":"Existing Demand 3 - "},{"$f":"IF('Development Details'!B$77=\"\",\"\",'Development Details'!B$77)","v":""},{"$f":"IF('Development Details'!C$77=\"\",\"\",'Development Details'!C$77)","v":""},{"$f":"IFERROR(INDEX(AICR_RATES,MATCH(CHARGE_AREA&EXU_3&$D184,AICR_REG&AICR_USE&AICR_CH_CAT,0),MATCH($C159,AICR_COL,0))*-1,\"\")","v":""},null,"",{"$f":"IF('Development Details'!$C$13<3,\"Y\",IF(H184=\"\",\"Y\",\"\"))","v":"Y"},null,null,null,null,null,"Component 3 - UOM 1"]
["ED",{"$f":"C159&\"ED\"","v":"ParksED"},{"$f":"C184","v":"Existing Demand 3 - "},{"$f":"IF('Development Details'!B$78=\"\",\"\",'Development Details'!B$78)","v":""},{"$f":"IF('Development Details'!C$78=\"\",\"\",'Development Details'!C$78)","v":""},{"$f":"IFERROR(INDEX(AICR_RATES,MATCH(CHARGE_AREA&EXU_3&$D185,AICR_REG&AICR_USE&AICR_CH_CAT,0),MATCH($C159,AICR_COL,0))*-1,\"\")","v":""},null,"",{"$f":"IF('Development Details'!$C$13<3,\"Y\",IF(H185=\"\",\"Y\",\"\"))","v":"Y"},null,null,null,null,null,"Component 3 - UOM 2"]
["ED",{"$f":"C159&\"ED\"","v":"ParksED"},{"$f":"C184","v":"Existing Demand 3 - "},{"$f":"IF('Development Details'!B$79=\"\",\"\",'Development Details'!B$79)","v":""},{"$f":"IF('Development Details'!C$79=\"\",\"\",'Development Details'!C$79)","v":""},{"$f":"IFERROR(INDEX(AICR_RATES,MATCH(CHARGE_AREA&EXU_3&$D186,AICR_REG&AICR_USE&AICR_CH_CAT,0),MATCH($C159,AICR_COL,0))*-1,\"\")","v":""},null,"",{"$f":"IF('Development Details'!$C$13<3,\"Y\",IF(H186=\"\",\"Y\",\"\"))","v":"Y"},null,null,null,null,null,"Component 3 - UOM 3"]
["ED",{"$f":"C159&\"ED\"","v":"ParksED"},{"$f":"\"Existing Demand 4 - \"&'Development Details'!$C$81","v":"Existing Demand 4 - "},{"$f":"IF('Development Details'!B$85=\"\",\"\",'Development Details'!B$85)","v":""},{"$f":"IF('Development Details'!C$85=\"\",\"\",'Development Details'!C$85)","v":""},{"$f":"IFERROR(INDEX(AICR_RATES,MATCH(CHARGE_AREA&EXU_4&$D187,AICR_REG&AICR_USE&AICR_CH_CAT,0),MATCH($C159,AICR_COL,0))*-1,\"\")","v":""},null,"",{"$f":"IF('Development Details'!$C$13<4,\"Y\",IF(H187=\"\",\"Y\",\"\"))","v":"Y"},null,null,null,null,null,"Component 4 - UOM 1"]
["ED",{"$f":"C159&\"ED\"","v":"ParksED"},{"$f":"C187","v":"Existing Demand 4 - "},{"$f":"IF('Development Details'!B$86=\"\",\"\",'Development Details'!B$86)","v":""},{"$f":"IF('Development Details'!C$86=\"\",\"\",'Development Details'!C$86)","v":""},{"$f":"IFERROR(INDEX(AICR_RATES,MATCH(CHARGE_AREA&EXU_4&$D188,AICR_REG&AICR_USE&AICR_CH_CAT,0),MATCH($C159,AICR_COL,0))*-1,\"\")","v":""},null,"",{"$f":"IF('Development Details'!$C$13<4,\"Y\",IF(H188=\"\",\"Y\",\"\"))","v":"Y"},null,null,null,null,null,"Component 4 - UOM 2"]
["ED",{"$f":"C159&\"ED\"","v":"ParksED"},{"$f":"C187","v":"Existing Demand 4 - "},{"$f":"IF('Development Details'!B$87=\"\",\"\",'Development Details'!B$87)","v":""},{"$f":"IF('Development Details'!C$87=\"\",\"\",'Development Details'!C$87)","v":""},{"$f":"IFERROR(INDEX(AICR_RATES,MATCH(CHARGE_AREA&EXU_4&$D189,AICR_REG&AICR_USE&AICR_CH_CAT,0),MATCH($C159,AICR_COL,0))*-1,\"\")","v":""},null,"",{"$f":"IF('Development Details'!$C$13<4,\"Y\",IF(H189=\"\",\"Y\",\"\"))","v":"Y"},null,null,null,null,null,"Component 4 - UOM 3"]
["ED",{"$f":"C159&\"ED\"","v":"ParksED"},{"$f":"\"Existing Demand 5 - \"&'Development Details'!$C$89","v":"Existing Demand 5 - "},{"$f":"IF('Development Details'!B$93=\"\",\"\",'Development Details'!B$93)","v":""},{"$f":"IF('Development Details'!C$93=\"\",\"\",'Development Details'!C$93)","v":""},{"$f":"IFERROR(INDEX(AICR_RATES,MATCH(CHARGE_AREA&EXU_5&$D190,AICR_REG&AICR_USE&AICR_CH_CAT,0),MATCH($C159,AICR_COL,0))*-1,\"\")","v":""},null,"",{"$f":"IF('Development Details'!$C$13<5,\"Y\",IF(H190=\"\",\"Y\",\"\"))","v":"Y"},null,null,null,null,null,"Component 5 - UOM 1"]
["ED",{"$f":"C159&\"ED\"","v":"ParksED"},{"$f":"C190","v":"Existing Demand 5 - "},{"$f":"IF('Development Details'!B$94=\"\",\"\",'Development Details'!B$94)","v":""},{"$f":"IF('Development Details'!C$94=\"\",\"\",'Development Details'!C$94)","v":""},{"$f":"IFERROR(INDEX(AICR_RATES,MATCH(CHARGE_AREA&EXU_5&$D191,AICR_REG&AICR_USE&AICR_CH_CAT,0),MATCH($C159,AICR_COL,0))*-1,\"\")","v":""},null,"",{"$f":"IF('Development Details'!$C$13<5,\"Y\",IF(H191=\"\",\"Y\",\"\"))","v":"Y"},null,null,null,null,null,"Component 5 - UOM 2"]
["ED",{"$f":"C159&\"ED\"","v":"ParksED"},{"$f":"C190","v":"Existing Demand 5 - "},{"$f":"IF('Development Details'!B$95=\"\",\"\",'Development Details'!B$95)","v":""},{"$f":"IF('Development Details'!C$95=\"\",\"\",'Development Details'!C$95)","v":""},{"$f":"IFERROR(INDEX(AICR_RATES,MATCH(CHARGE_AREA&EXU_5&$D192,AICR_REG&AICR_USE&AICR_CH_CAT,0),MATCH($C159,AICR_COL,0))*-1,\"\")","v":""},null,"",{"$f":"IF('Development Details'!$C$13<5,\"Y\",IF(H192=\"\",\"Y\",\"\"))","v":"Y"},null,null,null,null,null,"Component 5 - UOM 3"]
["EL",{"$f":"C159&\"EL\"","v":"ParksEL"},"Existing Lot Credit","Lots",{"$f":"SUM('Development Details'!$C$5:$C$9)","v":1},{"$f":"IFERROR(INDEX(AICR_RATES,MATCH(CHARGE_AREA&\"Reconfiguring a Lot - Residential\"&$D193,AICR_REG&AICR_USE&AICR_CH_CAT,0),MATCH($C159,AICR_COL,0))*-1,\"\")","v":-293},null,-293]

{"sheet":"ICN Output","index":4,"n_rows":31,"n_cols":7,"rows_kept":31,"cut":false,"hidden":false,"merged":[[28,4,28,5],[29,4,29,5],[17,4,17,5]]}
[]
[null,"Use","Infrastructure Charge","No. of Units","Infrastructure Charge for Stormwater Network","No. of Units\n(Stormwater)","Charge Amount (Development Demand)"]
[null,{"$f":"IF(Calculations!D18=\"\",\"\",COMP_1&\" (\"&Calculations!D18&\")\")","v":"Dwelling house (3 or more bedrooms)"},{"$f":"IF(SUMIFS(Calculations!$F$18:$F$193,Calculations!$N$18:$N$193,\"Component 1 - UOM 1\")=0,\"\",SUMIFS(Calculations!$F$18:$F$193,Calculations!$N$18:$N$193,\"Component 1 - UOM 1\"))","v":14377},{"$f":"IFERROR(SUMIFS(Calculations!$H$18:$H$193,Calculations!$N$18:$N$193,\"Component 1 - UOM 1\")/C3,\"\")","v":4},{"$f":"IF(SUMIFS(Calculations!$F$18:$F$193,Calculations!$N$18:$N$193,\"SW Component 1 - UOM 1\")=0,\"\",SUMIFS(Calculations!$F$18:$F$193,Calculations!$N$18:$N$193,\"SW Component 1 - UOM 1\"))","v":293},{"$f":"IFERROR(SUMIFS(Calculations!$H$18:$H$193,Calculations!$N$18:$N$193,\"SW Component 1 - UOM 1\")/E3,\"\")","v":4},{"$f":"IF(B3=\"\",\"\",SUMIFS(Calculations!$H$18:$H$193,Calculations!$N$18:$N$193,\"Component 1 - UOM 1\")+SUMIFS(Calculations!$H$18:$H$193,Calculations!$N$18:$N$193,\"SW Component 1 - UOM 1\"))","v":58680}]
[null,{"$f":"IF(Calculations!D19=\"\",\"\",COMP_1&\" (\"&Calculations!D19&\")\")","v":""},{"$f":"IF(SUMIFS(Calculations!$F$18:$F$193,Calculations!$N$18:$N$193,\"Component 1 - UOM 2\")=0,\"\",SUMIFS(Calculations!$F$18:$F$193,Calculations!$N$18:$N$193,\"Component 1 - UOM 2\"))","v":""},{"$f":"IFERROR(SUMIFS(Calculations!$H$18:$H$193,Calculations!$N$18:$N$193,\"Component 1 - UOM 2\")/C4,\"\")","v":""},{"$f":"IF(SUMIFS(Calculations!$F$18:$F$193,Calculations!$N$18:$N$193,\"SW Component 1 - UOM 2\")=0,\"\",SUMIFS(Calculations!$F$18:$F$193,Calculations!$N$18:$N$193,\"SW Component 1 - UOM 2\"))","v":""},{"$f":"IFERROR(SUMIFS(Calculations!$H$18:$H$193,Calculations!$N$18:$N$193,\"SW Component 1 - UOM 2\")/E4,\"\")","v":""},{"$f":"IF(B4=\"\",\"\",SUMIFS(Calculations!$H$18:$H$193,Calculations!$N$18:$N$193,\"Component 1 - UOM 2\")+SUMIFS(Calculations!$H$18:$H$193,Calculations!$N$18:$N$193,\"SW Component 1 - UOM 2\"))","v":""}]
[null,{"$f":"IF(Calculations!D20=\"\",\"\",COMP_1&\" (\"&Calculations!D20&\")\")","v":""},{"$f":"IF(SUMIFS(Calculations!$F$18:$F$193,Calculations!$N$18:$N$193,\"Component 1 - UOM 3\")=0,\"\",SUMIFS(Calculations!$F$18:$F$193,Calculations!$N$18:$N$193,\"Component 1 - UOM 3\"))","v":""},{"$f":"IFERROR(SUMIFS(Calculations!$H$18:$H$193,Calculations!$N$18:$N$193,\"Component 1 - UOM 3\")/C5,\"\")","v":""},{"$f":"IF(SUMIFS(Calculations!$F$18:$F$193,Calculations!$N$18:$N$193,\"SW Component 1 - UOM 3\")=0,\"\",SUMIFS(Calculations!$F$18:$F$193,Calculations!$N$18:$N$193,\"SW Component 1 - UOM 3\"))","v":""},{"$f":"IFERROR(SUMIFS(Calculations!$H$18:$H$193,Calculations!$N$18:$N$193,\"SW Component 1 - UOM 3\")/E5,\"\")","v":""},{"$f":"IF(B5=\"\",\"\",SUMIFS(Calculations!$H$18:$H$193,Calculations!$N$18:$N$193,\"Component 1 - UOM 3\")+SUMIFS(Calculations!$H$18:$H$193,Calculations!$N$18:$N$193,\"SW Component 1 - UOM 3\"))","v":""}]
[null,{"$f":"IF('Development Details'!$C$11>1,IF(Calculations!D21=\"\",\"\",COMP_2&\" (\"&Calculations!D21&\")\"),\"\")","v":""},{"$f":"IF(SUMIFS(Calculations!$F$18:$F$193,Calculations!$N$18:$N$193,\"Component 2 - UOM 1\")=0,\"\",SUMIFS(Calculations!$F$18:$F$193,Calculations!$N$18:$N$193,\"Component 2 - UOM 1\"))","v":""},{"$f":"IFERROR(SUMIFS(Calculations!$H$18:$H$193,Calculations!$N$18:$N$193,\"Component 2 - UOM 1\")/C6,\"\")","v":""},{"$f":"IF(SUMIFS(Calculations!$F$18:$F$193,Calculations!$N$18:$N$193,\"SW Component 2 - UOM 1\")=0,\"\",SUMIFS(Calculations!$F$18:$F$193,Calculations!$N$18:$N$193,\"SW Component 2 - UOM 1\"))","v":""},{"$f":"IFERROR(SUMIFS(Calculations!$H$18:$H$193,Calculations!$N$18:$N$193,\"SW Component 2 - UOM 1\")/E6,\"\")","v":""},{"$f":"IF(B6=\"\",\"\",SUMIFS(Calculations!$H$18:$H$193,Calculations!$N$18:$N$193,\"Component 2 - UOM 1\")+SUMIFS(Calculations!$H$18:$H$193,Calculations!$N$18:$N$193,\"SW Component 2 - UOM 1\"))","v":""}]
[null,{"$f":"IF('Development Details'!$C$11>1,IF(Calculations!D22=\"\",\"\",COMP_2&\" (\"&Calculations!D22&\")\"),\"\")","v":""},{"$f":"IF(SUMIFS(Calculations!$F$18:$F$193,Calculations!$N$18:$N$193,\"Component 2 - UOM 2\")=0,\"\",SUMIFS(Calculations!$F$18:$F$193,Calculations!$N$18:$N$193,\"Component 2 - UOM 2\"))","v":""},{"$f":"IFERROR(SUMIFS(Calculations!$H$18:$H$193,Calculations!$N$18:$N$193,\"Component 2 - UOM 2\")/C7,\"\")","v":""},{"$f":"IF(SUMIFS(Calculations!$F$18:$F$193,Calculations!$N$18:$N$193,\"SW Component 2 - UOM 2\")=0,\"\",SUMIFS(Calculations!$F$18:$F$193,Calculations!$N$18:$N$193,\"SW Component 2 - UOM 2\"))","v":""},{"$f":"IFERROR(SUMIFS(Calculations!$H$18:$H$193,Calculations!$N$18:$N$193,\"SW Component 2 - UOM 2\")/E7,\"\")","v":""},{"$f":"IF(B7=\"\",\"\",SUMIFS(Calculations!$H$18:$H$193,Calculations!$N$18:$N$193,\"Component 2 - UOM 2\")+SUMIFS(Calculations!$H$18:$H$193,Calculations!$N$18:$N$193,\"SW Component 2 - UOM 2\"))","v":""}]
[null,{"$f":"IF('Development Details'!$C$11>1,IF(Calculations!D23=\"\",\"\",COMP_2&\" (\"&Calculations!D23&\")\"),\"\")","v":""},{"$f":"IF(SUMIFS(Calculations!$F$18:$F$193,Calculations!$N$18:$N$193,\"Component 2 - UOM 3\")=0,\"\",SUMIFS(Calculations!$F$18:$F$193,Calculations!$N$18:$N$193,\"Component 2 - UOM 3\"))","v":""},{"$f":"IFERROR(SUMIFS(Calculations!$H$18:$H$193,Calculations!$N$18:$N$193,\"Component 2 - UOM 3\")/C8,\"\")","v":""},{"$f":"IF(SUMIFS(Calculations!$F$18:$F$193,Calculations!$N$18:$N$193,\"SW Component 2 - UOM 3\")=0,\"\",SUMIFS(Calculations!$F$18:$F$193,Calculations!$N$18:$N$193,\"SW Component 2 - UOM 3\"))","v":""},{"$f":"IFERROR(SUMIFS(Calculations!$H$18:$H$193,Calculations!$N$18:$N$193,\"SW Component 2 - UOM 3\")/E8,\"\")","v":""},{"$f":"IF(B8=\"\",\"\",SUMIFS(Calculations!$H$18:$H$193,Calculations!$N$18:$N$193,\"Component 2 - UOM 3\")+SUMIFS(Calculations!$H$18:$H$193,Calculations!$N$18:$N$193,\"SW Component 2 - UOM 3\"))","v":""}]
[null,{"$f":"IF('Development Details'!$C$11>2,IF(Calculations!D24=\"\",\"\",COMP_3&\" (\"&Calculations!D24&\")\"),\"\")","v":""},{"$f":"IF(SUMIFS(Calculations!$F$18:$F$193,Calculations!$N$18:$N$193,\"Component 3 - UOM 1\")=0,\"\",SUMIFS(Calculations!$F$18:$F$193,Calculations!$N$18:$N$193,\"Component 3 - UOM 1\"))","v":""},{"$f":"IFERROR(SUMIFS(Calculations!$H$18:$H$193,Calculations!$N$18:$N$193,\"Component 3 - UOM 1\")/C9,\"\")","v":""},{"$f":"IF(SUMIFS(Calculations!$F$18:$F$193,Calculations!$N$18:$N$193,\"SW Component 3 - UOM 1\")=0,\"\",SUMIFS(Calculations!$F$18:$F$193,Calculations!$N$18:$N$193,\"SW Component 3 - UOM 1\"))","v":""},{"$f":"IFERROR(SUMIFS(Calculations!$H$18:$H$193,Calculations!$N$18:$N$193,\"SW Component 3 - UOM 1\")/E9,\"\")","v":""},{"$f":"IF(B9=\"\",\"\",SUMIFS(Calculations!$H$18:$H$193,Calculations!$N$18:$N$193,\"Component 3 - UOM 1\")+SUMIFS(Calculations!$H$18:$H$193,Calculations!$N$18:$N$193,\"SW Component 3 - UOM 1\"))","v":""}]
[null,{"$f":"IF('Development Details'!$C$11>2,IF(Calculations!D25=\"\",\"\",COMP_3&\" (\"&Calculations!D25&\")\"),\"\")","v":""},{"$f":"IF(SUMIFS(Calculations!$F$18:$F$193,Calculations!$N$18:$N$193,\"Component 3 - UOM 2\")=0,\"\",SUMIFS(Calculations!$F$18:$F$193,Calculations!$N$18:$N$193,\"Component 3 - UOM 2\"))","v":""},{"$f":"IFERROR(SUMIFS(Calculations!$H$18:$H$193,Calculations!$N$18:$N$193,\"Component 3 - UOM 2\")/C10,\"\")","v":""},{"$f":"IF(SUMIFS(Calculations!$F$18:$F$193,Calculations!$N$18:$N$193,\"SW Component 3 - UOM 2\")=0,\"\",SUMIFS(Calculations!$F$18:$F$193,Calculations!$N$18:$N$193,\"SW Component 3 - UOM 2\"))","v":""},{"$f":"IFERROR(SUMIFS(Calculations!$H$18:$H$193,Calculations!$N$18:$N$193,\"SW Component 3 - UOM 2\")/E10,\"\")","v":""},{"$f":"IF(B10=\"\",\"\",SUMIFS(Calculations!$H$18:$H$193,Calculations!$N$18:$N$193,\"Component 3 - UOM 2\")+SUMIFS(Calculations!$H$18:$H$193,Calculations!$N$18:$N$193,\"SW Component 3 - UOM 2\"))","v":""}]
[null,{"$f":"IF('Development Details'!$C$11>2,IF(Calculations!D26=\"\",\"\",COMP_3&\" (\"&Calculations!D26&\")\"),\"\")","v":""},{"$f":"IF(SUMIFS(Calculations!$F$18:$F$193,Calculations!$N$18:$N$193,\"Component 3 - UOM 3\")=0,\"\",SUMIFS(Calculations!$F$18:$F$193,Calculations!$N$18:$N$193,\"Component 3 - UOM 3\"))","v":""},{"$f":"IFERROR(SUMIFS(Calculations!$H$18:$H$193,Calculations!$N$18:$N$193,\"Component 3 - UOM 3\")/C11,\"\")","v":""},{"$f":"IF(SUMIFS(Calculations!$F$18:$F$193,Calculations!$N$18:$N$193,\"SW Component 3 - UOM 3\")=0,\"\",SUMIFS(Calculations!$F$18:$F$193,Calculations!$N$18:$N$193,\"SW Component 3 - UOM 3\"))","v":""},{"$f":"IFERROR(SUMIFS(Calculations!$H$18:$H$193,Calculations!$N$18:$N$193,\"SW Component 3 - UOM 3\")/E11,\"\")","v":""},{"$f":"IF(B11=\"\",\"\",SUMIFS(Calculations!$H$18:$H$193,Calculations!$N$18:$N$193,\"Component 3 - UOM 3\")+SUMIFS(Calculations!$H$18:$H$193,Calculations!$N$18:$N$193,\"SW Component 3 - UOM 3\"))","v":""}]
[null,{"$f":"IF('Development Details'!$C$11>3,IF(Calculations!D27=\"\",\"\",COMP_4&\" (\"&Calculations!D27&\")\"),\"\")","v":""},{"$f":"IF(SUMIFS(Calculations!$F$18:$F$193,Calculations!$N$18:$N$193,\"Component 4 - UOM 1\")=0,\"\",SUMIFS(Calculations!$F$18:$F$193,Calculations!$N$18:$N$193,\"Component 4 - UOM 1\"))","v":""},{"$f":"IFERROR(SUMIFS(Calculations!$H$18:$H$193,Calculations!$N$18:$N$193,\"Component 4 - UOM 1\")/C12,\"\")","v":""},{"$f":"IF(SUMIFS(Calculations!$F$18:$F$193,Calculations!$N$18:$N$193,\"SW Component 4 - UOM 1\")=0,\"\",SUMIFS(Calculations!$F$18:$F$193,Calculations!$N$18:$N$193,\"SW Component 4 - UOM 1\"))","v":""},{"$f":"IFERROR(SUMIFS(Calculations!$H$18:$H$193,Calculations!$N$18:$N$193,\"SW Component 4 - UOM 1\")/E12,\"\")","v":""},{"$f":"IF(B12=\"\",\"\",SUMIFS(Calculations!$H$18:$H$193,Calculations!$N$18:$N$193,\"Component 4 - UOM 1\")+SUMIFS(Calculations!$H$18:$H$193,Calculations!$N$18:$N$193,\"SW Component 4 - UOM 1\"))","v":""}]
[null,{"$f":"IF('Development Details'!$C$11>3,IF(Calculations!D28=\"\",\"\",COMP_4&\" (\"&Calculations!D28&\")\"),\"\")","v":""},{"$f":"IF(SUMIFS(Calculations!$F$18:$F$193,Calculations!$N$18:$N$193,\"Component 4 - UOM 2\")=0,\"\",SUMIFS(Calculations!$F$18:$F$193,Calculations!$N$18:$N$193,\"Component 4 - UOM 2\"))","v":""},{"$f":"IFERROR(SUMIFS(Calculations!$H$18:$H$193,Calculations!$N$18:$N$193,\"Component 4 - UOM 2\")/C13,\"\")","v":""},{"$f":"IF(SUMIFS(Calculations!$F$18:$F$193,Calculations!$N$18:$N$193,\"SW Component 4 - UOM 2\")=0,\"\",SUMIFS(Calculations!$F$18:$F$193,Calculations!$N$18:$N$193,\"SW Component 4 - UOM 2\"))","v":""},{"$f":"IFERROR(SUMIFS(Calculations!$H$18:$H$193,Calculations!$N$18:$N$193,\"SW Component 4 - UOM 2\")/E13,\"\")","v":""},{"$f":"IF(B13=\"\",\"\",SUMIFS(Calculations!$H$18:$H$193,Calculations!$N$18:$N$193,\"Component 4 - UOM 2\")+SUMIFS(Calculations!$H$18:$H$193,Calculations!$N$18:$N$193,\"SW Component 4 - UOM 2\"))","v":""}]
[null,{"$f":"IF('Development Details'!$C$11>3,IF(Calculations!D29=\"\",\"\",COMP_4&\" (\"&Calculations!D29&\")\"),\"\")","v":""},{"$f":"IF(SUMIFS(Calculations!$F$18:$F$193,Calculations!$N$18:$N$193,\"Component 4 - UOM 3\")=0,\"\",SUMIFS(Calculations!$F$18:$F$193,Calculations!$N$18:$N$193,\"Component 4 - UOM 3\"))","v":""},{"$f":"IFERROR(SUMIFS(Calculations!$H$18:$H$193,Calculations!$N$18:$N$193,\"Component 4 - UOM 3\")/C14,\"\")","v":""},{"$f":"IF(SUMIFS(Calculations!$F$18:$F$193,Calculations!$N$18:$N$193,\"SW Component 4 - UOM 3\")=0,\"\",SUMIFS(Calculations!$F$18:$F$193,Calculations!$N$18:$N$193,\"SW Component 4 - UOM 3\"))","v":""},{"$f":"IFERROR(SUMIFS(Calculations!$H$18:$H$193,Calculations!$N$18:$N$193,\"SW Component 4 - UOM 3\")/E14,\"\")","v":""},{"$f":"IF(B14=\"\",\"\",SUMIFS(Calculations!$H$18:$H$193,Calculations!$N$18:$N$193,\"Component 4 - UOM 3\")+SUMIFS(Calculations!$H$18:$H$193,Calculations!$N$18:$N$193,\"SW Component 4 - UOM 3\"))","v":""}]
[null,{"$f":"IF('Development Details'!$C$11>4,IF(Calculations!D30=\"\",\"\",COMP_5&\" (\"&Calculations!D30&\")\"),\"\")","v":""},{"$f":"IF(SUMIFS(Calculations!$F$18:$F$193,Calculations!$N$18:$N$193,\"Component 5 - UOM 1\")=0,\"\",SUMIFS(Calculations!$F$18:$F$193,Calculations!$N$18:$N$193,\"Component 5 - UOM 1\"))","v":""},{"$f":"IFERROR(SUMIFS(Calculations!$H$18:$H$193,Calculations!$N$18:$N$193,\"Component 5 - UOM 1\")/C15,\"\")","v":""},{"$f":"IF(SUMIFS(Calculations!$F$18:$F$193,Calculations!$N$18:$N$193,\"SW Component 5 - UOM 1\")=0,\"\",SUMIFS(Calculations!$F$18:$F$193,Calculations!$N$18:$N$193,\"SW Component 5 - UOM 1\"))","v":""},{"$f":"IFERROR(SUMIFS(Calculations!$H$18:$H$193,Calculations!$N$18:$N$193,\"SW Component 5 - UOM 1\")/E15,\"\")","v":""},{"$f":"IF(B15=\"\",\"\",SUMIFS(Calculations!$H$18:$H$193,Calculations!$N$18:$N$193,\"Component 5 - UOM 1\")+SUMIFS(Calculations!$H$18:$H$193,Calculations!$N$18:$N$193,\"SW Component 5 - UOM 1\"))","v":""}]
[null,{"$f":"IF('Development Details'!$C$11>4,IF(Calculations!D31=\"\",\"\",COMP_5&\" (\"&Calculations!D31&\")\"),\"\")","v":""},{"$f":"IF(SUMIFS(Calculations!$F$18:$F$193,Calculations!$N$18:$N$193,\"Component 5 - UOM 2\")=0,\"\",SUMIFS(Calculations!$F$18:$F$193,Calculations!$N$18:$N$193,\"Component 5 - UOM 2\"))","v":""},{"$f":"IFERROR(SUMIFS(Calculations!$H$18:$H$193,Calculations!$N$18:$N$193,\"Component 5 - UOM 2\")/C16,\"\")","v":""},{"$f":"IF(SUMIFS(Calculations!$F$18:$F$193,Calculations!$N$18:$N$193,\"SW Component 5 - UOM 2\")=0,\"\",SUMIFS(Calculations!$F$18:$F$193,Calculations!$N$18:$N$193,\"SW Component 5 - UOM 2\"))","v":""},{"$f":"IFERROR(SUMIFS(Calculations!$H$18:$H$193,Calculations!$N$18:$N$193,\"SW Component 5 - UOM 2\")/E16,\"\")","v":""},{"$f":"IF(B16=\"\",\"\",SUMIFS(Calculations!$H$18:$H$193,Calculations!$N$18:$N$193,\"Component 5 - UOM 2\")+SUMIFS(Calculations!$H$18:$H$193,Calculations!$N$18:$N$193,\"SW Component 5 - UOM 2\"))","v":""}]
[null,{"$f":"IF('Development Details'!$C$11>4,IF(Calculations!D32=\"\",\"\",COMP_5&\" (\"&Calculations!D32&\")\"),\"\")","v":""},{"$f":"IF(SUMIFS(Calculations!$F$18:$F$193,Calculations!$N$18:$N$193,\"Component 5 - UOM 3\")=0,\"\",SUMIFS(Calculations!$F$18:$F$193,Calculations!$N$18:$N$193,\"Component 5 - UOM 3\"))","v":""},{"$f":"IFERROR(SUMIFS(Calculations!$H$18:$H$193,Calculations!$N$18:$N$193,\"Component 5 - UOM 3\")/C17,\"\")","v":""},{"$f":"IF(SUMIFS(Calculations!$F$18:$F$193,Calculations!$N$18:$N$193,\"SW Component 5 - UOM 3\")=0,\"\",SUMIFS(Calculations!$F$18:$F$193,Calculations!$N$18:$N$193,\"SW Component 5 - UOM 3\"))","v":""},{"$f":"IFERROR(SUMIFS(Calculations!$H$18:$H$193,Calculations!$N$18:$N$193,\"SW Component 5 - UOM 3\")/E17,\"\")","v":""},{"$f":"IF(B17=\"\",\"\",SUMIFS(Calculations!$H$18:$H$193,Calculations!$N$18:$N$193,\"Component 5 - UOM 3\")+SUMIFS(Calculations!$H$18:$H$193,Calculations!$N$18:$N$193,\"SW Component 5 - UOM 3\"))","v":""}]
[null,null,null,null,"CHARGE SUBTOTAL",null,{"$f":"SUM(G3:G17)","v":58680}]
[null,"[Existing/Previous] Lawful Use","Discount Charge","No. of Units","Discount Charge for Stormwater Network","No. of Units\n(Stormwater)","Discount Charge Amount (Existing Demand)"]
[null,{"$f":"EXU_1","v":0},{"$f":"SUMIFS(Calculations!$F$18:$F$193,Calculations!$C$18:$C$193,\"Existing Demand 1 - \"&EXU_1)","v":0},{"$f":"SUMIFS(Calculations!$H$18:$H$193,Calculations!$C$18:$C$193,\"Existing Demand 1 - \"&EXU_1)/C20","v":{"$error":"#DIV/0!"}},{"$f":"SUMIFS(Calculations!$F$18:$F$193,Calculations!$C$18:$C$193,\"Existing SW Demand 1 - \"&EXU_1)","v":0},{"$f":"IFERROR(SUMIFS(Calculations!$H$18:$H$193,Calculations!$C$18:$C$193,\"Existing SW Demand 1 - \"&EXU_1)/E20,\"\")","v":""},{"$f":"SUMIFS(Calculations!$H$18:$H$193,Calculations!$C$18:$C$193,\"Existing Demand 1 - \"&EXU_1)+SUMIFS(Calculations!$H$18:$H$193,Calculations!$C$18:$C$193,\"Existing SW Demand 1 - \"&EXU_1)","v":0}]
[null,{"$f":"IF('Development Details'!$C$13>1,EXU_2,\"\")","v":""},{"$f":"IF('Development Details'!$C$13>1,SUMIFS(Calculations!$F$18:$F$193,Calculations!$C$18:$C$193,\"Existing Demand 2 - \"&EXU_2),\"\")","v":""},{"$f":"IFERROR(SUMIFS(Calculations!$H$18:$H$193,Calculations!$C$18:$C$193,\"Existing Demand 2 - \"&EXU_2)/C21,\"\")","v":""},{"$f":"SUMIFS(Calculations!$F$18:$F$193,Calculations!$C$18:$C$193,\"Existing SW Demand 2 - \"&EXU_2)","v":0},{"$f":"IFERROR(SUMIFS(Calculations!$H$18:$H$193,Calculations!$C$18:$C$193,\"Existing SW Demand 2 - \"&EXU_2)/E21,\"\")","v":""},{"$f":"SUMIFS(Calculations!$H$18:$H$193,Calculations!$C$18:$C$193,\"Existing Demand 2 - \"&EXU_2)+SUMIFS(Calculations!$H$18:$H$193,Calculations!$C$18:$C$193,\"Existing SW Demand 2 - \"&EXU_2)","v":0}]
[null,{"$f":"IF('Development Details'!$C$13>2,EXU_3,\"\")","v":""},{"$f":"IF('Development Details'!$C$13>2,SUMIFS(Calculations!$F$18:$F$193,Calculations!$C$18:$C$193,\"Existing Demand 3 - \"&EXU_3),\"\")","v":""},{"$f":"IFERROR(SUMIFS(Calculations!$H$18:$H$193,Calculations!$C$18:$C$193,\"Existing Demand 3 - \"&EXU_3)/C22,\"\")","v":""},{"$f":"SUMIFS(Calculations!$F$18:$F$193,Calculations!$C$18:$C$193,\"Existing SW Demand 3 - \"&EXU_3)","v":0},{"$f":"IFERROR(SUMIFS(Calculations!$H$18:$H$193,Calculations!$C$18:$C$193,\"SW Component 3 - \"&COMP_3)/E22,\"\")","v":""},{"$f":"SUMIFS(Calculations!$H$18:$H$193,Calculations!$C$18:$C$193,\"Existing Demand 3 - \"&EXU_3)+SUMIFS(Calculations!$H$18:$H$193,Calculations!$C$18:$C$193,\"Existing SW Demand 3 - \"&EXU_3)","v":0}]
[null,{"$f":"IF('Development Details'!$C$13>3,EXU_4,\"\")","v":""},{"$f":"IF('Development Details'!$C$13>3,SUMIFS(Calculations!$F$18:$F$193,Calculations!$C$18:$C$193,\"Existing Demand 4 - \"&EXU_4),\"\")","v":""},{"$f":"IFERROR(SUMIFS(Calculations!$H$18:$H$193,Calculations!$C$18:$C$193,\"Existing Demand 4 - \"&EXU_4)/C23,\"\")","v":""},{"$f":"SUMIFS(Calculations!$F$18:$F$193,Calculations!$C$18:$C$193,\"Existing SW Demand 4 - \"&EXU_4)","v":0},{"$f":"IFERROR(SUMIFS(Calculations!$H$18:$H$193,Calculations!$C$18:$C$193,\"SW Component 3 - \"&COMP_3)/E23,\"\")","v":""},{"$f":"SUMIFS(Calculations!$H$18:$H$193,Calculations!$C$18:$C$193,\"Existing Demand 4 - \"&EXU_4)+SUMIFS(Calculations!$H$18:$H$193,Calculations!$C$18:$C$193,\"Existing SW Demand 4 - \"&EXU_4)","v":0}]
[null,{"$f":"IF('Development Details'!$C$13>4,EXU_5,\"\")","v":""},{"$f":"IF('Development Details'!$C$13>4,SUMIFS(Calculations!$F$18:$F$193,Calculations!$C$18:$C$193,\"Existing Demand 5 - \"&EXU_5),\"\")","v":""},{"$f":"IFERROR(SUMIFS(Calculations!$H$18:$H$193,Calculations!$C$18:$C$193,\"Existing Demand 5 - \"&EXU_5)/C24,\"\")","v":""},{"$f":"SUMIFS(Calculations!$F$18:$F$193,Calculations!$C$18:$C$193,\"Existing SW Demand 5 - \"&EXU_5)","v":0},{"$f":"IFERROR(SUMIFS(Calculations!$H$18:$H$193,Calculations!$C$18:$C$193,\"SW Component 3 - \"&COMP_3)/E24,\"\")","v":""},{"$f":"SUMIFS(Calculations!$H$18:$H$193,Calculations!$C$18:$C$193,\"Existing Demand 5 - \"&EXU_5)+SUMIFS(Calculations!$H$18:$H$193,Calculations!$C$18:$C$193,\"Existing SW Demand 5 - \"&EXU_5)","v":0}]
[]
[null,"Existing Lot Credit",{"$f":"SUMIFS(Calculations!$F$18:$F$193,Calculations!$C$18:$C$193,B26)","v":-14670},{"$f":"SUMIFS(Calculations!$H$18:$H$193,Calculations!$C$18:$C$193,B26)/C26","v":1},{"$f":"SUMIFS(Calculations!$F$18:$F$193,Calculations!$C$18:$C$193,B26&\" SW\")","v":0},{"$f":"IFERROR(SUMIFS(Calculations!$H$18:$H$193,Calculations!$C$18:$C$193,B26&\" SW\")/E26,\"\")","v":""},{"$f":"SUMIFS(Calculations!$H$18:$H$193,Calculations!$C$18:$C$193,B26)+SUMIFS(Calculations!$H$18:$H$193,Calculations!$C$18:$C$193,B26&\" SW\")","v":-14670}]
[]
[null,"Previous Financial Contribution",null,null,null,null,{"$f":"-PFC","v":0}]
[null,null,null,null,{"$f":"IF(MIN(G28,G26,SUM(G20:G24))<>G29,\"CREDIT SUBTOTAL*\",\"CREDIT SUBTOTAL\")","v":"CREDIT SUBTOTAL"},null,{"$f":"MAX(MIN(G28,G26,SUM(G20:G24)),G18*-1)","v":-14670}]
[null,null,null,null,"TOTAL CHARGE",null,{"$f":"MAX(G18+G29,0)","v":44010}]
[null,{"$f":"IF(MIN(G28,G26,SUM(G20:G24))<>G29,\"*Credit for existing demand cannot exceed the proposed development demand\",\"\")","v":""}]

{"sheet":"AICR Input","index":5,"n_rows":1275,"n_cols":50,"rows_kept":1275,"cut":false,"hidden":true,"merged":[]}
["Region","Planning Scheme Use","Regulated Use","Regulated Use Category","CH_CAT_LU","Regulated Charge Category","Charge Rate","Water Supply","Wastewater","Stormwater","Transport","Parks",null,null,"Planning Scheme Use","Sort 1","Number","Blank","Sort 2","Use List",null,"Charge Area","Sort 1","Number","Blank","Sort 2","Use List",null,"NR_1","NR_2","NR_3",null,"RU_1","RU_2","RU_3",null,null,null,null,"ROL",null,null,"Schedule 16 Category","Charge Category","Charge Rate","Water Supply","Wastewater","Transport","Parks","Stormwater"]
["Mt Isa - Fully Serviced","Adult store","Adult store","Commercial (retail)","NR_1","Gross Floor Area",{"$f":"SUM(H2:L2)","v":94},{"$f":"INDEX(CHARGES,MATCH($D2&$F2,$AQ$2:$AQ$44&$AR$2:$AR$44,0),MATCH(H$1,$AS$1:$AX$1,0))","v":20},{"$f":"INDEX(CHARGES,MATCH($D2&$F2,$AQ$2:$AQ$44&$AR$2:$AR$44,0),MATCH(I$1,$AS$1:$AX$1,0))","v":13},{"$f":"INDEX(CHARGES,MATCH($D2&$F2,$AQ$2:$AQ$44&$AR$2:$AR$44,0),MATCH(J$1,$AS$1:$AX$1,0))","v":0},{"$f":"INDEX(CHARGES,MATCH($D2&$F2,$AQ$2:$AQ$44&$AR$2:$AR$44,0),MATCH(K$1,$AS$1:$AX$1,0))","v":61},{"$f":"INDEX(CHARGES,MATCH($D2&$F2,$AQ$2:$AQ$44&$AR$2:$AR$44,0),MATCH(L$1,$AS$1:$AX$1,0))","v":0},null,null,{"$f":"IFERROR(INDEX($B$2:$B$1969, MATCH(0, INDEX(COUNTIF($O$1:O1,$B$2:$B$1969), 0),0)),\"\")","v":"Adult store"},{"$f":"COUNTIF($O$2:$O$109,\"<=\"&O2)","v":14},{"$f":"IF(O2=0,0,--ISNUMBER(O2))","v":0},{"$f":"IF(O2=0,1,IF(O2=\"\",1,0))","v":0},{"$f":"IF(IF(Q2=1,P2,IF(R2=1,P2,P2+$Q$110))-$P$110<0,\"\",IF(ISNUMBER(O2),P2,IF(R2=1,P2,P2+$Q$110))-$P$110)","v":1},{"$f":"IFERROR(INDEX($O$2:$O$109,MATCH(SMALL($S$2:$S$109,ROWS(S2:$S$2)),$S$2:$S$109,0),1),\"\")","v":"Adult store"},null,{"$f":"IFERROR(INDEX($A$2:$A$1969, MATCH(0, INDEX(COUNTIF($V$1:V1,$A$2:$A$1969), 0),0)),\"\")","v":"Mt Isa - Fully Serviced"},{"$f":"COUNTIF($V$2:$V$25,\"<=\"&V2)","v":20},{"$f":"IF(V2=0,0,--ISNUMBER(V2))","v":0},{"$f":"IF(V2=0,1,IF(V2=\"\",1,0))","v":0},{"$f":"IF(IF(X2=1,W2,IF(Y2=1,W2,W2+$X$26))-$W$26<0,\"\",IF(ISNUMBER(V2),W2,IF(Y2=1,W2,W2+$X$26))-$W$26)","v":4},{"$f":"IFERROR(INDEX($V$2:$V$25,MATCH(SMALL($Z$2:$Z$25,ROWS($Z2:Z$2)),$Z$2:$Z$25,0),1),\"\")","v":"Camooweal - Fully Serviced"},null,"Gross Floor Area","Gross Floor Area - not court area","Gross Floor Area",null,"2 or less bedrooms","bedroom that is not part of a suite","group of 2 sites/cabins or less",null,null,null,null,"Lots",null,null,"Accommodation (long-term)","2 or less bedrooms",10478,2934,1886,5239,210,209]
["Mt Isa - Fully Serviced","Adult store","Adult store","Commercial (retail)","NR_1","Impervious Area",{"$f":"SUM(H3:L3)","v":5},{"$f":"INDEX(CHARGES,MATCH($D3&$F3,$AQ$2:$AQ$44&$AR$2:$AR$44,0),MATCH(H$1,$AS$1:$AX$1,0))","v":0},{"$f":"INDEX(CHARGES,MATCH($D3&$F3,$AQ$2:$AQ$44&$AR$2:$AR$44,0),MATCH(I$1,$AS$1:$AX$1,0))","v":0},{"$f":"INDEX(CHARGES,MATCH($D3&$F3,$AQ$2:$AQ$44&$AR$2:$AR$44,0),MATCH(J$1,$AS$1:$AX$1,0))","v":5},{"$f":"INDEX(CHARGES,MATCH($D3&$F3,$AQ$2:$AQ$44&$AR$2:$AR$44,0),MATCH(K$1,$AS$1:$AX$1,0))","v":0},{"$f":"INDEX(CHARGES,MATCH($D3&$F3,$AQ$2:$AQ$44&$AR$2:$AR$44,0),MATCH(L$1,$AS$1:$AX$1,0))","v":0},null,null,{"$f":"IFERROR(INDEX($B$2:$B$1969, MATCH(0, INDEX(COUNTIF($O$1:O2,$B$2:$B$1969), 0),0)),\"\")","v":"Agrigultural supplies store"},15,0,0,2,{"$f":"IFERROR(INDEX($O$2:$O$109,MATCH(SMALL($S$2:$S$109,ROWS(S$2:$S3)),$S$2:$S$109,0),1),\"\")","v":"Agrigultural supplies store"},null,{"$f":"IFERROR(INDEX($A$2:$A$1969, MATCH(0, INDEX(COUNTIF($V$1:V2,$A$2:$A$1969), 0),0)),\"\")","v":"Mt Isa - Water Supply Only"},{"$f":"COUNTIF($V$2:$V$25,\"<=\"&V3)","v":22},0,0,{"$f":"IF(IF(X3=1,W3,IF(Y3=1,W3,W3+$X$26))-$W$26<0,\"\",IF(ISNUMBER(V3),W3,IF(Y3=1,W3,W3+$X$26))-$W$26)","v":6},{"$f":"IFERROR(INDEX($V$2:$V$25,MATCH(SMALL($Z$2:$Z$25,ROWS($Z$2:Z3)),$Z$2:$Z$25,0),1),\"\")","v":"Camooweal - No Water or Sewer"},null,"Impervious Area","Gross Floor Area - court area",null,null,"3 or more bedrooms","2 or less bedrooms","group of 3 sites/cabins",null,null,null,null,null,null,null,"Accommodation (long-term)","2 or less bedrooms",10478,2934,1886,5239,210,209]
["Mt Isa - Fully Serviced","Agrigultural supplies store","Agrigultural supplies store","Commercial (bulk goods)","NR_1","Gross Floor Area",73,{"$f":"INDEX(CHARGES,MATCH($D4&$F4,$AQ$2:$AQ$44&$AR$2:$AR$44,0),MATCH(H$1,$AS$1:$AX$1,0))","v":15},{"$f":"INDEX(CHARGES,MATCH($D4&$F4,$AQ$2:$AQ$44&$AR$2:$AR$44,0),MATCH(I$1,$AS$1:$AX$1,0))","v":10},{"$f":"INDEX(CHARGES,MATCH($D4&$F4,$AQ$2:$AQ$44&$AR$2:$AR$44,0),MATCH(J$1,$AS$1:$AX$1,0))","v":0},{"$f":"INDEX(CHARGES,MATCH($D4&$F4,$AQ$2:$AQ$44&$AR$2:$AR$44,0),MATCH(K$1,$AS$1:$AX$1,0))","v":48},{"$f":"INDEX(CHARGES,MATCH($D4&$F4,$AQ$2:$AQ$44&$AR$2:$AR$44,0),MATCH(L$1,$AS$1:$AX$1,0))","v":0},null,null,{"$f":"IFERROR(INDEX($B$2:$B$1969, MATCH(0, INDEX(COUNTIF($O$1:O3,$B$2:$B$1969), 0),0)),\"\")","v":"Air services"},16,0,0,3,{"$f":"IFERROR(INDEX($O$2:$O$109,MATCH(SMALL($S$2:$S$109,ROWS(S$2:$S4)),$S$2:$S$109,0),1),\"\")","v":"Air services"},null,{"$f":"IFERROR(INDEX($A$2:$A$1969, MATCH(0, INDEX(COUNTIF($V$1:V3,$A$2:$A$1969), 0),0)),\"\")","v":"Mt Isa - No Water or Sewer"},21,0,0,5,{"$f":"IFERROR(INDEX($V$2:$V$25,MATCH(SMALL($Z$2:$Z$25,ROWS($Z$2:Z4)),$Z$2:$Z$25,0),1),\"\")","v":"Camooweal - Water Supply Only"},null,null,"Impervious Area",null,null,null,"3 or more bedrooms",null,null,null,null,null,null,null,null,"Accommodation (long-term)","3 or more bedrooms",14670,4108,2641,7335,293,293]
["Mt Isa - Fully Serviced","Agrigultural supplies store","Agrigultural supplies store","Commercial (bulk goods)","NR_1","Impervious Area",5,{"$f":"INDEX(CHARGES,MATCH($D5&$F5,$AQ$2:$AQ$44&$AR$2:$AR$44,0),MATCH(H$1,$AS$1:$AX$1,0))","v":0},{"$f":"INDEX(CHARGES,MATCH($D5&$F5,$AQ$2:$AQ$44&$AR$2:$AR$44,0),MATCH(I$1,$AS$1:$AX$1,0))","v":0},{"$f":"INDEX(CHARGES,MATCH($D5&$F5,$AQ$2:$AQ$44&$AR$2:$AR$44,0),MATCH(J$1,$AS$1:$AX$1,0))","v":5},{"$f":"INDEX(CHARGES,MATCH($D5&$F5,$AQ$2:$AQ$44&$AR$2:$AR$44,0),MATCH(K$1,$AS$1:$AX$1,0))","v":0},{"$f":"INDEX(CHARGES,MATCH($D5&$F5,$AQ$2:$AQ$44&$AR$2:$AR$44,0),MATCH(L$1,$AS$1:$AX$1,0))","v":0},null,null,{"$f":"IFERROR(INDEX($B$2:$B$1969, MATCH(0, INDEX(COUNTIF($O$1:O4,$B$2:$B$1969), 0),0)),\"\")","v":"Animal husbandry"},17,0,0,4,{"$f":"IFERROR(INDEX($O$2:$O$109,MATCH(SMALL($S$2:$S$109,ROWS(S$2:$S5)),$S$2:$S$109,0),1),\"\")","v":"Animal husbandry"},null,{"$f":"IFERROR(INDEX($A$2:$A$1969, MATCH(0, INDEX(COUNTIF($V$1:V4,$A$2:$A$1969), 0),0)),\"\")","v":"Camooweal - Fully Serviced"},17,0,0,1,{"$f":"IFERROR(INDEX($V$2:$V$25,MATCH(SMALL($Z$2:$Z$25,ROWS($Z$2:Z5)),$Z$2:$Z$25,0),1),\"\")","v":"Mt Isa - Fully Serviced"},null,null,null,null,null,null,null,null,null,null,null,null,null,null,null,"Accommodation (long-term)","bedroom that is not part of a suite",10478,2934,1886,5239,210,209]
["Mt Isa - Fully Serviced","Air services","Air services","Other uses","NR_1","Gross Floor Area",0,{"$f":"INDEX(CHARGES,MATCH($D6&$F6,$AQ$2:$AQ$44&$AR$2:$AR$44,0),MATCH(H$1,$AS$1:$AX$1,0))","v":0},{"$f":"INDEX(CHARGES,MATCH($D6&$F6,$AQ$2:$AQ$44&$AR$2:$AR$44,0),MATCH(I$1,$AS$1:$AX$1,0))","v":0},{"$f":"INDEX(CHARGES,MATCH($D6&$F6,$AQ$2:$AQ$44&$AR$2:$AR$44,0),MATCH(J$1,$AS$1:$AX$1,0))","v":0},{"$f":"INDEX(CHARGES,MATCH($D6&$F6,$AQ$2:$AQ$44&$AR$2:$AR$44,0),MATCH(K$1,$AS$1:$AX$1,0))","v":0},{"$f":"INDEX(CHARGES,MATCH($D6&$F6,$AQ$2:$AQ$44&$AR$2:$AR$44,0),MATCH(L$1,$AS$1:$AX$1,0))","v":0},null,null,{"$f":"IFERROR(INDEX($B$2:$B$1969, MATCH(0, INDEX(COUNTIF($O$1:O5,$B$2:$B$1969), 0),0)),\"\")","v":"Animal keeping"},18,0,0,5,{"$f":"IFERROR(INDEX($O$2:$O$109,MATCH(SMALL($S$2:$S$109,ROWS(S$2:$S6)),$S$2:$S$109,0),1),\"\")","v":"Animal keeping"},null,{"$f":"IFERROR(INDEX($A$2:$A$1969, MATCH(0, INDEX(COUNTIF($V$1:V5,$A$2:$A$1969), 0),0)),\"\")","v":"Camooweal - Water Supply Only"},19,0,0,3,{"$f":"IFERROR(INDEX($V$2:$V$25,MATCH(SMALL($Z$2:$Z$25,ROWS($Z$2:Z6)),$Z$2:$Z$25,0),1),\"\")","v":"Mt Isa - No Water or Sewer"},null,null,null,null,null,null,null,null,null,null,null,null,null,null,null,"Accommodation (short-term)","2 or less bedrooms",5239,1467,943,2620,105,104]
["Mt Isa - Fully Serviced","Air services","Air services","Other uses","NR_1","Impervious Area",0,{"$f":"INDEX(CHARGES,MATCH($D7&$F7,$AQ$2:$AQ$44&$AR$2:$AR$44,0),MATCH(H$1,$AS$1:$AX$1,0))","v":0},{"$f":"INDEX(CHARGES,MATCH($D7&$F7,$AQ$2:$AQ$44&$AR$2:$AR$44,0),MATCH(I$1,$AS$1:$AX$1,0))","v":0},{"$f":"INDEX(CHARGES,MATCH($D7&$F7,$AQ$2:$AQ$44&$AR$2:$AR$44,0),MATCH(J$1,$AS$1:$AX$1,0))","v":0},{"$f":"INDEX(CHARGES,MATCH($D7&$F7,$AQ$2:$AQ$44&$AR$2:$AR$44,0),MATCH(K$1,$AS$1:$AX$1,0))","v":0},{"$f":"INDEX(CHARGES,MATCH($D7&$F7,$AQ$2:$AQ$44&$AR$2:$AR$44,0),MATCH(L$1,$AS$1:$AX$1,0))","v":0},null,null,{"$f":"IFERROR(INDEX($B$2:$B$1969, MATCH(0, INDEX(COUNTIF($O$1:O6,$B$2:$B$1969), 0),0)),\"\")","v":"Aquaculture"},19,0,0,6,{"$f":"IFERROR(INDEX($O$2:$O$109,MATCH(SMALL($S$2:$S$109,ROWS(S$2:$S7)),$S$2:$S$109,0),1),\"\")","v":"Aquaculture"},null,{"$f":"IFERROR(INDEX($A$2:$A$1969, MATCH(0, INDEX(COUNTIF($V$1:V6,$A$2:$A$1969), 0),0)),\"\")","v":"Camooweal - No Water or Sewer"},18,0,0,2,{"$f":"IFERROR(INDEX($V$2:$V$25,MATCH(SMALL($Z$2:$Z$25,ROWS($Z$2:Z7)),$Z$2:$Z$25,0),1),\"\")","v":"Mt Isa - Water Supply Only"},null,null,null,null,null,null,null,null,null,null,null,null,null,null,null,"Accommodation (short-term)","3 or more bedrooms",7335,2054,1320,3668,147,146]
["Mt Isa - Fully Serviced","Animal husbandry","Animal husbandry","Low impact rural","NR_3","Gross Floor Area",0,{"$f":"INDEX(CHARGES,MATCH($D8&$F8,$AQ$2:$AQ$44&$AR$2:$AR$44,0),MATCH(H$1,$AS$1:$AX$1,0))","v":0},{"$f":"INDEX(CHARGES,MATCH($D8&$F8,$AQ$2:$AQ$44&$AR$2:$AR$44,0),MATCH(I$1,$AS$1:$AX$1,0))","v":0},{"$f":"INDEX(CHARGES,MATCH($D8&$F8,$AQ$2:$AQ$44&$AR$2:$AR$44,0),MATCH(J$1,$AS$1:$AX$1,0))","v":0},{"$f":"INDEX(CHARGES,MATCH($D8&$F8,$AQ$2:$AQ$44&$AR$2:$AR$44,0),MATCH(K$1,$AS$1:$AX$1,0))","v":0},{"$f":"INDEX(CHARGES,MATCH($D8&$F8,$AQ$2:$AQ$44&$AR$2:$AR$44,0),MATCH(L$1,$AS$1:$AX$1,0))","v":0},null,null,{"$f":"IFERROR(INDEX($B$2:$B$1969, MATCH(0, INDEX(COUNTIF($O$1:O7,$B$2:$B$1969), 0),0)),\"\")","v":"Bar"},20,0,0,7,{"$f":"IFERROR(INDEX($O$2:$O$109,MATCH(SMALL($S$2:$S$109,ROWS(S$2:$S8)),$S$2:$S$109,0),1),\"\")","v":"Bar"},null,{"$f":"IFERROR(INDEX($A$2:$A$1969, MATCH(0, INDEX(COUNTIF($V$1:V7,$A$2:$A$1969), 0),0)),\"\")","v":"Other Areas - No Water or Sewer"},23,0,0,7,{"$f":"IFERROR(INDEX($V$2:$V$25,MATCH(SMALL($Z$2:$Z$25,ROWS($Z$2:Z8)),$Z$2:$Z$25,0),1),\"\")","v":"Other Areas - No Water or Sewer"},null,null,null,null,null,null,null,null,null,null,null,null,null,null,null,"Accommodation (short-term)","bedroom that is not part of a suite",5239,1467,943,2620,105,104]
["Mt Isa - Fully Serviced","Animal keeping","Animal keeping","Other uses","NR_1","Gross Floor Area",0,{"$f":"INDEX(CHARGES,MATCH($D9&$F9,$AQ$2:$AQ$44&$AR$2:$AR$44,0),MATCH(H$1,$AS$1:$AX$1,0))","v":0},{"$f":"INDEX(CHARGES,MATCH($D9&$F9,$AQ$2:$AQ$44&$AR$2:$AR$44,0),MATCH(I$1,$AS$1:$AX$1,0))","v":0},{"$f":"INDEX(CHARGES,MATCH($D9&$F9,$AQ$2:$AQ$44&$AR$2:$AR$44,0),MATCH(J$1,$AS$1:$AX$1,0))","v":0},{"$f":"INDEX(CHARGES,MATCH($D9&$F9,$AQ$2:$AQ$44&$AR$2:$AR$44,0),MATCH(K$1,$AS$1:$AX$1,0))","v":0},{"$f":"INDEX(CHARGES,MATCH($D9&$F9,$AQ$2:$AQ$44&$AR$2:$AR$44,0),MATCH(L$1,$AS$1:$AX$1,0))","v":0},null,null,{"$f":"IFERROR(INDEX($B$2:$B$1969, MATCH(0, INDEX(COUNTIF($O$1:O8,$B$2:$B$1969), 0),0)),\"\")","v":"Brothel"},21,0,0,8,{"$f":"IFERROR(INDEX($O$2:$O$109,MATCH(SMALL($S$2:$S$109,ROWS(S$2:$S9)),$S$2:$S$109,0),1),\"\")","v":"Brothel"},null,{"$f":"IFERROR(INDEX($A$2:$A$1969, MATCH(0, INDEX(COUNTIF($V$1:V8,$A$2:$A$1969), 0),0)),\"\")","v":0},1,0,1,"",{"$f":"IFERROR(INDEX($V$2:$V$25,MATCH(SMALL($Z$2:$Z$25,ROWS($Z$2:Z9)),$Z$2:$Z$25,0),1),\"\")","v":""},null,null,null,null,null,null,null,null,null,null,null,null,null,null,null,"Accommodation (short-term)","group of 2 sites/cabins or less",5239,1467,943,2620,105,104]
["Mt Isa - Fully Serviced","Animal keeping","Animal keeping","Other uses","NR_1","Impervious Area",0,{"$f":"INDEX(CHARGES,MATCH($D10&$F10,$AQ$2:$AQ$44&$AR$2:$AR$44,0),MATCH(H$1,$AS$1:$AX$1,0))","v":0},{"$f":"INDEX(CHARGES,MATCH($D10&$F10,$AQ$2:$AQ$44&$AR$2:$AR$44,0),MATCH(I$1,$AS$1:$AX$1,0))","v":0},{"$f":"INDEX(CHARGES,MATCH($D10&$F10,$AQ$2:$AQ$44&$AR$2:$AR$44,0),MATCH(J$1,$AS$1:$AX$1,0))","v":0},{"$f":"INDEX(CHARGES,MATCH($D10&$F10,$AQ$2:$AQ$44&$AR$2:$AR$44,0),MATCH(K$1,$AS$1:$AX$1,0))","v":0},{"$f":"INDEX(CHARGES,MATCH($D10&$F10,$AQ$2:$AQ$44&$AR$2:$AR$44,0),MATCH(L$1,$AS$1:$AX$1,0))","v":0},null,null,{"$f":"IFERROR(INDEX($B$2:$B$1969, MATCH(0, INDEX(COUNTIF($O$1:O9,$B$2:$B$1969), 0),0)),\"\")","v":"Bulk landscape supplies"},22,0,0,9,{"$f":"IFERROR(INDEX($O$2:$O$109,MATCH(SMALL($S$2:$S$109,ROWS(S$2:$S10)),$S$2:$S$109,0),1),\"\")","v":"Bulk landscape supplies"},null,{"$f":"IFERROR(INDEX($A$2:$A$1969, MATCH(0, INDEX(COUNTIF($V$1:V9,$A$2:$A$1969), 0),0)),\"\")","v":""},0,0,1,"",{"$f":"IFERROR(INDEX($V$2:$V$25,MATCH(SMALL($Z$2:$Z$25,ROWS($Z$2:Z10)),$Z$2:$Z$25,0),1),\"\")","v":""},null,null,null,null,null,null,null,null,null,null,null,null,null,null,null,"Accommodation (short-term)","group of 3 sites/cabins",7335,2054,1320,3668,147,146]
["Mt Isa - Fully Serviced","Aquaculture",null,"Other uses","NR_1","Gross Floor Area",0,{"$f":"INDEX(CHARGES,MATCH($D11&$F11,$AQ$2:$AQ$44&$AR$2:$AR$44,0),MATCH(H$1,$AS$1:$AX$1,0))","v":0},{"$f":"INDEX(CHARGES,MATCH($D11&$F11,$AQ$2:$AQ$44&$AR$2:$AR$44,0),MATCH(I$1,$AS$1:$AX$1,0))","v":0},{"$f":"INDEX(CHARGES,MATCH($D11&$F11,$AQ$2:$AQ$44&$AR$2:$AR$44,0),MATCH(J$1,$AS$1:$AX$1,0))","v":0},{"$f":"INDEX(CHARGES,MATCH($D11&$F11,$AQ$2:$AQ$44&$AR$2:$AR$44,0),MATCH(K$1,$AS$1:$AX$1,0))","v":0},{"$f":"INDEX(CHARGES,MATCH($D11&$F11,$AQ$2:$AQ$44&$AR$2:$AR$44,0),MATCH(L$1,$AS$1:$AX$1,0))","v":0},null,null,{"$f":"IFERROR(INDEX($B$2:$B$1969, MATCH(0, INDEX(COUNTIF($O$1:O10,$B$2:$B$1969), 0),0)),\"\")","v":"Caretaker's accommodation"},24,0,0,11,{"$f":"IFERROR(INDEX($O$2:$O$109,MATCH(SMALL($S$2:$S$109,ROWS(S$2:$S11)),$S$2:$S$109,0),1),\"\")","v":"Car wash"},null,{"$f":"IFERROR(INDEX($A$2:$A$1969, MATCH(0, INDEX(COUNTIF($V$1:V10,$A$2:$A$1969), 0),0)),\"\")","v":""},0,0,1,"",{"$f":"IFERROR(INDEX($V$2:$V$25,MATCH(SMALL($Z$2:$Z$25,ROWS($Z$2:Z11)),$Z$2:$Z$25,0),1),\"\")","v":""},null,null,null,null,null,null,null,null,null,null,null,null,null,null,null,"Commercial (bulk goods)","Gross Floor Area",73,15,10,48,0,0]
["Mt Isa - Fully Serviced","Aquaculture",null,"Other uses","NR_1","Impervious Area",0,{"$f":"INDEX(CHARGES,MATCH($D12&$F12,$AQ$2:$AQ$44&$AR$2:$AR$44,0),MATCH(H$1,$AS$1:$AX$1,0))","v":0},{"$f":"INDEX(CHARGES,MATCH($D12&$F12,$AQ$2:$AQ$44&$AR$2:$AR$44,0),MATCH(I$1,$AS$1:$AX$1,0))","v":0},{"$f":"INDEX(CHARGES,MATCH($D12&$F12,$AQ$2:$AQ$44&$AR$2:$AR$44,0),MATCH(J$1,$AS$1:$AX$1,0))","v":0},{"$f":"INDEX(CHARGES,MATCH($D12&$F12,$AQ$2:$AQ$44&$AR$2:$AR$44,0),MATCH(K$1,$AS$1:$AX$1,0))","v":0},{"$f":"INDEX(CHARGES,MATCH($D12&$F12,$AQ$2:$AQ$44&$AR$2:$AR$44,0),MATCH(L$1,$AS$1:$AX$1,0))","v":0},null,null,{"$f":"IFERROR(INDEX($B$2:$B$1969, MATCH(0, INDEX(COUNTIF($O$1:O11,$B$2:$B$1969), 0),0)),\"\")","v":"Car wash"},23,{"$f":"IF(O12=0,0,--ISNUMBER(O12))","v":0},{"$f":"IF(O12=0,1,IF(O12=\"\",1,0))","v":0},10,{"$f":"IFERROR(INDEX($O$2:$O$109,MATCH(SMALL($S$2:$S$109,ROWS(S$2:$S12)),$S$2:$S$109,0),1),\"\")","v":"Caretaker's accommodation"},null,{"$f":"IFERROR(INDEX($A$2:$A$1969, MATCH(0, INDEX(COUNTIF($V$1:V11,$A$2:$A$1969), 0),0)),\"\")","v":""},0,0,1,"",{"$f":"IFERROR(INDEX($V$2:$V$25,MATCH(SMALL($Z$2:$Z$25,ROWS($Z$2:Z12)),$Z$2:$Z$25,0),1),\"\")","v":""},null,null,null,null,null,null,null,null,null,null,null,null,null,null,null,"Commercial (bulk goods)","Impervious Area",0,0,0,0,0,5]
["Mt Isa - Fully Serviced","Bar","Hotel","Entertainment","NR_1","Gross Floor Area",105,{"$f":"INDEX(CHARGES,MATCH($D13&$F13,$AQ$2:$AQ$44&$AR$2:$AR$44,0),MATCH(H$1,$AS$1:$AX$1,0))","v":22},{"$f":"INDEX(CHARGES,MATCH($D13&$F13,$AQ$2:$AQ$44&$AR$2:$AR$44,0),MATCH(I$1,$AS$1:$AX$1,0))","v":15},{"$f":"INDEX(CHARGES,MATCH($D13&$F13,$AQ$2:$AQ$44&$AR$2:$AR$44,0),MATCH(J$1,$AS$1:$AX$1,0))","v":0},{"$f":"INDEX(CHARGES,MATCH($D13&$F13,$AQ$2:$AQ$44&$AR$2:$AR$44,0),MATCH(K$1,$AS$1:$AX$1,0))","v":68},{"$f":"INDEX(CHARGES,MATCH($D13&$F13,$AQ$2:$AQ$44&$AR$2:$AR$44,0),MATCH(L$1,$AS$1:$AX$1,0))","v":0},null,null,{"$f":"IFERROR(INDEX($B$2:$B$1969, MATCH(0, INDEX(COUNTIF($O$1:O12,$B$2:$B$1969), 0),0)),\"\")","v":"Cemetery"},25,0,0,12,{"$f":"IFERROR(INDEX($O$2:$O$109,MATCH(SMALL($S$2:$S$109,ROWS(S$2:$S13)),$S$2:$S$109,0),1),\"\")","v":"Cemetery"},null,{"$f":"IFERROR(INDEX($A$2:$A$1969, MATCH(0, INDEX(COUNTIF($V$1:V12,$A$2:$A$1969), 0),0)),\"\")","v":""},0,0,1,"",{"$f":"IFERROR(INDEX($V$2:$V$25,MATCH(SMALL($Z$2:$Z$25,ROWS($Z$2:Z13)),$Z$2:$Z$25,0),1),\"\")","v":""},null,null,null,null,null,null,null,null,null,null,null,null,null,null,null,"Commercial (office)","Gross Floor Area",73,15,10,48,0,0]
["Mt Isa - Fully Serviced","Bar","Hotel","Entertainment","NR_1","Impervious Area",5,{"$f":"INDEX(CHARGES,MATCH($D14&$F14,$AQ$2:$AQ$44&$AR$2:$AR$44,0),MATCH(H$1,$AS$1:$AX$1,0))","v":0},{"$f":"INDEX(CHARGES,MATCH($D14&$F14,$AQ$2:$AQ$44&$AR$2:$AR$44,0),MATCH(I$1,$AS$1:$AX$1,0))","v":0},{"$f":"INDEX(CHARGES,MATCH($D14&$F14,$AQ$2:$AQ$44&$AR$2:$AR$44,0),MATCH(J$1,$AS$1:$AX$1,0))","v":5},{"$f":"INDEX(CHARGES,MATCH($D14&$F14,$AQ$2:$AQ$44&$AR$2:$AR$44,0),MATCH(K$1,$AS$1:$AX$1,0))","v":0},{"$f":"INDEX(CHARGES,MATCH($D14&$F14,$AQ$2:$AQ$44&$AR$2:$AR$44,0),MATCH(L$1,$AS$1:$AX$1,0))","v":0},null,null,{"$f":"IFERROR(INDEX($B$2:$B$1969, MATCH(0, INDEX(COUNTIF($O$1:O13,$B$2:$B$1969), 0),0)),\"\")","v":"Child care centre"},26,0,0,13,{"$f":"IFERROR(INDEX($O$2:$O$109,MATCH(SMALL($S$2:$S$109,ROWS(S$2:$S14)),$S$2:$S$109,0),1),\"\")","v":"Child care centre"},null,{"$f":"IFERROR(INDEX($A$2:$A$1969, MATCH(0, INDEX(COUNTIF($V$1:V13,$A$2:$A$1969), 0),0)),\"\")","v":""},0,0,1,"",{"$f":"IFERROR(INDEX($V$2:$V$25,MATCH(SMALL($Z$2:$Z$25,ROWS($Z$2:Z14)),$Z$2:$Z$25,0),1),\"\")","v":""},null,null,null,null,null,null,null,null,null,null,null,null,null,null,null,"Commercial (office)","Impervious Area",0,0,0,0,0,5]
["Mt Isa - Fully Serviced","Brothel",null,"Entertainment","NR_1","Gross Floor Area",105,{"$f":"INDEX(CHARGES,MATCH($D15&$F15,$AQ$2:$AQ$44&$AR$2:$AR$44,0),MATCH(H$1,$AS$1:$AX$1,0))","v":22},{"$f":"INDEX(CHARGES,MATCH($D15&$F15,$AQ$2:$AQ$44&$AR$2:$AR$44,0),MATCH(I$1,$AS$1:$AX$1,0))","v":15},{"$f":"INDEX(CHARGES,MATCH($D15&$F15,$AQ$2:$AQ$44&$AR$2:$AR$44,0),MATCH(J$1,$AS$1:$AX$1,0))","v":0},{"$f":"INDEX(CHARGES,MATCH($D15&$F15,$AQ$2:$AQ$44&$AR$2:$AR$44,0),MATCH(K$1,$AS$1:$AX$1,0))","v":68},{"$f":"INDEX(CHARGES,MATCH($D15&$F15,$AQ$2:$AQ$44&$AR$2:$AR$44,0),MATCH(L$1,$AS$1:$AX$1,0))","v":0},null,null,{"$f":"IFERROR(INDEX($B$2:$B$1969, MATCH(0, INDEX(COUNTIF($O$1:O14,$B$2:$B$1969), 0),0)),\"\")","v":"Community residence"},27,0,0,14,{"$f":"IFERROR(INDEX($O$2:$O$109,MATCH(SMALL($S$2:$S$109,ROWS(S$2:$S15)),$S$2:$S$109,0),1),\"\")","v":"Community residence"},null,{"$f":"IFERROR(INDEX($A$2:$A$1969, MATCH(0, INDEX(COUNTIF($V$1:V14,$A$2:$A$1969), 0),0)),\"\")","v":""},0,0,1,"",{"$f":"IFERROR(INDEX($V$2:$V$25,MATCH(SMALL($Z$2:$Z$25,ROWS($Z$2:Z15)),$Z$2:$Z$25,0),1),\"\")","v":""},null,null,null,null,null,null,null,null,null,null,null,null,null,null,null,"Commercial (retail)","Gross Floor Area",94,20,13,61,0,0]
["Mt Isa - Fully Serviced","Brothel",null,"Entertainment","NR_1","Impervious Area",5,{"$f":"INDEX(CHARGES,MATCH($D16&$F16,$AQ$2:$AQ$44&$AR$2:$AR$44,0),MATCH(H$1,$AS$1:$AX$1,0))","v":0},{"$f":"INDEX(CHARGES,MATCH($D16&$F16,$AQ$2:$AQ$44&$AR$2:$AR$44,0),MATCH(I$1,$AS$1:$AX$1,0))","v":0},{"$f":"INDEX(CHARGES,MATCH($D16&$F16,$AQ$2:$AQ$44&$AR$2:$AR$44,0),MATCH(J$1,$AS$1:$AX$1,0))","v":5},{"$f":"INDEX(CHARGES,MATCH($D16&$F16,$AQ$2:$AQ$44&$AR$2:$AR$44,0),MATCH(K$1,$AS$1:$AX$1,0))","v":0},{"$f":"INDEX(CHARGES,MATCH($D16&$F16,$AQ$2:$AQ$44&$AR$2:$AR$44,0),MATCH(L$1,$AS$1:$AX$1,0))","v":0},null,null,{"$f":"IFERROR(INDEX($B$2:$B$1969, MATCH(0, INDEX(COUNTIF($O$1:O15,$B$2:$B$1969), 0),0)),\"\")","v":"Community use"},28,0,0,15,{"$f":"IFERROR(INDEX($O$2:$O$109,MATCH(SMALL($S$2:$S$109,ROWS(S$2:$S16)),$S$2:$S$109,0),1),\"\")","v":"Community use"},null,{"$f":"IFERROR(INDEX($A$2:$A$1969, MATCH(0, INDEX(COUNTIF($V$1:V15,$A$2:$A$1969), 0),0)),\"\")","v":""},0,0,1,"",{"$f":"IFERROR(INDEX($V$2:$V$25,MATCH(SMALL($Z$2:$Z$25,ROWS($Z$2:Z16)),$Z$2:$Z$25,0),1),\"\")","v":""},null,null,null,null,null,null,null,null,null,null,null,null,null,null,null,"Commercial (retail)","Impervious Area",0,0,0,0,0,5]
["Mt Isa - Fully Serviced","Bulk landscape supplies","Bulk landscape supplies","Commercial (bulk goods)","NR_1","Gross Floor Area",73,{"$f":"INDEX(CHARGES,MATCH($D17&$F17,$AQ$2:$AQ$44&$AR$2:$AR$44,0),MATCH(H$1,$AS$1:$AX$1,0))","v":15},{"$f":"INDEX(CHARGES,MATCH($D17&$F17,$AQ$2:$AQ$44&$AR$2:$AR$44,0),MATCH(I$1,$AS$1:$AX$1,0))","v":10},{"$f":"INDEX(CHARGES,MATCH($D17&$F17,$AQ$2:$AQ$44&$AR$2:$AR$44,0),MATCH(J$1,$AS$1:$AX$1,0))","v":0},{"$f":"INDEX(CHARGES,MATCH($D17&$F17,$AQ$2:$AQ$44&$AR$2:$AR$44,0),MATCH(K$1,$AS$1:$AX$1,0))","v":48},{"$f":"INDEX(CHARGES,MATCH($D17&$F17,$AQ$2:$AQ$44&$AR$2:$AR$44,0),MATCH(L$1,$AS$1:$AX$1,0))","v":0},null,null,{"$f":"IFERROR(INDEX($B$2:$B$1969, MATCH(0, INDEX(COUNTIF($O$1:O16,$B$2:$B$1969), 0),0)),\"\")","v":"Crematorium"},29,0,0,16,{"$f":"IFERROR(INDEX($O$2:$O$109,MATCH(SMALL($S$2:$S$109,ROWS(S$2:$S17)),$S$2:$S$109,0),1),\"\")","v":"Crematorium"},null,{"$f":"IFERROR(INDEX($A$2:$A$1969, MATCH(0, INDEX(COUNTIF($V$1:V16,$A$2:$A$1969), 0),0)),\"\")","v":""},0,0,1,"",{"$f":"IFERROR(INDEX($V$2:$V$25,MATCH(SMALL($Z$2:$Z$25,ROWS($Z$2:Z17)),$Z$2:$Z$25,0),1),\"\")","v":""},null,null,null,null,null,null,null,null,null,null,null,null,null,null,null,"Educational Facility","Gross Floor Area",73,15,10,48,0,0]
["Mt Isa - Fully Serviced","Bulk landscape supplies","Bulk landscape supplies","Commercial (bulk goods)","NR_1","Impervious Area",5,{"$f":"INDEX(CHARGES,MATCH($D18&$F18,$AQ$2:$AQ$44&$AR$2:$AR$44,0),MATCH(H$1,$AS$1:$AX$1,0))","v":0},{"$f":"INDEX(CHARGES,MATCH($D18&$F18,$AQ$2:$AQ$44&$AR$2:$AR$44,0),MATCH(I$1,$AS$1:$AX$1,0))","v":0},{"$f":"INDEX(CHARGES,MATCH($D18&$F18,$AQ$2:$AQ$44&$AR$2:$AR$44,0),MATCH(J$1,$AS$1:$AX$1,0))","v":5},{"$f":"INDEX(CHARGES,MATCH($D18&$F18,$AQ$2:$AQ$44&$AR$2:$AR$44,0),MATCH(K$1,$AS$1:$AX$1,0))","v":0},{"$f":"INDEX(CHARGES,MATCH($D18&$F18,$AQ$2:$AQ$44&$AR$2:$AR$44,0),MATCH(L$1,$AS$1:$AX$1,0))","v":0},null,null,{"$f":"IFERROR(INDEX($B$2:$B$1969, MATCH(0, INDEX(COUNTIF($O$1:O17,$B$2:$B$1969), 0),0)),\"\")","v":"Cropping"},30,0,0,17,{"$f":"IFERROR(INDEX($O$2:$O$109,MATCH(SMALL($S$2:$S$109,ROWS(S$2:$S18)),$S$2:$S$109,0),1),\"\")","v":"Cropping"},null,{"$f":"IFERROR(INDEX($A$2:$A$1969, MATCH(0, INDEX(COUNTIF($V$1:V17,$A$2:$A$1969), 0),0)),\"\")","v":""},0,0,1,"",{"$f":"IFERROR(INDEX($V$2:$V$25,MATCH(SMALL($Z$2:$Z$25,ROWS($Z$2:Z18)),$Z$2:$Z$25,0),1),\"\")","v":""},null,null,null,null,null,null,null,null,null,null,null,null,null,null,null,"Educational Facility","Impervious Area",0,0,0,0,0,5]
["Mt Isa - Fully Serviced","Caretaker's accommodation","Caretaker's accommodation","Residential uses","RU_1","2 or less bedrooms",10478,{"$f":"INDEX(CHARGES,MATCH($D19&$F19,$AQ$2:$AQ$44&$AR$2:$AR$44,0),MATCH(H$1,$AS$1:$AX$1,0))","v":2934},{"$f":"INDEX(CHARGES,MATCH($D19&$F19,$AQ$2:$AQ$44&$AR$2:$AR$44,0),MATCH(I$1,$AS$1:$AX$1,0))","v":1886},{"$f":"INDEX(CHARGES,MATCH($D19&$F19,$AQ$2:$AQ$44&$AR$2:$AR$44,0),MATCH(J$1,$AS$1:$AX$1,0))","v":209},{"$f":"INDEX(CHARGES,MATCH($D19&$F19,$AQ$2:$AQ$44&$AR$2:$AR$44,0),MATCH(K$1,$AS$1:$AX$1,0))","v":5239},{"$f":"INDEX(CHARGES,MATCH($D19&$F19,$AQ$2:$AQ$44&$AR$2:$AR$44,0),MATCH(L$1,$AS$1:$AX$1,0))","v":210},null,null,{"$f":"IFERROR(INDEX($B$2:$B$1969, MATCH(0, INDEX(COUNTIF($O$1:O18,$B$2:$B$1969), 0),0)),\"\")","v":"Detention facility"},31,0,0,18,{"$f":"IFERROR(INDEX($O$2:$O$109,MATCH(SMALL($S$2:$S$109,ROWS(S$2:$S19)),$S$2:$S$109,0),1),\"\")","v":"Detention facility"},null,{"$f":"IFERROR(INDEX($A$2:$A$1969, MATCH(0, INDEX(COUNTIF($V$1:V18,$A$2:$A$1969), 0),0)),\"\")","v":""},0,0,1,"",{"$f":"IFERROR(INDEX($V$2:$V$25,MATCH(SMALL($Z$2:$Z$25,ROWS($Z$2:Z19)),$Z$2:$Z$25,0),1),\"\")","v":""},null,null,null,null,null,null,null,null,null,null,null,null,null,null,null,"Entertainment","Gross Floor Area",105,22,15,68,0,0]
["Mt Isa - Fully Serviced","Caretaker's accommodation","Caretaker's accommodation","Residential uses","RU_1","3 or more bedrooms",14670,{"$f":"INDEX(CHARGES,MATCH($D20&$F20,$AQ$2:$AQ$44&$AR$2:$AR$44,0),MATCH(H$1,$AS$1:$AX$1,0))","v":4108},{"$f":"INDEX(CHARGES,MATCH($D20&$F20,$AQ$2:$AQ$44&$AR$2:$AR$44,0),MATCH(I$1,$AS$1:$AX$1,0))","v":2641},{"$f":"INDEX(CHARGES,MATCH($D20&$F20,$AQ$2:$AQ$44&$AR$2:$AR$44,0),MATCH(J$1,$AS$1:$AX$1,0))","v":293},{"$f":"INDEX(CHARGES,MATCH($D20&$F20,$AQ$2:$AQ$44&$AR$2:$AR$44,0),MATCH(K$1,$AS$1:$AX$1,0))","v":7335},{"$f":"INDEX(CHARGES,MATCH($D20&$F20,$AQ$2:$AQ$44&$AR$2:$AR$44,0),MATCH(L$1,$AS$1:$AX$1,0))","v":293},null,null,{"$f":"IFERROR(INDEX($B$2:$B$1969, MATCH(0, INDEX(COUNTIF($O$1:O19,$B$2:$B$1969), 0),0)),\"\")","v":"Dual occupancy"},32,0,0,19,{"$f":"IFERROR(INDEX($O$2:$O$109,MATCH(SMALL($S$2:$S$109,ROWS(S$2:$S20)),$S$2:$S$109,0),1),\"\")","v":"Dual occupancy"},null,{"$f":"IFERROR(INDEX($A$2:$A$1969, MATCH(0, INDEX(COUNTIF($V$1:V19,$A$2:$A$1969), 0),0)),\"\")","v":""},0,0,1,"",{"$f":"IFERROR(INDEX($V$2:$V$25,MATCH(SMALL($Z$2:$Z$25,ROWS($Z$2:Z20)),$Z$2:$Z$25,0),1),\"\")","v":""},null,null,null,null,null,null,null,null,null,null,null,null,null,null,null,"Entertainment","Impervious Area",0,0,0,0,0,5]
["Mt Isa - Fully Serviced","Car wash",null,"Other uses","NR_1","Gross Floor Area",0,{"$f":"INDEX(CHARGES,MATCH($D21&$F21,$AQ$2:$AQ$44&$AR$2:$AR$44,0),MATCH(H$1,$AS$1:$AX$1,0))","v":0},{"$f":"INDEX(CHARGES,MATCH($D21&$F21,$AQ$2:$AQ$44&$AR$2:$AR$44,0),MATCH(I$1,$AS$1:$AX$1,0))","v":0},{"$f":"INDEX(CHARGES,MATCH($D21&$F21,$AQ$2:$AQ$44&$AR$2:$AR$44,0),MATCH(J$1,$AS$1:$AX$1,0))","v":0},{"$f":"INDEX(CHARGES,MATCH($D21&$F21,$AQ$2:$AQ$44&$AR$2:$AR$44,0),MATCH(K$1,$AS$1:$AX$1,0))","v":0},{"$f":"INDEX(CHARGES,MATCH($D21&$F21,$AQ$2:$AQ$44&$AR$2:$AR$44,0),MATCH(L$1,$AS$1:$AX$1,0))","v":0},null,null,{"$f":"IFERROR(INDEX($B$2:$B$1969, MATCH(0, INDEX(COUNTIF($O$1:O20,$B$2:$B$1969), 0),0)),\"\")","v":"Dwelling house"},33,0,0,20,{"$f":"IFERROR(INDEX($O$2:$O$109,MATCH(SMALL($S$2:$S$109,ROWS(S$2:$S21)),$S$2:$S$109,0),1),\"\")","v":"Dwelling house"},null,{"$f":"IFERROR(INDEX($A$2:$A$1969, MATCH(0, INDEX(COUNTIF($V$1:V20,$A$2:$A$1969), 0),0)),\"\")","v":""},0,0,1,"",{"$f":"IFERROR(INDEX($V$2:$V$25,MATCH(SMALL($Z$2:$Z$25,ROWS($Z$2:Z21)),$Z$2:$Z$25,0),1),\"\")","v":""},null,null,null,null,null,null,null,null,null,null,null,null,null,null,null,"Essential services","Gross Floor Area",73,15,10,48,0,0]
["Mt Isa - Fully Serviced","Car wash",null,"Other uses","NR_1","Impervious Area",0,{"$f":"INDEX(CHARGES,MATCH($D22&$F22,$AQ$2:$AQ$44&$AR$2:$AR$44,0),MATCH(H$1,$AS$1:$AX$1,0))","v":0},{"$f":"INDEX(CHARGES,MATCH($D22&$F22,$AQ$2:$AQ$44&$AR$2:$AR$44,0),MATCH(I$1,$AS$1:$AX$1,0))","v":0},{"$f":"INDEX(CHARGES,MATCH($D22&$F22,$AQ$2:$AQ$44&$AR$2:$AR$44,0),MATCH(J$1,$AS$1:$AX$1,0))","v":0},{"$f":"INDEX(CHARGES,MATCH($D22&$F22,$AQ$2:$AQ$44&$AR$2:$AR$44,0),MATCH(K$1,$AS$1:$AX$1,0))","v":0},{"$f":"INDEX(CHARGES,MATCH($D22&$F22,$AQ$2:$AQ$44&$AR$2:$AR$44,0),MATCH(L$1,$AS$1:$AX$1,0))","v":0},null,null,{"$f":"IFERROR(INDEX($B$2:$B$1969, MATCH(0, INDEX(COUNTIF($O$1:O21,$B$2:$B$1969), 0),0)),\"\")","v":"Dwelling unit"},34,0,0,21,{"$f":"IFERROR(INDEX($O$2:$O$109,MATCH(SMALL($S$2:$S$109,ROWS(S$2:$S22)),$S$2:$S$109,0),1),\"\")","v":"Dwelling unit"},null,{"$f":"IFERROR(INDEX($A$2:$A$1969, MATCH(0, INDEX(COUNTIF($V$1:V21,$A$2:$A$1969), 0),0)),\"\")","v":""},0,0,1,"",{"$f":"IFERROR(INDEX($V$2:$V$25,MATCH(SMALL($Z$2:$Z$25,ROWS($Z$2:Z22)),$Z$2:$Z$25,0),1),\"\")","v":""},null,null,null,null,null,null,null,null,null,null,null,null,null,null,null,"Essential services","Impervious Area",0,0,0,0,0,5]
["Mt Isa - Fully Serviced","Cemetery","Cemetery","Minor uses","NR_3","Gross Floor Area",0,{"$f":"INDEX(CHARGES,MATCH($D23&$F23,$AQ$2:$AQ$44&$AR$2:$AR$44,0),MATCH(H$1,$AS$1:$AX$1,0))","v":0},{"$f":"INDEX(CHARGES,MATCH($D23&$F23,$AQ$2:$AQ$44&$AR$2:$AR$44,0),MATCH(I$1,$AS$1:$AX$1,0))","v":0},{"$f":"INDEX(CHARGES,MATCH($D23&$F23,$AQ$2:$AQ$44&$AR$2:$AR$44,0),MATCH(J$1,$AS$1:$AX$1,0))","v":0},{"$f":"INDEX(CHARGES,MATCH($D23&$F23,$AQ$2:$AQ$44&$AR$2:$AR$44,0),MATCH(K$1,$AS$1:$AX$1,0))","v":0},{"$f":"INDEX(CHARGES,MATCH($D23&$F23,$AQ$2:$AQ$44&$AR$2:$AR$44,0),MATCH(L$1,$AS$1:$AX$1,0))","v":0},null,null,{"$f":"IFERROR(INDEX($B$2:$B$1969, MATCH(0, INDEX(COUNTIF($O$1:O22,$B$2:$B$1969), 0),0)),\"\")","v":"Educational establishment other than an educational establishment for the Flying Start for Queensland Children program"},35,0,0,22,{"$f":"IFERROR(INDEX($O$2:$O$109,MATCH(SMALL($S$2:$S$109,ROWS(S$2:$S23)),$S$2:$S$109,0),1),\"\")","v":"Educational establishment other than an educational establishment for the Flying Start for Queensland Children program"},null,{"$f":"IFERROR(INDEX($A$2:$A$1969, MATCH(0, INDEX(COUNTIF($V$1:V22,$A$2:$A$1969), 0),0)),\"\")","v":""},0,0,1,"",{"$f":"IFERROR(INDEX($V$2:$V$25,MATCH(SMALL($Z$2:$Z$25,ROWS($Z$2:Z23)),$Z$2:$Z$25,0),1),\"\")","v":""},null,null,null,null,null,null,null,null,null,null,null,null,null,null,null,"High impact industry or special industry","Gross Floor Area",37,8,5,24,0,0]
["Mt Isa - Fully Serviced","Child care centre","Childcare centre","Educational Facility","NR_1","Gross Floor Area",73,{"$f":"INDEX(CHARGES,MATCH($D24&$F24,$AQ$2:$AQ$44&$AR$2:$AR$44,0),MATCH(H$1,$AS$1:$AX$1,0))","v":15},{"$f":"INDEX(CHARGES,MATCH($D24&$F24,$AQ$2:$AQ$44&$AR$2:$AR$44,0),MATCH(I$1,$AS$1:$AX$1,0))","v":10},{"$f":"INDEX(CHARGES,MATCH($D24&$F24,$AQ$2:$AQ$44&$AR$2:$AR$44,0),MATCH(J$1,$AS$1:$AX$1,0))","v":0},{"$f":"INDEX(CHARGES,MATCH($D24&$F24,$AQ$2:$AQ$44&$AR$2:$AR$44,0),MATCH(K$1,$AS$1:$AX$1,0))","v":48},{"$f":"INDEX(CHARGES,MATCH($D24&$F24,$AQ$2:$AQ$44&$AR$2:$AR$44,0),MATCH(L$1,$AS$1:$AX$1,0))","v":0},null,null,{"$f":"IFERROR(INDEX($B$2:$B$1969, MATCH(0, INDEX(COUNTIF($O$1:O23,$B$2:$B$1969), 0),0)),\"\")","v":"Educational establishment that is an educational establishment for the Flying Start for Queensland Children program"},36,0,0,23,{"$f":"IFERROR(INDEX($O$2:$O$109,MATCH(SMALL($S$2:$S$109,ROWS(S$2:$S24)),$S$2:$S$109,0),1),\"\")","v":"Educational establishment that is an educational establishment for the Flying Start for Queensland Children program"},null,{"$f":"IFERROR(INDEX($A$2:$A$1969, MATCH(0, INDEX(COUNTIF($V$1:V23,$A$2:$A$1969), 0),0)),\"\")","v":""},0,0,1,"",{"$f":"IFERROR(INDEX($V$2:$V$25,MATCH(SMALL($Z$2:$Z$25,ROWS($Z$2:Z24)),$Z$2:$Z$25,0),1),\"\")","v":""},null,null,null,null,null,null,null,null,null,null,null,null,null,null,null,"High impact industry or special industry","Impervious Area",0,0,0,0,0,5]
["Mt Isa - Fully Serviced","Child care centre","Childcare centre","Educational Facility","NR_1","Impervious Area",5,{"$f":"INDEX(CHARGES,MATCH($D25&$F25,$AQ$2:$AQ$44&$AR$2:$AR$44,0),MATCH(H$1,$AS$1:$AX$1,0))","v":0},{"$f":"INDEX(CHARGES,MATCH($D25&$F25,$AQ$2:$AQ$44&$AR$2:$AR$44,0),MATCH(I$1,$AS$1:$AX$1,0))","v":0},{"$f":"INDEX(CHARGES,MATCH($D25&$F25,$AQ$2:$AQ$44&$AR$2:$AR$44,0),MATCH(J$1,$AS$1:$AX$1,0))","v":5},{"$f":"INDEX(CHARGES,MATCH($D25&$F25,$AQ$2:$AQ$44&$AR$2:$AR$44,0),MATCH(K$1,$AS$1:$AX$1,0))","v":0},{"$f":"INDEX(CHARGES,MATCH($D25&$F25,$AQ$2:$AQ$44&$AR$2:$AR$44,0),MATCH(L$1,$AS$1:$AX$1,0))","v":0},null,null,{"$f":"IFERROR(INDEX($B$2:$B$1969, MATCH(0, INDEX(COUNTIF($O$1:O24,$B$2:$B$1969), 0),0)),\"\")","v":"Emergency services"},37,0,0,24,{"$f":"IFERROR(INDEX($O$2:$O$109,MATCH(SMALL($S$2:$S$109,ROWS(S$2:$S25)),$S$2:$S$109,0),1),\"\")","v":"Emergency services"},null,{"$f":"IFERROR(INDEX($A$2:$A$1969, MATCH(0, INDEX(COUNTIF($V$1:V24,$A$2:$A$1969), 0),0)),\"\")","v":""},0,0,1,"",{"$f":"IFERROR(INDEX($V$2:$V$25,MATCH(SMALL($Z$2:$Z$25,ROWS($Z$2:Z25)),$Z$2:$Z$25,0),1),\"\")","v":""},null,null,null,null,null,null,null,null,null,null,null,null,null,null,null,"High impact rural","Gross Floor Area",10,2,1,7,0,0]
["Mt Isa - Fully Serviced","Community residence","Community residence","Accommodation (long-term)","RU_2","bedroom that is not part of a suite",10478,{"$f":"INDEX(CHARGES,MATCH($D26&$F26,$AQ$2:$AQ$44&$AR$2:$AR$44,0),MATCH(H$1,$AS$1:$AX$1,0))","v":2934},{"$f":"INDEX(CHARGES,MATCH($D26&$F26,$AQ$2:$AQ$44&$AR$2:$AR$44,0),MATCH(I$1,$AS$1:$AX$1,0))","v":1886},{"$f":"INDEX(CHARGES,MATCH($D26&$F26,$AQ$2:$AQ$44&$AR$2:$AR$44,0),MATCH(J$1,$AS$1:$AX$1,0))","v":209},{"$f":"INDEX(CHARGES,MATCH($D26&$F26,$AQ$2:$AQ$44&$AR$2:$AR$44,0),MATCH(K$1,$AS$1:$AX$1,0))","v":5239},{"$f":"INDEX(CHARGES,MATCH($D26&$F26,$AQ$2:$AQ$44&$AR$2:$AR$44,0),MATCH(L$1,$AS$1:$AX$1,0))","v":210},null,null,{"$f":"IFERROR(INDEX($B$2:$B$1969, MATCH(0, INDEX(COUNTIF($O$1:O25,$B$2:$B$1969), 0),0)),\"\")","v":"Environment facility"},38,0,0,25,{"$f":"IFERROR(INDEX($O$2:$O$109,MATCH(SMALL($S$2:$S$109,ROWS(S$2:$S26)),$S$2:$S$109,0),1),\"\")","v":"Environment facility"},null,null,{"$f":"COUNTIF(W2:W25,0)","v":16},{"$f":"SUM(X2:X25)","v":0},{"$f":"SUM(Y2:Y25)","v":17},null,null,null,null,null,null,null,null,null,null,null,null,null,null,null,null,null,"Indoor sport and recreation","Gross Floor Area - court area",10,2,1,7,0,0]
["Mt Isa - Fully Serviced","Community residence","Community residence","Accommodation (long-term)","RU_2","2 or less bedrooms",10478,{"$f":"INDEX(CHARGES,MATCH($D27&$F27,$AQ$2:$AQ$44&$AR$2:$AR$44,0),MATCH(H$1,$AS$1:$AX$1,0))","v":2934},{"$f":"INDEX(CHARGES,MATCH($D27&$F27,$AQ$2:$AQ$44&$AR$2:$AR$44,0),MATCH(I$1,$AS$1:$AX$1,0))","v":1886},{"$f":"INDEX(CHARGES,MATCH($D27&$F27,$AQ$2:$AQ$44&$AR$2:$AR$44,0),MATCH(J$1,$AS$1:$AX$1,0))","v":209},{"$f":"INDEX(CHARGES,MATCH($D27&$F27,$AQ$2:$AQ$44&$AR$2:$AR$44,0),MATCH(K$1,$AS$1:$AX$1,0))","v":5239},{"$f":"INDEX(CHARGES,MATCH($D27&$F27,$AQ$2:$AQ$44&$AR$2:$AR$44,0),MATCH(L$1,$AS$1:$AX$1,0))","v":210},null,null,{"$f":"IFERROR(INDEX($B$2:$B$1969, MATCH(0, INDEX(COUNTIF($O$1:O26,$B$2:$B$1969), 0),0)),\"\")","v":"Extractive industry"},39,0,0,26,{"$f":"IFERROR(INDEX($O$2:$O$109,MATCH(SMALL($S$2:$S$109,ROWS(S$2:$S27)),$S$2:$S$109,0),1),\"\")","v":"Extractive industry"},null,null,null,null,null,null,null,null,null,null,null,null,null,null,null,null,null,null,null,null,null,null,"Indoor sport and recreation","Gross Floor Area - not court area",105,22,15,68,0,0]
["Mt Isa - Fully Serviced","Community residence","Community residence","Accommodation (long-term)","RU_2","3 or more bedrooms",14670,{"$f":"INDEX(CHARGES,MATCH($D28&$F28,$AQ$2:$AQ$44&$AR$2:$AR$44,0),MATCH(H$1,$AS$1:$AX$1,0))","v":4108},{"$f":"INDEX(CHARGES,MATCH($D28&$F28,$AQ$2:$AQ$44&$AR$2:$AR$44,0),MATCH(I$1,$AS$1:$AX$1,0))","v":2641},{"$f":"INDEX(CHARGES,MATCH($D28&$F28,$AQ$2:$AQ$44&$AR$2:$AR$44,0),MATCH(J$1,$AS$1:$AX$1,0))","v":293},{"$f":"INDEX(CHARGES,MATCH($D28&$F28,$AQ$2:$AQ$44&$AR$2:$AR$44,0),MATCH(K$1,$AS$1:$AX$1,0))","v":7335},{"$f":"INDEX(CHARGES,MATCH($D28&$F28,$AQ$2:$AQ$44&$AR$2:$AR$44,0),MATCH(L$1,$AS$1:$AX$1,0))","v":293},null,null,{"$f":"IFERROR(INDEX($B$2:$B$1969, MATCH(0, INDEX(COUNTIF($O$1:O27,$B$2:$B$1969), 0),0)),\"\")","v":"Food and drink outlet"},{"$f":"COUNTIF($O$2:$O$109,\"<=\"&O28)","v":40},{"$f":"IF(O28=0,0,--ISNUMBER(O28))","v":0},{"$f":"IF(O28=0,1,IF(O28=\"\",1,0))","v":0},27,{"$f":"IFERROR(INDEX($O$2:$O$109,MATCH(SMALL($S$2:$S$109,ROWS(S$2:$S28)),$S$2:$S$109,0),1),\"\")","v":"Food and drink outlet"},null,null,null,null,null,null,null,null,null,null,null,null,null,null,null,null,null,null,null,null,null,null,"Indoor sport and recreation","Impervious Area",0,0,0,0,0,5]
["Mt Isa - Fully Serviced","Community use","Community use","Places of assembly","NR_1","Gross Floor Area",37,{"$f":"INDEX(CHARGES,MATCH($D29&$F29,$AQ$2:$AQ$44&$AR$2:$AR$44,0),MATCH(H$1,$AS$1:$AX$1,0))","v":8},{"$f":"INDEX(CHARGES,MATCH($D29&$F29,$AQ$2:$AQ$44&$AR$2:$AR$44,0),MATCH(I$1,$AS$1:$AX$1,0))","v":5},{"$f":"INDEX(CHARGES,MATCH($D29&$F29,$AQ$2:$AQ$44&$AR$2:$AR$44,0),MATCH(J$1,$AS$1:$AX$1,0))","v":0},{"$f":"INDEX(CHARGES,MATCH($D29&$F29,$AQ$2:$AQ$44&$AR$2:$AR$44,0),MATCH(K$1,$AS$1:$AX$1,0))","v":24},{"$f":"INDEX(CHARGES,MATCH($D29&$F29,$AQ$2:$AQ$44&$AR$2:$AR$44,0),MATCH(L$1,$AS$1:$AX$1,0))","v":0},null,null,{"$f":"IFERROR(INDEX($B$2:$B$1969, MATCH(0, INDEX(COUNTIF($O$1:O28,$B$2:$B$1969), 0),0)),\"\")","v":"Office"},66,0,0,53,{"$f":"IFERROR(INDEX($O$2:$O$109,MATCH(SMALL($S$2:$S$109,ROWS(S$2:$S29)),$S$2:$S$109,0),1),\"\")","v":"Function facility"},null,null,null,null,null,null,null,null,null,null,null,null,null,null,null,null,null,null,null,null,null,null,"Low impact rural","Gross Floor Area",0,0,0,0,0,0]
["Mt Isa - Fully Serviced","Community use","Community use","Places of assembly","NR_1","Impervious Area",5,{"$f":"INDEX(CHARGES,MATCH($D30&$F30,$AQ$2:$AQ$44&$AR$2:$AR$44,0),MATCH(H$1,$AS$1:$AX$1,0))","v":0},{"$f":"INDEX(CHARGES,MATCH($D30&$F30,$AQ$2:$AQ$44&$AR$2:$AR$44,0),MATCH(I$1,$AS$1:$AX$1,0))","v":0},{"$f":"INDEX(CHARGES,MATCH($D30&$F30,$AQ$2:$AQ$44&$AR$2:$AR$44,0),MATCH(J$1,$AS$1:$AX$1,0))","v":5},{"$f":"INDEX(CHARGES,MATCH($D30&$F30,$AQ$2:$AQ$44&$AR$2:$AR$44,0),MATCH(K$1,$AS$1:$AX$1,0))","v":0},{"$f":"INDEX(CHARGES,MATCH($D30&$F30,$AQ$2:$AQ$44&$AR$2:$AR$44,0),MATCH(L$1,$AS$1:$AX$1,0))","v":0},null,null,{"$f":"IFERROR(INDEX($B$2:$B$1969, MATCH(0, INDEX(COUNTIF($O$1:O29,$B$2:$B$1969), 0),0)),\"\")","v":"Outdoor sales"},67,0,0,54,{"$f":"IFERROR(INDEX($O$2:$O$109,MATCH(SMALL($S$2:$S$109,ROWS(S$2:$S30)),$S$2:$S$109,0),1),\"\")","v":"Funeral parlour"},null,null,null,null,null,null,null,null,null,null,null,null,null,null,null,null,null,null,null,null,null,null,"Minor uses","Gross Floor Area",0,0,0,0,0,0]
["Mt Isa - Fully Serviced","Crematorium","Crematorium","Other uses","NR_1","Gross Floor Area",0,{"$f":"INDEX(CHARGES,MATCH($D31&$F31,$AQ$2:$AQ$44&$AR$2:$AR$44,0),MATCH(H$1,$AS$1:$AX$1,0))","v":0},{"$f":"INDEX(CHARGES,MATCH($D31&$F31,$AQ$2:$AQ$44&$AR$2:$AR$44,0),MATCH(I$1,$AS$1:$AX$1,0))","v":0},{"$f":"INDEX(CHARGES,MATCH($D31&$F31,$AQ$2:$AQ$44&$AR$2:$AR$44,0),MATCH(J$1,$AS$1:$AX$1,0))","v":0},{"$f":"INDEX(CHARGES,MATCH($D31&$F31,$AQ$2:$AQ$44&$AR$2:$AR$44,0),MATCH(K$1,$AS$1:$AX$1,0))","v":0},{"$f":"INDEX(CHARGES,MATCH($D31&$F31,$AQ$2:$AQ$44&$AR$2:$AR$44,0),MATCH(L$1,$AS$1:$AX$1,0))","v":0},null,null,{"$f":"IFERROR(INDEX($B$2:$B$1969, MATCH(0, INDEX(COUNTIF($O$1:O30,$B$2:$B$1969), 0),0)),\"\")","v":"Outdoor sport and recreation"},68,0,0,55,{"$f":"IFERROR(INDEX($O$2:$O$109,MATCH(SMALL($S$2:$S$109,ROWS(S$2:$S31)),$S$2:$S$109,0),1),\"\")","v":"Garden centre"},null,null,null,null,null,null,null,null,null,null,null,null,null,null,null,null,null,null,null,null,null,null,"Other industry","Gross Floor Area",26,5,4,17,0,0]
["Mt Isa - Fully Serviced","Crematorium","Crematorium","Other uses","NR_1","Impervious Area",0,{"$f":"INDEX(CHARGES,MATCH($D32&$F32,$AQ$2:$AQ$44&$AR$2:$AR$44,0),MATCH(H$1,$AS$1:$AX$1,0))","v":0},{"$f":"INDEX(CHARGES,MATCH($D32&$F32,$AQ$2:$AQ$44&$AR$2:$AR$44,0),MATCH(I$1,$AS$1:$AX$1,0))","v":0},{"$f":"INDEX(CHARGES,MATCH($D32&$F32,$AQ$2:$AQ$44&$AR$2:$AR$44,0),MATCH(J$1,$AS$1:$AX$1,0))","v":0},{"$f":"INDEX(CHARGES,MATCH($D32&$F32,$AQ$2:$AQ$44&$AR$2:$AR$44,0),MATCH(K$1,$AS$1:$AX$1,0))","v":0},{"$f":"INDEX(CHARGES,MATCH($D32&$F32,$AQ$2:$AQ$44&$AR$2:$AR$44,0),MATCH(L$1,$AS$1:$AX$1,0))","v":0},null,null,{"$f":"IFERROR(INDEX($B$2:$B$1969, MATCH(0, INDEX(COUNTIF($O$1:O31,$B$2:$B$1969), 0),0)),\"\")","v":"Outstation"},69,0,0,56,{"$f":"IFERROR(INDEX($O$2:$O$109,MATCH(SMALL($S$2:$S$109,ROWS(S$2:$S32)),$S$2:$S$109,0),1),\"\")","v":"Hardware and trade supplies"},null,null,null,null,null,null,null,null,null,null,null,null,null,null,null,null,null,null,null,null,null,null,"Other industry","Impervious Area",0,0,0,0,0,5]
["Mt Isa - Fully Serviced","Cropping","Cropping","Low impact rural","NR_3","Gross Floor Area",0,{"$f":"INDEX(CHARGES,MATCH($D33&$F33,$AQ$2:$AQ$44&$AR$2:$AR$44,0),MATCH(H$1,$AS$1:$AX$1,0))","v":0},{"$f":"INDEX(CHARGES,MATCH($D33&$F33,$AQ$2:$AQ$44&$AR$2:$AR$44,0),MATCH(I$1,$AS$1:$AX$1,0))","v":0},{"$f":"INDEX(CHARGES,MATCH($D33&$F33,$AQ$2:$AQ$44&$AR$2:$AR$44,0),MATCH(J$1,$AS$1:$AX$1,0))","v":0},{"$f":"INDEX(CHARGES,MATCH($D33&$F33,$AQ$2:$AQ$44&$AR$2:$AR$44,0),MATCH(K$1,$AS$1:$AX$1,0))","v":0},{"$f":"INDEX(CHARGES,MATCH($D33&$F33,$AQ$2:$AQ$44&$AR$2:$AR$44,0),MATCH(L$1,$AS$1:$AX$1,0))","v":0},null,null,{"$f":"IFERROR(INDEX($B$2:$B$1969, MATCH(0, INDEX(COUNTIF($O$1:O32,$B$2:$B$1969), 0),0)),\"\")","v":"Park"},70,0,0,57,{"$f":"IFERROR(INDEX($O$2:$O$109,MATCH(SMALL($S$2:$S$109,ROWS(S$2:$S33)),$S$2:$S$109,0),1),\"\")","v":"Health care services"},null,null,null,null,null,null,null,null,null,null,null,null,null,null,null,null,null,null,null,null,null,null,"Other uses","Gross Floor Area",0,0,0,0,0,0]
["Mt Isa - Fully Serviced","Detention facility","Correctional facility","Essential services","NR_1","Gross Floor Area",73,{"$f":"INDEX(CHARGES,MATCH($D34&$F34,$AQ$2:$AQ$44&$AR$2:$AR$44,0),MATCH(H$1,$AS$1:$AX$1,0))","v":15},{"$f":"INDEX(CHARGES,MATCH($D34&$F34,$AQ$2:$AQ$44&$AR$2:$AR$44,0),MATCH(I$1,$AS$1:$AX$1,0))","v":10},{"$f":"INDEX(CHARGES,MATCH($D34&$F34,$AQ$2:$AQ$44&$AR$2:$AR$44,0),MATCH(J$1,$AS$1:$AX$1,0))","v":0},{"$f":"INDEX(CHARGES,MATCH($D34&$F34,$AQ$2:$AQ$44&$AR$2:$AR$44,0),MATCH(K$1,$AS$1:$AX$1,0))","v":48},{"$f":"INDEX(CHARGES,MATCH($D34&$F34,$AQ$2:$AQ$44&$AR$2:$AR$44,0),MATCH(L$1,$AS$1:$AX$1,0))","v":0},null,null,{"$f":"IFERROR(INDEX($B$2:$B$1969, MATCH(0, INDEX(COUNTIF($O$1:O33,$B$2:$B$1969), 0),0)),\"\")","v":"Parking station"},71,0,0,58,{"$f":"IFERROR(INDEX($O$2:$O$109,MATCH(SMALL($S$2:$S$109,ROWS(S$2:$S34)),$S$2:$S$109,0),1),\"\")","v":"High impact industry"},null,null,null,null,null,null,null,null,null,null,null,null,null,null,null,null,null,null,null,null,null,null,"Other uses","Gross Floor Area - court area",0,0,0,0,0,0]
["Mt Isa - Fully Serviced","Detention facility","Correctional facility","Essential services","NR_1","Impervious Area",5,{"$f":"INDEX(CHARGES,MATCH($D35&$F35,$AQ$2:$AQ$44&$AR$2:$AR$44,0),MATCH(H$1,$AS$1:$AX$1,0))","v":0},{"$f":"INDEX(CHARGES,MATCH($D35&$F35,$AQ$2:$AQ$44&$AR$2:$AR$44,0),MATCH(I$1,$AS$1:$AX$1,0))","v":0},{"$f":"INDEX(CHARGES,MATCH($D35&$F35,$AQ$2:$AQ$44&$AR$2:$AR$44,0),MATCH(J$1,$AS$1:$AX$1,0))","v":5},{"$f":"INDEX(CHARGES,MATCH($D35&$F35,$AQ$2:$AQ$44&$AR$2:$AR$44,0),MATCH(K$1,$AS$1:$AX$1,0))","v":0},{"$f":"INDEX(CHARGES,MATCH($D35&$F35,$AQ$2:$AQ$44&$AR$2:$AR$44,0),MATCH(L$1,$AS$1:$AX$1,0))","v":0},null,null,{"$f":"IFERROR(INDEX($B$2:$B$1969, MATCH(0, INDEX(COUNTIF($O$1:O34,$B$2:$B$1969), 0),0)),\"\")","v":"Permanent plantation"},72,0,0,59,{"$f":"IFERROR(INDEX($O$2:$O$109,MATCH(SMALL($S$2:$S$109,ROWS(S$2:$S35)),$S$2:$S$109,0),1),\"\")","v":"Home based business"},null,null,null,null,null,null,null,null,null,null,null,null,null,null,null,null,null,null,null,null,null,null,"Other uses","Gross Floor Area - not court area",0,0,0,0,0,0]
["Mt Isa - Fully Serviced","Dual occupancy","Dual occupancy","Residential uses","RU_1","2 or less bedrooms",10478,{"$f":"INDEX(CHARGES,MATCH($D36&$F36,$AQ$2:$AQ$44&$AR$2:$AR$44,0),MATCH(H$1,$AS$1:$AX$1,0))","v":2934},{"$f":"INDEX(CHARGES,MATCH($D36&$F36,$AQ$2:$AQ$44&$AR$2:$AR$44,0),MATCH(I$1,$AS$1:$AX$1,0))","v":1886},{"$f":"INDEX(CHARGES,MATCH($D36&$F36,$AQ$2:$AQ$44&$AR$2:$AR$44,0),MATCH(J$1,$AS$1:$AX$1,0))","v":209},{"$f":"INDEX(CHARGES,MATCH($D36&$F36,$AQ$2:$AQ$44&$AR$2:$AR$44,0),MATCH(K$1,$AS$1:$AX$1,0))","v":5239},{"$f":"INDEX(CHARGES,MATCH($D36&$F36,$AQ$2:$AQ$44&$AR$2:$AR$44,0),MATCH(L$1,$AS$1:$AX$1,0))","v":210},null,null,{"$f":"IFERROR(INDEX($B$2:$B$1969, MATCH(0, INDEX(COUNTIF($O$1:O35,$B$2:$B$1969), 0),0)),\"\")","v":"Function facility"},41,0,0,28,{"$f":"IFERROR(INDEX($O$2:$O$109,MATCH(SMALL($S$2:$S$109,ROWS(S$2:$S36)),$S$2:$S$109,0),1),\"\")","v":"Hospital"},null,null,null,null,null,null,null,null,null,null,null,null,null,null,null,null,null,null,null,null,null,null,"Other uses","Impervious Area",0,0,0,0,0,0]
["Mt Isa - Fully Serviced","Dual occupancy","Dual occupancy","Residential uses","RU_1","3 or more bedrooms",14670,{"$f":"INDEX(CHARGES,MATCH($D37&$F37,$AQ$2:$AQ$44&$AR$2:$AR$44,0),MATCH(H$1,$AS$1:$AX$1,0))","v":4108},{"$f":"INDEX(CHARGES,MATCH($D37&$F37,$AQ$2:$AQ$44&$AR$2:$AR$44,0),MATCH(I$1,$AS$1:$AX$1,0))","v":2641},{"$f":"INDEX(CHARGES,MATCH($D37&$F37,$AQ$2:$AQ$44&$AR$2:$AR$44,0),MATCH(J$1,$AS$1:$AX$1,0))","v":293},{"$f":"INDEX(CHARGES,MATCH($D37&$F37,$AQ$2:$AQ$44&$AR$2:$AR$44,0),MATCH(K$1,$AS$1:$AX$1,0))","v":7335},{"$f":"INDEX(CHARGES,MATCH($D37&$F37,$AQ$2:$AQ$44&$AR$2:$AR$44,0),MATCH(L$1,$AS$1:$AX$1,0))","v":293},null,null,{"$f":"IFERROR(INDEX($B$2:$B$1969, MATCH(0, INDEX(COUNTIF($O$1:O36,$B$2:$B$1969), 0),0)),\"\")","v":"Funeral parlour"},42,0,0,29,{"$f":"IFERROR(INDEX($O$2:$O$109,MATCH(SMALL($S$2:$S$109,ROWS(S$2:$S37)),$S$2:$S$109,0),1),\"\")","v":"Hotel - Accommodation component"},null,null,null,null,null,null,null,null,null,null,null,null,null,null,null,null,null,null,null,null,null,null,"Places of assembly","Gross Floor Area",37,8,5,24,0,0]
["Mt Isa - Fully Serviced","Dwelling house","Dwelling house","Residential uses","RU_1","2 or less bedrooms",10478,{"$f":"INDEX(CHARGES,MATCH($D38&$F38,$AQ$2:$AQ$44&$AR$2:$AR$44,0),MATCH(H$1,$AS$1:$AX$1,0))","v":2934},{"$f":"INDEX(CHARGES,MATCH($D38&$F38,$AQ$2:$AQ$44&$AR$2:$AR$44,0),MATCH(I$1,$AS$1:$AX$1,0))","v":1886},{"$f":"INDEX(CHARGES,MATCH($D38&$F38,$AQ$2:$AQ$44&$AR$2:$AR$44,0),MATCH(J$1,$AS$1:$AX$1,0))","v":209},{"$f":"INDEX(CHARGES,MATCH($D38&$F38,$AQ$2:$AQ$44&$AR$2:$AR$44,0),MATCH(K$1,$AS$1:$AX$1,0))","v":5239},{"$f":"INDEX(CHARGES,MATCH($D38&$F38,$AQ$2:$AQ$44&$AR$2:$AR$44,0),MATCH(L$1,$AS$1:$AX$1,0))","v":210},null,null,{"$f":"IFERROR(INDEX($B$2:$B$1969, MATCH(0, INDEX(COUNTIF($O$1:O37,$B$2:$B$1969), 0),0)),\"\")","v":"Garden centre"},43,0,0,30,{"$f":"IFERROR(INDEX($O$2:$O$109,MATCH(SMALL($S$2:$S$109,ROWS(S$2:$S38)),$S$2:$S$109,0),1),\"\")","v":"Hotel - Entertainment component"},null,null,null,null,null,null,null,null,null,null,null,null,null,null,null,null,null,null,null,null,null,null,"Places of assembly","Impervious Area",0,0,0,0,0,5]
["Mt Isa - Fully Serviced","Dwelling house","Dwelling house","Residential uses","RU_1","3 or more bedrooms",14670,{"$f":"INDEX(CHARGES,MATCH($D39&$F39,$AQ$2:$AQ$44&$AR$2:$AR$44,0),MATCH(H$1,$AS$1:$AX$1,0))","v":4108},{"$f":"INDEX(CHARGES,MATCH($D39&$F39,$AQ$2:$AQ$44&$AR$2:$AR$44,0),MATCH(I$1,$AS$1:$AX$1,0))","v":2641},{"$f":"INDEX(CHARGES,MATCH($D39&$F39,$AQ$2:$AQ$44&$AR$2:$AR$44,0),MATCH(J$1,$AS$1:$AX$1,0))","v":293},{"$f":"INDEX(CHARGES,MATCH($D39&$F39,$AQ$2:$AQ$44&$AR$2:$AR$44,0),MATCH(K$1,$AS$1:$AX$1,0))","v":7335},{"$f":"INDEX(CHARGES,MATCH($D39&$F39,$AQ$2:$AQ$44&$AR$2:$AR$44,0),MATCH(L$1,$AS$1:$AX$1,0))","v":293},null,null,{"$f":"IFERROR(INDEX($B$2:$B$1969, MATCH(0, INDEX(COUNTIF($O$1:O38,$B$2:$B$1969), 0),0)),\"\")","v":"Hardware and trade supplies"},44,0,0,31,{"$f":"IFERROR(INDEX($O$2:$O$109,MATCH(SMALL($S$2:$S$109,ROWS(S$2:$S39)),$S$2:$S$109,0),1),\"\")","v":"Indoor sport and recreation"},null,null,null,null,null,null,null,null,null,null,null,null,null,null,null,null,null,null,null,null,null,null,"Residential uses","1 bedroom",10478,2934,1886,5239,210,209]
["Mt Isa - Fully Serviced","Dwelling unit","Multiple dwelling","Residential uses","RU_1","2 or less bedrooms",10478,{"$f":"INDEX(CHARGES,MATCH($D40&$F40,$AQ$2:$AQ$44&$AR$2:$AR$44,0),MATCH(H$1,$AS$1:$AX$1,0))","v":2934},{"$f":"INDEX(CHARGES,MATCH($D40&$F40,$AQ$2:$AQ$44&$AR$2:$AR$44,0),MATCH(I$1,$AS$1:$AX$1,0))","v":1886},{"$f":"INDEX(CHARGES,MATCH($D40&$F40,$AQ$2:$AQ$44&$AR$2:$AR$44,0),MATCH(J$1,$AS$1:$AX$1,0))","v":209},{"$f":"INDEX(CHARGES,MATCH($D40&$F40,$AQ$2:$AQ$44&$AR$2:$AR$44,0),MATCH(K$1,$AS$1:$AX$1,0))","v":5239},{"$f":"INDEX(CHARGES,MATCH($D40&$F40,$AQ$2:$AQ$44&$AR$2:$AR$44,0),MATCH(L$1,$AS$1:$AX$1,0))","v":210},null,null,{"$f":"IFERROR(INDEX($B$2:$B$1969, MATCH(0, INDEX(COUNTIF($O$1:O39,$B$2:$B$1969), 0),0)),\"\")","v":"Health care services"},45,0,0,32,{"$f":"IFERROR(INDEX($O$2:$O$109,MATCH(SMALL($S$2:$S$109,ROWS(S$2:$S40)),$S$2:$S$109,0),1),\"\")","v":"Intensive animal industry"},null,null,null,null,null,null,null,null,null,null,null,null,null,null,null,null,null,null,null,null,null,null,"Residential uses","2 bedrooms",10478,2934,1886,5239,210,209]
["Mt Isa - Fully Serviced","Dwelling unit","Multiple dwelling","Residential uses","RU_1","3 or more bedrooms",14670,{"$f":"INDEX(CHARGES,MATCH($D41&$F41,$AQ$2:$AQ$44&$AR$2:$AR$44,0),MATCH(H$1,$AS$1:$AX$1,0))","v":4108},{"$f":"INDEX(CHARGES,MATCH($D41&$F41,$AQ$2:$AQ$44&$AR$2:$AR$44,0),MATCH(I$1,$AS$1:$AX$1,0))","v":2641},{"$f":"INDEX(CHARGES,MATCH($D41&$F41,$AQ$2:$AQ$44&$AR$2:$AR$44,0),MATCH(J$1,$AS$1:$AX$1,0))","v":293},{"$f":"INDEX(CHARGES,MATCH($D41&$F41,$AQ$2:$AQ$44&$AR$2:$AR$44,0),MATCH(K$1,$AS$1:$AX$1,0))","v":7335},{"$f":"INDEX(CHARGES,MATCH($D41&$F41,$AQ$2:$AQ$44&$AR$2:$AR$44,0),MATCH(L$1,$AS$1:$AX$1,0))","v":293},null,null,{"$f":"IFERROR(INDEX($B$2:$B$1969, MATCH(0, INDEX(COUNTIF($O$1:O40,$B$2:$B$1969), 0),0)),\"\")","v":"High impact industry"},46,0,0,33,{"$f":"IFERROR(INDEX($O$2:$O$109,MATCH(SMALL($S$2:$S$109,ROWS(S$2:$S41)),$S$2:$S$109,0),1),\"\")","v":"Intensive horticulture"},null,null,null,null,null,null,null,null,null,null,null,null,null,null,null,null,null,null,null,null,null,null,"Residential uses","2 or less bedrooms",10478,2934,1886,5239,210,209]
["Mt Isa - Fully Serviced","Educational establishment other than an educational establishment for the Flying Start for Queensland Children program","Educational establishment other than an educational establishment for the Flying Start for Queensland Children program","Educational Facility","NR_1","Gross Floor Area",73,{"$f":"INDEX(CHARGES,MATCH($D42&$F42,$AQ$2:$AQ$44&$AR$2:$AR$44,0),MATCH(H$1,$AS$1:$AX$1,0))","v":15},{"$f":"INDEX(CHARGES,MATCH($D42&$F42,$AQ$2:$AQ$44&$AR$2:$AR$44,0),MATCH(I$1,$AS$1:$AX$1,0))","v":10},{"$f":"INDEX(CHARGES,MATCH($D42&$F42,$AQ$2:$AQ$44&$AR$2:$AR$44,0),MATCH(J$1,$AS$1:$AX$1,0))","v":0},{"$f":"INDEX(CHARGES,MATCH($D42&$F42,$AQ$2:$AQ$44&$AR$2:$AR$44,0),MATCH(K$1,$AS$1:$AX$1,0))","v":48},{"$f":"INDEX(CHARGES,MATCH($D42&$F42,$AQ$2:$AQ$44&$AR$2:$AR$44,0),MATCH(L$1,$AS$1:$AX$1,0))","v":0},null,null,{"$f":"IFERROR(INDEX($B$2:$B$1969, MATCH(0, INDEX(COUNTIF($O$1:O41,$B$2:$B$1969), 0),0)),\"\")","v":"Home based business"},47,0,0,34,{"$f":"IFERROR(INDEX($O$2:$O$109,MATCH(SMALL($S$2:$S$109,ROWS(S$2:$S42)),$S$2:$S$109,0),1),\"\")","v":"Landing"},null,null,null,null,null,null,null,null,null,null,null,null,null,null,null,null,null,null,null,null,null,null,"Residential uses","3 or more bedrooms",14670,4108,2641,7335,293,293]
["Mt Isa - Fully Serviced","Educational establishment other than an educational establishment for the Flying Start for Queensland Children program","Educational establishment other than an educational establishment for the Flying Start for Queensland Children program","Educational Facility","NR_1","Impervious Area",5,{"$f":"INDEX(CHARGES,MATCH($D43&$F43,$AQ$2:$AQ$44&$AR$2:$AR$44,0),MATCH(H$1,$AS$1:$AX$1,0))","v":0},{"$f":"INDEX(CHARGES,MATCH($D43&$F43,$AQ$2:$AQ$44&$AR$2:$AR$44,0),MATCH(I$1,$AS$1:$AX$1,0))","v":0},{"$f":"INDEX(CHARGES,MATCH($D43&$F43,$AQ$2:$AQ$44&$AR$2:$AR$44,0),MATCH(J$1,$AS$1:$AX$1,0))","v":5},{"$f":"INDEX(CHARGES,MATCH($D43&$F43,$AQ$2:$AQ$44&$AR$2:$AR$44,0),MATCH(K$1,$AS$1:$AX$1,0))","v":0},{"$f":"INDEX(CHARGES,MATCH($D43&$F43,$AQ$2:$AQ$44&$AR$2:$AR$44,0),MATCH(L$1,$AS$1:$AX$1,0))","v":0},null,null,{"$f":"IFERROR(INDEX($B$2:$B$1969, MATCH(0, INDEX(COUNTIF($O$1:O42,$B$2:$B$1969), 0),0)),\"\")","v":"Hospital"},48,0,0,35,{"$f":"IFERROR(INDEX($O$2:$O$109,MATCH(SMALL($S$2:$S$109,ROWS(S$2:$S43)),$S$2:$S$109,0),1),\"\")","v":"Low impact industry"},null,null,null,null,null,null,null,null,null,null,null,null,null,null,null,null,null,null,null,null,null,null,"Non-residential uses","Lots",14670,3081,2054,9242,0,293]
["Mt Isa - Fully Serviced","Educational establishment that is an educational establishment for the Flying Start for Queensland Children program","Educational establishment that is an educational establishment for the Flying Start for Queensland Children program","Educational Facility","NR_1","Gross Floor Area",73,{"$f":"INDEX(CHARGES,MATCH($D44&$F44,$AQ$2:$AQ$44&$AR$2:$AR$44,0),MATCH(H$1,$AS$1:$AX$1,0))","v":15},{"$f":"INDEX(CHARGES,MATCH($D44&$F44,$AQ$2:$AQ$44&$AR$2:$AR$44,0),MATCH(I$1,$AS$1:$AX$1,0))","v":10},{"$f":"INDEX(CHARGES,MATCH($D44&$F44,$AQ$2:$AQ$44&$AR$2:$AR$44,0),MATCH(J$1,$AS$1:$AX$1,0))","v":0},{"$f":"INDEX(CHARGES,MATCH($D44&$F44,$AQ$2:$AQ$44&$AR$2:$AR$44,0),MATCH(K$1,$AS$1:$AX$1,0))","v":48},{"$f":"INDEX(CHARGES,MATCH($D44&$F44,$AQ$2:$AQ$44&$AR$2:$AR$44,0),MATCH(L$1,$AS$1:$AX$1,0))","v":0},null,null,{"$f":"IFERROR(INDEX($B$2:$B$1969, MATCH(0, INDEX(COUNTIF($O$1:O43,$B$2:$B$1969), 0),0)),\"\")","v":"Hotel - Accommodation component"},49,0,0,36,{"$f":"IFERROR(INDEX($O$2:$O$109,MATCH(SMALL($S$2:$S$109,ROWS(S$2:$S44)),$S$2:$S$109,0),1),\"\")","v":"Major electricity infrastructure"},null,null,null,null,null,null,null,null,null,null,null,null,null,null,null,null,null,null,null,null,null,null,"Residential uses","Lots",14670,4108,2641,7335,293,293]
["Mt Isa - Fully Serviced","Educational establishment that is an educational establishment for the Flying Start for Queensland Children program","Educational establishment that is an educational establishment for the Flying Start for Queensland Children program","Educational Facility","NR_1","Impervious Area",5,{"$f":"INDEX(CHARGES,MATCH($D45&$F45,$AQ$2:$AQ$44&$AR$2:$AR$44,0),MATCH(H$1,$AS$1:$AX$1,0))","v":0},{"$f":"INDEX(CHARGES,MATCH($D45&$F45,$AQ$2:$AQ$44&$AR$2:$AR$44,0),MATCH(I$1,$AS$1:$AX$1,0))","v":0},{"$f":"INDEX(CHARGES,MATCH($D45&$F45,$AQ$2:$AQ$44&$AR$2:$AR$44,0),MATCH(J$1,$AS$1:$AX$1,0))","v":5},{"$f":"INDEX(CHARGES,MATCH($D45&$F45,$AQ$2:$AQ$44&$AR$2:$AR$44,0),MATCH(K$1,$AS$1:$AX$1,0))","v":0},{"$f":"INDEX(CHARGES,MATCH($D45&$F45,$AQ$2:$AQ$44&$AR$2:$AR$44,0),MATCH(L$1,$AS$1:$AX$1,0))","v":0},null,null,{"$f":"IFERROR(INDEX($B$2:$B$1969, MATCH(0, INDEX(COUNTIF($O$1:O44,$B$2:$B$1969), 0),0)),\"\")","v":"Hotel - Entertainment component"},50,0,0,37,{"$f":"IFERROR(INDEX($O$2:$O$109,MATCH(SMALL($S$2:$S$109,ROWS(S$2:$S45)),$S$2:$S$109,0),1),\"\")","v":"Major sport, recreation and entertainment facility"}]
["Mt Isa - Fully Serviced","Emergency services","Emergency services","Essential services","NR_1","Gross Floor Area",73,{"$f":"INDEX(CHARGES,MATCH($D46&$F46,$AQ$2:$AQ$44&$AR$2:$AR$44,0),MATCH(H$1,$AS$1:$AX$1,0))","v":15},{"$f":"INDEX(CHARGES,MATCH($D46&$F46,$AQ$2:$AQ$44&$AR$2:$AR$44,0),MATCH(I$1,$AS$1:$AX$1,0))","v":10},{"$f":"INDEX(CHARGES,MATCH($D46&$F46,$AQ$2:$AQ$44&$AR$2:$AR$44,0),MATCH(J$1,$AS$1:$AX$1,0))","v":0},{"$f":"INDEX(CHARGES,MATCH($D46&$F46,$AQ$2:$AQ$44&$AR$2:$AR$44,0),MATCH(K$1,$AS$1:$AX$1,0))","v":48},{"$f":"INDEX(CHARGES,MATCH($D46&$F46,$AQ$2:$AQ$44&$AR$2:$AR$44,0),MATCH(L$1,$AS$1:$AX$1,0))","v":0},null,null,{"$f":"IFERROR(INDEX($B$2:$B$1969, MATCH(0, INDEX(COUNTIF($O$1:O45,$B$2:$B$1969), 0),0)),\"\")","v":"Indoor sport and recreation"},51,0,0,38,{"$f":"IFERROR(INDEX($O$2:$O$109,MATCH(SMALL($S$2:$S$109,ROWS(S$2:$S46)),$S$2:$S$109,0),1),\"\")","v":"Marine industry"}]
["Mt Isa - Fully Serviced","Emergency services","Emergency services","Essential services","NR_1","Impervious Area",5,{"$f":"INDEX(CHARGES,MATCH($D47&$F47,$AQ$2:$AQ$44&$AR$2:$AR$44,0),MATCH(H$1,$AS$1:$AX$1,0))","v":0},{"$f":"INDEX(CHARGES,MATCH($D47&$F47,$AQ$2:$AQ$44&$AR$2:$AR$44,0),MATCH(I$1,$AS$1:$AX$1,0))","v":0},{"$f":"INDEX(CHARGES,MATCH($D47&$F47,$AQ$2:$AQ$44&$AR$2:$AR$44,0),MATCH(J$1,$AS$1:$AX$1,0))","v":5},{"$f":"INDEX(CHARGES,MATCH($D47&$F47,$AQ$2:$AQ$44&$AR$2:$AR$44,0),MATCH(K$1,$AS$1:$AX$1,0))","v":0},{"$f":"INDEX(CHARGES,MATCH($D47&$F47,$AQ$2:$AQ$44&$AR$2:$AR$44,0),MATCH(L$1,$AS$1:$AX$1,0))","v":0},null,null,{"$f":"IFERROR(INDEX($B$2:$B$1969, MATCH(0, INDEX(COUNTIF($O$1:O46,$B$2:$B$1969), 0),0)),\"\")","v":"Intensive animal industry"},52,0,0,39,{"$f":"IFERROR(INDEX($O$2:$O$109,MATCH(SMALL($S$2:$S$109,ROWS(S$2:$S47)),$S$2:$S$109,0),1),\"\")","v":"Market"}]
["Mt Isa - Fully Serviced","Environment facility",null,"Other uses","NR_1","Gross Floor Area",0,{"$f":"INDEX(CHARGES,MATCH($D48&$F48,$AQ$2:$AQ$44&$AR$2:$AR$44,0),MATCH(H$1,$AS$1:$AX$1,0))","v":0},{"$f":"INDEX(CHARGES,MATCH($D48&$F48,$AQ$2:$AQ$44&$AR$2:$AR$44,0),MATCH(I$1,$AS$1:$AX$1,0))","v":0},{"$f":"INDEX(CHARGES,MATCH($D48&$F48,$AQ$2:$AQ$44&$AR$2:$AR$44,0),MATCH(J$1,$AS$1:$AX$1,0))","v":0},{"$f":"INDEX(CHARGES,MATCH($D48&$F48,$AQ$2:$AQ$44&$AR$2:$AR$44,0),MATCH(K$1,$AS$1:$AX$1,0))","v":0},{"$f":"INDEX(CHARGES,MATCH($D48&$F48,$AQ$2:$AQ$44&$AR$2:$AR$44,0),MATCH(L$1,$AS$1:$AX$1,0))","v":0},null,null,{"$f":"IFERROR(INDEX($B$2:$B$1969, MATCH(0, INDEX(COUNTIF($O$1:O47,$B$2:$B$1969), 0),0)),\"\")","v":"Intensive horticulture"},53,0,0,40,{"$f":"IFERROR(INDEX($O$2:$O$109,MATCH(SMALL($S$2:$S$109,ROWS(S$2:$S48)),$S$2:$S$109,0),1),\"\")","v":"Medium impact industry"}]
["Mt Isa - Fully Serviced","Environment facility",null,"Other uses","NR_1","Impervious Area",0,{"$f":"INDEX(CHARGES,MATCH($D49&$F49,$AQ$2:$AQ$44&$AR$2:$AR$44,0),MATCH(H$1,$AS$1:$AX$1,0))","v":0},{"$f":"INDEX(CHARGES,MATCH($D49&$F49,$AQ$2:$AQ$44&$AR$2:$AR$44,0),MATCH(I$1,$AS$1:$AX$1,0))","v":0},{"$f":"INDEX(CHARGES,MATCH($D49&$F49,$AQ$2:$AQ$44&$AR$2:$AR$44,0),MATCH(J$1,$AS$1:$AX$1,0))","v":0},{"$f":"INDEX(CHARGES,MATCH($D49&$F49,$AQ$2:$AQ$44&$AR$2:$AR$44,0),MATCH(K$1,$AS$1:$AX$1,0))","v":0},{"$f":"INDEX(CHARGES,MATCH($D49&$F49,$AQ$2:$AQ$44&$AR$2:$AR$44,0),MATCH(L$1,$AS$1:$AX$1,0))","v":0},null,null,{"$f":"IFERROR(INDEX($B$2:$B$1969, MATCH(0, INDEX(COUNTIF($O$1:O48,$B$2:$B$1969), 0),0)),\"\")","v":"Landing"},54,0,0,41,{"$f":"IFERROR(INDEX($O$2:$O$109,MATCH(SMALL($S$2:$S$109,ROWS(S$2:$S49)),$S$2:$S$109,0),1),\"\")","v":"Motor sport facility"}]
["Mt Isa - Fully Serviced","Extractive industry","Extractive industry","Other uses","NR_1","Gross Floor Area",0,{"$f":"INDEX(CHARGES,MATCH($D50&$F50,$AQ$2:$AQ$44&$AR$2:$AR$44,0),MATCH(H$1,$AS$1:$AX$1,0))","v":0},{"$f":"INDEX(CHARGES,MATCH($D50&$F50,$AQ$2:$AQ$44&$AR$2:$AR$44,0),MATCH(I$1,$AS$1:$AX$1,0))","v":0},{"$f":"INDEX(CHARGES,MATCH($D50&$F50,$AQ$2:$AQ$44&$AR$2:$AR$44,0),MATCH(J$1,$AS$1:$AX$1,0))","v":0},{"$f":"INDEX(CHARGES,MATCH($D50&$F50,$AQ$2:$AQ$44&$AR$2:$AR$44,0),MATCH(K$1,$AS$1:$AX$1,0))","v":0},{"$f":"INDEX(CHARGES,MATCH($D50&$F50,$AQ$2:$AQ$44&$AR$2:$AR$44,0),MATCH(L$1,$AS$1:$AX$1,0))","v":0},null,null,{"$f":"IFERROR(INDEX($B$2:$B$1969, MATCH(0, INDEX(COUNTIF($O$1:O49,$B$2:$B$1969), 0),0)),\"\")","v":"Low impact industry"},55,0,0,42,{"$f":"IFERROR(INDEX($O$2:$O$109,MATCH(SMALL($S$2:$S$109,ROWS(S$2:$S50)),$S$2:$S$109,0),1),\"\")","v":"Multiple dwelling"}]
["Mt Isa - Fully Serviced","Extractive industry","Extractive industry","Other uses","NR_1","Impervious Area",0,{"$f":"INDEX(CHARGES,MATCH($D51&$F51,$AQ$2:$AQ$44&$AR$2:$AR$44,0),MATCH(H$1,$AS$1:$AX$1,0))","v":0},{"$f":"INDEX(CHARGES,MATCH($D51&$F51,$AQ$2:$AQ$44&$AR$2:$AR$44,0),MATCH(I$1,$AS$1:$AX$1,0))","v":0},{"$f":"INDEX(CHARGES,MATCH($D51&$F51,$AQ$2:$AQ$44&$AR$2:$AR$44,0),MATCH(J$1,$AS$1:$AX$1,0))","v":0},{"$f":"INDEX(CHARGES,MATCH($D51&$F51,$AQ$2:$AQ$44&$AR$2:$AR$44,0),MATCH(K$1,$AS$1:$AX$1,0))","v":0},{"$f":"INDEX(CHARGES,MATCH($D51&$F51,$AQ$2:$AQ$44&$AR$2:$AR$44,0),MATCH(L$1,$AS$1:$AX$1,0))","v":0},null,null,{"$f":"IFERROR(INDEX($B$2:$B$1969, MATCH(0, INDEX(COUNTIF($O$1:O50,$B$2:$B$1969), 0),0)),\"\")","v":"Major electricity infrastructure"},56,0,0,43,{"$f":"IFERROR(INDEX($O$2:$O$109,MATCH(SMALL($S$2:$S$109,ROWS(S$2:$S51)),$S$2:$S$109,0),1),\"\")","v":"Nature-based tourism"}]
["Mt Isa - Fully Serviced","Food and drink outlet","Food and drink outlet","Commercial (retail)","NR_1","Gross Floor Area",94,{"$f":"INDEX(CHARGES,MATCH($D52&$F52,$AQ$2:$AQ$44&$AR$2:$AR$44,0),MATCH(H$1,$AS$1:$AX$1,0))","v":20},{"$f":"INDEX(CHARGES,MATCH($D52&$F52,$AQ$2:$AQ$44&$AR$2:$AR$44,0),MATCH(I$1,$AS$1:$AX$1,0))","v":13},{"$f":"INDEX(CHARGES,MATCH($D52&$F52,$AQ$2:$AQ$44&$AR$2:$AR$44,0),MATCH(J$1,$AS$1:$AX$1,0))","v":0},{"$f":"INDEX(CHARGES,MATCH($D52&$F52,$AQ$2:$AQ$44&$AR$2:$AR$44,0),MATCH(K$1,$AS$1:$AX$1,0))","v":61},{"$f":"INDEX(CHARGES,MATCH($D52&$F52,$AQ$2:$AQ$44&$AR$2:$AR$44,0),MATCH(L$1,$AS$1:$AX$1,0))","v":0},null,null,{"$f":"IFERROR(INDEX($B$2:$B$1969, MATCH(0, INDEX(COUNTIF($O$1:O51,$B$2:$B$1969), 0),0)),\"\")","v":"Major sport, recreation and entertainment facility"},57,0,0,44,{"$f":"IFERROR(INDEX($O$2:$O$109,MATCH(SMALL($S$2:$S$109,ROWS(S$2:$S52)),$S$2:$S$109,0),1),\"\")","v":"Nightclub entertainment facility"}]
["Mt Isa - Fully Serviced","Food and drink outlet","Food and drink outlet","Commercial (retail)","NR_1","Impervious Area",5,{"$f":"INDEX(CHARGES,MATCH($D53&$F53,$AQ$2:$AQ$44&$AR$2:$AR$44,0),MATCH(H$1,$AS$1:$AX$1,0))","v":0},{"$f":"INDEX(CHARGES,MATCH($D53&$F53,$AQ$2:$AQ$44&$AR$2:$AR$44,0),MATCH(I$1,$AS$1:$AX$1,0))","v":0},{"$f":"INDEX(CHARGES,MATCH($D53&$F53,$AQ$2:$AQ$44&$AR$2:$AR$44,0),MATCH(J$1,$AS$1:$AX$1,0))","v":5},{"$f":"INDEX(CHARGES,MATCH($D53&$F53,$AQ$2:$AQ$44&$AR$2:$AR$44,0),MATCH(K$1,$AS$1:$AX$1,0))","v":0},{"$f":"INDEX(CHARGES,MATCH($D53&$F53,$AQ$2:$AQ$44&$AR$2:$AR$44,0),MATCH(L$1,$AS$1:$AX$1,0))","v":0},null,null,{"$f":"IFERROR(INDEX($B$2:$B$1969, MATCH(0, INDEX(COUNTIF($O$1:O52,$B$2:$B$1969), 0),0)),\"\")","v":"Marine industry"},58,0,0,45,{"$f":"IFERROR(INDEX($O$2:$O$109,MATCH(SMALL($S$2:$S$109,ROWS(S$2:$S53)),$S$2:$S$109,0),1),\"\")","v":"Non-resident workforce accommodation"}]
["Mt Isa - Fully Serviced","Office","Office","Commercial (office)","NR_1","Gross Floor Area",73,{"$f":"INDEX(CHARGES,MATCH($D54&$F54,$AQ$2:$AQ$44&$AR$2:$AR$44,0),MATCH(H$1,$AS$1:$AX$1,0))","v":15},{"$f":"INDEX(CHARGES,MATCH($D54&$F54,$AQ$2:$AQ$44&$AR$2:$AR$44,0),MATCH(I$1,$AS$1:$AX$1,0))","v":10},{"$f":"INDEX(CHARGES,MATCH($D54&$F54,$AQ$2:$AQ$44&$AR$2:$AR$44,0),MATCH(J$1,$AS$1:$AX$1,0))","v":0},{"$f":"INDEX(CHARGES,MATCH($D54&$F54,$AQ$2:$AQ$44&$AR$2:$AR$44,0),MATCH(K$1,$AS$1:$AX$1,0))","v":48},{"$f":"INDEX(CHARGES,MATCH($D54&$F54,$AQ$2:$AQ$44&$AR$2:$AR$44,0),MATCH(L$1,$AS$1:$AX$1,0))","v":0},null,null,{"$f":"IFERROR(INDEX($B$2:$B$1969, MATCH(0, INDEX(COUNTIF($O$1:O53,$B$2:$B$1969), 0),0)),\"\")","v":"Market"},59,0,0,46,{"$f":"IFERROR(INDEX($O$2:$O$109,MATCH(SMALL($S$2:$S$109,ROWS(S$2:$S54)),$S$2:$S$109,0),1),\"\")","v":"Office"}]
["Mt Isa - Fully Serviced","Office","Office","Commercial (office)","NR_1","Impervious Area",5,{"$f":"INDEX(CHARGES,MATCH($D55&$F55,$AQ$2:$AQ$44&$AR$2:$AR$44,0),MATCH(H$1,$AS$1:$AX$1,0))","v":0},{"$f":"INDEX(CHARGES,MATCH($D55&$F55,$AQ$2:$AQ$44&$AR$2:$AR$44,0),MATCH(I$1,$AS$1:$AX$1,0))","v":0},{"$f":"INDEX(CHARGES,MATCH($D55&$F55,$AQ$2:$AQ$44&$AR$2:$AR$44,0),MATCH(J$1,$AS$1:$AX$1,0))","v":5},{"$f":"INDEX(CHARGES,MATCH($D55&$F55,$AQ$2:$AQ$44&$AR$2:$AR$44,0),MATCH(K$1,$AS$1:$AX$1,0))","v":0},{"$f":"INDEX(CHARGES,MATCH($D55&$F55,$AQ$2:$AQ$44&$AR$2:$AR$44,0),MATCH(L$1,$AS$1:$AX$1,0))","v":0},null,null,{"$f":"IFERROR(INDEX($B$2:$B$1969, MATCH(0, INDEX(COUNTIF($O$1:O54,$B$2:$B$1969), 0),0)),\"\")","v":"Medium impact industry"},60,0,0,47,{"$f":"IFERROR(INDEX($O$2:$O$109,MATCH(SMALL($S$2:$S$109,ROWS(S$2:$S55)),$S$2:$S$109,0),1),\"\")","v":"Outdoor sales"}]
["Mt Isa - Fully Serviced","Outdoor sales","Outdoor sales","Commercial (retail)","NR_1","Gross Floor Area",94,{"$f":"INDEX(CHARGES,MATCH($D56&$F56,$AQ$2:$AQ$44&$AR$2:$AR$44,0),MATCH(H$1,$AS$1:$AX$1,0))","v":20},{"$f":"INDEX(CHARGES,MATCH($D56&$F56,$AQ$2:$AQ$44&$AR$2:$AR$44,0),MATCH(I$1,$AS$1:$AX$1,0))","v":13},{"$f":"INDEX(CHARGES,MATCH($D56&$F56,$AQ$2:$AQ$44&$AR$2:$AR$44,0),MATCH(J$1,$AS$1:$AX$1,0))","v":0},{"$f":"INDEX(CHARGES,MATCH($D56&$F56,$AQ$2:$AQ$44&$AR$2:$AR$44,0),MATCH(K$1,$AS$1:$AX$1,0))","v":61},{"$f":"INDEX(CHARGES,MATCH($D56&$F56,$AQ$2:$AQ$44&$AR$2:$AR$44,0),MATCH(L$1,$AS$1:$AX$1,0))","v":0},null,null,{"$f":"IFERROR(INDEX($B$2:$B$1969, MATCH(0, INDEX(COUNTIF($O$1:O55,$B$2:$B$1969), 0),0)),\"\")","v":"Motor sport facility"},61,0,0,48,{"$f":"IFERROR(INDEX($O$2:$O$109,MATCH(SMALL($S$2:$S$109,ROWS(S$2:$S56)),$S$2:$S$109,0),1),\"\")","v":"Outdoor sport and recreation"}]
["Mt Isa - Fully Serviced","Outdoor sales","Outdoor sales","Commercial (retail)","NR_1","Impervious Area",5,{"$f":"INDEX(CHARGES,MATCH($D57&$F57,$AQ$2:$AQ$44&$AR$2:$AR$44,0),MATCH(H$1,$AS$1:$AX$1,0))","v":0},{"$f":"INDEX(CHARGES,MATCH($D57&$F57,$AQ$2:$AQ$44&$AR$2:$AR$44,0),MATCH(I$1,$AS$1:$AX$1,0))","v":0},{"$f":"INDEX(CHARGES,MATCH($D57&$F57,$AQ$2:$AQ$44&$AR$2:$AR$44,0),MATCH(J$1,$AS$1:$AX$1,0))","v":5},{"$f":"INDEX(CHARGES,MATCH($D57&$F57,$AQ$2:$AQ$44&$AR$2:$AR$44,0),MATCH(K$1,$AS$1:$AX$1,0))","v":0},{"$f":"INDEX(CHARGES,MATCH($D57&$F57,$AQ$2:$AQ$44&$AR$2:$AR$44,0),MATCH(L$1,$AS$1:$AX$1,0))","v":0},null,null,{"$f":"IFERROR(INDEX($B$2:$B$1969, MATCH(0, INDEX(COUNTIF($O$1:O56,$B$2:$B$1969), 0),0)),\"\")","v":"Multiple dwelling"},62,0,0,49,{"$f":"IFERROR(INDEX($O$2:$O$109,MATCH(SMALL($S$2:$S$109,ROWS(S$2:$S57)),$S$2:$S$109,0),1),\"\")","v":"Outstation"}]
["Mt Isa - Fully Serviced","Outdoor sport and recreation","Outdoor sport and recreation","Other uses","NR_2","Gross Floor Area - not court area",0,{"$f":"INDEX(CHARGES,MATCH($D58&$F58,$AQ$2:$AQ$44&$AR$2:$AR$44,0),MATCH(H$1,$AS$1:$AX$1,0))","v":0},{"$f":"INDEX(CHARGES,MATCH($D58&$F58,$AQ$2:$AQ$44&$AR$2:$AR$44,0),MATCH(I$1,$AS$1:$AX$1,0))","v":0},{"$f":"INDEX(CHARGES,MATCH($D58&$F58,$AQ$2:$AQ$44&$AR$2:$AR$44,0),MATCH(J$1,$AS$1:$AX$1,0))","v":0},{"$f":"INDEX(CHARGES,MATCH($D58&$F58,$AQ$2:$AQ$44&$AR$2:$AR$44,0),MATCH(K$1,$AS$1:$AX$1,0))","v":0},{"$f":"INDEX(CHARGES,MATCH($D58&$F58,$AQ$2:$AQ$44&$AR$2:$AR$44,0),MATCH(L$1,$AS$1:$AX$1,0))","v":0},null,null,{"$f":"IFERROR(INDEX($B$2:$B$1969, MATCH(0, INDEX(COUNTIF($O$1:O57,$B$2:$B$1969), 0),0)),\"\")","v":"Nature-based tourism"},63,0,0,50,{"$f":"IFERROR(INDEX($O$2:$O$109,MATCH(SMALL($S$2:$S$109,ROWS(S$2:$S58)),$S$2:$S$109,0),1),\"\")","v":"Park"}]
["Mt Isa - Fully Serviced","Outdoor sport and recreation","Outdoor sport and recreation","Other uses","NR_2","Gross Floor Area - court area",0,{"$f":"INDEX(CHARGES,MATCH($D59&$F59,$AQ$2:$AQ$44&$AR$2:$AR$44,0),MATCH(H$1,$AS$1:$AX$1,0))","v":0},{"$f":"INDEX(CHARGES,MATCH($D59&$F59,$AQ$2:$AQ$44&$AR$2:$AR$44,0),MATCH(I$1,$AS$1:$AX$1,0))","v":0},{"$f":"INDEX(CHARGES,MATCH($D59&$F59,$AQ$2:$AQ$44&$AR$2:$AR$44,0),MATCH(J$1,$AS$1:$AX$1,0))","v":0},{"$f":"INDEX(CHARGES,MATCH($D59&$F59,$AQ$2:$AQ$44&$AR$2:$AR$44,0),MATCH(K$1,$AS$1:$AX$1,0))","v":0},{"$f":"INDEX(CHARGES,MATCH($D59&$F59,$AQ$2:$AQ$44&$AR$2:$AR$44,0),MATCH(L$1,$AS$1:$AX$1,0))","v":0},null,null,{"$f":"IFERROR(INDEX($B$2:$B$1969, MATCH(0, INDEX(COUNTIF($O$1:O58,$B$2:$B$1969), 0),0)),\"\")","v":"Nightclub entertainment facility"},64,0,0,51,{"$f":"IFERROR(INDEX($O$2:$O$109,MATCH(SMALL($S$2:$S$109,ROWS(S$2:$S59)),$S$2:$S$109,0),1),\"\")","v":"Parking station"}]
["Mt Isa - Fully Serviced","Outdoor sport and recreation","Outdoor sport and recreation","Other uses","NR_2","Impervious Area",0,{"$f":"INDEX(CHARGES,MATCH($D60&$F60,$AQ$2:$AQ$44&$AR$2:$AR$44,0),MATCH(H$1,$AS$1:$AX$1,0))","v":0},{"$f":"INDEX(CHARGES,MATCH($D60&$F60,$AQ$2:$AQ$44&$AR$2:$AR$44,0),MATCH(I$1,$AS$1:$AX$1,0))","v":0},{"$f":"INDEX(CHARGES,MATCH($D60&$F60,$AQ$2:$AQ$44&$AR$2:$AR$44,0),MATCH(J$1,$AS$1:$AX$1,0))","v":0},{"$f":"INDEX(CHARGES,MATCH($D60&$F60,$AQ$2:$AQ$44&$AR$2:$AR$44,0),MATCH(K$1,$AS$1:$AX$1,0))","v":0},{"$f":"INDEX(CHARGES,MATCH($D60&$F60,$AQ$2:$AQ$44&$AR$2:$AR$44,0),MATCH(L$1,$AS$1:$AX$1,0))","v":0},null,null,{"$f":"IFERROR(INDEX($B$2:$B$1969, MATCH(0, INDEX(COUNTIF($O$1:O59,$B$2:$B$1969), 0),0)),\"\")","v":"Non-resident workforce accommodation"},65,0,0,52,{"$f":"IFERROR(INDEX($O$2:$O$109,MATCH(SMALL($S$2:$S$109,ROWS(S$2:$S60)),$S$2:$S$109,0),1),\"\")","v":"Permanent plantation"}]
["Mt Isa - Fully Serviced","Outstation",null,"Other uses","NR_1","Gross Floor Area",0,{"$f":"INDEX(CHARGES,MATCH($D61&$F61,$AQ$2:$AQ$44&$AR$2:$AR$44,0),MATCH(H$1,$AS$1:$AX$1,0))","v":0},{"$f":"INDEX(CHARGES,MATCH($D61&$F61,$AQ$2:$AQ$44&$AR$2:$AR$44,0),MATCH(I$1,$AS$1:$AX$1,0))","v":0},{"$f":"INDEX(CHARGES,MATCH($D61&$F61,$AQ$2:$AQ$44&$AR$2:$AR$44,0),MATCH(J$1,$AS$1:$AX$1,0))","v":0},{"$f":"INDEX(CHARGES,MATCH($D61&$F61,$AQ$2:$AQ$44&$AR$2:$AR$44,0),MATCH(K$1,$AS$1:$AX$1,0))","v":0},{"$f":"INDEX(CHARGES,MATCH($D61&$F61,$AQ$2:$AQ$44&$AR$2:$AR$44,0),MATCH(L$1,$AS$1:$AX$1,0))","v":0},null,null,{"$f":"IFERROR(INDEX($B$2:$B$1969, MATCH(0, INDEX(COUNTIF($O$1:O60,$B$2:$B$1969), 0),0)),\"\")","v":"Place of worship"},73,0,0,60,{"$f":"IFERROR(INDEX($O$2:$O$109,MATCH(SMALL($S$2:$S$109,ROWS(S$2:$S61)),$S$2:$S$109,0),1),\"\")","v":"Place of worship"}]
["Mt Isa - Fully Serviced","Outstation",null,"Other uses","NR_1","Impervious Area",0,{"$f":"INDEX(CHARGES,MATCH($D62&$F62,$AQ$2:$AQ$44&$AR$2:$AR$44,0),MATCH(H$1,$AS$1:$AX$1,0))","v":0},{"$f":"INDEX(CHARGES,MATCH($D62&$F62,$AQ$2:$AQ$44&$AR$2:$AR$44,0),MATCH(I$1,$AS$1:$AX$1,0))","v":0},{"$f":"INDEX(CHARGES,MATCH($D62&$F62,$AQ$2:$AQ$44&$AR$2:$AR$44,0),MATCH(J$1,$AS$1:$AX$1,0))","v":0},{"$f":"INDEX(CHARGES,MATCH($D62&$F62,$AQ$2:$AQ$44&$AR$2:$AR$44,0),MATCH(K$1,$AS$1:$AX$1,0))","v":0},{"$f":"INDEX(CHARGES,MATCH($D62&$F62,$AQ$2:$AQ$44&$AR$2:$AR$44,0),MATCH(L$1,$AS$1:$AX$1,0))","v":0},null,null,{"$f":"IFERROR(INDEX($B$2:$B$1969, MATCH(0, INDEX(COUNTIF($O$1:O61,$B$2:$B$1969), 0),0)),\"\")","v":"Port services"},74,0,0,61,{"$f":"IFERROR(INDEX($O$2:$O$109,MATCH(SMALL($S$2:$S$109,ROWS(S$2:$S62)),$S$2:$S$109,0),1),\"\")","v":"Port services"}]
["Mt Isa - Fully Serviced","Park","Park","Minor uses","NR_3","Gross Floor Area",0,{"$f":"INDEX(CHARGES,MATCH($D63&$F63,$AQ$2:$AQ$44&$AR$2:$AR$44,0),MATCH(H$1,$AS$1:$AX$1,0))","v":0},{"$f":"INDEX(CHARGES,MATCH($D63&$F63,$AQ$2:$AQ$44&$AR$2:$AR$44,0),MATCH(I$1,$AS$1:$AX$1,0))","v":0},{"$f":"INDEX(CHARGES,MATCH($D63&$F63,$AQ$2:$AQ$44&$AR$2:$AR$44,0),MATCH(J$1,$AS$1:$AX$1,0))","v":0},{"$f":"INDEX(CHARGES,MATCH($D63&$F63,$AQ$2:$AQ$44&$AR$2:$AR$44,0),MATCH(K$1,$AS$1:$AX$1,0))","v":0},{"$f":"INDEX(CHARGES,MATCH($D63&$F63,$AQ$2:$AQ$44&$AR$2:$AR$44,0),MATCH(L$1,$AS$1:$AX$1,0))","v":0},null,null,{"$f":"IFERROR(INDEX($B$2:$B$1969, MATCH(0, INDEX(COUNTIF($O$1:O62,$B$2:$B$1969), 0),0)),\"\")","v":"Relocatable home park"},77,0,0,64,{"$f":"IFERROR(INDEX($O$2:$O$109,MATCH(SMALL($S$2:$S$109,ROWS(S$2:$S63)),$S$2:$S$109,0),1),\"\")","v":"Reconfiguring a lot - Non residential"}]
["Mt Isa - Fully Serviced","Parking station",null,"Other uses","NR_1","Gross Floor Area",0,{"$f":"INDEX(CHARGES,MATCH($D64&$F64,$AQ$2:$AQ$44&$AR$2:$AR$44,0),MATCH(H$1,$AS$1:$AX$1,0))","v":0},{"$f":"INDEX(CHARGES,MATCH($D64&$F64,$AQ$2:$AQ$44&$AR$2:$AR$44,0),MATCH(I$1,$AS$1:$AX$1,0))","v":0},{"$f":"INDEX(CHARGES,MATCH($D64&$F64,$AQ$2:$AQ$44&$AR$2:$AR$44,0),MATCH(J$1,$AS$1:$AX$1,0))","v":0},{"$f":"INDEX(CHARGES,MATCH($D64&$F64,$AQ$2:$AQ$44&$AR$2:$AR$44,0),MATCH(K$1,$AS$1:$AX$1,0))","v":0},{"$f":"INDEX(CHARGES,MATCH($D64&$F64,$AQ$2:$AQ$44&$AR$2:$AR$44,0),MATCH(L$1,$AS$1:$AX$1,0))","v":0},null,null,{"$f":"IFERROR(INDEX($B$2:$B$1969, MATCH(0, INDEX(COUNTIF($O$1:O63,$B$2:$B$1969), 0),0)),\"\")","v":"Renewable energy facility"},78,0,0,65,{"$f":"IFERROR(INDEX($O$2:$O$109,MATCH(SMALL($S$2:$S$109,ROWS(S$2:$S64)),$S$2:$S$109,0),1),\"\")","v":"Reconfiguring a lot - Residential"}]
["Mt Isa - Fully Serviced","Parking station",null,"Other uses","NR_1","Impervious Area",{"$f":"SUM(H65:L65)","v":0},{"$f":"INDEX(CHARGES,MATCH($D65&$F65,$AQ$2:$AQ$44&$AR$2:$AR$44,0),MATCH(H$1,$AS$1:$AX$1,0))","v":0},{"$f":"INDEX(CHARGES,MATCH($D65&$F65,$AQ$2:$AQ$44&$AR$2:$AR$44,0),MATCH(I$1,$AS$1:$AX$1,0))","v":0},{"$f":"INDEX(CHARGES,MATCH($D65&$F65,$AQ$2:$AQ$44&$AR$2:$AR$44,0),MATCH(J$1,$AS$1:$AX$1,0))","v":0},{"$f":"INDEX(CHARGES,MATCH($D65&$F65,$AQ$2:$AQ$44&$AR$2:$AR$44,0),MATCH(K$1,$AS$1:$AX$1,0))","v":0},{"$f":"INDEX(CHARGES,MATCH($D65&$F65,$AQ$2:$AQ$44&$AR$2:$AR$44,0),MATCH(L$1,$AS$1:$AX$1,0))","v":0},null,null,{"$f":"IFERROR(INDEX($B$2:$B$1969, MATCH(0, INDEX(COUNTIF($O$1:O64,$B$2:$B$1969), 0),0)),\"\")","v":"Research and technology industry"},79,0,0,66,{"$f":"IFERROR(INDEX($O$2:$O$109,MATCH(SMALL($S$2:$S$109,ROWS(S$2:$S65)),$S$2:$S$109,0),1),\"\")","v":"Relocatable home park"}]
["Mt Isa - Fully Serviced","Permanent plantation","Permanent plantation","Low impact rural","NR_3","Gross Floor Area",0,{"$f":"INDEX(CHARGES,MATCH($D66&$F66,$AQ$2:$AQ$44&$AR$2:$AR$44,0),MATCH(H$1,$AS$1:$AX$1,0))","v":0},{"$f":"INDEX(CHARGES,MATCH($D66&$F66,$AQ$2:$AQ$44&$AR$2:$AR$44,0),MATCH(I$1,$AS$1:$AX$1,0))","v":0},{"$f":"INDEX(CHARGES,MATCH($D66&$F66,$AQ$2:$AQ$44&$AR$2:$AR$44,0),MATCH(J$1,$AS$1:$AX$1,0))","v":0},{"$f":"INDEX(CHARGES,MATCH($D66&$F66,$AQ$2:$AQ$44&$AR$2:$AR$44,0),MATCH(K$1,$AS$1:$AX$1,0))","v":0},{"$f":"INDEX(CHARGES,MATCH($D66&$F66,$AQ$2:$AQ$44&$AR$2:$AR$44,0),MATCH(L$1,$AS$1:$AX$1,0))","v":0},null,null,{"$f":"IFERROR(INDEX($B$2:$B$1969, MATCH(0, INDEX(COUNTIF($O$1:O65,$B$2:$B$1969), 0),0)),\"\")","v":"Residential care facility"},80,0,0,{"$f":"IF(IF(Q66=1,P66,IF(R66=1,P66,P66+$Q$110))-$P$110<0,\"\",IF(ISNUMBER(O66),P66,IF(R66=1,P66,P66+$Q$110))-$P$110)","v":67},{"$f":"IFERROR(INDEX($O$2:$O$109,MATCH(SMALL($S$2:$S$109,ROWS(S$2:$S66)),$S$2:$S$109,0),1),\"\")","v":"Renewable energy facility"}]
["Mt Isa - Fully Serviced","Function facility","Function facility","Places of assembly","NR_1","Gross Floor Area",37,{"$f":"INDEX(CHARGES,MATCH($D67&$F67,$AQ$2:$AQ$44&$AR$2:$AR$44,0),MATCH(H$1,$AS$1:$AX$1,0))","v":8},{"$f":"INDEX(CHARGES,MATCH($D67&$F67,$AQ$2:$AQ$44&$AR$2:$AR$44,0),MATCH(I$1,$AS$1:$AX$1,0))","v":5},{"$f":"INDEX(CHARGES,MATCH($D67&$F67,$AQ$2:$AQ$44&$AR$2:$AR$44,0),MATCH(J$1,$AS$1:$AX$1,0))","v":0},{"$f":"INDEX(CHARGES,MATCH($D67&$F67,$AQ$2:$AQ$44&$AR$2:$AR$44,0),MATCH(K$1,$AS$1:$AX$1,0))","v":24},{"$f":"INDEX(CHARGES,MATCH($D67&$F67,$AQ$2:$AQ$44&$AR$2:$AR$44,0),MATCH(L$1,$AS$1:$AX$1,0))","v":0},null,null,{"$f":"IFERROR(INDEX($B$2:$B$1969, MATCH(0, INDEX(COUNTIF($O$1:O66,$B$2:$B$1969), 0),0)),\"\")","v":"Resort complex - Accommodation component"},81,0,0,68,{"$f":"IFERROR(INDEX($O$2:$O$109,MATCH(SMALL($S$2:$S$109,ROWS(S$2:$S67)),$S$2:$S$109,0),1),\"\")","v":"Research and technology industry"}]
["Mt Isa - Fully Serviced","Function facility","Function facility","Places of assembly","NR_1","Impervious Area",5,{"$f":"INDEX(CHARGES,MATCH($D68&$F68,$AQ$2:$AQ$44&$AR$2:$AR$44,0),MATCH(H$1,$AS$1:$AX$1,0))","v":0},{"$f":"INDEX(CHARGES,MATCH($D68&$F68,$AQ$2:$AQ$44&$AR$2:$AR$44,0),MATCH(I$1,$AS$1:$AX$1,0))","v":0},{"$f":"INDEX(CHARGES,MATCH($D68&$F68,$AQ$2:$AQ$44&$AR$2:$AR$44,0),MATCH(J$1,$AS$1:$AX$1,0))","v":5},{"$f":"INDEX(CHARGES,MATCH($D68&$F68,$AQ$2:$AQ$44&$AR$2:$AR$44,0),MATCH(K$1,$AS$1:$AX$1,0))","v":0},{"$f":"INDEX(CHARGES,MATCH($D68&$F68,$AQ$2:$AQ$44&$AR$2:$AR$44,0),MATCH(L$1,$AS$1:$AX$1,0))","v":0},null,null,{"$f":"IFERROR(INDEX($B$2:$B$1969, MATCH(0, INDEX(COUNTIF($O$1:O67,$B$2:$B$1969), 0),0)),\"\")","v":"Resort complex - Entertainment component"},82,0,0,69,{"$f":"IFERROR(INDEX($O$2:$O$109,MATCH(SMALL($S$2:$S$109,ROWS(S$2:$S68)),$S$2:$S$109,0),1),\"\")","v":"Residential care facility"}]
["Mt Isa - Fully Serviced","Funeral parlour","Funeral parlour","Places of assembly","NR_1","Gross Floor Area",37,{"$f":"INDEX(CHARGES,MATCH($D69&$F69,$AQ$2:$AQ$44&$AR$2:$AR$44,0),MATCH(H$1,$AS$1:$AX$1,0))","v":8},{"$f":"INDEX(CHARGES,MATCH($D69&$F69,$AQ$2:$AQ$44&$AR$2:$AR$44,0),MATCH(I$1,$AS$1:$AX$1,0))","v":5},{"$f":"INDEX(CHARGES,MATCH($D69&$F69,$AQ$2:$AQ$44&$AR$2:$AR$44,0),MATCH(J$1,$AS$1:$AX$1,0))","v":0},{"$f":"INDEX(CHARGES,MATCH($D69&$F69,$AQ$2:$AQ$44&$AR$2:$AR$44,0),MATCH(K$1,$AS$1:$AX$1,0))","v":24},{"$f":"INDEX(CHARGES,MATCH($D69&$F69,$AQ$2:$AQ$44&$AR$2:$AR$44,0),MATCH(L$1,$AS$1:$AX$1,0))","v":0},null,null,{"$f":"IFERROR(INDEX($B$2:$B$1969, MATCH(0, INDEX(COUNTIF($O$1:O68,$B$2:$B$1969), 0),0)),\"\")","v":"Retirement facility"},83,0,0,70,{"$f":"IFERROR(INDEX($O$2:$O$109,MATCH(SMALL($S$2:$S$109,ROWS(S$2:$S69)),$S$2:$S$109,0),1),\"\")","v":"Resort complex - Accommodation component"}]
["Mt Isa - Fully Serviced","Funeral parlour","Funeral parlour","Places of assembly","NR_1","Impervious Area",5,{"$f":"INDEX(CHARGES,MATCH($D70&$F70,$AQ$2:$AQ$44&$AR$2:$AR$44,0),MATCH(H$1,$AS$1:$AX$1,0))","v":0},{"$f":"INDEX(CHARGES,MATCH($D70&$F70,$AQ$2:$AQ$44&$AR$2:$AR$44,0),MATCH(I$1,$AS$1:$AX$1,0))","v":0},{"$f":"INDEX(CHARGES,MATCH($D70&$F70,$AQ$2:$AQ$44&$AR$2:$AR$44,0),MATCH(J$1,$AS$1:$AX$1,0))","v":5},{"$f":"INDEX(CHARGES,MATCH($D70&$F70,$AQ$2:$AQ$44&$AR$2:$AR$44,0),MATCH(K$1,$AS$1:$AX$1,0))","v":0},{"$f":"INDEX(CHARGES,MATCH($D70&$F70,$AQ$2:$AQ$44&$AR$2:$AR$44,0),MATCH(L$1,$AS$1:$AX$1,0))","v":0},null,null,{"$f":"IFERROR(INDEX($B$2:$B$1969, MATCH(0, INDEX(COUNTIF($O$1:O69,$B$2:$B$1969), 0),0)),\"\")","v":"Roadside stall"},84,0,0,71,{"$f":"IFERROR(INDEX($O$2:$O$109,MATCH(SMALL($S$2:$S$109,ROWS(S$2:$S70)),$S$2:$S$109,0),1),\"\")","v":"Resort complex - Entertainment component"}]
["Mt Isa - Fully Serviced","Garden centre","Garden centre","Commercial (bulk goods)","NR_1","Gross Floor Area",73,{"$f":"INDEX(CHARGES,MATCH($D71&$F71,$AQ$2:$AQ$44&$AR$2:$AR$44,0),MATCH(H$1,$AS$1:$AX$1,0))","v":15},{"$f":"INDEX(CHARGES,MATCH($D71&$F71,$AQ$2:$AQ$44&$AR$2:$AR$44,0),MATCH(I$1,$AS$1:$AX$1,0))","v":10},{"$f":"INDEX(CHARGES,MATCH($D71&$F71,$AQ$2:$AQ$44&$AR$2:$AR$44,0),MATCH(J$1,$AS$1:$AX$1,0))","v":0},{"$f":"INDEX(CHARGES,MATCH($D71&$F71,$AQ$2:$AQ$44&$AR$2:$AR$44,0),MATCH(K$1,$AS$1:$AX$1,0))","v":48},{"$f":"INDEX(CHARGES,MATCH($D71&$F71,$AQ$2:$AQ$44&$AR$2:$AR$44,0),MATCH(L$1,$AS$1:$AX$1,0))","v":0},null,null,{"$f":"IFERROR(INDEX($B$2:$B$1969, MATCH(0, INDEX(COUNTIF($O$1:O70,$B$2:$B$1969), 0),0)),\"\")","v":"Rooming accommodation"},85,0,0,72,{"$f":"IFERROR(INDEX($O$2:$O$109,MATCH(SMALL($S$2:$S$109,ROWS(S$2:$S71)),$S$2:$S$109,0),1),\"\")","v":"Retirement facility"}]
["Mt Isa - Fully Serviced","Garden centre","Garden centre","Commercial (bulk goods)","NR_1","Impervious Area",5,{"$f":"INDEX(CHARGES,MATCH($D72&$F72,$AQ$2:$AQ$44&$AR$2:$AR$44,0),MATCH(H$1,$AS$1:$AX$1,0))","v":0},{"$f":"INDEX(CHARGES,MATCH($D72&$F72,$AQ$2:$AQ$44&$AR$2:$AR$44,0),MATCH(I$1,$AS$1:$AX$1,0))","v":0},{"$f":"INDEX(CHARGES,MATCH($D72&$F72,$AQ$2:$AQ$44&$AR$2:$AR$44,0),MATCH(J$1,$AS$1:$AX$1,0))","v":5},{"$f":"INDEX(CHARGES,MATCH($D72&$F72,$AQ$2:$AQ$44&$AR$2:$AR$44,0),MATCH(K$1,$AS$1:$AX$1,0))","v":0},{"$f":"INDEX(CHARGES,MATCH($D72&$F72,$AQ$2:$AQ$44&$AR$2:$AR$44,0),MATCH(L$1,$AS$1:$AX$1,0))","v":0},null,null,{"$f":"IFERROR(INDEX($B$2:$B$1969, MATCH(0, INDEX(COUNTIF($O$1:O71,$B$2:$B$1969), 0),0)),\"\")","v":"Rural industry"},86,0,0,73,{"$f":"IFERROR(INDEX($O$2:$O$109,MATCH(SMALL($S$2:$S$109,ROWS(S$2:$S72)),$S$2:$S$109,0),1),\"\")","v":"Roadside stall"}]
["Mt Isa - Fully Serviced","Hardware and trade supplies","Hardware and trade supplies","Commercial (bulk goods)","NR_1","Gross Floor Area",73,{"$f":"INDEX(CHARGES,MATCH($D73&$F73,$AQ$2:$AQ$44&$AR$2:$AR$44,0),MATCH(H$1,$AS$1:$AX$1,0))","v":15},{"$f":"INDEX(CHARGES,MATCH($D73&$F73,$AQ$2:$AQ$44&$AR$2:$AR$44,0),MATCH(I$1,$AS$1:$AX$1,0))","v":10},{"$f":"INDEX(CHARGES,MATCH($D73&$F73,$AQ$2:$AQ$44&$AR$2:$AR$44,0),MATCH(J$1,$AS$1:$AX$1,0))","v":0},{"$f":"INDEX(CHARGES,MATCH($D73&$F73,$AQ$2:$AQ$44&$AR$2:$AR$44,0),MATCH(K$1,$AS$1:$AX$1,0))","v":48},{"$f":"INDEX(CHARGES,MATCH($D73&$F73,$AQ$2:$AQ$44&$AR$2:$AR$44,0),MATCH(L$1,$AS$1:$AX$1,0))","v":0},null,null,{"$f":"IFERROR(INDEX($B$2:$B$1969, MATCH(0, INDEX(COUNTIF($O$1:O72,$B$2:$B$1969), 0),0)),\"\")","v":"Rural workers accommodation"},87,0,0,74,{"$f":"IFERROR(INDEX($O$2:$O$109,MATCH(SMALL($S$2:$S$109,ROWS(S$2:$S73)),$S$2:$S$109,0),1),\"\")","v":"Rooming accommodation"}]
["Mt Isa - Fully Serviced","Hardware and trade supplies","Hardware and trade supplies","Commercial (bulk goods)","NR_1","Impervious Area",5,{"$f":"INDEX(CHARGES,MATCH($D74&$F74,$AQ$2:$AQ$44&$AR$2:$AR$44,0),MATCH(H$1,$AS$1:$AX$1,0))","v":0},{"$f":"INDEX(CHARGES,MATCH($D74&$F74,$AQ$2:$AQ$44&$AR$2:$AR$44,0),MATCH(I$1,$AS$1:$AX$1,0))","v":0},{"$f":"INDEX(CHARGES,MATCH($D74&$F74,$AQ$2:$AQ$44&$AR$2:$AR$44,0),MATCH(J$1,$AS$1:$AX$1,0))","v":5},{"$f":"INDEX(CHARGES,MATCH($D74&$F74,$AQ$2:$AQ$44&$AR$2:$AR$44,0),MATCH(K$1,$AS$1:$AX$1,0))","v":0},{"$f":"INDEX(CHARGES,MATCH($D74&$F74,$AQ$2:$AQ$44&$AR$2:$AR$44,0),MATCH(L$1,$AS$1:$AX$1,0))","v":0},null,null,{"$f":"IFERROR(INDEX($B$2:$B$1969, MATCH(0, INDEX(COUNTIF($O$1:O73,$B$2:$B$1969), 0),0)),\"\")","v":"Sales office"},88,0,0,75,{"$f":"IFERROR(INDEX($O$2:$O$109,MATCH(SMALL($S$2:$S$109,ROWS(S$2:$S74)),$S$2:$S$109,0),1),\"\")","v":"Rural industry"}]
["Mt Isa - Fully Serviced","Health care services","Health care service","Essential services","NR_1","Gross Floor Area",73,{"$f":"INDEX(CHARGES,MATCH($D75&$F75,$AQ$2:$AQ$44&$AR$2:$AR$44,0),MATCH(H$1,$AS$1:$AX$1,0))","v":15},{"$f":"INDEX(CHARGES,MATCH($D75&$F75,$AQ$2:$AQ$44&$AR$2:$AR$44,0),MATCH(I$1,$AS$1:$AX$1,0))","v":10},{"$f":"INDEX(CHARGES,MATCH($D75&$F75,$AQ$2:$AQ$44&$AR$2:$AR$44,0),MATCH(J$1,$AS$1:$AX$1,0))","v":0},{"$f":"INDEX(CHARGES,MATCH($D75&$F75,$AQ$2:$AQ$44&$AR$2:$AR$44,0),MATCH(K$1,$AS$1:$AX$1,0))","v":48},{"$f":"INDEX(CHARGES,MATCH($D75&$F75,$AQ$2:$AQ$44&$AR$2:$AR$44,0),MATCH(L$1,$AS$1:$AX$1,0))","v":0},null,null,{"$f":"IFERROR(INDEX($B$2:$B$1969, MATCH(0, INDEX(COUNTIF($O$1:O74,$B$2:$B$1969), 0),0)),\"\")","v":"Service industry"},89,0,0,76,{"$f":"IFERROR(INDEX($O$2:$O$109,MATCH(SMALL($S$2:$S$109,ROWS(S$2:$S75)),$S$2:$S$109,0),1),\"\")","v":"Rural workers accommodation"}]
["Mt Isa - Fully Serviced","Health care services","Health care service","Essential services","NR_1","Impervious Area",5,{"$f":"INDEX(CHARGES,MATCH($D76&$F76,$AQ$2:$AQ$44&$AR$2:$AR$44,0),MATCH(H$1,$AS$1:$AX$1,0))","v":0},{"$f":"INDEX(CHARGES,MATCH($D76&$F76,$AQ$2:$AQ$44&$AR$2:$AR$44,0),MATCH(I$1,$AS$1:$AX$1,0))","v":0},{"$f":"INDEX(CHARGES,MATCH($D76&$F76,$AQ$2:$AQ$44&$AR$2:$AR$44,0),MATCH(J$1,$AS$1:$AX$1,0))","v":5},{"$f":"INDEX(CHARGES,MATCH($D76&$F76,$AQ$2:$AQ$44&$AR$2:$AR$44,0),MATCH(K$1,$AS$1:$AX$1,0))","v":0},{"$f":"INDEX(CHARGES,MATCH($D76&$F76,$AQ$2:$AQ$44&$AR$2:$AR$44,0),MATCH(L$1,$AS$1:$AX$1,0))","v":0},null,null,{"$f":"IFERROR(INDEX($B$2:$B$1969, MATCH(0, INDEX(COUNTIF($O$1:O75,$B$2:$B$1969), 0),0)),\"\")","v":"Service station"},90,0,0,77,{"$f":"IFERROR(INDEX($O$2:$O$109,MATCH(SMALL($S$2:$S$109,ROWS(S$2:$S76)),$S$2:$S$109,0),1),\"\")","v":"Sales office"}]
["Mt Isa - Fully Serviced","High impact industry","High impact industry","High impact industry or special industry","NR_1","Gross Floor Area",37,{"$f":"INDEX(CHARGES,MATCH($D77&$F77,$AQ$2:$AQ$44&$AR$2:$AR$44,0),MATCH(H$1,$AS$1:$AX$1,0))","v":8},{"$f":"INDEX(CHARGES,MATCH($D77&$F77,$AQ$2:$AQ$44&$AR$2:$AR$44,0),MATCH(I$1,$AS$1:$AX$1,0))","v":5},{"$f":"INDEX(CHARGES,MATCH($D77&$F77,$AQ$2:$AQ$44&$AR$2:$AR$44,0),MATCH(J$1,$AS$1:$AX$1,0))","v":0},{"$f":"INDEX(CHARGES,MATCH($D77&$F77,$AQ$2:$AQ$44&$AR$2:$AR$44,0),MATCH(K$1,$AS$1:$AX$1,0))","v":24},{"$f":"INDEX(CHARGES,MATCH($D77&$F77,$AQ$2:$AQ$44&$AR$2:$AR$44,0),MATCH(L$1,$AS$1:$AX$1,0))","v":0},null,null,{"$f":"IFERROR(INDEX($B$2:$B$1969, MATCH(0, INDEX(COUNTIF($O$1:O76,$B$2:$B$1969), 0),0)),\"\")","v":"Shop"},91,0,0,78,{"$f":"IFERROR(INDEX($O$2:$O$109,MATCH(SMALL($S$2:$S$109,ROWS(S$2:$S77)),$S$2:$S$109,0),1),\"\")","v":"Service industry"}]
["Mt Isa - Fully Serviced","High impact industry","High impact industry","High impact industry or special industry","NR_1","Impervious Area",5,{"$f":"INDEX(CHARGES,MATCH($D78&$F78,$AQ$2:$AQ$44&$AR$2:$AR$44,0),MATCH(H$1,$AS$1:$AX$1,0))","v":0},{"$f":"INDEX(CHARGES,MATCH($D78&$F78,$AQ$2:$AQ$44&$AR$2:$AR$44,0),MATCH(I$1,$AS$1:$AX$1,0))","v":0},{"$f":"INDEX(CHARGES,MATCH($D78&$F78,$AQ$2:$AQ$44&$AR$2:$AR$44,0),MATCH(J$1,$AS$1:$AX$1,0))","v":5},{"$f":"INDEX(CHARGES,MATCH($D78&$F78,$AQ$2:$AQ$44&$AR$2:$AR$44,0),MATCH(K$1,$AS$1:$AX$1,0))","v":0},{"$f":"INDEX(CHARGES,MATCH($D78&$F78,$AQ$2:$AQ$44&$AR$2:$AR$44,0),MATCH(L$1,$AS$1:$AX$1,0))","v":0},null,null,{"$f":"IFERROR(INDEX($B$2:$B$1969, MATCH(0, INDEX(COUNTIF($O$1:O77,$B$2:$B$1969), 0),0)),\"\")","v":"Shopping centre"},92,0,0,79,{"$f":"IFERROR(INDEX($O$2:$O$109,MATCH(SMALL($S$2:$S$109,ROWS(S$2:$S78)),$S$2:$S$109,0),1),\"\")","v":"Service station"}]
["Mt Isa - Fully Serviced","Home based business","Home based business","Minor uses","NR_3","Gross Floor Area",0,{"$f":"INDEX(CHARGES,MATCH($D79&$F79,$AQ$2:$AQ$44&$AR$2:$AR$44,0),MATCH(H$1,$AS$1:$AX$1,0))","v":0},{"$f":"INDEX(CHARGES,MATCH($D79&$F79,$AQ$2:$AQ$44&$AR$2:$AR$44,0),MATCH(I$1,$AS$1:$AX$1,0))","v":0},{"$f":"INDEX(CHARGES,MATCH($D79&$F79,$AQ$2:$AQ$44&$AR$2:$AR$44,0),MATCH(J$1,$AS$1:$AX$1,0))","v":0},{"$f":"INDEX(CHARGES,MATCH($D79&$F79,$AQ$2:$AQ$44&$AR$2:$AR$44,0),MATCH(K$1,$AS$1:$AX$1,0))","v":0},{"$f":"INDEX(CHARGES,MATCH($D79&$F79,$AQ$2:$AQ$44&$AR$2:$AR$44,0),MATCH(L$1,$AS$1:$AX$1,0))","v":0},null,null,{"$f":"IFERROR(INDEX($B$2:$B$1969, MATCH(0, INDEX(COUNTIF($O$1:O78,$B$2:$B$1969), 0),0)),\"\")","v":"Short-term accommodation"},93,0,0,80,{"$f":"IFERROR(INDEX($O$2:$O$109,MATCH(SMALL($S$2:$S$109,ROWS(S$2:$S79)),$S$2:$S$109,0),1),\"\")","v":"Shop"}]
["Mt Isa - Fully Serviced","Hospital","Hospital","Essential services","NR_1","Gross Floor Area",73,{"$f":"INDEX(CHARGES,MATCH($D80&$F80,$AQ$2:$AQ$44&$AR$2:$AR$44,0),MATCH(H$1,$AS$1:$AX$1,0))","v":15},{"$f":"INDEX(CHARGES,MATCH($D80&$F80,$AQ$2:$AQ$44&$AR$2:$AR$44,0),MATCH(I$1,$AS$1:$AX$1,0))","v":10},{"$f":"INDEX(CHARGES,MATCH($D80&$F80,$AQ$2:$AQ$44&$AR$2:$AR$44,0),MATCH(J$1,$AS$1:$AX$1,0))","v":0},{"$f":"INDEX(CHARGES,MATCH($D80&$F80,$AQ$2:$AQ$44&$AR$2:$AR$44,0),MATCH(K$1,$AS$1:$AX$1,0))","v":48},{"$f":"INDEX(CHARGES,MATCH($D80&$F80,$AQ$2:$AQ$44&$AR$2:$AR$44,0),MATCH(L$1,$AS$1:$AX$1,0))","v":0},null,null,{"$f":"IFERROR(INDEX($B$2:$B$1969, MATCH(0, INDEX(COUNTIF($O$1:O79,$B$2:$B$1969), 0),0)),\"\")","v":"Showroom"},94,0,0,81,{"$f":"IFERROR(INDEX($O$2:$O$109,MATCH(SMALL($S$2:$S$109,ROWS(S$2:$S80)),$S$2:$S$109,0),1),\"\")","v":"Shopping centre"}]
["Mt Isa - Fully Serviced","Hospital","Hospital","Essential services","NR_1","Impervious Area",5,{"$f":"INDEX(CHARGES,MATCH($D81&$F81,$AQ$2:$AQ$44&$AR$2:$AR$44,0),MATCH(H$1,$AS$1:$AX$1,0))","v":0},{"$f":"INDEX(CHARGES,MATCH($D81&$F81,$AQ$2:$AQ$44&$AR$2:$AR$44,0),MATCH(I$1,$AS$1:$AX$1,0))","v":0},{"$f":"INDEX(CHARGES,MATCH($D81&$F81,$AQ$2:$AQ$44&$AR$2:$AR$44,0),MATCH(J$1,$AS$1:$AX$1,0))","v":5},{"$f":"INDEX(CHARGES,MATCH($D81&$F81,$AQ$2:$AQ$44&$AR$2:$AR$44,0),MATCH(K$1,$AS$1:$AX$1,0))","v":0},{"$f":"INDEX(CHARGES,MATCH($D81&$F81,$AQ$2:$AQ$44&$AR$2:$AR$44,0),MATCH(L$1,$AS$1:$AX$1,0))","v":0},null,null,{"$f":"IFERROR(INDEX($B$2:$B$1969, MATCH(0, INDEX(COUNTIF($O$1:O80,$B$2:$B$1969), 0),0)),\"\")","v":"Special industry"},95,0,0,82,{"$f":"IFERROR(INDEX($O$2:$O$109,MATCH(SMALL($S$2:$S$109,ROWS(S$2:$S81)),$S$2:$S$109,0),1),\"\")","v":"Short-term accommodation"}]
["Mt Isa - Fully Serviced","Hotel - Accommodation component","Hotel","Accommodation (short-term)","RU_2","bedroom that is not part of a suite",{"$f":"SUM(H82:L82)","v":5239},{"$f":"INDEX(CHARGES,MATCH($D82&$F82,$AQ$2:$AQ$44&$AR$2:$AR$44,0),MATCH(H$1,$AS$1:$AX$1,0))","v":1467},{"$f":"INDEX(CHARGES,MATCH($D82&$F82,$AQ$2:$AQ$44&$AR$2:$AR$44,0),MATCH(I$1,$AS$1:$AX$1,0))","v":943},{"$f":"INDEX(CHARGES,MATCH($D82&$F82,$AQ$2:$AQ$44&$AR$2:$AR$44,0),MATCH(J$1,$AS$1:$AX$1,0))","v":104},{"$f":"INDEX(CHARGES,MATCH($D82&$F82,$AQ$2:$AQ$44&$AR$2:$AR$44,0),MATCH(K$1,$AS$1:$AX$1,0))","v":2620},{"$f":"INDEX(CHARGES,MATCH($D82&$F82,$AQ$2:$AQ$44&$AR$2:$AR$44,0),MATCH(L$1,$AS$1:$AX$1,0))","v":105},null,null,{"$f":"IFERROR(INDEX($B$2:$B$1969, MATCH(0, INDEX(COUNTIF($O$1:O81,$B$2:$B$1969), 0),0)),\"\")","v":"Substation"},96,0,0,83,{"$f":"IFERROR(INDEX($O$2:$O$109,MATCH(SMALL($S$2:$S$109,ROWS(S$2:$S82)),$S$2:$S$109,0),1),\"\")","v":"Showroom"}]
["Mt Isa - Fully Serviced","Hotel - Accommodation component","Hotel","Accommodation (short-term)","RU_2","2 or less bedrooms",5239,{"$f":"INDEX(CHARGES,MATCH($D83&$F83,$AQ$2:$AQ$44&$AR$2:$AR$44,0),MATCH(H$1,$AS$1:$AX$1,0))","v":1467},{"$f":"INDEX(CHARGES,MATCH($D83&$F83,$AQ$2:$AQ$44&$AR$2:$AR$44,0),MATCH(I$1,$AS$1:$AX$1,0))","v":943},{"$f":"INDEX(CHARGES,MATCH($D83&$F83,$AQ$2:$AQ$44&$AR$2:$AR$44,0),MATCH(J$1,$AS$1:$AX$1,0))","v":104},{"$f":"INDEX(CHARGES,MATCH($D83&$F83,$AQ$2:$AQ$44&$AR$2:$AR$44,0),MATCH(K$1,$AS$1:$AX$1,0))","v":2620},{"$f":"INDEX(CHARGES,MATCH($D83&$F83,$AQ$2:$AQ$44&$AR$2:$AR$44,0),MATCH(L$1,$AS$1:$AX$1,0))","v":105},null,null,{"$f":"IFERROR(INDEX($B$2:$B$1969, MATCH(0, INDEX(COUNTIF($O$1:O82,$B$2:$B$1969), 0),0)),\"\")","v":"Telecommunications facility"},97,0,0,84,{"$f":"IFERROR(INDEX($O$2:$O$109,MATCH(SMALL($S$2:$S$109,ROWS(S$2:$S83)),$S$2:$S$109,0),1),\"\")","v":"Special industry"}]
["Mt Isa - Fully Serviced","Hotel - Accommodation component","Hotel","Accommodation (short-term)","RU_2","3 or more bedrooms",7335,{"$f":"INDEX(CHARGES,MATCH($D84&$F84,$AQ$2:$AQ$44&$AR$2:$AR$44,0),MATCH(H$1,$AS$1:$AX$1,0))","v":2054},{"$f":"INDEX(CHARGES,MATCH($D84&$F84,$AQ$2:$AQ$44&$AR$2:$AR$44,0),MATCH(I$1,$AS$1:$AX$1,0))","v":1320},{"$f":"INDEX(CHARGES,MATCH($D84&$F84,$AQ$2:$AQ$44&$AR$2:$AR$44,0),MATCH(J$1,$AS$1:$AX$1,0))","v":146},{"$f":"INDEX(CHARGES,MATCH($D84&$F84,$AQ$2:$AQ$44&$AR$2:$AR$44,0),MATCH(K$1,$AS$1:$AX$1,0))","v":3668},{"$f":"INDEX(CHARGES,MATCH($D84&$F84,$AQ$2:$AQ$44&$AR$2:$AR$44,0),MATCH(L$1,$AS$1:$AX$1,0))","v":147},null,null,{"$f":"IFERROR(INDEX($B$2:$B$1969, MATCH(0, INDEX(COUNTIF($O$1:O83,$B$2:$B$1969), 0),0)),\"\")","v":"Theatre"},98,0,0,85,{"$f":"IFERROR(INDEX($O$2:$O$109,MATCH(SMALL($S$2:$S$109,ROWS(S$2:$S84)),$S$2:$S$109,0),1),\"\")","v":"Substation"}]
["Mt Isa - Fully Serviced","Hotel - Entertainment component","Hotel","Entertainment","NR_1","Gross Floor Area",105,{"$f":"INDEX(CHARGES,MATCH($D85&$F85,$AQ$2:$AQ$44&$AR$2:$AR$44,0),MATCH(H$1,$AS$1:$AX$1,0))","v":22},{"$f":"INDEX(CHARGES,MATCH($D85&$F85,$AQ$2:$AQ$44&$AR$2:$AR$44,0),MATCH(I$1,$AS$1:$AX$1,0))","v":15},{"$f":"INDEX(CHARGES,MATCH($D85&$F85,$AQ$2:$AQ$44&$AR$2:$AR$44,0),MATCH(J$1,$AS$1:$AX$1,0))","v":0},{"$f":"INDEX(CHARGES,MATCH($D85&$F85,$AQ$2:$AQ$44&$AR$2:$AR$44,0),MATCH(K$1,$AS$1:$AX$1,0))","v":68},{"$f":"INDEX(CHARGES,MATCH($D85&$F85,$AQ$2:$AQ$44&$AR$2:$AR$44,0),MATCH(L$1,$AS$1:$AX$1,0))","v":0},null,null,{"$f":"IFERROR(INDEX($B$2:$B$1969, MATCH(0, INDEX(COUNTIF($O$1:O84,$B$2:$B$1969), 0),0)),\"\")","v":"Tourist attraction"},99,0,0,86,{"$f":"IFERROR(INDEX($O$2:$O$109,MATCH(SMALL($S$2:$S$109,ROWS(S$2:$S85)),$S$2:$S$109,0),1),\"\")","v":"Telecommunications facility"}]
["Mt Isa - Fully Serviced","Hotel - Entertainment component","Hotel","Entertainment","NR_1","Impervious Area",5,{"$f":"INDEX(CHARGES,MATCH($D86&$F86,$AQ$2:$AQ$44&$AR$2:$AR$44,0),MATCH(H$1,$AS$1:$AX$1,0))","v":0},{"$f":"INDEX(CHARGES,MATCH($D86&$F86,$AQ$2:$AQ$44&$AR$2:$AR$44,0),MATCH(I$1,$AS$1:$AX$1,0))","v":0},{"$f":"INDEX(CHARGES,MATCH($D86&$F86,$AQ$2:$AQ$44&$AR$2:$AR$44,0),MATCH(J$1,$AS$1:$AX$1,0))","v":5},{"$f":"INDEX(CHARGES,MATCH($D86&$F86,$AQ$2:$AQ$44&$AR$2:$AR$44,0),MATCH(K$1,$AS$1:$AX$1,0))","v":0},{"$f":"INDEX(CHARGES,MATCH($D86&$F86,$AQ$2:$AQ$44&$AR$2:$AR$44,0),MATCH(L$1,$AS$1:$AX$1,0))","v":0},null,null,{"$f":"IFERROR(INDEX($B$2:$B$1969, MATCH(0, INDEX(COUNTIF($O$1:O85,$B$2:$B$1969), 0),0)),\"\")","v":"Tourist park"},100,0,0,87,{"$f":"IFERROR(INDEX($O$2:$O$109,MATCH(SMALL($S$2:$S$109,ROWS(S$2:$S86)),$S$2:$S$109,0),1),\"\")","v":"Theatre"}]
["Mt Isa - Fully Serviced","Indoor sport and recreation","Indoor sport and recreation","Indoor sport and recreation","NR_2","Gross Floor Area - not court area",105,{"$f":"INDEX(CHARGES,MATCH($D87&$F87,$AQ$2:$AQ$44&$AR$2:$AR$44,0),MATCH(H$1,$AS$1:$AX$1,0))","v":22},{"$f":"INDEX(CHARGES,MATCH($D87&$F87,$AQ$2:$AQ$44&$AR$2:$AR$44,0),MATCH(I$1,$AS$1:$AX$1,0))","v":15},{"$f":"INDEX(CHARGES,MATCH($D87&$F87,$AQ$2:$AQ$44&$AR$2:$AR$44,0),MATCH(J$1,$AS$1:$AX$1,0))","v":0},{"$f":"INDEX(CHARGES,MATCH($D87&$F87,$AQ$2:$AQ$44&$AR$2:$AR$44,0),MATCH(K$1,$AS$1:$AX$1,0))","v":68},{"$f":"INDEX(CHARGES,MATCH($D87&$F87,$AQ$2:$AQ$44&$AR$2:$AR$44,0),MATCH(L$1,$AS$1:$AX$1,0))","v":0},null,null,{"$f":"IFERROR(INDEX($B$2:$B$1969, MATCH(0, INDEX(COUNTIF($O$1:O86,$B$2:$B$1969), 0),0)),\"\")","v":"Transport depot"},101,0,0,88,{"$f":"IFERROR(INDEX($O$2:$O$109,MATCH(SMALL($S$2:$S$109,ROWS(S$2:$S87)),$S$2:$S$109,0),1),\"\")","v":"Tourist attraction"}]
["Mt Isa - Fully Serviced","Indoor sport and recreation","Indoor sport and recreation","Indoor sport and recreation","NR_2","Gross Floor Area - court area",10,{"$f":"INDEX(CHARGES,MATCH($D88&$F88,$AQ$2:$AQ$44&$AR$2:$AR$44,0),MATCH(H$1,$AS$1:$AX$1,0))","v":2},{"$f":"INDEX(CHARGES,MATCH($D88&$F88,$AQ$2:$AQ$44&$AR$2:$AR$44,0),MATCH(I$1,$AS$1:$AX$1,0))","v":1},{"$f":"INDEX(CHARGES,MATCH($D88&$F88,$AQ$2:$AQ$44&$AR$2:$AR$44,0),MATCH(J$1,$AS$1:$AX$1,0))","v":0},{"$f":"INDEX(CHARGES,MATCH($D88&$F88,$AQ$2:$AQ$44&$AR$2:$AR$44,0),MATCH(K$1,$AS$1:$AX$1,0))","v":7},{"$f":"INDEX(CHARGES,MATCH($D88&$F88,$AQ$2:$AQ$44&$AR$2:$AR$44,0),MATCH(L$1,$AS$1:$AX$1,0))","v":0},null,null,{"$f":"IFERROR(INDEX($B$2:$B$1969, MATCH(0, INDEX(COUNTIF($O$1:O87,$B$2:$B$1969), 0),0)),\"\")","v":"Utility installation"},102,0,0,89,{"$f":"IFERROR(INDEX($O$2:$O$109,MATCH(SMALL($S$2:$S$109,ROWS(S$2:$S88)),$S$2:$S$109,0),1),\"\")","v":"Tourist park"}]
["Mt Isa - Fully Serviced","Indoor sport and recreation","Indoor sport and recreation","Indoor sport and recreation","NR_2","Impervious Area",5,{"$f":"INDEX(CHARGES,MATCH($D89&$F89,$AQ$2:$AQ$44&$AR$2:$AR$44,0),MATCH(H$1,$AS$1:$AX$1,0))","v":0},{"$f":"INDEX(CHARGES,MATCH($D89&$F89,$AQ$2:$AQ$44&$AR$2:$AR$44,0),MATCH(I$1,$AS$1:$AX$1,0))","v":0},{"$f":"INDEX(CHARGES,MATCH($D89&$F89,$AQ$2:$AQ$44&$AR$2:$AR$44,0),MATCH(J$1,$AS$1:$AX$1,0))","v":5},{"$f":"INDEX(CHARGES,MATCH($D89&$F89,$AQ$2:$AQ$44&$AR$2:$AR$44,0),MATCH(K$1,$AS$1:$AX$1,0))","v":0},{"$f":"INDEX(CHARGES,MATCH($D89&$F89,$AQ$2:$AQ$44&$AR$2:$AR$44,0),MATCH(L$1,$AS$1:$AX$1,0))","v":0},null,null,{"$f":"IFERROR(INDEX($B$2:$B$1969, MATCH(0, INDEX(COUNTIF($O$1:O88,$B$2:$B$1969), 0),0)),\"\")","v":"Veterinary services"},103,0,0,90,{"$f":"IFERROR(INDEX($O$2:$O$109,MATCH(SMALL($S$2:$S$109,ROWS(S$2:$S89)),$S$2:$S$109,0),1),\"\")","v":"Transport depot"}]
["Mt Isa - Fully Serviced","Intensive animal industry","Intensive animal industry","High impact rural","NR_3","Gross Floor Area",10,{"$f":"INDEX(CHARGES,MATCH($D90&$F90,$AQ$2:$AQ$44&$AR$2:$AR$44,0),MATCH(H$1,$AS$1:$AX$1,0))","v":2},{"$f":"INDEX(CHARGES,MATCH($D90&$F90,$AQ$2:$AQ$44&$AR$2:$AR$44,0),MATCH(I$1,$AS$1:$AX$1,0))","v":1},{"$f":"INDEX(CHARGES,MATCH($D90&$F90,$AQ$2:$AQ$44&$AR$2:$AR$44,0),MATCH(J$1,$AS$1:$AX$1,0))","v":0},{"$f":"INDEX(CHARGES,MATCH($D90&$F90,$AQ$2:$AQ$44&$AR$2:$AR$44,0),MATCH(K$1,$AS$1:$AX$1,0))","v":7},{"$f":"INDEX(CHARGES,MATCH($D90&$F90,$AQ$2:$AQ$44&$AR$2:$AR$44,0),MATCH(L$1,$AS$1:$AX$1,0))","v":0},null,null,{"$f":"IFERROR(INDEX($B$2:$B$1969, MATCH(0, INDEX(COUNTIF($O$1:O89,$B$2:$B$1969), 0),0)),\"\")","v":"Warehouse"},104,0,0,91,{"$f":"IFERROR(INDEX($O$2:$O$109,MATCH(SMALL($S$2:$S$109,ROWS(S$2:$S90)),$S$2:$S$109,0),1),\"\")","v":"Utility installation"}]
["Mt Isa - Fully Serviced","Intensive horticulture","Intensive horticulture","High impact rural","NR_3","Gross Floor Area",10,{"$f":"INDEX(CHARGES,MATCH($D91&$F91,$AQ$2:$AQ$44&$AR$2:$AR$44,0),MATCH(H$1,$AS$1:$AX$1,0))","v":2},{"$f":"INDEX(CHARGES,MATCH($D91&$F91,$AQ$2:$AQ$44&$AR$2:$AR$44,0),MATCH(I$1,$AS$1:$AX$1,0))","v":1},{"$f":"INDEX(CHARGES,MATCH($D91&$F91,$AQ$2:$AQ$44&$AR$2:$AR$44,0),MATCH(J$1,$AS$1:$AX$1,0))","v":0},{"$f":"INDEX(CHARGES,MATCH($D91&$F91,$AQ$2:$AQ$44&$AR$2:$AR$44,0),MATCH(K$1,$AS$1:$AX$1,0))","v":7},{"$f":"INDEX(CHARGES,MATCH($D91&$F91,$AQ$2:$AQ$44&$AR$2:$AR$44,0),MATCH(L$1,$AS$1:$AX$1,0))","v":0},null,null,{"$f":"IFERROR(INDEX($B$2:$B$1969, MATCH(0, INDEX(COUNTIF($O$1:O90,$B$2:$B$1969), 0),0)),\"\")","v":"Wholesale nursery"},{"$f":"COUNTIF($O$2:$O$109,\"<=\"&O91)","v":106},{"$f":"IF(O91=0,0,--ISNUMBER(O91))","v":0},{"$f":"IF(O91=0,1,IF(O91=\"\",1,0))","v":0},{"$f":"IF(IF(Q91=1,P91,IF(R91=1,P91,P91+$Q$110))-$P$110<0,\"\",IF(ISNUMBER(O91),P91,IF(R91=1,P91,P91+$Q$110))-$P$110)","v":93},{"$f":"IFERROR(INDEX($O$2:$O$109,MATCH(SMALL($S$2:$S$109,ROWS(S$2:$S91)),$S$2:$S$109,0),1),\"\")","v":"Veterinary services"}]
["Mt Isa - Fully Serviced","Landing","Landing","Minor uses","NR_3","Gross Floor Area",{"$f":"SUM(H92:L92)","v":0},{"$f":"INDEX(CHARGES,MATCH($D92&$F92,$AQ$2:$AQ$44&$AR$2:$AR$44,0),MATCH(H$1,$AS$1:$AX$1,0))","v":0},{"$f":"INDEX(CHARGES,MATCH($D92&$F92,$AQ$2:$AQ$44&$AR$2:$AR$44,0),MATCH(I$1,$AS$1:$AX$1,0))","v":0},{"$f":"INDEX(CHARGES,MATCH($D92&$F92,$AQ$2:$AQ$44&$AR$2:$AR$44,0),MATCH(J$1,$AS$1:$AX$1,0))","v":0},{"$f":"INDEX(CHARGES,MATCH($D92&$F92,$AQ$2:$AQ$44&$AR$2:$AR$44,0),MATCH(K$1,$AS$1:$AX$1,0))","v":0},{"$f":"INDEX(CHARGES,MATCH($D92&$F92,$AQ$2:$AQ$44&$AR$2:$AR$44,0),MATCH(L$1,$AS$1:$AX$1,0))","v":0},null,null,{"$f":"IFERROR(INDEX($B$2:$B$1969, MATCH(0, INDEX(COUNTIF($O$1:O91,$B$2:$B$1969), 0),0)),\"\")","v":"Winery"},107,0,0,94,{"$f":"IFERROR(INDEX($O$2:$O$109,MATCH(SMALL($S$2:$S$109,ROWS(S$2:$S92)),$S$2:$S$109,0),1),\"\")","v":"Warehouse"}]
["Mt Isa - Fully Serviced","Low impact industry","Low impact industry","Other industry","NR_1","Gross Floor Area",26,{"$f":"INDEX(CHARGES,MATCH($D93&$F93,$AQ$2:$AQ$44&$AR$2:$AR$44,0),MATCH(H$1,$AS$1:$AX$1,0))","v":5},{"$f":"INDEX(CHARGES,MATCH($D93&$F93,$AQ$2:$AQ$44&$AR$2:$AR$44,0),MATCH(I$1,$AS$1:$AX$1,0))","v":4},{"$f":"INDEX(CHARGES,MATCH($D93&$F93,$AQ$2:$AQ$44&$AR$2:$AR$44,0),MATCH(J$1,$AS$1:$AX$1,0))","v":0},{"$f":"INDEX(CHARGES,MATCH($D93&$F93,$AQ$2:$AQ$44&$AR$2:$AR$44,0),MATCH(K$1,$AS$1:$AX$1,0))","v":17},{"$f":"INDEX(CHARGES,MATCH($D93&$F93,$AQ$2:$AQ$44&$AR$2:$AR$44,0),MATCH(L$1,$AS$1:$AX$1,0))","v":0},null,null,{"$f":"IFERROR(INDEX($B$2:$B$1969, MATCH(0, INDEX(COUNTIF($O$1:O90,$B$2:$B$1969), 0),0)),\"\")","v":"Wholesale nursery"},106,0,0,93,{"$f":"IFERROR(INDEX($O$2:$O$109,MATCH(SMALL($S$2:$S$109,ROWS(S$2:$S93)),$S$2:$S$109,0),1),\"\")","v":"Wholesale nursery"}]
["Mt Isa - Fully Serviced","Low impact industry","Low impact industry","Other industry","NR_1","Impervious Area",5,{"$f":"INDEX(CHARGES,MATCH($D94&$F94,$AQ$2:$AQ$44&$AR$2:$AR$44,0),MATCH(H$1,$AS$1:$AX$1,0))","v":0},{"$f":"INDEX(CHARGES,MATCH($D94&$F94,$AQ$2:$AQ$44&$AR$2:$AR$44,0),MATCH(I$1,$AS$1:$AX$1,0))","v":0},{"$f":"INDEX(CHARGES,MATCH($D94&$F94,$AQ$2:$AQ$44&$AR$2:$AR$44,0),MATCH(J$1,$AS$1:$AX$1,0))","v":5},{"$f":"INDEX(CHARGES,MATCH($D94&$F94,$AQ$2:$AQ$44&$AR$2:$AR$44,0),MATCH(K$1,$AS$1:$AX$1,0))","v":0},{"$f":"INDEX(CHARGES,MATCH($D94&$F94,$AQ$2:$AQ$44&$AR$2:$AR$44,0),MATCH(L$1,$AS$1:$AX$1,0))","v":0},null,null,{"$f":"IFERROR(INDEX($B$2:$B$1969, MATCH(0, INDEX(COUNTIF($O$1:O93,$B$2:$B$1969), 0),0)),\"\")","v":"Reconfiguring a lot - Residential"},{"$f":"COUNTIF($O$2:$O$109,\"<=\"&O94)","v":76},{"$f":"IF(O94=0,0,--ISNUMBER(O94))","v":0},{"$f":"IF(O94=0,1,IF(O94=\"\",1,0))","v":0},63,{"$f":"IFERROR(INDEX($O$2:$O$109,MATCH(SMALL($S$2:$S$109,ROWS(S$2:$S94)),$S$2:$S$109,0),1),\"\")","v":"Wholesale nursery"}]
["Mt Isa - Fully Serviced","Major electricity infrastructure","Utility installation","Other uses","NR_1","Gross Floor Area",0,{"$f":"INDEX(CHARGES,MATCH($D95&$F95,$AQ$2:$AQ$44&$AR$2:$AR$44,0),MATCH(H$1,$AS$1:$AX$1,0))","v":0},{"$f":"INDEX(CHARGES,MATCH($D95&$F95,$AQ$2:$AQ$44&$AR$2:$AR$44,0),MATCH(I$1,$AS$1:$AX$1,0))","v":0},{"$f":"INDEX(CHARGES,MATCH($D95&$F95,$AQ$2:$AQ$44&$AR$2:$AR$44,0),MATCH(J$1,$AS$1:$AX$1,0))","v":0},{"$f":"INDEX(CHARGES,MATCH($D95&$F95,$AQ$2:$AQ$44&$AR$2:$AR$44,0),MATCH(K$1,$AS$1:$AX$1,0))","v":0},{"$f":"INDEX(CHARGES,MATCH($D95&$F95,$AQ$2:$AQ$44&$AR$2:$AR$44,0),MATCH(L$1,$AS$1:$AX$1,0))","v":0},null,null,{"$f":"IFERROR(INDEX($B$2:$B$1969, MATCH(0, INDEX(COUNTIF($O$1:O94,$B$2:$B$1969), 0),0)),\"\")","v":"Reconfiguring a lot - Non residential"},75,0,0,62,{"$f":"IFERROR(INDEX($O$2:$O$109,MATCH(SMALL($S$2:$S$109,ROWS(S$2:$S95)),$S$2:$S$109,0),1),\"\")","v":"Winery"}]
["Mt Isa - Fully Serviced","Major electricity infrastructure","Utility installation","Other uses","NR_1","Impervious Area",0,{"$f":"INDEX(CHARGES,MATCH($D96&$F96,$AQ$2:$AQ$44&$AR$2:$AR$44,0),MATCH(H$1,$AS$1:$AX$1,0))","v":0},{"$f":"INDEX(CHARGES,MATCH($D96&$F96,$AQ$2:$AQ$44&$AR$2:$AR$44,0),MATCH(I$1,$AS$1:$AX$1,0))","v":0},{"$f":"INDEX(CHARGES,MATCH($D96&$F96,$AQ$2:$AQ$44&$AR$2:$AR$44,0),MATCH(J$1,$AS$1:$AX$1,0))","v":0},{"$f":"INDEX(CHARGES,MATCH($D96&$F96,$AQ$2:$AQ$44&$AR$2:$AR$44,0),MATCH(K$1,$AS$1:$AX$1,0))","v":0},{"$f":"INDEX(CHARGES,MATCH($D96&$F96,$AQ$2:$AQ$44&$AR$2:$AR$44,0),MATCH(L$1,$AS$1:$AX$1,0))","v":0},null,null,{"$f":"IFERROR(INDEX($B$2:$B$1969, MATCH(0, INDEX(COUNTIF($O$1:O95,$B$2:$B$1969), 0),0)),\"\")","v":0},1,0,1,"",{"$f":"IFERROR(INDEX($O$2:$O$109,MATCH(SMALL($S$2:$S$109,ROWS(S$2:$S96)),$S$2:$S$109,0),1),\"\")","v":""}]
["Mt Isa - Fully Serviced","Major sport, recreation and entertainment facility","Major sport, recreation and entertainment facility","Other uses","NR_1","Gross Floor Area",0,{"$f":"INDEX(CHARGES,MATCH($D97&$F97,$AQ$2:$AQ$44&$AR$2:$AR$44,0),MATCH(H$1,$AS$1:$AX$1,0))","v":0},{"$f":"INDEX(CHARGES,MATCH($D97&$F97,$AQ$2:$AQ$44&$AR$2:$AR$44,0),MATCH(I$1,$AS$1:$AX$1,0))","v":0},{"$f":"INDEX(CHARGES,MATCH($D97&$F97,$AQ$2:$AQ$44&$AR$2:$AR$44,0),MATCH(J$1,$AS$1:$AX$1,0))","v":0},{"$f":"INDEX(CHARGES,MATCH($D97&$F97,$AQ$2:$AQ$44&$AR$2:$AR$44,0),MATCH(K$1,$AS$1:$AX$1,0))","v":0},{"$f":"INDEX(CHARGES,MATCH($D97&$F97,$AQ$2:$AQ$44&$AR$2:$AR$44,0),MATCH(L$1,$AS$1:$AX$1,0))","v":0},null,null,{"$f":"IFERROR(INDEX($B$2:$B$1969, MATCH(0, INDEX(COUNTIF($O$1:O96,$B$2:$B$1969), 0),0)),\"\")","v":""},0,0,1,"",{"$f":"IFERROR(INDEX($O$2:$O$109,MATCH(SMALL($S$2:$S$109,ROWS(S$2:$S97)),$S$2:$S$109,0),1),\"\")","v":""}]
["Mt Isa - Fully Serviced","Major sport, recreation and entertainment facility","Major sport, recreation and entertainment facility","Other uses","NR_1","Impervious Area",0,{"$f":"INDEX(CHARGES,MATCH($D98&$F98,$AQ$2:$AQ$44&$AR$2:$AR$44,0),MATCH(H$1,$AS$1:$AX$1,0))","v":0},{"$f":"INDEX(CHARGES,MATCH($D98&$F98,$AQ$2:$AQ$44&$AR$2:$AR$44,0),MATCH(I$1,$AS$1:$AX$1,0))","v":0},{"$f":"INDEX(CHARGES,MATCH($D98&$F98,$AQ$2:$AQ$44&$AR$2:$AR$44,0),MATCH(J$1,$AS$1:$AX$1,0))","v":0},{"$f":"INDEX(CHARGES,MATCH($D98&$F98,$AQ$2:$AQ$44&$AR$2:$AR$44,0),MATCH(K$1,$AS$1:$AX$1,0))","v":0},{"$f":"INDEX(CHARGES,MATCH($D98&$F98,$AQ$2:$AQ$44&$AR$2:$AR$44,0),MATCH(L$1,$AS$1:$AX$1,0))","v":0},null,null,{"$f":"IFERROR(INDEX($B$2:$B$1969, MATCH(0, INDEX(COUNTIF($O$1:O97,$B$2:$B$1969), 0),0)),\"\")","v":""},0,0,1,"",{"$f":"IFERROR(INDEX($O$2:$O$109,MATCH(SMALL($S$2:$S$109,ROWS(S$2:$S98)),$S$2:$S$109,0),1),\"\")","v":""}]
["Mt Isa - Fully Serviced","Marine industry","Marine industry","Other industry","NR_1","Gross Floor Area",26,{"$f":"INDEX(CHARGES,MATCH($D99&$F99,$AQ$2:$AQ$44&$AR$2:$AR$44,0),MATCH(H$1,$AS$1:$AX$1,0))","v":5},{"$f":"INDEX(CHARGES,MATCH($D99&$F99,$AQ$2:$AQ$44&$AR$2:$AR$44,0),MATCH(I$1,$AS$1:$AX$1,0))","v":4},{"$f":"INDEX(CHARGES,MATCH($D99&$F99,$AQ$2:$AQ$44&$AR$2:$AR$44,0),MATCH(J$1,$AS$1:$AX$1,0))","v":0},{"$f":"INDEX(CHARGES,MATCH($D99&$F99,$AQ$2:$AQ$44&$AR$2:$AR$44,0),MATCH(K$1,$AS$1:$AX$1,0))","v":17},{"$f":"INDEX(CHARGES,MATCH($D99&$F99,$AQ$2:$AQ$44&$AR$2:$AR$44,0),MATCH(L$1,$AS$1:$AX$1,0))","v":0},null,null,{"$f":"IFERROR(INDEX($B$2:$B$1969, MATCH(0, INDEX(COUNTIF($O$1:O98,$B$2:$B$1969), 0),0)),\"\")","v":""},0,0,1,"",{"$f":"IFERROR(INDEX($O$2:$O$109,MATCH(SMALL($S$2:$S$109,ROWS(S$2:$S99)),$S$2:$S$109,0),1),\"\")","v":""}]
["Mt Isa - Fully Serviced","Marine industry","Marine industry","Other industry","NR_1","Impervious Area",5,{"$f":"INDEX(CHARGES,MATCH($D100&$F100,$AQ$2:$AQ$44&$AR$2:$AR$44,0),MATCH(H$1,$AS$1:$AX$1,0))","v":0},{"$f":"INDEX(CHARGES,MATCH($D100&$F100,$AQ$2:$AQ$44&$AR$2:$AR$44,0),MATCH(I$1,$AS$1:$AX$1,0))","v":0},{"$f":"INDEX(CHARGES,MATCH($D100&$F100,$AQ$2:$AQ$44&$AR$2:$AR$44,0),MATCH(J$1,$AS$1:$AX$1,0))","v":5},{"$f":"INDEX(CHARGES,MATCH($D100&$F100,$AQ$2:$AQ$44&$AR$2:$AR$44,0),MATCH(K$1,$AS$1:$AX$1,0))","v":0},{"$f":"INDEX(CHARGES,MATCH($D100&$F100,$AQ$2:$AQ$44&$AR$2:$AR$44,0),MATCH(L$1,$AS$1:$AX$1,0))","v":0},null,null,{"$f":"IFERROR(INDEX($B$2:$B$1969, MATCH(0, INDEX(COUNTIF($O$1:O99,$B$2:$B$1969), 0),0)),\"\")","v":""},0,0,1,"",{"$f":"IFERROR(INDEX($O$2:$O$109,MATCH(SMALL($S$2:$S$109,ROWS(S$2:$S100)),$S$2:$S$109,0),1),\"\")","v":""}]
["Mt Isa - Fully Serviced","Market","Market","Minor uses","NR_3","Gross Floor Area",0,{"$f":"INDEX(CHARGES,MATCH($D101&$F101,$AQ$2:$AQ$44&$AR$2:$AR$44,0),MATCH(H$1,$AS$1:$AX$1,0))","v":0},{"$f":"INDEX(CHARGES,MATCH($D101&$F101,$AQ$2:$AQ$44&$AR$2:$AR$44,0),MATCH(I$1,$AS$1:$AX$1,0))","v":0},{"$f":"INDEX(CHARGES,MATCH($D101&$F101,$AQ$2:$AQ$44&$AR$2:$AR$44,0),MATCH(J$1,$AS$1:$AX$1,0))","v":0},{"$f":"INDEX(CHARGES,MATCH($D101&$F101,$AQ$2:$AQ$44&$AR$2:$AR$44,0),MATCH(K$1,$AS$1:$AX$1,0))","v":0},{"$f":"INDEX(CHARGES,MATCH($D101&$F101,$AQ$2:$AQ$44&$AR$2:$AR$44,0),MATCH(L$1,$AS$1:$AX$1,0))","v":0},null,null,{"$f":"IFERROR(INDEX($B$2:$B$1969, MATCH(0, INDEX(COUNTIF($O$1:O100,$B$2:$B$1969), 0),0)),\"\")","v":""},0,0,1,"",{"$f":"IFERROR(INDEX($O$2:$O$109,MATCH(SMALL($S$2:$S$109,ROWS(S$2:$S101)),$S$2:$S$109,0),1),\"\")","v":""}]
["Mt Isa - Fully Serviced","Medium impact industry","Medium impact industry","Other industry","NR_1","Gross Floor Area",26,{"$f":"INDEX(CHARGES,MATCH($D102&$F102,$AQ$2:$AQ$44&$AR$2:$AR$44,0),MATCH(H$1,$AS$1:$AX$1,0))","v":5},{"$f":"INDEX(CHARGES,MATCH($D102&$F102,$AQ$2:$AQ$44&$AR$2:$AR$44,0),MATCH(I$1,$AS$1:$AX$1,0))","v":4},{"$f":"INDEX(CHARGES,MATCH($D102&$F102,$AQ$2:$AQ$44&$AR$2:$AR$44,0),MATCH(J$1,$AS$1:$AX$1,0))","v":0},{"$f":"INDEX(CHARGES,MATCH($D102&$F102,$AQ$2:$AQ$44&$AR$2:$AR$44,0),MATCH(K$1,$AS$1:$AX$1,0))","v":17},{"$f":"INDEX(CHARGES,MATCH($D102&$F102,$AQ$2:$AQ$44&$AR$2:$AR$44,0),MATCH(L$1,$AS$1:$AX$1,0))","v":0},null,null,{"$f":"IFERROR(INDEX($B$2:$B$1969, MATCH(0, INDEX(COUNTIF($O$1:O101,$B$2:$B$1969), 0),0)),\"\")","v":""},0,0,1,"",{"$f":"IFERROR(INDEX($O$2:$O$109,MATCH(SMALL($S$2:$S$109,ROWS(S$2:$S102)),$S$2:$S$109,0),1),\"\")","v":""}]
["Mt Isa - Fully Serviced","Medium impact industry","Medium impact industry","Other industry","NR_1","Impervious Area",5,{"$f":"INDEX(CHARGES,MATCH($D103&$F103,$AQ$2:$AQ$44&$AR$2:$AR$44,0),MATCH(H$1,$AS$1:$AX$1,0))","v":0},{"$f":"INDEX(CHARGES,MATCH($D103&$F103,$AQ$2:$AQ$44&$AR$2:$AR$44,0),MATCH(I$1,$AS$1:$AX$1,0))","v":0},{"$f":"INDEX(CHARGES,MATCH($D103&$F103,$AQ$2:$AQ$44&$AR$2:$AR$44,0),MATCH(J$1,$AS$1:$AX$1,0))","v":5},{"$f":"INDEX(CHARGES,MATCH($D103&$F103,$AQ$2:$AQ$44&$AR$2:$AR$44,0),MATCH(K$1,$AS$1:$AX$1,0))","v":0},{"$f":"INDEX(CHARGES,MATCH($D103&$F103,$AQ$2:$AQ$44&$AR$2:$AR$44,0),MATCH(L$1,$AS$1:$AX$1,0))","v":0},null,null,{"$f":"IFERROR(INDEX($B$2:$B$1969, MATCH(0, INDEX(COUNTIF($O$1:O102,$B$2:$B$1969), 0),0)),\"\")","v":""},0,0,1,"",{"$f":"IFERROR(INDEX($O$2:$O$109,MATCH(SMALL($S$2:$S$109,ROWS(S$2:$S103)),$S$2:$S$109,0),1),\"\")","v":""}]
["Mt Isa - Fully Serviced","Motor sport facility","Motor sport facility","Other uses","NR_1","Gross Floor Area",0,{"$f":"INDEX(CHARGES,MATCH($D104&$F104,$AQ$2:$AQ$44&$AR$2:$AR$44,0),MATCH(H$1,$AS$1:$AX$1,0))","v":0},{"$f":"INDEX(CHARGES,MATCH($D104&$F104,$AQ$2:$AQ$44&$AR$2:$AR$44,0),MATCH(I$1,$AS$1:$AX$1,0))","v":0},{"$f":"INDEX(CHARGES,MATCH($D104&$F104,$AQ$2:$AQ$44&$AR$2:$AR$44,0),MATCH(J$1,$AS$1:$AX$1,0))","v":0},{"$f":"INDEX(CHARGES,MATCH($D104&$F104,$AQ$2:$AQ$44&$AR$2:$AR$44,0),MATCH(K$1,$AS$1:$AX$1,0))","v":0},{"$f":"INDEX(CHARGES,MATCH($D104&$F104,$AQ$2:$AQ$44&$AR$2:$AR$44,0),MATCH(L$1,$AS$1:$AX$1,0))","v":0},null,null,{"$f":"IFERROR(INDEX($B$2:$B$1969, MATCH(0, INDEX(COUNTIF($O$1:O103,$B$2:$B$1969), 0),0)),\"\")","v":""},0,0,1,"",{"$f":"IFERROR(INDEX($O$2:$O$109,MATCH(SMALL($S$2:$S$109,ROWS(S$2:$S104)),$S$2:$S$109,0),1),\"\")","v":""}]
["Mt Isa - Fully Serviced","Motor sport facility","Motor sport facility","Other uses","NR_1","Impervious Area",0,{"$f":"INDEX(CHARGES,MATCH($D105&$F105,$AQ$2:$AQ$44&$AR$2:$AR$44,0),MATCH(H$1,$AS$1:$AX$1,0))","v":0},{"$f":"INDEX(CHARGES,MATCH($D105&$F105,$AQ$2:$AQ$44&$AR$2:$AR$44,0),MATCH(I$1,$AS$1:$AX$1,0))","v":0},{"$f":"INDEX(CHARGES,MATCH($D105&$F105,$AQ$2:$AQ$44&$AR$2:$AR$44,0),MATCH(J$1,$AS$1:$AX$1,0))","v":0},{"$f":"INDEX(CHARGES,MATCH($D105&$F105,$AQ$2:$AQ$44&$AR$2:$AR$44,0),MATCH(K$1,$AS$1:$AX$1,0))","v":0},{"$f":"INDEX(CHARGES,MATCH($D105&$F105,$AQ$2:$AQ$44&$AR$2:$AR$44,0),MATCH(L$1,$AS$1:$AX$1,0))","v":0},null,null,{"$f":"IFERROR(INDEX($B$2:$B$1969, MATCH(0, INDEX(COUNTIF($O$1:O104,$B$2:$B$1969), 0),0)),\"\")","v":""},0,0,1,"",{"$f":"IFERROR(INDEX($O$2:$O$109,MATCH(SMALL($S$2:$S$109,ROWS(S$2:$S105)),$S$2:$S$109,0),1),\"\")","v":""}]
["Mt Isa - Fully Serviced","Multiple dwelling","Multiple dwelling","Residential uses","RU_1","2 or less bedrooms",10478,{"$f":"INDEX(CHARGES,MATCH($D106&$F106,$AQ$2:$AQ$44&$AR$2:$AR$44,0),MATCH(H$1,$AS$1:$AX$1,0))","v":2934},{"$f":"INDEX(CHARGES,MATCH($D106&$F106,$AQ$2:$AQ$44&$AR$2:$AR$44,0),MATCH(I$1,$AS$1:$AX$1,0))","v":1886},{"$f":"INDEX(CHARGES,MATCH($D106&$F106,$AQ$2:$AQ$44&$AR$2:$AR$44,0),MATCH(J$1,$AS$1:$AX$1,0))","v":209},{"$f":"INDEX(CHARGES,MATCH($D106&$F106,$AQ$2:$AQ$44&$AR$2:$AR$44,0),MATCH(K$1,$AS$1:$AX$1,0))","v":5239},{"$f":"INDEX(CHARGES,MATCH($D106&$F106,$AQ$2:$AQ$44&$AR$2:$AR$44,0),MATCH(L$1,$AS$1:$AX$1,0))","v":210},null,null,{"$f":"IFERROR(INDEX($B$2:$B$1969, MATCH(0, INDEX(COUNTIF($O$1:O105,$B$2:$B$1969), 0),0)),\"\")","v":""},0,0,1,"",{"$f":"IFERROR(INDEX($O$2:$O$109,MATCH(SMALL($S$2:$S$109,ROWS(S$2:$S106)),$S$2:$S$109,0),1),\"\")","v":""}]
["Mt Isa - Fully Serviced","Multiple dwelling","Multiple dwelling","Residential uses","RU_1","3 or more bedrooms",14670,{"$f":"INDEX(CHARGES,MATCH($D107&$F107,$AQ$2:$AQ$44&$AR$2:$AR$44,0),MATCH(H$1,$AS$1:$AX$1,0))","v":4108},{"$f":"INDEX(CHARGES,MATCH($D107&$F107,$AQ$2:$AQ$44&$AR$2:$AR$44,0),MATCH(I$1,$AS$1:$AX$1,0))","v":2641},{"$f":"INDEX(CHARGES,MATCH($D107&$F107,$AQ$2:$AQ$44&$AR$2:$AR$44,0),MATCH(J$1,$AS$1:$AX$1,0))","v":293},{"$f":"INDEX(CHARGES,MATCH($D107&$F107,$AQ$2:$AQ$44&$AR$2:$AR$44,0),MATCH(K$1,$AS$1:$AX$1,0))","v":7335},{"$f":"INDEX(CHARGES,MATCH($D107&$F107,$AQ$2:$AQ$44&$AR$2:$AR$44,0),MATCH(L$1,$AS$1:$AX$1,0))","v":293},null,null,{"$f":"IFERROR(INDEX($B$2:$B$1969, MATCH(0, INDEX(COUNTIF($O$1:O106,$B$2:$B$1969), 0),0)),\"\")","v":""},0,0,1,"",{"$f":"IFERROR(INDEX($O$2:$O$109,MATCH(SMALL($S$2:$S$109,ROWS(S$2:$S107)),$S$2:$S$109,0),1),\"\")","v":""}]
["Mt Isa - Fully Serviced","Nature-based tourism",null,"Other uses","NR_1","Gross Floor Area",0,{"$f":"INDEX(CHARGES,MATCH($D108&$F108,$AQ$2:$AQ$44&$AR$2:$AR$44,0),MATCH(H$1,$AS$1:$AX$1,0))","v":0},{"$f":"INDEX(CHARGES,MATCH($D108&$F108,$AQ$2:$AQ$44&$AR$2:$AR$44,0),MATCH(I$1,$AS$1:$AX$1,0))","v":0},{"$f":"INDEX(CHARGES,MATCH($D108&$F108,$AQ$2:$AQ$44&$AR$2:$AR$44,0),MATCH(J$1,$AS$1:$AX$1,0))","v":0},{"$f":"INDEX(CHARGES,MATCH($D108&$F108,$AQ$2:$AQ$44&$AR$2:$AR$44,0),MATCH(K$1,$AS$1:$AX$1,0))","v":0},{"$f":"INDEX(CHARGES,MATCH($D108&$F108,$AQ$2:$AQ$44&$AR$2:$AR$44,0),MATCH(L$1,$AS$1:$AX$1,0))","v":0},null,null,{"$f":"IFERROR(INDEX($B$2:$B$1969, MATCH(0, INDEX(COUNTIF($O$1:O107,$B$2:$B$1969), 0),0)),\"\")","v":""},0,0,1,"",{"$f":"IFERROR(INDEX($O$2:$O$109,MATCH(SMALL($S$2:$S$109,ROWS(S$2:$S108)),$S$2:$S$109,0),1),\"\")","v":""}]
["Mt Isa - Fully Serviced","Nature-based tourism",null,"Other uses","NR_1","Impervious Area",0,{"$f":"INDEX(CHARGES,MATCH($D109&$F109,$AQ$2:$AQ$44&$AR$2:$AR$44,0),MATCH(H$1,$AS$1:$AX$1,0))","v":0},{"$f":"INDEX(CHARGES,MATCH($D109&$F109,$AQ$2:$AQ$44&$AR$2:$AR$44,0),MATCH(I$1,$AS$1:$AX$1,0))","v":0},{"$f":"INDEX(CHARGES,MATCH($D109&$F109,$AQ$2:$AQ$44&$AR$2:$AR$44,0),MATCH(J$1,$AS$1:$AX$1,0))","v":0},{"$f":"INDEX(CHARGES,MATCH($D109&$F109,$AQ$2:$AQ$44&$AR$2:$AR$44,0),MATCH(K$1,$AS$1:$AX$1,0))","v":0},{"$f":"INDEX(CHARGES,MATCH($D109&$F109,$AQ$2:$AQ$44&$AR$2:$AR$44,0),MATCH(L$1,$AS$1:$AX$1,0))","v":0},null,null,{"$f":"IFERROR(INDEX($B$2:$B$1969, MATCH(0, INDEX(COUNTIF($O$1:O108,$B$2:$B$1969), 0),0)),\"\")","v":""},0,0,1,"",{"$f":"IFERROR(INDEX($O$2:$O$109,MATCH(SMALL($S$2:$S$109,ROWS(S$2:$S109)),$S$2:$S$109,0),1),\"\")","v":""}]
["Mt Isa - Fully Serviced","Nightclub entertainment facility","Nightclub entertainment facility","Entertainment","NR_1","Gross Floor Area",105,{"$f":"INDEX(CHARGES,MATCH($D110&$F110,$AQ$2:$AQ$44&$AR$2:$AR$44,0),MATCH(H$1,$AS$1:$AX$1,0))","v":22},{"$f":"INDEX(CHARGES,MATCH($D110&$F110,$AQ$2:$AQ$44&$AR$2:$AR$44,0),MATCH(I$1,$AS$1:$AX$1,0))","v":15},{"$f":"INDEX(CHARGES,MATCH($D110&$F110,$AQ$2:$AQ$44&$AR$2:$AR$44,0),MATCH(J$1,$AS$1:$AX$1,0))","v":0},{"$f":"INDEX(CHARGES,MATCH($D110&$F110,$AQ$2:$AQ$44&$AR$2:$AR$44,0),MATCH(K$1,$AS$1:$AX$1,0))","v":68},{"$f":"INDEX(CHARGES,MATCH($D110&$F110,$AQ$2:$AQ$44&$AR$2:$AR$44,0),MATCH(L$1,$AS$1:$AX$1,0))","v":0},null,null,null,{"$f":"COUNTIF(P2:P109,0)","v":13},{"$f":"SUM(Q2:Q109)","v":0},{"$f":"SUM(R2:R109)","v":14}]
["Mt Isa - Fully Serviced","Nightclub entertainment facility","Nightclub entertainment facility","Entertainment","NR_1","Impervious Area",5,{"$f":"INDEX(CHARGES,MATCH($D111&$F111,$AQ$2:$AQ$44&$AR$2:$AR$44,0),MATCH(H$1,$AS$1:$AX$1,0))","v":0},{"$f":"INDEX(CHARGES,MATCH($D111&$F111,$AQ$2:$AQ$44&$AR$2:$AR$44,0),MATCH(I$1,$AS$1:$AX$1,0))","v":0},{"$f":"INDEX(CHARGES,MATCH($D111&$F111,$AQ$2:$AQ$44&$AR$2:$AR$44,0),MATCH(J$1,$AS$1:$AX$1,0))","v":5},{"$f":"INDEX(CHARGES,MATCH($D111&$F111,$AQ$2:$AQ$44&$AR$2:$AR$44,0),MATCH(K$1,$AS$1:$AX$1,0))","v":0},{"$f":"INDEX(CHARGES,MATCH($D111&$F111,$AQ$2:$AQ$44&$AR$2:$AR$44,0),MATCH(L$1,$AS$1:$AX$1,0))","v":0}]
["Mt Isa - Fully Serviced","Non-resident workforce accommodation","Short-term accommodation","Accommodation (short-term)","RU_2","bedroom that is not part of a suite",5239,{"$f":"INDEX(CHARGES,MATCH($D112&$F112,$AQ$2:$AQ$44&$AR$2:$AR$44,0),MATCH(H$1,$AS$1:$AX$1,0))","v":1467},{"$f":"INDEX(CHARGES,MATCH($D112&$F112,$AQ$2:$AQ$44&$AR$2:$AR$44,0),MATCH(I$1,$AS$1:$AX$1,0))","v":943},{"$f":"INDEX(CHARGES,MATCH($D112&$F112,$AQ$2:$AQ$44&$AR$2:$AR$44,0),MATCH(J$1,$AS$1:$AX$1,0))","v":104},{"$f":"INDEX(CHARGES,MATCH($D112&$F112,$AQ$2:$AQ$44&$AR$2:$AR$44,0),MATCH(K$1,$AS$1:$AX$1,0))","v":2620},{"$f":"INDEX(CHARGES,MATCH($D112&$F112,$AQ$2:$AQ$44&$AR$2:$AR$44,0),MATCH(L$1,$AS$1:$AX$1,0))","v":105}]
["Mt Isa - Fully Serviced","Non-resident workforce accommodation","Short-term accommodation","Accommodation (short-term)","RU_2","2 or less bedrooms",5239,{"$f":"INDEX(CHARGES,MATCH($D113&$F113,$AQ$2:$AQ$44&$AR$2:$AR$44,0),MATCH(H$1,$AS$1:$AX$1,0))","v":1467},{"$f":"INDEX(CHARGES,MATCH($D113&$F113,$AQ$2:$AQ$44&$AR$2:$AR$44,0),MATCH(I$1,$AS$1:$AX$1,0))","v":943},{"$f":"INDEX(CHARGES,MATCH($D113&$F113,$AQ$2:$AQ$44&$AR$2:$AR$44,0),MATCH(J$1,$AS$1:$AX$1,0))","v":104},{"$f":"INDEX(CHARGES,MATCH($D113&$F113,$AQ$2:$AQ$44&$AR$2:$AR$44,0),MATCH(K$1,$AS$1:$AX$1,0))","v":2620},{"$f":"INDEX(CHARGES,MATCH($D113&$F113,$AQ$2:$AQ$44&$AR$2:$AR$44,0),MATCH(L$1,$AS$1:$AX$1,0))","v":105}]
["Mt Isa - Fully Serviced","Non-resident workforce accommodation","Short-term accommodation","Accommodation (short-term)","RU_2","3 or more bedrooms",7335,{"$f":"INDEX(CHARGES,MATCH($D114&$F114,$AQ$2:$AQ$44&$AR$2:$AR$44,0),MATCH(H$1,$AS$1:$AX$1,0))","v":2054},{"$f":"INDEX(CHARGES,MATCH($D114&$F114,$AQ$2:$AQ$44&$AR$2:$AR$44,0),MATCH(I$1,$AS$1:$AX$1,0))","v":1320},{"$f":"INDEX(CHARGES,MATCH($D114&$F114,$AQ$2:$AQ$44&$AR$2:$AR$44,0),MATCH(J$1,$AS$1:$AX$1,0))","v":146},{"$f":"INDEX(CHARGES,MATCH($D114&$F114,$AQ$2:$AQ$44&$AR$2:$AR$44,0),MATCH(K$1,$AS$1:$AX$1,0))","v":3668},{"$f":"INDEX(CHARGES,MATCH($D114&$F114,$AQ$2:$AQ$44&$AR$2:$AR$44,0),MATCH(L$1,$AS$1:$AX$1,0))","v":147}]
["Mt Isa - Fully Serviced","Place of worship","Place of worship","Places of assembly","NR_1","Gross Floor Area",37,{"$f":"INDEX(CHARGES,MATCH($D115&$F115,$AQ$2:$AQ$44&$AR$2:$AR$44,0),MATCH(H$1,$AS$1:$AX$1,0))","v":8},{"$f":"INDEX(CHARGES,MATCH($D115&$F115,$AQ$2:$AQ$44&$AR$2:$AR$44,0),MATCH(I$1,$AS$1:$AX$1,0))","v":5},{"$f":"INDEX(CHARGES,MATCH($D115&$F115,$AQ$2:$AQ$44&$AR$2:$AR$44,0),MATCH(J$1,$AS$1:$AX$1,0))","v":0},{"$f":"INDEX(CHARGES,MATCH($D115&$F115,$AQ$2:$AQ$44&$AR$2:$AR$44,0),MATCH(K$1,$AS$1:$AX$1,0))","v":24},{"$f":"INDEX(CHARGES,MATCH($D115&$F115,$AQ$2:$AQ$44&$AR$2:$AR$44,0),MATCH(L$1,$AS$1:$AX$1,0))","v":0}]
["Mt Isa - Fully Serviced","Place of worship","Place of worship","Places of assembly","NR_1","Impervious Area",5,{"$f":"INDEX(CHARGES,MATCH($D116&$F116,$AQ$2:$AQ$44&$AR$2:$AR$44,0),MATCH(H$1,$AS$1:$AX$1,0))","v":0},{"$f":"INDEX(CHARGES,MATCH($D116&$F116,$AQ$2:$AQ$44&$AR$2:$AR$44,0),MATCH(I$1,$AS$1:$AX$1,0))","v":0},{"$f":"INDEX(CHARGES,MATCH($D116&$F116,$AQ$2:$AQ$44&$AR$2:$AR$44,0),MATCH(J$1,$AS$1:$AX$1,0))","v":5},{"$f":"INDEX(CHARGES,MATCH($D116&$F116,$AQ$2:$AQ$44&$AR$2:$AR$44,0),MATCH(K$1,$AS$1:$AX$1,0))","v":0},{"$f":"INDEX(CHARGES,MATCH($D116&$F116,$AQ$2:$AQ$44&$AR$2:$AR$44,0),MATCH(L$1,$AS$1:$AX$1,0))","v":0}]
["Mt Isa - Fully Serviced","Port services","Port service","Other uses","NR_1","Gross Floor Area",0,{"$f":"INDEX(CHARGES,MATCH($D117&$F117,$AQ$2:$AQ$44&$AR$2:$AR$44,0),MATCH(H$1,$AS$1:$AX$1,0))","v":0},{"$f":"INDEX(CHARGES,MATCH($D117&$F117,$AQ$2:$AQ$44&$AR$2:$AR$44,0),MATCH(I$1,$AS$1:$AX$1,0))","v":0},{"$f":"INDEX(CHARGES,MATCH($D117&$F117,$AQ$2:$AQ$44&$AR$2:$AR$44,0),MATCH(J$1,$AS$1:$AX$1,0))","v":0},{"$f":"INDEX(CHARGES,MATCH($D117&$F117,$AQ$2:$AQ$44&$AR$2:$AR$44,0),MATCH(K$1,$AS$1:$AX$1,0))","v":0},{"$f":"INDEX(CHARGES,MATCH($D117&$F117,$AQ$2:$AQ$44&$AR$2:$AR$44,0),MATCH(L$1,$AS$1:$AX$1,0))","v":0}]
["Mt Isa - Fully Serviced","Port services","Port service","Other uses","NR_1","Impervious Area",0,{"$f":"INDEX(CHARGES,MATCH($D118&$F118,$AQ$2:$AQ$44&$AR$2:$AR$44,0),MATCH(H$1,$AS$1:$AX$1,0))","v":0},{"$f":"INDEX(CHARGES,MATCH($D118&$F118,$AQ$2:$AQ$44&$AR$2:$AR$44,0),MATCH(I$1,$AS$1:$AX$1,0))","v":0},{"$f":"INDEX(CHARGES,MATCH($D118&$F118,$AQ$2:$AQ$44&$AR$2:$AR$44,0),MATCH(J$1,$AS$1:$AX$1,0))","v":0},{"$f":"INDEX(CHARGES,MATCH($D118&$F118,$AQ$2:$AQ$44&$AR$2:$AR$44,0),MATCH(K$1,$AS$1:$AX$1,0))","v":0},{"$f":"INDEX(CHARGES,MATCH($D118&$F118,$AQ$2:$AQ$44&$AR$2:$AR$44,0),MATCH(L$1,$AS$1:$AX$1,0))","v":0}]
["Mt Isa - Fully Serviced","Relocatable home park","Relocatable home park","Accommodation (long-term)","RU_1","2 or less bedrooms",10478,{"$f":"INDEX(CHARGES,MATCH($D119&$F119,$AQ$2:$AQ$44&$AR$2:$AR$44,0),MATCH(H$1,$AS$1:$AX$1,0))","v":2934},{"$f":"INDEX(CHARGES,MATCH($D119&$F119,$AQ$2:$AQ$44&$AR$2:$AR$44,0),MATCH(I$1,$AS$1:$AX$1,0))","v":1886},{"$f":"INDEX(CHARGES,MATCH($D119&$F119,$AQ$2:$AQ$44&$AR$2:$AR$44,0),MATCH(J$1,$AS$1:$AX$1,0))","v":209},{"$f":"INDEX(CHARGES,MATCH($D119&$F119,$AQ$2:$AQ$44&$AR$2:$AR$44,0),MATCH(K$1,$AS$1:$AX$1,0))","v":5239},{"$f":"INDEX(CHARGES,MATCH($D119&$F119,$AQ$2:$AQ$44&$AR$2:$AR$44,0),MATCH(L$1,$AS$1:$AX$1,0))","v":210}]
["Mt Isa - Fully Serviced","Relocatable home park","Relocatable home park","Accommodation (long-term)","RU_1","3 or more bedrooms",14670,{"$f":"INDEX(CHARGES,MATCH($D120&$F120,$AQ$2:$AQ$44&$AR$2:$AR$44,0),MATCH(H$1,$AS$1:$AX$1,0))","v":4108},{"$f":"INDEX(CHARGES,MATCH($D120&$F120,$AQ$2:$AQ$44&$AR$2:$AR$44,0),MATCH(I$1,$AS$1:$AX$1,0))","v":2641},{"$f":"INDEX(CHARGES,MATCH($D120&$F120,$AQ$2:$AQ$44&$AR$2:$AR$44,0),MATCH(J$1,$AS$1:$AX$1,0))","v":293},{"$f":"INDEX(CHARGES,MATCH($D120&$F120,$AQ$2:$AQ$44&$AR$2:$AR$44,0),MATCH(K$1,$AS$1:$AX$1,0))","v":7335},{"$f":"INDEX(CHARGES,MATCH($D120&$F120,$AQ$2:$AQ$44&$AR$2:$AR$44,0),MATCH(L$1,$AS$1:$AX$1,0))","v":293}]
["Mt Isa - Fully Serviced","Renewable energy facility",null,"Other uses","NR_1","Gross Floor Area",0,{"$f":"INDEX(CHARGES,MATCH($D121&$F121,$AQ$2:$AQ$44&$AR$2:$AR$44,0),MATCH(H$1,$AS$1:$AX$1,0))","v":0},{"$f":"INDEX(CHARGES,MATCH($D121&$F121,$AQ$2:$AQ$44&$AR$2:$AR$44,0),MATCH(I$1,$AS$1:$AX$1,0))","v":0},{"$f":"INDEX(CHARGES,MATCH($D121&$F121,$AQ$2:$AQ$44&$AR$2:$AR$44,0),MATCH(J$1,$AS$1:$AX$1,0))","v":0},{"$f":"INDEX(CHARGES,MATCH($D121&$F121,$AQ$2:$AQ$44&$AR$2:$AR$44,0),MATCH(K$1,$AS$1:$AX$1,0))","v":0},{"$f":"INDEX(CHARGES,MATCH($D121&$F121,$AQ$2:$AQ$44&$AR$2:$AR$44,0),MATCH(L$1,$AS$1:$AX$1,0))","v":0}]
["Mt Isa - Fully Serviced","Renewable energy facility",null,"Other uses","NR_1","Impervious Area",0,{"$f":"INDEX(CHARGES,MATCH($D122&$F122,$AQ$2:$AQ$44&$AR$2:$AR$44,0),MATCH(H$1,$AS$1:$AX$1,0))","v":0},{"$f":"INDEX(CHARGES,MATCH($D122&$F122,$AQ$2:$AQ$44&$AR$2:$AR$44,0),MATCH(I$1,$AS$1:$AX$1,0))","v":0},{"$f":"INDEX(CHARGES,MATCH($D122&$F122,$AQ$2:$AQ$44&$AR$2:$AR$44,0),MATCH(J$1,$AS$1:$AX$1,0))","v":0},{"$f":"INDEX(CHARGES,MATCH($D122&$F122,$AQ$2:$AQ$44&$AR$2:$AR$44,0),MATCH(K$1,$AS$1:$AX$1,0))","v":0},{"$f":"INDEX(CHARGES,MATCH($D122&$F122,$AQ$2:$AQ$44&$AR$2:$AR$44,0),MATCH(L$1,$AS$1:$AX$1,0))","v":0}]
["Mt Isa - Fully Serviced","Research and technology industry","Low impact industry","Other industry","NR_1","Gross Floor Area",26,{"$f":"INDEX(CHARGES,MATCH($D123&$F123,$AQ$2:$AQ$44&$AR$2:$AR$44,0),MATCH(H$1,$AS$1:$AX$1,0))","v":5},{"$f":"INDEX(CHARGES,MATCH($D123&$F123,$AQ$2:$AQ$44&$AR$2:$AR$44,0),MATCH(I$1,$AS$1:$AX$1,0))","v":4},{"$f":"INDEX(CHARGES,MATCH($D123&$F123,$AQ$2:$AQ$44&$AR$2:$AR$44,0),MATCH(J$1,$AS$1:$AX$1,0))","v":0},{"$f":"INDEX(CHARGES,MATCH($D123&$F123,$AQ$2:$AQ$44&$AR$2:$AR$44,0),MATCH(K$1,$AS$1:$AX$1,0))","v":17},{"$f":"INDEX(CHARGES,MATCH($D123&$F123,$AQ$2:$AQ$44&$AR$2:$AR$44,0),MATCH(L$1,$AS$1:$AX$1,0))","v":0}]
["Mt Isa - Fully Serviced","Research and technology industry","Low impact industry","Other industry","NR_1","Impervious Area",5,{"$f":"INDEX(CHARGES,MATCH($D124&$F124,$AQ$2:$AQ$44&$AR$2:$AR$44,0),MATCH(H$1,$AS$1:$AX$1,0))","v":0},{"$f":"INDEX(CHARGES,MATCH($D124&$F124,$AQ$2:$AQ$44&$AR$2:$AR$44,0),MATCH(I$1,$AS$1:$AX$1,0))","v":0},{"$f":"INDEX(CHARGES,MATCH($D124&$F124,$AQ$2:$AQ$44&$AR$2:$AR$44,0),MATCH(J$1,$AS$1:$AX$1,0))","v":5},{"$f":"INDEX(CHARGES,MATCH($D124&$F124,$AQ$2:$AQ$44&$AR$2:$AR$44,0),MATCH(K$1,$AS$1:$AX$1,0))","v":0},{"$f":"INDEX(CHARGES,MATCH($D124&$F124,$AQ$2:$AQ$44&$AR$2:$AR$44,0),MATCH(L$1,$AS$1:$AX$1,0))","v":0}]
["Mt Isa - Fully Serviced","Residential care facility","Short-term accommodation","Accommodation (short-term)","RU_2","bedroom that is not part of a suite",5239,{"$f":"INDEX(CHARGES,MATCH($D125&$F125,$AQ$2:$AQ$44&$AR$2:$AR$44,0),MATCH(H$1,$AS$1:$AX$1,0))","v":1467},{"$f":"INDEX(CHARGES,MATCH($D125&$F125,$AQ$2:$AQ$44&$AR$2:$AR$44,0),MATCH(I$1,$AS$1:$AX$1,0))","v":943},{"$f":"INDEX(CHARGES,MATCH($D125&$F125,$AQ$2:$AQ$44&$AR$2:$AR$44,0),MATCH(J$1,$AS$1:$AX$1,0))","v":104},{"$f":"INDEX(CHARGES,MATCH($D125&$F125,$AQ$2:$AQ$44&$AR$2:$AR$44,0),MATCH(K$1,$AS$1:$AX$1,0))","v":2620},{"$f":"INDEX(CHARGES,MATCH($D125&$F125,$AQ$2:$AQ$44&$AR$2:$AR$44,0),MATCH(L$1,$AS$1:$AX$1,0))","v":105}]
["Mt Isa - Fully Serviced","Residential care facility","Short-term accommodation","Accommodation (short-term)","RU_2","2 or less bedrooms",5239,{"$f":"INDEX(CHARGES,MATCH($D126&$F126,$AQ$2:$AQ$44&$AR$2:$AR$44,0),MATCH(H$1,$AS$1:$AX$1,0))","v":1467},{"$f":"INDEX(CHARGES,MATCH($D126&$F126,$AQ$2:$AQ$44&$AR$2:$AR$44,0),MATCH(I$1,$AS$1:$AX$1,0))","v":943},{"$f":"INDEX(CHARGES,MATCH($D126&$F126,$AQ$2:$AQ$44&$AR$2:$AR$44,0),MATCH(J$1,$AS$1:$AX$1,0))","v":104},{"$f":"INDEX(CHARGES,MATCH($D126&$F126,$AQ$2:$AQ$44&$AR$2:$AR$44,0),MATCH(K$1,$AS$1:$AX$1,0))","v":2620},{"$f":"INDEX(CHARGES,MATCH($D126&$F126,$AQ$2:$AQ$44&$AR$2:$AR$44,0),MATCH(L$1,$AS$1:$AX$1,0))","v":105}]
["Mt Isa - Fully Serviced","Residential care facility","Short-term accommodation","Accommodation (short-term)","RU_2","3 or more bedrooms",7335,{"$f":"INDEX(CHARGES,MATCH($D127&$F127,$AQ$2:$AQ$44&$AR$2:$AR$44,0),MATCH(H$1,$AS$1:$AX$1,0))","v":2054},{"$f":"INDEX(CHARGES,MATCH($D127&$F127,$AQ$2:$AQ$44&$AR$2:$AR$44,0),MATCH(I$1,$AS$1:$AX$1,0))","v":1320},{"$f":"INDEX(CHARGES,MATCH($D127&$F127,$AQ$2:$AQ$44&$AR$2:$AR$44,0),MATCH(J$1,$AS$1:$AX$1,0))","v":146},{"$f":"INDEX(CHARGES,MATCH($D127&$F127,$AQ$2:$AQ$44&$AR$2:$AR$44,0),MATCH(K$1,$AS$1:$AX$1,0))","v":3668},{"$f":"INDEX(CHARGES,MATCH($D127&$F127,$AQ$2:$AQ$44&$AR$2:$AR$44,0),MATCH(L$1,$AS$1:$AX$1,0))","v":147}]
["Mt Isa - Fully Serviced","Resort complex - Accommodation component","Resort complex","Accommodation (short-term)","RU_2","bedroom that is not part of a suite",5239,{"$f":"INDEX(CHARGES,MATCH($D128&$F128,$AQ$2:$AQ$44&$AR$2:$AR$44,0),MATCH(H$1,$AS$1:$AX$1,0))","v":1467},{"$f":"INDEX(CHARGES,MATCH($D128&$F128,$AQ$2:$AQ$44&$AR$2:$AR$44,0),MATCH(I$1,$AS$1:$AX$1,0))","v":943},{"$f":"INDEX(CHARGES,MATCH($D128&$F128,$AQ$2:$AQ$44&$AR$2:$AR$44,0),MATCH(J$1,$AS$1:$AX$1,0))","v":104},{"$f":"INDEX(CHARGES,MATCH($D128&$F128,$AQ$2:$AQ$44&$AR$2:$AR$44,0),MATCH(K$1,$AS$1:$AX$1,0))","v":2620},{"$f":"INDEX(CHARGES,MATCH($D128&$F128,$AQ$2:$AQ$44&$AR$2:$AR$44,0),MATCH(L$1,$AS$1:$AX$1,0))","v":105}]
["Mt Isa - Fully Serviced","Resort complex - Accommodation component","Resort complex","Accommodation (short-term)","RU_2","2 or less bedrooms",5239,{"$f":"INDEX(CHARGES,MATCH($D129&$F129,$AQ$2:$AQ$44&$AR$2:$AR$44,0),MATCH(H$1,$AS$1:$AX$1,0))","v":1467},{"$f":"INDEX(CHARGES,MATCH($D129&$F129,$AQ$2:$AQ$44&$AR$2:$AR$44,0),MATCH(I$1,$AS$1:$AX$1,0))","v":943},{"$f":"INDEX(CHARGES,MATCH($D129&$F129,$AQ$2:$AQ$44&$AR$2:$AR$44,0),MATCH(J$1,$AS$1:$AX$1,0))","v":104},{"$f":"INDEX(CHARGES,MATCH($D129&$F129,$AQ$2:$AQ$44&$AR$2:$AR$44,0),MATCH(K$1,$AS$1:$AX$1,0))","v":2620},{"$f":"INDEX(CHARGES,MATCH($D129&$F129,$AQ$2:$AQ$44&$AR$2:$AR$44,0),MATCH(L$1,$AS$1:$AX$1,0))","v":105}]
["Mt Isa - Fully Serviced","Resort complex - Accommodation component","Resort complex","Accommodation (short-term)","RU_2","3 or more bedrooms",7335,{"$f":"INDEX(CHARGES,MATCH($D130&$F130,$AQ$2:$AQ$44&$AR$2:$AR$44,0),MATCH(H$1,$AS$1:$AX$1,0))","v":2054},{"$f":"INDEX(CHARGES,MATCH($D130&$F130,$AQ$2:$AQ$44&$AR$2:$AR$44,0),MATCH(I$1,$AS$1:$AX$1,0))","v":1320},{"$f":"INDEX(CHARGES,MATCH($D130&$F130,$AQ$2:$AQ$44&$AR$2:$AR$44,0),MATCH(J$1,$AS$1:$AX$1,0))","v":146},{"$f":"INDEX(CHARGES,MATCH($D130&$F130,$AQ$2:$AQ$44&$AR$2:$AR$44,0),MATCH(K$1,$AS$1:$AX$1,0))","v":3668},{"$f":"INDEX(CHARGES,MATCH($D130&$F130,$AQ$2:$AQ$44&$AR$2:$AR$44,0),MATCH(L$1,$AS$1:$AX$1,0))","v":147}]
["Mt Isa - Fully Serviced","Resort complex - Entertainment component","Resort complex","Entertainment","NR_1","Gross Floor Area",105,{"$f":"INDEX(CHARGES,MATCH($D131&$F131,$AQ$2:$AQ$44&$AR$2:$AR$44,0),MATCH(H$1,$AS$1:$AX$1,0))","v":22},{"$f":"INDEX(CHARGES,MATCH($D131&$F131,$AQ$2:$AQ$44&$AR$2:$AR$44,0),MATCH(I$1,$AS$1:$AX$1,0))","v":15},{"$f":"INDEX(CHARGES,MATCH($D131&$F131,$AQ$2:$AQ$44&$AR$2:$AR$44,0),MATCH(J$1,$AS$1:$AX$1,0))","v":0},{"$f":"INDEX(CHARGES,MATCH($D131&$F131,$AQ$2:$AQ$44&$AR$2:$AR$44,0),MATCH(K$1,$AS$1:$AX$1,0))","v":68},{"$f":"INDEX(CHARGES,MATCH($D131&$F131,$AQ$2:$AQ$44&$AR$2:$AR$44,0),MATCH(L$1,$AS$1:$AX$1,0))","v":0}]
["Mt Isa - Fully Serviced","Resort complex - Entertainment component","Resort complex","Entertainment","NR_1","Impervious Area",5,{"$f":"INDEX(CHARGES,MATCH($D132&$F132,$AQ$2:$AQ$44&$AR$2:$AR$44,0),MATCH(H$1,$AS$1:$AX$1,0))","v":0},{"$f":"INDEX(CHARGES,MATCH($D132&$F132,$AQ$2:$AQ$44&$AR$2:$AR$44,0),MATCH(I$1,$AS$1:$AX$1,0))","v":0},{"$f":"INDEX(CHARGES,MATCH($D132&$F132,$AQ$2:$AQ$44&$AR$2:$AR$44,0),MATCH(J$1,$AS$1:$AX$1,0))","v":5},{"$f":"INDEX(CHARGES,MATCH($D132&$F132,$AQ$2:$AQ$44&$AR$2:$AR$44,0),MATCH(K$1,$AS$1:$AX$1,0))","v":0},{"$f":"INDEX(CHARGES,MATCH($D132&$F132,$AQ$2:$AQ$44&$AR$2:$AR$44,0),MATCH(L$1,$AS$1:$AX$1,0))","v":0}]
["Mt Isa - Fully Serviced","Retirement facility","Retirement facility","Accommodation (long-term)","RU_2","bedroom that is not part of a suite",10478,{"$f":"INDEX(CHARGES,MATCH($D133&$F133,$AQ$2:$AQ$44&$AR$2:$AR$44,0),MATCH(H$1,$AS$1:$AX$1,0))","v":2934},{"$f":"INDEX(CHARGES,MATCH($D133&$F133,$AQ$2:$AQ$44&$AR$2:$AR$44,0),MATCH(I$1,$AS$1:$AX$1,0))","v":1886},{"$f":"INDEX(CHARGES,MATCH($D133&$F133,$AQ$2:$AQ$44&$AR$2:$AR$44,0),MATCH(J$1,$AS$1:$AX$1,0))","v":209},{"$f":"INDEX(CHARGES,MATCH($D133&$F133,$AQ$2:$AQ$44&$AR$2:$AR$44,0),MATCH(K$1,$AS$1:$AX$1,0))","v":5239},{"$f":"INDEX(CHARGES,MATCH($D133&$F133,$AQ$2:$AQ$44&$AR$2:$AR$44,0),MATCH(L$1,$AS$1:$AX$1,0))","v":210}]
["Mt Isa - Fully Serviced","Retirement facility","Retirement facility","Accommodation (long-term)","RU_2","2 or less bedrooms",10478,{"$f":"INDEX(CHARGES,MATCH($D134&$F134,$AQ$2:$AQ$44&$AR$2:$AR$44,0),MATCH(H$1,$AS$1:$AX$1,0))","v":2934},{"$f":"INDEX(CHARGES,MATCH($D134&$F134,$AQ$2:$AQ$44&$AR$2:$AR$44,0),MATCH(I$1,$AS$1:$AX$1,0))","v":1886},{"$f":"INDEX(CHARGES,MATCH($D134&$F134,$AQ$2:$AQ$44&$AR$2:$AR$44,0),MATCH(J$1,$AS$1:$AX$1,0))","v":209},{"$f":"INDEX(CHARGES,MATCH($D134&$F134,$AQ$2:$AQ$44&$AR$2:$AR$44,0),MATCH(K$1,$AS$1:$AX$1,0))","v":5239},{"$f":"INDEX(CHARGES,MATCH($D134&$F134,$AQ$2:$AQ$44&$AR$2:$AR$44,0),MATCH(L$1,$AS$1:$AX$1,0))","v":210}]
["Mt Isa - Fully Serviced","Retirement facility","Retirement facility","Accommodation (long-term)","RU_2","3 or more bedrooms",14670,{"$f":"INDEX(CHARGES,MATCH($D135&$F135,$AQ$2:$AQ$44&$AR$2:$AR$44,0),MATCH(H$1,$AS$1:$AX$1,0))","v":4108},{"$f":"INDEX(CHARGES,MATCH($D135&$F135,$AQ$2:$AQ$44&$AR$2:$AR$44,0),MATCH(I$1,$AS$1:$AX$1,0))","v":2641},{"$f":"INDEX(CHARGES,MATCH($D135&$F135,$AQ$2:$AQ$44&$AR$2:$AR$44,0),MATCH(J$1,$AS$1:$AX$1,0))","v":293},{"$f":"INDEX(CHARGES,MATCH($D135&$F135,$AQ$2:$AQ$44&$AR$2:$AR$44,0),MATCH(K$1,$AS$1:$AX$1,0))","v":7335},{"$f":"INDEX(CHARGES,MATCH($D135&$F135,$AQ$2:$AQ$44&$AR$2:$AR$44,0),MATCH(L$1,$AS$1:$AX$1,0))","v":293}]
["Mt Isa - Fully Serviced","Roadside stall","Roadside stall","Minor uses","NR_3","Gross Floor Area",{"$f":"SUM(H136:L136)","v":0},{"$f":"INDEX(CHARGES,MATCH($D136&$F136,$AQ$2:$AQ$44&$AR$2:$AR$44,0),MATCH(H$1,$AS$1:$AX$1,0))","v":0},{"$f":"INDEX(CHARGES,MATCH($D136&$F136,$AQ$2:$AQ$44&$AR$2:$AR$44,0),MATCH(I$1,$AS$1:$AX$1,0))","v":0},{"$f":"INDEX(CHARGES,MATCH($D136&$F136,$AQ$2:$AQ$44&$AR$2:$AR$44,0),MATCH(J$1,$AS$1:$AX$1,0))","v":0},{"$f":"INDEX(CHARGES,MATCH($D136&$F136,$AQ$2:$AQ$44&$AR$2:$AR$44,0),MATCH(K$1,$AS$1:$AX$1,0))","v":0},{"$f":"INDEX(CHARGES,MATCH($D136&$F136,$AQ$2:$AQ$44&$AR$2:$AR$44,0),MATCH(L$1,$AS$1:$AX$1,0))","v":0}]
["Mt Isa - Fully Serviced","Rooming accommodation","Rooming accommodation","Accommodation (long-term)","RU_2","bedroom that is not part of a suite",10478,{"$f":"INDEX(CHARGES,MATCH($D137&$F137,$AQ$2:$AQ$44&$AR$2:$AR$44,0),MATCH(H$1,$AS$1:$AX$1,0))","v":2934},{"$f":"INDEX(CHARGES,MATCH($D137&$F137,$AQ$2:$AQ$44&$AR$2:$AR$44,0),MATCH(I$1,$AS$1:$AX$1,0))","v":1886},{"$f":"INDEX(CHARGES,MATCH($D137&$F137,$AQ$2:$AQ$44&$AR$2:$AR$44,0),MATCH(J$1,$AS$1:$AX$1,0))","v":209},{"$f":"INDEX(CHARGES,MATCH($D137&$F137,$AQ$2:$AQ$44&$AR$2:$AR$44,0),MATCH(K$1,$AS$1:$AX$1,0))","v":5239},{"$f":"INDEX(CHARGES,MATCH($D137&$F137,$AQ$2:$AQ$44&$AR$2:$AR$44,0),MATCH(L$1,$AS$1:$AX$1,0))","v":210}]
["Mt Isa - Fully Serviced","Rooming accommodation","Rooming accommodation","Accommodation (long-term)","RU_2","2 or less bedrooms",10478,{"$f":"INDEX(CHARGES,MATCH($D138&$F138,$AQ$2:$AQ$44&$AR$2:$AR$44,0),MATCH(H$1,$AS$1:$AX$1,0))","v":2934},{"$f":"INDEX(CHARGES,MATCH($D138&$F138,$AQ$2:$AQ$44&$AR$2:$AR$44,0),MATCH(I$1,$AS$1:$AX$1,0))","v":1886},{"$f":"INDEX(CHARGES,MATCH($D138&$F138,$AQ$2:$AQ$44&$AR$2:$AR$44,0),MATCH(J$1,$AS$1:$AX$1,0))","v":209},{"$f":"INDEX(CHARGES,MATCH($D138&$F138,$AQ$2:$AQ$44&$AR$2:$AR$44,0),MATCH(K$1,$AS$1:$AX$1,0))","v":5239},{"$f":"INDEX(CHARGES,MATCH($D138&$F138,$AQ$2:$AQ$44&$AR$2:$AR$44,0),MATCH(L$1,$AS$1:$AX$1,0))","v":210}]
["Mt Isa - Fully Serviced","Rooming accommodation","Rooming accommodation","Accommodation (long-term)","RU_2","3 or more bedrooms",14670,{"$f":"INDEX(CHARGES,MATCH($D139&$F139,$AQ$2:$AQ$44&$AR$2:$AR$44,0),MATCH(H$1,$AS$1:$AX$1,0))","v":4108},{"$f":"INDEX(CHARGES,MATCH($D139&$F139,$AQ$2:$AQ$44&$AR$2:$AR$44,0),MATCH(I$1,$AS$1:$AX$1,0))","v":2641},{"$f":"INDEX(CHARGES,MATCH($D139&$F139,$AQ$2:$AQ$44&$AR$2:$AR$44,0),MATCH(J$1,$AS$1:$AX$1,0))","v":293},{"$f":"INDEX(CHARGES,MATCH($D139&$F139,$AQ$2:$AQ$44&$AR$2:$AR$44,0),MATCH(K$1,$AS$1:$AX$1,0))","v":7335},{"$f":"INDEX(CHARGES,MATCH($D139&$F139,$AQ$2:$AQ$44&$AR$2:$AR$44,0),MATCH(L$1,$AS$1:$AX$1,0))","v":293}]
["Mt Isa - Fully Serviced","Rural industry","Rural industry","Other industry","NR_1","Gross Floor Area",26,{"$f":"INDEX(CHARGES,MATCH($D140&$F140,$AQ$2:$AQ$44&$AR$2:$AR$44,0),MATCH(H$1,$AS$1:$AX$1,0))","v":5},{"$f":"INDEX(CHARGES,MATCH($D140&$F140,$AQ$2:$AQ$44&$AR$2:$AR$44,0),MATCH(I$1,$AS$1:$AX$1,0))","v":4},{"$f":"INDEX(CHARGES,MATCH($D140&$F140,$AQ$2:$AQ$44&$AR$2:$AR$44,0),MATCH(J$1,$AS$1:$AX$1,0))","v":0},{"$f":"INDEX(CHARGES,MATCH($D140&$F140,$AQ$2:$AQ$44&$AR$2:$AR$44,0),MATCH(K$1,$AS$1:$AX$1,0))","v":17},{"$f":"INDEX(CHARGES,MATCH($D140&$F140,$AQ$2:$AQ$44&$AR$2:$AR$44,0),MATCH(L$1,$AS$1:$AX$1,0))","v":0}]
["Mt Isa - Fully Serviced","Rural industry","Rural industry","Other industry","NR_1","Impervious Area",5,{"$f":"INDEX(CHARGES,MATCH($D141&$F141,$AQ$2:$AQ$44&$AR$2:$AR$44,0),MATCH(H$1,$AS$1:$AX$1,0))","v":0},{"$f":"INDEX(CHARGES,MATCH($D141&$F141,$AQ$2:$AQ$44&$AR$2:$AR$44,0),MATCH(I$1,$AS$1:$AX$1,0))","v":0},{"$f":"INDEX(CHARGES,MATCH($D141&$F141,$AQ$2:$AQ$44&$AR$2:$AR$44,0),MATCH(J$1,$AS$1:$AX$1,0))","v":5},{"$f":"INDEX(CHARGES,MATCH($D141&$F141,$AQ$2:$AQ$44&$AR$2:$AR$44,0),MATCH(K$1,$AS$1:$AX$1,0))","v":0},{"$f":"INDEX(CHARGES,MATCH($D141&$F141,$AQ$2:$AQ$44&$AR$2:$AR$44,0),MATCH(L$1,$AS$1:$AX$1,0))","v":0}]
["Mt Isa - Fully Serviced","Rural workers accommodation","Short-term accommodation","Accommodation (short-term)","RU_2","bedroom that is not part of a suite",5239,{"$f":"INDEX(CHARGES,MATCH($D142&$F142,$AQ$2:$AQ$44&$AR$2:$AR$44,0),MATCH(H$1,$AS$1:$AX$1,0))","v":1467},{"$f":"INDEX(CHARGES,MATCH($D142&$F142,$AQ$2:$AQ$44&$AR$2:$AR$44,0),MATCH(I$1,$AS$1:$AX$1,0))","v":943},{"$f":"INDEX(CHARGES,MATCH($D142&$F142,$AQ$2:$AQ$44&$AR$2:$AR$44,0),MATCH(J$1,$AS$1:$AX$1,0))","v":104},{"$f":"INDEX(CHARGES,MATCH($D142&$F142,$AQ$2:$AQ$44&$AR$2:$AR$44,0),MATCH(K$1,$AS$1:$AX$1,0))","v":2620},{"$f":"INDEX(CHARGES,MATCH($D142&$F142,$AQ$2:$AQ$44&$AR$2:$AR$44,0),MATCH(L$1,$AS$1:$AX$1,0))","v":105}]
["Mt Isa - Fully Serviced","Rural workers accommodation","Short-term accommodation","Accommodation (short-term)","RU_2","2 or less bedrooms",5239,{"$f":"INDEX(CHARGES,MATCH($D143&$F143,$AQ$2:$AQ$44&$AR$2:$AR$44,0),MATCH(H$1,$AS$1:$AX$1,0))","v":1467},{"$f":"INDEX(CHARGES,MATCH($D143&$F143,$AQ$2:$AQ$44&$AR$2:$AR$44,0),MATCH(I$1,$AS$1:$AX$1,0))","v":943},{"$f":"INDEX(CHARGES,MATCH($D143&$F143,$AQ$2:$AQ$44&$AR$2:$AR$44,0),MATCH(J$1,$AS$1:$AX$1,0))","v":104},{"$f":"INDEX(CHARGES,MATCH($D143&$F143,$AQ$2:$AQ$44&$AR$2:$AR$44,0),MATCH(K$1,$AS$1:$AX$1,0))","v":2620},{"$f":"INDEX(CHARGES,MATCH($D143&$F143,$AQ$2:$AQ$44&$AR$2:$AR$44,0),MATCH(L$1,$AS$1:$AX$1,0))","v":105}]
["Mt Isa - Fully Serviced","Rural workers accommodation","Short-term accommodation","Accommodation (short-term)","RU_2","3 or more bedrooms",7335,{"$f":"INDEX(CHARGES,MATCH($D144&$F144,$AQ$2:$AQ$44&$AR$2:$AR$44,0),MATCH(H$1,$AS$1:$AX$1,0))","v":2054},{"$f":"INDEX(CHARGES,MATCH($D144&$F144,$AQ$2:$AQ$44&$AR$2:$AR$44,0),MATCH(I$1,$AS$1:$AX$1,0))","v":1320},{"$f":"INDEX(CHARGES,MATCH($D144&$F144,$AQ$2:$AQ$44&$AR$2:$AR$44,0),MATCH(J$1,$AS$1:$AX$1,0))","v":146},{"$f":"INDEX(CHARGES,MATCH($D144&$F144,$AQ$2:$AQ$44&$AR$2:$AR$44,0),MATCH(K$1,$AS$1:$AX$1,0))","v":3668},{"$f":"INDEX(CHARGES,MATCH($D144&$F144,$AQ$2:$AQ$44&$AR$2:$AR$44,0),MATCH(L$1,$AS$1:$AX$1,0))","v":147}]
["Mt Isa - Fully Serviced","Sales office","Sales office","Commercial (office)","NR_1","Gross Floor Area",73,{"$f":"INDEX(CHARGES,MATCH($D145&$F145,$AQ$2:$AQ$44&$AR$2:$AR$44,0),MATCH(H$1,$AS$1:$AX$1,0))","v":15},{"$f":"INDEX(CHARGES,MATCH($D145&$F145,$AQ$2:$AQ$44&$AR$2:$AR$44,0),MATCH(I$1,$AS$1:$AX$1,0))","v":10},{"$f":"INDEX(CHARGES,MATCH($D145&$F145,$AQ$2:$AQ$44&$AR$2:$AR$44,0),MATCH(J$1,$AS$1:$AX$1,0))","v":0},{"$f":"INDEX(CHARGES,MATCH($D145&$F145,$AQ$2:$AQ$44&$AR$2:$AR$44,0),MATCH(K$1,$AS$1:$AX$1,0))","v":48},{"$f":"INDEX(CHARGES,MATCH($D145&$F145,$AQ$2:$AQ$44&$AR$2:$AR$44,0),MATCH(L$1,$AS$1:$AX$1,0))","v":0}]
["Mt Isa - Fully Serviced","Sales office","Sales office","Commercial (office)","NR_1","Impervious Area",5,{"$f":"INDEX(CHARGES,MATCH($D146&$F146,$AQ$2:$AQ$44&$AR$2:$AR$44,0),MATCH(H$1,$AS$1:$AX$1,0))","v":0},{"$f":"INDEX(CHARGES,MATCH($D146&$F146,$AQ$2:$AQ$44&$AR$2:$AR$44,0),MATCH(I$1,$AS$1:$AX$1,0))","v":0},{"$f":"INDEX(CHARGES,MATCH($D146&$F146,$AQ$2:$AQ$44&$AR$2:$AR$44,0),MATCH(J$1,$AS$1:$AX$1,0))","v":5},{"$f":"INDEX(CHARGES,MATCH($D146&$F146,$AQ$2:$AQ$44&$AR$2:$AR$44,0),MATCH(K$1,$AS$1:$AX$1,0))","v":0},{"$f":"INDEX(CHARGES,MATCH($D146&$F146,$AQ$2:$AQ$44&$AR$2:$AR$44,0),MATCH(L$1,$AS$1:$AX$1,0))","v":0}]
["Mt Isa - Fully Serviced","Service industry","Service industry","Commercial (retail)","NR_1","Gross Floor Area",94,{"$f":"INDEX(CHARGES,MATCH($D147&$F147,$AQ$2:$AQ$44&$AR$2:$AR$44,0),MATCH(H$1,$AS$1:$AX$1,0))","v":20},{"$f":"INDEX(CHARGES,MATCH($D147&$F147,$AQ$2:$AQ$44&$AR$2:$AR$44,0),MATCH(I$1,$AS$1:$AX$1,0))","v":13},{"$f":"INDEX(CHARGES,MATCH($D147&$F147,$AQ$2:$AQ$44&$AR$2:$AR$44,0),MATCH(J$1,$AS$1:$AX$1,0))","v":0},{"$f":"INDEX(CHARGES,MATCH($D147&$F147,$AQ$2:$AQ$44&$AR$2:$AR$44,0),MATCH(K$1,$AS$1:$AX$1,0))","v":61},{"$f":"INDEX(CHARGES,MATCH($D147&$F147,$AQ$2:$AQ$44&$AR$2:$AR$44,0),MATCH(L$1,$AS$1:$AX$1,0))","v":0}]
["Mt Isa - Fully Serviced","Service industry","Service industry","Commercial (retail)","NR_1","Impervious Area",5,{"$f":"INDEX(CHARGES,MATCH($D148&$F148,$AQ$2:$AQ$44&$AR$2:$AR$44,0),MATCH(H$1,$AS$1:$AX$1,0))","v":0},{"$f":"INDEX(CHARGES,MATCH($D148&$F148,$AQ$2:$AQ$44&$AR$2:$AR$44,0),MATCH(I$1,$AS$1:$AX$1,0))","v":0},{"$f":"INDEX(CHARGES,MATCH($D148&$F148,$AQ$2:$AQ$44&$AR$2:$AR$44,0),MATCH(J$1,$AS$1:$AX$1,0))","v":5},{"$f":"INDEX(CHARGES,MATCH($D148&$F148,$AQ$2:$AQ$44&$AR$2:$AR$44,0),MATCH(K$1,$AS$1:$AX$1,0))","v":0},{"$f":"INDEX(CHARGES,MATCH($D148&$F148,$AQ$2:$AQ$44&$AR$2:$AR$44,0),MATCH(L$1,$AS$1:$AX$1,0))","v":0}]
["Mt Isa - Fully Serviced","Service station","Service station","Commercial (retail)","NR_1","Gross Floor Area",94,{"$f":"INDEX(CHARGES,MATCH($D149&$F149,$AQ$2:$AQ$44&$AR$2:$AR$44,0),MATCH(H$1,$AS$1:$AX$1,0))","v":20},{"$f":"INDEX(CHARGES,MATCH($D149&$F149,$AQ$2:$AQ$44&$AR$2:$AR$44,0),MATCH(I$1,$AS$1:$AX$1,0))","v":13},{"$f":"INDEX(CHARGES,MATCH($D149&$F149,$AQ$2:$AQ$44&$AR$2:$AR$44,0),MATCH(J$1,$AS$1:$AX$1,0))","v":0},{"$f":"INDEX(CHARGES,MATCH($D149&$F149,$AQ$2:$AQ$44&$AR$2:$AR$44,0),MATCH(K$1,$AS$1:$AX$1,0))","v":61},{"$f":"INDEX(CHARGES,MATCH($D149&$F149,$AQ$2:$AQ$44&$AR$2:$AR$44,0),MATCH(L$1,$AS$1:$AX$1,0))","v":0}]
["Mt Isa - Fully Serviced","Service station","Service station","Commercial (retail)","NR_1","Impervious Area",5,{"$f":"INDEX(CHARGES,MATCH($D150&$F150,$AQ$2:$AQ$44&$AR$2:$AR$44,0),MATCH(H$1,$AS$1:$AX$1,0))","v":0},{"$f":"INDEX(CHARGES,MATCH($D150&$F150,$AQ$2:$AQ$44&$AR$2:$AR$44,0),MATCH(I$1,$AS$1:$AX$1,0))","v":0},{"$f":"INDEX(CHARGES,MATCH($D150&$F150,$AQ$2:$AQ$44&$AR$2:$AR$44,0),MATCH(J$1,$AS$1:$AX$1,0))","v":5},{"$f":"INDEX(CHARGES,MATCH($D150&$F150,$AQ$2:$AQ$44&$AR$2:$AR$44,0),MATCH(K$1,$AS$1:$AX$1,0))","v":0},{"$f":"INDEX(CHARGES,MATCH($D150&$F150,$AQ$2:$AQ$44&$AR$2:$AR$44,0),MATCH(L$1,$AS$1:$AX$1,0))","v":0}]
["Mt Isa - Fully Serviced","Shop","Shop","Commercial (retail)","NR_1","Gross Floor Area",94,{"$f":"INDEX(CHARGES,MATCH($D151&$F151,$AQ$2:$AQ$44&$AR$2:$AR$44,0),MATCH(H$1,$AS$1:$AX$1,0))","v":20},{"$f":"INDEX(CHARGES,MATCH($D151&$F151,$AQ$2:$AQ$44&$AR$2:$AR$44,0),MATCH(I$1,$AS$1:$AX$1,0))","v":13},{"$f":"INDEX(CHARGES,MATCH($D151&$F151,$AQ$2:$AQ$44&$AR$2:$AR$44,0),MATCH(J$1,$AS$1:$AX$1,0))","v":0},{"$f":"INDEX(CHARGES,MATCH($D151&$F151,$AQ$2:$AQ$44&$AR$2:$AR$44,0),MATCH(K$1,$AS$1:$AX$1,0))","v":61},{"$f":"INDEX(CHARGES,MATCH($D151&$F151,$AQ$2:$AQ$44&$AR$2:$AR$44,0),MATCH(L$1,$AS$1:$AX$1,0))","v":0}]
["Mt Isa - Fully Serviced","Shop","Shop","Commercial (retail)","NR_1","Impervious Area",5,{"$f":"INDEX(CHARGES,MATCH($D152&$F152,$AQ$2:$AQ$44&$AR$2:$AR$44,0),MATCH(H$1,$AS$1:$AX$1,0))","v":0},{"$f":"INDEX(CHARGES,MATCH($D152&$F152,$AQ$2:$AQ$44&$AR$2:$AR$44,0),MATCH(I$1,$AS$1:$AX$1,0))","v":0},{"$f":"INDEX(CHARGES,MATCH($D152&$F152,$AQ$2:$AQ$44&$AR$2:$AR$44,0),MATCH(J$1,$AS$1:$AX$1,0))","v":5},{"$f":"INDEX(CHARGES,MATCH($D152&$F152,$AQ$2:$AQ$44&$AR$2:$AR$44,0),MATCH(K$1,$AS$1:$AX$1,0))","v":0},{"$f":"INDEX(CHARGES,MATCH($D152&$F152,$AQ$2:$AQ$44&$AR$2:$AR$44,0),MATCH(L$1,$AS$1:$AX$1,0))","v":0}]
["Mt Isa - Fully Serviced","Shopping centre","Shopping centre","Commercial (retail)","NR_1","Gross Floor Area",94,{"$f":"INDEX(CHARGES,MATCH($D153&$F153,$AQ$2:$AQ$44&$AR$2:$AR$44,0),MATCH(H$1,$AS$1:$AX$1,0))","v":20},{"$f":"INDEX(CHARGES,MATCH($D153&$F153,$AQ$2:$AQ$44&$AR$2:$AR$44,0),MATCH(I$1,$AS$1:$AX$1,0))","v":13},{"$f":"INDEX(CHARGES,MATCH($D153&$F153,$AQ$2:$AQ$44&$AR$2:$AR$44,0),MATCH(J$1,$AS$1:$AX$1,0))","v":0},{"$f":"INDEX(CHARGES,MATCH($D153&$F153,$AQ$2:$AQ$44&$AR$2:$AR$44,0),MATCH(K$1,$AS$1:$AX$1,0))","v":61},{"$f":"INDEX(CHARGES,MATCH($D153&$F153,$AQ$2:$AQ$44&$AR$2:$AR$44,0),MATCH(L$1,$AS$1:$AX$1,0))","v":0}]
["Mt Isa - Fully Serviced","Shopping centre","Shopping centre","Commercial (retail)","NR_1","Impervious Area",5,{"$f":"INDEX(CHARGES,MATCH($D154&$F154,$AQ$2:$AQ$44&$AR$2:$AR$44,0),MATCH(H$1,$AS$1:$AX$1,0))","v":0},{"$f":"INDEX(CHARGES,MATCH($D154&$F154,$AQ$2:$AQ$44&$AR$2:$AR$44,0),MATCH(I$1,$AS$1:$AX$1,0))","v":0},{"$f":"INDEX(CHARGES,MATCH($D154&$F154,$AQ$2:$AQ$44&$AR$2:$AR$44,0),MATCH(J$1,$AS$1:$AX$1,0))","v":5},{"$f":"INDEX(CHARGES,MATCH($D154&$F154,$AQ$2:$AQ$44&$AR$2:$AR$44,0),MATCH(K$1,$AS$1:$AX$1,0))","v":0},{"$f":"INDEX(CHARGES,MATCH($D154&$F154,$AQ$2:$AQ$44&$AR$2:$AR$44,0),MATCH(L$1,$AS$1:$AX$1,0))","v":0}]
["Mt Isa - Fully Serviced","Short-term accommodation","Short-term accommodation","Accommodation (short-term)","RU_2","bedroom that is not part of a suite",5239,{"$f":"INDEX(CHARGES,MATCH($D155&$F155,$AQ$2:$AQ$44&$AR$2:$AR$44,0),MATCH(H$1,$AS$1:$AX$1,0))","v":1467},{"$f":"INDEX(CHARGES,MATCH($D155&$F155,$AQ$2:$AQ$44&$AR$2:$AR$44,0),MATCH(I$1,$AS$1:$AX$1,0))","v":943},{"$f":"INDEX(CHARGES,MATCH($D155&$F155,$AQ$2:$AQ$44&$AR$2:$AR$44,0),MATCH(J$1,$AS$1:$AX$1,0))","v":104},{"$f":"INDEX(CHARGES,MATCH($D155&$F155,$AQ$2:$AQ$44&$AR$2:$AR$44,0),MATCH(K$1,$AS$1:$AX$1,0))","v":2620},{"$f":"INDEX(CHARGES,MATCH($D155&$F155,$AQ$2:$AQ$44&$AR$2:$AR$44,0),MATCH(L$1,$AS$1:$AX$1,0))","v":105}]
["Mt Isa - Fully Serviced","Short-term accommodation","Short-term accommodation","Accommodation (short-term)","RU_2","2 or less bedrooms",5239,{"$f":"INDEX(CHARGES,MATCH($D156&$F156,$AQ$2:$AQ$44&$AR$2:$AR$44,0),MATCH(H$1,$AS$1:$AX$1,0))","v":1467},{"$f":"INDEX(CHARGES,MATCH($D156&$F156,$AQ$2:$AQ$44&$AR$2:$AR$44,0),MATCH(I$1,$AS$1:$AX$1,0))","v":943},{"$f":"INDEX(CHARGES,MATCH($D156&$F156,$AQ$2:$AQ$44&$AR$2:$AR$44,0),MATCH(J$1,$AS$1:$AX$1,0))","v":104},{"$f":"INDEX(CHARGES,MATCH($D156&$F156,$AQ$2:$AQ$44&$AR$2:$AR$44,0),MATCH(K$1,$AS$1:$AX$1,0))","v":2620},{"$f":"INDEX(CHARGES,MATCH($D156&$F156,$AQ$2:$AQ$44&$AR$2:$AR$44,0),MATCH(L$1,$AS$1:$AX$1,0))","v":105}]
["Mt Isa - Fully Serviced","Short-term accommodation","Short-term accommodation","Accommodation (short-term)","RU_2","3 or more bedrooms",7335,{"$f":"INDEX(CHARGES,MATCH($D157&$F157,$AQ$2:$AQ$44&$AR$2:$AR$44,0),MATCH(H$1,$AS$1:$AX$1,0))","v":2054},{"$f":"INDEX(CHARGES,MATCH($D157&$F157,$AQ$2:$AQ$44&$AR$2:$AR$44,0),MATCH(I$1,$AS$1:$AX$1,0))","v":1320},{"$f":"INDEX(CHARGES,MATCH($D157&$F157,$AQ$2:$AQ$44&$AR$2:$AR$44,0),MATCH(J$1,$AS$1:$AX$1,0))","v":146},{"$f":"INDEX(CHARGES,MATCH($D157&$F157,$AQ$2:$AQ$44&$AR$2:$AR$44,0),MATCH(K$1,$AS$1:$AX$1,0))","v":3668},{"$f":"INDEX(CHARGES,MATCH($D157&$F157,$AQ$2:$AQ$44&$AR$2:$AR$44,0),MATCH(L$1,$AS$1:$AX$1,0))","v":147}]
["Mt Isa - Fully Serviced","Showroom","Showroom","Commercial (bulk goods)","NR_1","Gross Floor Area",73,{"$f":"INDEX(CHARGES,MATCH($D158&$F158,$AQ$2:$AQ$44&$AR$2:$AR$44,0),MATCH(H$1,$AS$1:$AX$1,0))","v":15},{"$f":"INDEX(CHARGES,MATCH($D158&$F158,$AQ$2:$AQ$44&$AR$2:$AR$44,0),MATCH(I$1,$AS$1:$AX$1,0))","v":10},{"$f":"INDEX(CHARGES,MATCH($D158&$F158,$AQ$2:$AQ$44&$AR$2:$AR$44,0),MATCH(J$1,$AS$1:$AX$1,0))","v":0},{"$f":"INDEX(CHARGES,MATCH($D158&$F158,$AQ$2:$AQ$44&$AR$2:$AR$44,0),MATCH(K$1,$AS$1:$AX$1,0))","v":48},{"$f":"INDEX(CHARGES,MATCH($D158&$F158,$AQ$2:$AQ$44&$AR$2:$AR$44,0),MATCH(L$1,$AS$1:$AX$1,0))","v":0}]
["Mt Isa - Fully Serviced","Showroom","Showroom","Commercial (bulk goods)","NR_1","Impervious Area",5,{"$f":"INDEX(CHARGES,MATCH($D159&$F159,$AQ$2:$AQ$44&$AR$2:$AR$44,0),MATCH(H$1,$AS$1:$AX$1,0))","v":0},{"$f":"INDEX(CHARGES,MATCH($D159&$F159,$AQ$2:$AQ$44&$AR$2:$AR$44,0),MATCH(I$1,$AS$1:$AX$1,0))","v":0},{"$f":"INDEX(CHARGES,MATCH($D159&$F159,$AQ$2:$AQ$44&$AR$2:$AR$44,0),MATCH(J$1,$AS$1:$AX$1,0))","v":5},{"$f":"INDEX(CHARGES,MATCH($D159&$F159,$AQ$2:$AQ$44&$AR$2:$AR$44,0),MATCH(K$1,$AS$1:$AX$1,0))","v":0},{"$f":"INDEX(CHARGES,MATCH($D159&$F159,$AQ$2:$AQ$44&$AR$2:$AR$44,0),MATCH(L$1,$AS$1:$AX$1,0))","v":0}]
["Mt Isa - Fully Serviced","Special industry","Special industry","High impact industry or special industry","NR_1","Gross Floor Area",37,{"$f":"INDEX(CHARGES,MATCH($D160&$F160,$AQ$2:$AQ$44&$AR$2:$AR$44,0),MATCH(H$1,$AS$1:$AX$1,0))","v":8},{"$f":"INDEX(CHARGES,MATCH($D160&$F160,$AQ$2:$AQ$44&$AR$2:$AR$44,0),MATCH(I$1,$AS$1:$AX$1,0))","v":5},{"$f":"INDEX(CHARGES,MATCH($D160&$F160,$AQ$2:$AQ$44&$AR$2:$AR$44,0),MATCH(J$1,$AS$1:$AX$1,0))","v":0},{"$f":"INDEX(CHARGES,MATCH($D160&$F160,$AQ$2:$AQ$44&$AR$2:$AR$44,0),MATCH(K$1,$AS$1:$AX$1,0))","v":24},{"$f":"INDEX(CHARGES,MATCH($D160&$F160,$AQ$2:$AQ$44&$AR$2:$AR$44,0),MATCH(L$1,$AS$1:$AX$1,0))","v":0}]
["Mt Isa - Fully Serviced","Special industry","Special industry","High impact industry or special industry","NR_1","Impervious Area",5,{"$f":"INDEX(CHARGES,MATCH($D161&$F161,$AQ$2:$AQ$44&$AR$2:$AR$44,0),MATCH(H$1,$AS$1:$AX$1,0))","v":0},{"$f":"INDEX(CHARGES,MATCH($D161&$F161,$AQ$2:$AQ$44&$AR$2:$AR$44,0),MATCH(I$1,$AS$1:$AX$1,0))","v":0},{"$f":"INDEX(CHARGES,MATCH($D161&$F161,$AQ$2:$AQ$44&$AR$2:$AR$44,0),MATCH(J$1,$AS$1:$AX$1,0))","v":5},{"$f":"INDEX(CHARGES,MATCH($D161&$F161,$AQ$2:$AQ$44&$AR$2:$AR$44,0),MATCH(K$1,$AS$1:$AX$1,0))","v":0},{"$f":"INDEX(CHARGES,MATCH($D161&$F161,$AQ$2:$AQ$44&$AR$2:$AR$44,0),MATCH(L$1,$AS$1:$AX$1,0))","v":0}]
["Mt Isa - Fully Serviced","Substation","Utility installation","Other uses","NR_1","Gross Floor Area",0,{"$f":"INDEX(CHARGES,MATCH($D162&$F162,$AQ$2:$AQ$44&$AR$2:$AR$44,0),MATCH(H$1,$AS$1:$AX$1,0))","v":0},{"$f":"INDEX(CHARGES,MATCH($D162&$F162,$AQ$2:$AQ$44&$AR$2:$AR$44,0),MATCH(I$1,$AS$1:$AX$1,0))","v":0},{"$f":"INDEX(CHARGES,MATCH($D162&$F162,$AQ$2:$AQ$44&$AR$2:$AR$44,0),MATCH(J$1,$AS$1:$AX$1,0))","v":0},{"$f":"INDEX(CHARGES,MATCH($D162&$F162,$AQ$2:$AQ$44&$AR$2:$AR$44,0),MATCH(K$1,$AS$1:$AX$1,0))","v":0},{"$f":"INDEX(CHARGES,MATCH($D162&$F162,$AQ$2:$AQ$44&$AR$2:$AR$44,0),MATCH(L$1,$AS$1:$AX$1,0))","v":0}]
["Mt Isa - Fully Serviced","Substation","Utility installation","Other uses","NR_1","Impervious Area",0,{"$f":"INDEX(CHARGES,MATCH($D163&$F163,$AQ$2:$AQ$44&$AR$2:$AR$44,0),MATCH(H$1,$AS$1:$AX$1,0))","v":0},{"$f":"INDEX(CHARGES,MATCH($D163&$F163,$AQ$2:$AQ$44&$AR$2:$AR$44,0),MATCH(I$1,$AS$1:$AX$1,0))","v":0},{"$f":"INDEX(CHARGES,MATCH($D163&$F163,$AQ$2:$AQ$44&$AR$2:$AR$44,0),MATCH(J$1,$AS$1:$AX$1,0))","v":0},{"$f":"INDEX(CHARGES,MATCH($D163&$F163,$AQ$2:$AQ$44&$AR$2:$AR$44,0),MATCH(K$1,$AS$1:$AX$1,0))","v":0},{"$f":"INDEX(CHARGES,MATCH($D163&$F163,$AQ$2:$AQ$44&$AR$2:$AR$44,0),MATCH(L$1,$AS$1:$AX$1,0))","v":0}]
["Mt Isa - Fully Serviced","Telecommunications facility","Utility installation","Other uses","NR_1","Gross Floor Area",0,{"$f":"INDEX(CHARGES,MATCH($D164&$F164,$AQ$2:$AQ$44&$AR$2:$AR$44,0),MATCH(H$1,$AS$1:$AX$1,0))","v":0},{"$f":"INDEX(CHARGES,MATCH($D164&$F164,$AQ$2:$AQ$44&$AR$2:$AR$44,0),MATCH(I$1,$AS$1:$AX$1,0))","v":0},{"$f":"INDEX(CHARGES,MATCH($D164&$F164,$AQ$2:$AQ$44&$AR$2:$AR$44,0),MATCH(J$1,$AS$1:$AX$1,0))","v":0},{"$f":"INDEX(CHARGES,MATCH($D164&$F164,$AQ$2:$AQ$44&$AR$2:$AR$44,0),MATCH(K$1,$AS$1:$AX$1,0))","v":0},{"$f":"INDEX(CHARGES,MATCH($D164&$F164,$AQ$2:$AQ$44&$AR$2:$AR$44,0),MATCH(L$1,$AS$1:$AX$1,0))","v":0}]
["Mt Isa - Fully Serviced","Telecommunications facility","Utility installation","Other uses","NR_1","Impervious Area",0,{"$f":"INDEX(CHARGES,MATCH($D165&$F165,$AQ$2:$AQ$44&$AR$2:$AR$44,0),MATCH(H$1,$AS$1:$AX$1,0))","v":0},{"$f":"INDEX(CHARGES,MATCH($D165&$F165,$AQ$2:$AQ$44&$AR$2:$AR$44,0),MATCH(I$1,$AS$1:$AX$1,0))","v":0},{"$f":"INDEX(CHARGES,MATCH($D165&$F165,$AQ$2:$AQ$44&$AR$2:$AR$44,0),MATCH(J$1,$AS$1:$AX$1,0))","v":0},{"$f":"INDEX(CHARGES,MATCH($D165&$F165,$AQ$2:$AQ$44&$AR$2:$AR$44,0),MATCH(K$1,$AS$1:$AX$1,0))","v":0},{"$f":"INDEX(CHARGES,MATCH($D165&$F165,$AQ$2:$AQ$44&$AR$2:$AR$44,0),MATCH(L$1,$AS$1:$AX$1,0))","v":0}]
["Mt Isa - Fully Serviced","Theatre","Theatre","Entertainment","NR_1","Gross Floor Area",105,{"$f":"INDEX(CHARGES,MATCH($D166&$F166,$AQ$2:$AQ$44&$AR$2:$AR$44,0),MATCH(H$1,$AS$1:$AX$1,0))","v":22},{"$f":"INDEX(CHARGES,MATCH($D166&$F166,$AQ$2:$AQ$44&$AR$2:$AR$44,0),MATCH(I$1,$AS$1:$AX$1,0))","v":15},{"$f":"INDEX(CHARGES,MATCH($D166&$F166,$AQ$2:$AQ$44&$AR$2:$AR$44,0),MATCH(J$1,$AS$1:$AX$1,0))","v":0},{"$f":"INDEX(CHARGES,MATCH($D166&$F166,$AQ$2:$AQ$44&$AR$2:$AR$44,0),MATCH(K$1,$AS$1:$AX$1,0))","v":68},{"$f":"INDEX(CHARGES,MATCH($D166&$F166,$AQ$2:$AQ$44&$AR$2:$AR$44,0),MATCH(L$1,$AS$1:$AX$1,0))","v":0}]
["Mt Isa - Fully Serviced","Theatre","Theatre","Entertainment","NR_1","Impervious Area",5,{"$f":"INDEX(CHARGES,MATCH($D167&$F167,$AQ$2:$AQ$44&$AR$2:$AR$44,0),MATCH(H$1,$AS$1:$AX$1,0))","v":0},{"$f":"INDEX(CHARGES,MATCH($D167&$F167,$AQ$2:$AQ$44&$AR$2:$AR$44,0),MATCH(I$1,$AS$1:$AX$1,0))","v":0},{"$f":"INDEX(CHARGES,MATCH($D167&$F167,$AQ$2:$AQ$44&$AR$2:$AR$44,0),MATCH(J$1,$AS$1:$AX$1,0))","v":5},{"$f":"INDEX(CHARGES,MATCH($D167&$F167,$AQ$2:$AQ$44&$AR$2:$AR$44,0),MATCH(K$1,$AS$1:$AX$1,0))","v":0},{"$f":"INDEX(CHARGES,MATCH($D167&$F167,$AQ$2:$AQ$44&$AR$2:$AR$44,0),MATCH(L$1,$AS$1:$AX$1,0))","v":0}]
["Mt Isa - Fully Serviced","Tourist attraction","Tourist attraction","Other uses","NR_1","Gross Floor Area",0,{"$f":"INDEX(CHARGES,MATCH($D168&$F168,$AQ$2:$AQ$44&$AR$2:$AR$44,0),MATCH(H$1,$AS$1:$AX$1,0))","v":0},{"$f":"INDEX(CHARGES,MATCH($D168&$F168,$AQ$2:$AQ$44&$AR$2:$AR$44,0),MATCH(I$1,$AS$1:$AX$1,0))","v":0},{"$f":"INDEX(CHARGES,MATCH($D168&$F168,$AQ$2:$AQ$44&$AR$2:$AR$44,0),MATCH(J$1,$AS$1:$AX$1,0))","v":0},{"$f":"INDEX(CHARGES,MATCH($D168&$F168,$AQ$2:$AQ$44&$AR$2:$AR$44,0),MATCH(K$1,$AS$1:$AX$1,0))","v":0},{"$f":"INDEX(CHARGES,MATCH($D168&$F168,$AQ$2:$AQ$44&$AR$2:$AR$44,0),MATCH(L$1,$AS$1:$AX$1,0))","v":0}]
["Mt Isa - Fully Serviced","Tourist attraction","Tourist attraction","Other uses","NR_1","Impervious Area",0,{"$f":"INDEX(CHARGES,MATCH($D169&$F169,$AQ$2:$AQ$44&$AR$2:$AR$44,0),MATCH(H$1,$AS$1:$AX$1,0))","v":0},{"$f":"INDEX(CHARGES,MATCH($D169&$F169,$AQ$2:$AQ$44&$AR$2:$AR$44,0),MATCH(I$1,$AS$1:$AX$1,0))","v":0},{"$f":"INDEX(CHARGES,MATCH($D169&$F169,$AQ$2:$AQ$44&$AR$2:$AR$44,0),MATCH(J$1,$AS$1:$AX$1,0))","v":0},{"$f":"INDEX(CHARGES,MATCH($D169&$F169,$AQ$2:$AQ$44&$AR$2:$AR$44,0),MATCH(K$1,$AS$1:$AX$1,0))","v":0},{"$f":"INDEX(CHARGES,MATCH($D169&$F169,$AQ$2:$AQ$44&$AR$2:$AR$44,0),MATCH(L$1,$AS$1:$AX$1,0))","v":0}]
["Mt Isa - Fully Serviced","Tourist park","Tourist park","Accommodation (short-term)","RU_3","group of 2 sites/cabins or less",5239,{"$f":"INDEX(CHARGES,MATCH($D170&$F170,$AQ$2:$AQ$44&$AR$2:$AR$44,0),MATCH(H$1,$AS$1:$AX$1,0))","v":1467},{"$f":"INDEX(CHARGES,MATCH($D170&$F170,$AQ$2:$AQ$44&$AR$2:$AR$44,0),MATCH(I$1,$AS$1:$AX$1,0))","v":943},{"$f":"INDEX(CHARGES,MATCH($D170&$F170,$AQ$2:$AQ$44&$AR$2:$AR$44,0),MATCH(J$1,$AS$1:$AX$1,0))","v":104},{"$f":"INDEX(CHARGES,MATCH($D170&$F170,$AQ$2:$AQ$44&$AR$2:$AR$44,0),MATCH(K$1,$AS$1:$AX$1,0))","v":2620},{"$f":"INDEX(CHARGES,MATCH($D170&$F170,$AQ$2:$AQ$44&$AR$2:$AR$44,0),MATCH(L$1,$AS$1:$AX$1,0))","v":105}]
["Mt Isa - Fully Serviced","Tourist park","Tourist park","Accommodation (short-term)","RU_3","group of 3 sites/cabins",7335,{"$f":"INDEX(CHARGES,MATCH($D171&$F171,$AQ$2:$AQ$44&$AR$2:$AR$44,0),MATCH(H$1,$AS$1:$AX$1,0))","v":2054},{"$f":"INDEX(CHARGES,MATCH($D171&$F171,$AQ$2:$AQ$44&$AR$2:$AR$44,0),MATCH(I$1,$AS$1:$AX$1,0))","v":1320},{"$f":"INDEX(CHARGES,MATCH($D171&$F171,$AQ$2:$AQ$44&$AR$2:$AR$44,0),MATCH(J$1,$AS$1:$AX$1,0))","v":146},{"$f":"INDEX(CHARGES,MATCH($D171&$F171,$AQ$2:$AQ$44&$AR$2:$AR$44,0),MATCH(K$1,$AS$1:$AX$1,0))","v":3668},{"$f":"INDEX(CHARGES,MATCH($D171&$F171,$AQ$2:$AQ$44&$AR$2:$AR$44,0),MATCH(L$1,$AS$1:$AX$1,0))","v":147}]
["Mt Isa - Fully Serviced","Transport depot","Low impact industry","Other industry","NR_1","Gross Floor Area",26,{"$f":"INDEX(CHARGES,MATCH($D172&$F172,$AQ$2:$AQ$44&$AR$2:$AR$44,0),MATCH(H$1,$AS$1:$AX$1,0))","v":5},{"$f":"INDEX(CHARGES,MATCH($D172&$F172,$AQ$2:$AQ$44&$AR$2:$AR$44,0),MATCH(I$1,$AS$1:$AX$1,0))","v":4},{"$f":"INDEX(CHARGES,MATCH($D172&$F172,$AQ$2:$AQ$44&$AR$2:$AR$44,0),MATCH(J$1,$AS$1:$AX$1,0))","v":0},{"$f":"INDEX(CHARGES,MATCH($D172&$F172,$AQ$2:$AQ$44&$AR$2:$AR$44,0),MATCH(K$1,$AS$1:$AX$1,0))","v":17},{"$f":"INDEX(CHARGES,MATCH($D172&$F172,$AQ$2:$AQ$44&$AR$2:$AR$44,0),MATCH(L$1,$AS$1:$AX$1,0))","v":0}]
["Mt Isa - Fully Serviced","Transport depot","Low impact industry","Other industry","NR_1","Impervious Area",5,{"$f":"INDEX(CHARGES,MATCH($D173&$F173,$AQ$2:$AQ$44&$AR$2:$AR$44,0),MATCH(H$1,$AS$1:$AX$1,0))","v":0},{"$f":"INDEX(CHARGES,MATCH($D173&$F173,$AQ$2:$AQ$44&$AR$2:$AR$44,0),MATCH(I$1,$AS$1:$AX$1,0))","v":0},{"$f":"INDEX(CHARGES,MATCH($D173&$F173,$AQ$2:$AQ$44&$AR$2:$AR$44,0),MATCH(J$1,$AS$1:$AX$1,0))","v":5},{"$f":"INDEX(CHARGES,MATCH($D173&$F173,$AQ$2:$AQ$44&$AR$2:$AR$44,0),MATCH(K$1,$AS$1:$AX$1,0))","v":0},{"$f":"INDEX(CHARGES,MATCH($D173&$F173,$AQ$2:$AQ$44&$AR$2:$AR$44,0),MATCH(L$1,$AS$1:$AX$1,0))","v":0}]
["Mt Isa - Fully Serviced","Utility installation","Utility installation","Other uses","NR_1","Gross Floor Area",0,{"$f":"INDEX(CHARGES,MATCH($D174&$F174,$AQ$2:$AQ$44&$AR$2:$AR$44,0),MATCH(H$1,$AS$1:$AX$1,0))","v":0},{"$f":"INDEX(CHARGES,MATCH($D174&$F174,$AQ$2:$AQ$44&$AR$2:$AR$44,0),MATCH(I$1,$AS$1:$AX$1,0))","v":0},{"$f":"INDEX(CHARGES,MATCH($D174&$F174,$AQ$2:$AQ$44&$AR$2:$AR$44,0),MATCH(J$1,$AS$1:$AX$1,0))","v":0},{"$f":"INDEX(CHARGES,MATCH($D174&$F174,$AQ$2:$AQ$44&$AR$2:$AR$44,0),MATCH(K$1,$AS$1:$AX$1,0))","v":0},{"$f":"INDEX(CHARGES,MATCH($D174&$F174,$AQ$2:$AQ$44&$AR$2:$AR$44,0),MATCH(L$1,$AS$1:$AX$1,0))","v":0}]
["Mt Isa - Fully Serviced","Utility installation","Utility installation","Other uses","NR_1","Impervious Area",0,{"$f":"INDEX(CHARGES,MATCH($D175&$F175,$AQ$2:$AQ$44&$AR$2:$AR$44,0),MATCH(H$1,$AS$1:$AX$1,0))","v":0},{"$f":"INDEX(CHARGES,MATCH($D175&$F175,$AQ$2:$AQ$44&$AR$2:$AR$44,0),MATCH(I$1,$AS$1:$AX$1,0))","v":0},{"$f":"INDEX(CHARGES,MATCH($D175&$F175,$AQ$2:$AQ$44&$AR$2:$AR$44,0),MATCH(J$1,$AS$1:$AX$1,0))","v":0},{"$f":"INDEX(CHARGES,MATCH($D175&$F175,$AQ$2:$AQ$44&$AR$2:$AR$44,0),MATCH(K$1,$AS$1:$AX$1,0))","v":0},{"$f":"INDEX(CHARGES,MATCH($D175&$F175,$AQ$2:$AQ$44&$AR$2:$AR$44,0),MATCH(L$1,$AS$1:$AX$1,0))","v":0}]
["Mt Isa - Fully Serviced","Veterinary services","Veterinary services","Essential services","NR_1","Gross Floor Area",73,{"$f":"INDEX(CHARGES,MATCH($D176&$F176,$AQ$2:$AQ$44&$AR$2:$AR$44,0),MATCH(H$1,$AS$1:$AX$1,0))","v":15},{"$f":"INDEX(CHARGES,MATCH($D176&$F176,$AQ$2:$AQ$44&$AR$2:$AR$44,0),MATCH(I$1,$AS$1:$AX$1,0))","v":10},{"$f":"INDEX(CHARGES,MATCH($D176&$F176,$AQ$2:$AQ$44&$AR$2:$AR$44,0),MATCH(J$1,$AS$1:$AX$1,0))","v":0},{"$f":"INDEX(CHARGES,MATCH($D176&$F176,$AQ$2:$AQ$44&$AR$2:$AR$44,0),MATCH(K$1,$AS$1:$AX$1,0))","v":48},{"$f":"INDEX(CHARGES,MATCH($D176&$F176,$AQ$2:$AQ$44&$AR$2:$AR$44,0),MATCH(L$1,$AS$1:$AX$1,0))","v":0}]
["Mt Isa - Fully Serviced","Veterinary services","Veterinary services","Essential services","NR_1","Impervious Area",5,{"$f":"INDEX(CHARGES,MATCH($D177&$F177,$AQ$2:$AQ$44&$AR$2:$AR$44,0),MATCH(H$1,$AS$1:$AX$1,0))","v":0},{"$f":"INDEX(CHARGES,MATCH($D177&$F177,$AQ$2:$AQ$44&$AR$2:$AR$44,0),MATCH(I$1,$AS$1:$AX$1,0))","v":0},{"$f":"INDEX(CHARGES,MATCH($D177&$F177,$AQ$2:$AQ$44&$AR$2:$AR$44,0),MATCH(J$1,$AS$1:$AX$1,0))","v":5},{"$f":"INDEX(CHARGES,MATCH($D177&$F177,$AQ$2:$AQ$44&$AR$2:$AR$44,0),MATCH(K$1,$AS$1:$AX$1,0))","v":0},{"$f":"INDEX(CHARGES,MATCH($D177&$F177,$AQ$2:$AQ$44&$AR$2:$AR$44,0),MATCH(L$1,$AS$1:$AX$1,0))","v":0}]
["Mt Isa - Fully Serviced","Warehouse","Warehouse","Other industry","NR_1","Gross Floor Area",26,{"$f":"INDEX(CHARGES,MATCH($D178&$F178,$AQ$2:$AQ$44&$AR$2:$AR$44,0),MATCH(H$1,$AS$1:$AX$1,0))","v":5},{"$f":"INDEX(CHARGES,MATCH($D178&$F178,$AQ$2:$AQ$44&$AR$2:$AR$44,0),MATCH(I$1,$AS$1:$AX$1,0))","v":4},{"$f":"INDEX(CHARGES,MATCH($D178&$F178,$AQ$2:$AQ$44&$AR$2:$AR$44,0),MATCH(J$1,$AS$1:$AX$1,0))","v":0},{"$f":"INDEX(CHARGES,MATCH($D178&$F178,$AQ$2:$AQ$44&$AR$2:$AR$44,0),MATCH(K$1,$AS$1:$AX$1,0))","v":17},{"$f":"INDEX(CHARGES,MATCH($D178&$F178,$AQ$2:$AQ$44&$AR$2:$AR$44,0),MATCH(L$1,$AS$1:$AX$1,0))","v":0}]
["Mt Isa - Fully Serviced","Warehouse","Warehouse","Other industry","NR_1","Impervious Area",5,{"$f":"INDEX(CHARGES,MATCH($D179&$F179,$AQ$2:$AQ$44&$AR$2:$AR$44,0),MATCH(H$1,$AS$1:$AX$1,0))","v":0},{"$f":"INDEX(CHARGES,MATCH($D179&$F179,$AQ$2:$AQ$44&$AR$2:$AR$44,0),MATCH(I$1,$AS$1:$AX$1,0))","v":0},{"$f":"INDEX(CHARGES,MATCH($D179&$F179,$AQ$2:$AQ$44&$AR$2:$AR$44,0),MATCH(J$1,$AS$1:$AX$1,0))","v":5},{"$f":"INDEX(CHARGES,MATCH($D179&$F179,$AQ$2:$AQ$44&$AR$2:$AR$44,0),MATCH(K$1,$AS$1:$AX$1,0))","v":0},{"$f":"INDEX(CHARGES,MATCH($D179&$F179,$AQ$2:$AQ$44&$AR$2:$AR$44,0),MATCH(L$1,$AS$1:$AX$1,0))","v":0}]
["Mt Isa - Fully Serviced","Wholesale nursery","Wholesale nursery","High impact rural","NR_3","Gross Floor Area",10,{"$f":"INDEX(CHARGES,MATCH($D180&$F180,$AQ$2:$AQ$44&$AR$2:$AR$44,0),MATCH(H$1,$AS$1:$AX$1,0))","v":2},{"$f":"INDEX(CHARGES,MATCH($D180&$F180,$AQ$2:$AQ$44&$AR$2:$AR$44,0),MATCH(I$1,$AS$1:$AX$1,0))","v":1},{"$f":"INDEX(CHARGES,MATCH($D180&$F180,$AQ$2:$AQ$44&$AR$2:$AR$44,0),MATCH(J$1,$AS$1:$AX$1,0))","v":0},{"$f":"INDEX(CHARGES,MATCH($D180&$F180,$AQ$2:$AQ$44&$AR$2:$AR$44,0),MATCH(K$1,$AS$1:$AX$1,0))","v":7},{"$f":"INDEX(CHARGES,MATCH($D180&$F180,$AQ$2:$AQ$44&$AR$2:$AR$44,0),MATCH(L$1,$AS$1:$AX$1,0))","v":0}]
["Mt Isa - Fully Serviced","Winery","Winery","High impact rural","NR_3","Gross Floor Area",10,{"$f":"INDEX(CHARGES,MATCH($D181&$F181,$AQ$2:$AQ$44&$AR$2:$AR$44,0),MATCH(H$1,$AS$1:$AX$1,0))","v":2},{"$f":"INDEX(CHARGES,MATCH($D181&$F181,$AQ$2:$AQ$44&$AR$2:$AR$44,0),MATCH(I$1,$AS$1:$AX$1,0))","v":1},{"$f":"INDEX(CHARGES,MATCH($D181&$F181,$AQ$2:$AQ$44&$AR$2:$AR$44,0),MATCH(J$1,$AS$1:$AX$1,0))","v":0},{"$f":"INDEX(CHARGES,MATCH($D181&$F181,$AQ$2:$AQ$44&$AR$2:$AR$44,0),MATCH(K$1,$AS$1:$AX$1,0))","v":7},{"$f":"INDEX(CHARGES,MATCH($D181&$F181,$AQ$2:$AQ$44&$AR$2:$AR$44,0),MATCH(L$1,$AS$1:$AX$1,0))","v":0}]
["Mt Isa - Fully Serviced","Reconfiguring a lot - Residential","Reconfiguring a lot - Residential","Residential uses","ROL","Lots",14670,{"$f":"INDEX(CHARGES,MATCH($D182&$F182,$AQ$2:$AQ$44&$AR$2:$AR$44,0),MATCH(H$1,$AS$1:$AX$1,0))","v":4108},{"$f":"INDEX(CHARGES,MATCH($D182&$F182,$AQ$2:$AQ$44&$AR$2:$AR$44,0),MATCH(I$1,$AS$1:$AX$1,0))","v":2641},{"$f":"INDEX(CHARGES,MATCH($D182&$F182,$AQ$2:$AQ$44&$AR$2:$AR$44,0),MATCH(J$1,$AS$1:$AX$1,0))","v":293},{"$f":"INDEX(CHARGES,MATCH($D182&$F182,$AQ$2:$AQ$44&$AR$2:$AR$44,0),MATCH(K$1,$AS$1:$AX$1,0))","v":7335},{"$f":"INDEX(CHARGES,MATCH($D182&$F182,$AQ$2:$AQ$44&$AR$2:$AR$44,0),MATCH(L$1,$AS$1:$AX$1,0))","v":293}]
["Mt Isa - Fully Serviced","Reconfiguring a lot - Non residential","Reconfiguring a lot - Non residential","Non-residential uses","ROL","Lots",{"$f":"SUM(H183:L183)","v":14670},{"$f":"INDEX(CHARGES,MATCH($D183&$F183,$AQ$2:$AQ$44&$AR$2:$AR$44,0),MATCH(H$1,$AS$1:$AX$1,0))","v":3081},{"$f":"INDEX(CHARGES,MATCH($D183&$F183,$AQ$2:$AQ$44&$AR$2:$AR$44,0),MATCH(I$1,$AS$1:$AX$1,0))","v":2054},{"$f":"INDEX(CHARGES,MATCH($D183&$F183,$AQ$2:$AQ$44&$AR$2:$AR$44,0),MATCH(J$1,$AS$1:$AX$1,0))","v":293},{"$f":"INDEX(CHARGES,MATCH($D183&$F183,$AQ$2:$AQ$44&$AR$2:$AR$44,0),MATCH(K$1,$AS$1:$AX$1,0))","v":9242},{"$f":"INDEX(CHARGES,MATCH($D183&$F183,$AQ$2:$AQ$44&$AR$2:$AR$44,0),MATCH(L$1,$AS$1:$AX$1,0))","v":0}]
["Mt Isa - Water Supply Only","Adult store","Adult store","Commercial (retail)","NR_1","Gross Floor Area",81,{"$f":"INDEX(CHARGES,MATCH($D184&$F184,$AQ$2:$AQ$44&$AR$2:$AR$44,0),MATCH(H$1,$AS$1:$AX$1,0))","v":20},0,{"$f":"INDEX(CHARGES,MATCH($D184&$F184,$AQ$2:$AQ$44&$AR$2:$AR$44,0),MATCH(J$1,$AS$1:$AX$1,0))","v":0},{"$f":"INDEX(CHARGES,MATCH($D184&$F184,$AQ$2:$AQ$44&$AR$2:$AR$44,0),MATCH(K$1,$AS$1:$AX$1,0))","v":61},{"$f":"INDEX(CHARGES,MATCH($D184&$F184,$AQ$2:$AQ$44&$AR$2:$AR$44,0),MATCH(L$1,$AS$1:$AX$1,0))","v":0}]
["Mt Isa - Water Supply Only","Adult store","Adult store","Commercial (retail)","NR_1","Impervious Area",5,{"$f":"INDEX(CHARGES,MATCH($D185&$F185,$AQ$2:$AQ$44&$AR$2:$AR$44,0),MATCH(H$1,$AS$1:$AX$1,0))","v":0},0,{"$f":"INDEX(CHARGES,MATCH($D185&$F185,$AQ$2:$AQ$44&$AR$2:$AR$44,0),MATCH(J$1,$AS$1:$AX$1,0))","v":5},{"$f":"INDEX(CHARGES,MATCH($D185&$F185,$AQ$2:$AQ$44&$AR$2:$AR$44,0),MATCH(K$1,$AS$1:$AX$1,0))","v":0},{"$f":"INDEX(CHARGES,MATCH($D185&$F185,$AQ$2:$AQ$44&$AR$2:$AR$44,0),MATCH(L$1,$AS$1:$AX$1,0))","v":0}]
["Mt Isa - Water Supply Only","Agrigultural supplies store","Agrigultural supplies store","Commercial (bulk goods)","NR_1","Gross Floor Area",63,{"$f":"INDEX(CHARGES,MATCH($D186&$F186,$AQ$2:$AQ$44&$AR$2:$AR$44,0),MATCH(H$1,$AS$1:$AX$1,0))","v":15},0,{"$f":"INDEX(CHARGES,MATCH($D186&$F186,$AQ$2:$AQ$44&$AR$2:$AR$44,0),MATCH(J$1,$AS$1:$AX$1,0))","v":0},{"$f":"INDEX(CHARGES,MATCH($D186&$F186,$AQ$2:$AQ$44&$AR$2:$AR$44,0),MATCH(K$1,$AS$1:$AX$1,0))","v":48},{"$f":"INDEX(CHARGES,MATCH($D186&$F186,$AQ$2:$AQ$44&$AR$2:$AR$44,0),MATCH(L$1,$AS$1:$AX$1,0))","v":0}]
["Mt Isa - Water Supply Only","Agrigultural supplies store","Agrigultural supplies store","Commercial (bulk goods)","NR_1","Impervious Area",5,{"$f":"INDEX(CHARGES,MATCH($D187&$F187,$AQ$2:$AQ$44&$AR$2:$AR$44,0),MATCH(H$1,$AS$1:$AX$1,0))","v":0},0,{"$f":"INDEX(CHARGES,MATCH($D187&$F187,$AQ$2:$AQ$44&$AR$2:$AR$44,0),MATCH(J$1,$AS$1:$AX$1,0))","v":5},{"$f":"INDEX(CHARGES,MATCH($D187&$F187,$AQ$2:$AQ$44&$AR$2:$AR$44,0),MATCH(K$1,$AS$1:$AX$1,0))","v":0},{"$f":"INDEX(CHARGES,MATCH($D187&$F187,$AQ$2:$AQ$44&$AR$2:$AR$44,0),MATCH(L$1,$AS$1:$AX$1,0))","v":0}]
["Mt Isa - Water Supply Only","Air services","Air services","Other uses","NR_1","Gross Floor Area",0,{"$f":"INDEX(CHARGES,MATCH($D188&$F188,$AQ$2:$AQ$44&$AR$2:$AR$44,0),MATCH(H$1,$AS$1:$AX$1,0))","v":0},0,{"$f":"INDEX(CHARGES,MATCH($D188&$F188,$AQ$2:$AQ$44&$AR$2:$AR$44,0),MATCH(J$1,$AS$1:$AX$1,0))","v":0},{"$f":"INDEX(CHARGES,MATCH($D188&$F188,$AQ$2:$AQ$44&$AR$2:$AR$44,0),MATCH(K$1,$AS$1:$AX$1,0))","v":0},{"$f":"INDEX(CHARGES,MATCH($D188&$F188,$AQ$2:$AQ$44&$AR$2:$AR$44,0),MATCH(L$1,$AS$1:$AX$1,0))","v":0}]
["Mt Isa - Water Supply Only","Air services","Air services","Other uses","NR_1","Impervious Area",0,{"$f":"INDEX(CHARGES,MATCH($D189&$F189,$AQ$2:$AQ$44&$AR$2:$AR$44,0),MATCH(H$1,$AS$1:$AX$1,0))","v":0},0,{"$f":"INDEX(CHARGES,MATCH($D189&$F189,$AQ$2:$AQ$44&$AR$2:$AR$44,0),MATCH(J$1,$AS$1:$AX$1,0))","v":0},{"$f":"INDEX(CHARGES,MATCH($D189&$F189,$AQ$2:$AQ$44&$AR$2:$AR$44,0),MATCH(K$1,$AS$1:$AX$1,0))","v":0},{"$f":"INDEX(CHARGES,MATCH($D189&$F189,$AQ$2:$AQ$44&$AR$2:$AR$44,0),MATCH(L$1,$AS$1:$AX$1,0))","v":0}]
["Mt Isa - Water Supply Only","Animal husbandry","Animal husbandry","Low impact rural","NR_3","Gross Floor Area",0,{"$f":"INDEX(CHARGES,MATCH($D190&$F190,$AQ$2:$AQ$44&$AR$2:$AR$44,0),MATCH(H$1,$AS$1:$AX$1,0))","v":0},0,{"$f":"INDEX(CHARGES,MATCH($D190&$F190,$AQ$2:$AQ$44&$AR$2:$AR$44,0),MATCH(J$1,$AS$1:$AX$1,0))","v":0},{"$f":"INDEX(CHARGES,MATCH($D190&$F190,$AQ$2:$AQ$44&$AR$2:$AR$44,0),MATCH(K$1,$AS$1:$AX$1,0))","v":0},{"$f":"INDEX(CHARGES,MATCH($D190&$F190,$AQ$2:$AQ$44&$AR$2:$AR$44,0),MATCH(L$1,$AS$1:$AX$1,0))","v":0}]
["Mt Isa - Water Supply Only","Animal keeping","Animal keeping","Other uses","NR_1","Gross Floor Area",0,{"$f":"INDEX(CHARGES,MATCH($D191&$F191,$AQ$2:$AQ$44&$AR$2:$AR$44,0),MATCH(H$1,$AS$1:$AX$1,0))","v":0},0,{"$f":"INDEX(CHARGES,MATCH($D191&$F191,$AQ$2:$AQ$44&$AR$2:$AR$44,0),MATCH(J$1,$AS$1:$AX$1,0))","v":0},{"$f":"INDEX(CHARGES,MATCH($D191&$F191,$AQ$2:$AQ$44&$AR$2:$AR$44,0),MATCH(K$1,$AS$1:$AX$1,0))","v":0},{"$f":"INDEX(CHARGES,MATCH($D191&$F191,$AQ$2:$AQ$44&$AR$2:$AR$44,0),MATCH(L$1,$AS$1:$AX$1,0))","v":0}]
["Mt Isa - Water Supply Only","Animal keeping","Animal keeping","Other uses","NR_1","Impervious Area",0,{"$f":"INDEX(CHARGES,MATCH($D192&$F192,$AQ$2:$AQ$44&$AR$2:$AR$44,0),MATCH(H$1,$AS$1:$AX$1,0))","v":0},0,{"$f":"INDEX(CHARGES,MATCH($D192&$F192,$AQ$2:$AQ$44&$AR$2:$AR$44,0),MATCH(J$1,$AS$1:$AX$1,0))","v":0},{"$f":"INDEX(CHARGES,MATCH($D192&$F192,$AQ$2:$AQ$44&$AR$2:$AR$44,0),MATCH(K$1,$AS$1:$AX$1,0))","v":0},{"$f":"INDEX(CHARGES,MATCH($D192&$F192,$AQ$2:$AQ$44&$AR$2:$AR$44,0),MATCH(L$1,$AS$1:$AX$1,0))","v":0}]
["Mt Isa - Water Supply Only","Aquaculture",null,"Other uses","NR_1","Gross Floor Area",0,{"$f":"INDEX(CHARGES,MATCH($D193&$F193,$AQ$2:$AQ$44&$AR$2:$AR$44,0),MATCH(H$1,$AS$1:$AX$1,0))","v":0},0,{"$f":"INDEX(CHARGES,MATCH($D193&$F193,$AQ$2:$AQ$44&$AR$2:$AR$44,0),MATCH(J$1,$AS$1:$AX$1,0))","v":0},{"$f":"INDEX(CHARGES,MATCH($D193&$F193,$AQ$2:$AQ$44&$AR$2:$AR$44,0),MATCH(K$1,$AS$1:$AX$1,0))","v":0},{"$f":"INDEX(CHARGES,MATCH($D193&$F193,$AQ$2:$AQ$44&$AR$2:$AR$44,0),MATCH(L$1,$AS$1:$AX$1,0))","v":0}]
["Mt Isa - Water Supply Only","Aquaculture",null,"Other uses","NR_1","Impervious Area",0,{"$f":"INDEX(CHARGES,MATCH($D194&$F194,$AQ$2:$AQ$44&$AR$2:$AR$44,0),MATCH(H$1,$AS$1:$AX$1,0))","v":0},0,{"$f":"INDEX(CHARGES,MATCH($D194&$F194,$AQ$2:$AQ$44&$AR$2:$AR$44,0),MATCH(J$1,$AS$1:$AX$1,0))","v":0},{"$f":"INDEX(CHARGES,MATCH($D194&$F194,$AQ$2:$AQ$44&$AR$2:$AR$44,0),MATCH(K$1,$AS$1:$AX$1,0))","v":0},{"$f":"INDEX(CHARGES,MATCH($D194&$F194,$AQ$2:$AQ$44&$AR$2:$AR$44,0),MATCH(L$1,$AS$1:$AX$1,0))","v":0}]
["Mt Isa - Water Supply Only","Bar","Hotel","Entertainment","NR_1","Gross Floor Area",90,{"$f":"INDEX(CHARGES,MATCH($D195&$F195,$AQ$2:$AQ$44&$AR$2:$AR$44,0),MATCH(H$1,$AS$1:$AX$1,0))","v":22},0,{"$f":"INDEX(CHARGES,MATCH($D195&$F195,$AQ$2:$AQ$44&$AR$2:$AR$44,0),MATCH(J$1,$AS$1:$AX$1,0))","v":0},{"$f":"INDEX(CHARGES,MATCH($D195&$F195,$AQ$2:$AQ$44&$AR$2:$AR$44,0),MATCH(K$1,$AS$1:$AX$1,0))","v":68},{"$f":"INDEX(CHARGES,MATCH($D195&$F195,$AQ$2:$AQ$44&$AR$2:$AR$44,0),MATCH(L$1,$AS$1:$AX$1,0))","v":0}]
["Mt Isa - Water Supply Only","Bar","Hotel","Entertainment","NR_1","Impervious Area",5,{"$f":"INDEX(CHARGES,MATCH($D196&$F196,$AQ$2:$AQ$44&$AR$2:$AR$44,0),MATCH(H$1,$AS$1:$AX$1,0))","v":0},0,{"$f":"INDEX(CHARGES,MATCH($D196&$F196,$AQ$2:$AQ$44&$AR$2:$AR$44,0),MATCH(J$1,$AS$1:$AX$1,0))","v":5},{"$f":"INDEX(CHARGES,MATCH($D196&$F196,$AQ$2:$AQ$44&$AR$2:$AR$44,0),MATCH(K$1,$AS$1:$AX$1,0))","v":0},{"$f":"INDEX(CHARGES,MATCH($D196&$F196,$AQ$2:$AQ$44&$AR$2:$AR$44,0),MATCH(L$1,$AS$1:$AX$1,0))","v":0}]
["Mt Isa - Water Supply Only","Brothel",null,"Entertainment","NR_1","Gross Floor Area",90,{"$f":"INDEX(CHARGES,MATCH($D197&$F197,$AQ$2:$AQ$44&$AR$2:$AR$44,0),MATCH(H$1,$AS$1:$AX$1,0))","v":22},0,{"$f":"INDEX(CHARGES,MATCH($D197&$F197,$AQ$2:$AQ$44&$AR$2:$AR$44,0),MATCH(J$1,$AS$1:$AX$1,0))","v":0},{"$f":"INDEX(CHARGES,MATCH($D197&$F197,$AQ$2:$AQ$44&$AR$2:$AR$44,0),MATCH(K$1,$AS$1:$AX$1,0))","v":68},{"$f":"INDEX(CHARGES,MATCH($D197&$F197,$AQ$2:$AQ$44&$AR$2:$AR$44,0),MATCH(L$1,$AS$1:$AX$1,0))","v":0}]
["Mt Isa - Water Supply Only","Brothel",null,"Entertainment","NR_1","Impervious Area",5,{"$f":"INDEX(CHARGES,MATCH($D198&$F198,$AQ$2:$AQ$44&$AR$2:$AR$44,0),MATCH(H$1,$AS$1:$AX$1,0))","v":0},0,{"$f":"INDEX(CHARGES,MATCH($D198&$F198,$AQ$2:$AQ$44&$AR$2:$AR$44,0),MATCH(J$1,$AS$1:$AX$1,0))","v":5},{"$f":"INDEX(CHARGES,MATCH($D198&$F198,$AQ$2:$AQ$44&$AR$2:$AR$44,0),MATCH(K$1,$AS$1:$AX$1,0))","v":0},{"$f":"INDEX(CHARGES,MATCH($D198&$F198,$AQ$2:$AQ$44&$AR$2:$AR$44,0),MATCH(L$1,$AS$1:$AX$1,0))","v":0}]
["Mt Isa - Water Supply Only","Bulk landscape supplies","Bulk landscape supplies","Commercial (bulk goods)","NR_1","Gross Floor Area",63,{"$f":"INDEX(CHARGES,MATCH($D199&$F199,$AQ$2:$AQ$44&$AR$2:$AR$44,0),MATCH(H$1,$AS$1:$AX$1,0))","v":15},0,{"$f":"INDEX(CHARGES,MATCH($D199&$F199,$AQ$2:$AQ$44&$AR$2:$AR$44,0),MATCH(J$1,$AS$1:$AX$1,0))","v":0},{"$f":"INDEX(CHARGES,MATCH($D199&$F199,$AQ$2:$AQ$44&$AR$2:$AR$44,0),MATCH(K$1,$AS$1:$AX$1,0))","v":48},{"$f":"INDEX(CHARGES,MATCH($D199&$F199,$AQ$2:$AQ$44&$AR$2:$AR$44,0),MATCH(L$1,$AS$1:$AX$1,0))","v":0}]
["Mt Isa - Water Supply Only","Bulk landscape supplies","Bulk landscape supplies","Commercial (bulk goods)","NR_1","Impervious Area",{"$f":"SUM(H200:L200)","v":5},{"$f":"INDEX(CHARGES,MATCH($D200&$F200,$AQ$2:$AQ$44&$AR$2:$AR$44,0),MATCH(H$1,$AS$1:$AX$1,0))","v":0},0,{"$f":"INDEX(CHARGES,MATCH($D200&$F200,$AQ$2:$AQ$44&$AR$2:$AR$44,0),MATCH(J$1,$AS$1:$AX$1,0))","v":5},{"$f":"INDEX(CHARGES,MATCH($D200&$F200,$AQ$2:$AQ$44&$AR$2:$AR$44,0),MATCH(K$1,$AS$1:$AX$1,0))","v":0},{"$f":"INDEX(CHARGES,MATCH($D200&$F200,$AQ$2:$AQ$44&$AR$2:$AR$44,0),MATCH(L$1,$AS$1:$AX$1,0))","v":0}]
["Mt Isa - Water Supply Only","Caretaker's accommodation","Caretaker's accommodation","Residential uses","RU_1","2 or less bedrooms",8592,{"$f":"INDEX(CHARGES,MATCH($D201&$F201,$AQ$2:$AQ$44&$AR$2:$AR$44,0),MATCH(H$1,$AS$1:$AX$1,0))","v":2934},0,{"$f":"INDEX(CHARGES,MATCH($D201&$F201,$AQ$2:$AQ$44&$AR$2:$AR$44,0),MATCH(J$1,$AS$1:$AX$1,0))","v":209},{"$f":"INDEX(CHARGES,MATCH($D201&$F201,$AQ$2:$AQ$44&$AR$2:$AR$44,0),MATCH(K$1,$AS$1:$AX$1,0))","v":5239},{"$f":"INDEX(CHARGES,MATCH($D201&$F201,$AQ$2:$AQ$44&$AR$2:$AR$44,0),MATCH(L$1,$AS$1:$AX$1,0))","v":210}]
["Mt Isa - Water Supply Only","Caretaker's accommodation","Caretaker's accommodation","Residential uses","RU_1","3 or more bedrooms",12029,{"$f":"INDEX(CHARGES,MATCH($D202&$F202,$AQ$2:$AQ$44&$AR$2:$AR$44,0),MATCH(H$1,$AS$1:$AX$1,0))","v":4108},0,{"$f":"INDEX(CHARGES,MATCH($D202&$F202,$AQ$2:$AQ$44&$AR$2:$AR$44,0),MATCH(J$1,$AS$1:$AX$1,0))","v":293},{"$f":"INDEX(CHARGES,MATCH($D202&$F202,$AQ$2:$AQ$44&$AR$2:$AR$44,0),MATCH(K$1,$AS$1:$AX$1,0))","v":7335},{"$f":"INDEX(CHARGES,MATCH($D202&$F202,$AQ$2:$AQ$44&$AR$2:$AR$44,0),MATCH(L$1,$AS$1:$AX$1,0))","v":293}]
["Mt Isa - Water Supply Only","Car wash",null,"Other uses","NR_1","Gross Floor Area",0,{"$f":"INDEX(CHARGES,MATCH($D203&$F203,$AQ$2:$AQ$44&$AR$2:$AR$44,0),MATCH(H$1,$AS$1:$AX$1,0))","v":0},0,{"$f":"INDEX(CHARGES,MATCH($D203&$F203,$AQ$2:$AQ$44&$AR$2:$AR$44,0),MATCH(J$1,$AS$1:$AX$1,0))","v":0},{"$f":"INDEX(CHARGES,MATCH($D203&$F203,$AQ$2:$AQ$44&$AR$2:$AR$44,0),MATCH(K$1,$AS$1:$AX$1,0))","v":0},{"$f":"INDEX(CHARGES,MATCH($D203&$F203,$AQ$2:$AQ$44&$AR$2:$AR$44,0),MATCH(L$1,$AS$1:$AX$1,0))","v":0}]
["Mt Isa - Water Supply Only","Car wash",null,"Other uses","NR_1","Impervious Area",0,{"$f":"INDEX(CHARGES,MATCH($D204&$F204,$AQ$2:$AQ$44&$AR$2:$AR$44,0),MATCH(H$1,$AS$1:$AX$1,0))","v":0},0,{"$f":"INDEX(CHARGES,MATCH($D204&$F204,$AQ$2:$AQ$44&$AR$2:$AR$44,0),MATCH(J$1,$AS$1:$AX$1,0))","v":0},{"$f":"INDEX(CHARGES,MATCH($D204&$F204,$AQ$2:$AQ$44&$AR$2:$AR$44,0),MATCH(K$1,$AS$1:$AX$1,0))","v":0},{"$f":"INDEX(CHARGES,MATCH($D204&$F204,$AQ$2:$AQ$44&$AR$2:$AR$44,0),MATCH(L$1,$AS$1:$AX$1,0))","v":0}]
["Mt Isa - Water Supply Only","Cemetery","Cemetery","Minor uses","NR_3","Gross Floor Area",0,{"$f":"INDEX(CHARGES,MATCH($D205&$F205,$AQ$2:$AQ$44&$AR$2:$AR$44,0),MATCH(H$1,$AS$1:$AX$1,0))","v":0},0,{"$f":"INDEX(CHARGES,MATCH($D205&$F205,$AQ$2:$AQ$44&$AR$2:$AR$44,0),MATCH(J$1,$AS$1:$AX$1,0))","v":0},{"$f":"INDEX(CHARGES,MATCH($D205&$F205,$AQ$2:$AQ$44&$AR$2:$AR$44,0),MATCH(K$1,$AS$1:$AX$1,0))","v":0},{"$f":"INDEX(CHARGES,MATCH($D205&$F205,$AQ$2:$AQ$44&$AR$2:$AR$44,0),MATCH(L$1,$AS$1:$AX$1,0))","v":0}]
["Mt Isa - Water Supply Only","Child care centre","Childcare centre","Educational Facility","NR_1","Gross Floor Area",63,{"$f":"INDEX(CHARGES,MATCH($D206&$F206,$AQ$2:$AQ$44&$AR$2:$AR$44,0),MATCH(H$1,$AS$1:$AX$1,0))","v":15},0,{"$f":"INDEX(CHARGES,MATCH($D206&$F206,$AQ$2:$AQ$44&$AR$2:$AR$44,0),MATCH(J$1,$AS$1:$AX$1,0))","v":0},{"$f":"INDEX(CHARGES,MATCH($D206&$F206,$AQ$2:$AQ$44&$AR$2:$AR$44,0),MATCH(K$1,$AS$1:$AX$1,0))","v":48},{"$f":"INDEX(CHARGES,MATCH($D206&$F206,$AQ$2:$AQ$44&$AR$2:$AR$44,0),MATCH(L$1,$AS$1:$AX$1,0))","v":0}]
["Mt Isa - Water Supply Only","Child care centre","Childcare centre","Educational Facility","NR_1","Impervious Area",5,{"$f":"INDEX(CHARGES,MATCH($D207&$F207,$AQ$2:$AQ$44&$AR$2:$AR$44,0),MATCH(H$1,$AS$1:$AX$1,0))","v":0},0,{"$f":"INDEX(CHARGES,MATCH($D207&$F207,$AQ$2:$AQ$44&$AR$2:$AR$44,0),MATCH(J$1,$AS$1:$AX$1,0))","v":5},{"$f":"INDEX(CHARGES,MATCH($D207&$F207,$AQ$2:$AQ$44&$AR$2:$AR$44,0),MATCH(K$1,$AS$1:$AX$1,0))","v":0},{"$f":"INDEX(CHARGES,MATCH($D207&$F207,$AQ$2:$AQ$44&$AR$2:$AR$44,0),MATCH(L$1,$AS$1:$AX$1,0))","v":0}]
["Mt Isa - Water Supply Only","Community residence","Community residence","Accommodation (long-term)","RU_2","bedroom that is not part of a suite",8592,{"$f":"INDEX(CHARGES,MATCH($D208&$F208,$AQ$2:$AQ$44&$AR$2:$AR$44,0),MATCH(H$1,$AS$1:$AX$1,0))","v":2934},0,{"$f":"INDEX(CHARGES,MATCH($D208&$F208,$AQ$2:$AQ$44&$AR$2:$AR$44,0),MATCH(J$1,$AS$1:$AX$1,0))","v":209},{"$f":"INDEX(CHARGES,MATCH($D208&$F208,$AQ$2:$AQ$44&$AR$2:$AR$44,0),MATCH(K$1,$AS$1:$AX$1,0))","v":5239},{"$f":"INDEX(CHARGES,MATCH($D208&$F208,$AQ$2:$AQ$44&$AR$2:$AR$44,0),MATCH(L$1,$AS$1:$AX$1,0))","v":210}]
["Mt Isa - Water Supply Only","Community residence","Community residence","Accommodation (long-term)","RU_2","2 or less bedrooms",8592,{"$f":"INDEX(CHARGES,MATCH($D209&$F209,$AQ$2:$AQ$44&$AR$2:$AR$44,0),MATCH(H$1,$AS$1:$AX$1,0))","v":2934},0,{"$f":"INDEX(CHARGES,MATCH($D209&$F209,$AQ$2:$AQ$44&$AR$2:$AR$44,0),MATCH(J$1,$AS$1:$AX$1,0))","v":209},{"$f":"INDEX(CHARGES,MATCH($D209&$F209,$AQ$2:$AQ$44&$AR$2:$AR$44,0),MATCH(K$1,$AS$1:$AX$1,0))","v":5239},{"$f":"INDEX(CHARGES,MATCH($D209&$F209,$AQ$2:$AQ$44&$AR$2:$AR$44,0),MATCH(L$1,$AS$1:$AX$1,0))","v":210}]
["Mt Isa - Water Supply Only","Community residence","Community residence","Accommodation (long-term)","RU_2","3 or more bedrooms",12029,{"$f":"INDEX(CHARGES,MATCH($D210&$F210,$AQ$2:$AQ$44&$AR$2:$AR$44,0),MATCH(H$1,$AS$1:$AX$1,0))","v":4108},0,{"$f":"INDEX(CHARGES,MATCH($D210&$F210,$AQ$2:$AQ$44&$AR$2:$AR$44,0),MATCH(J$1,$AS$1:$AX$1,0))","v":293},{"$f":"INDEX(CHARGES,MATCH($D210&$F210,$AQ$2:$AQ$44&$AR$2:$AR$44,0),MATCH(K$1,$AS$1:$AX$1,0))","v":7335},{"$f":"INDEX(CHARGES,MATCH($D210&$F210,$AQ$2:$AQ$44&$AR$2:$AR$44,0),MATCH(L$1,$AS$1:$AX$1,0))","v":293}]
["Mt Isa - Water Supply Only","Community use","Community use","Places of assembly","NR_1","Gross Floor Area",32,{"$f":"INDEX(CHARGES,MATCH($D211&$F211,$AQ$2:$AQ$44&$AR$2:$AR$44,0),MATCH(H$1,$AS$1:$AX$1,0))","v":8},0,{"$f":"INDEX(CHARGES,MATCH($D211&$F211,$AQ$2:$AQ$44&$AR$2:$AR$44,0),MATCH(J$1,$AS$1:$AX$1,0))","v":0},{"$f":"INDEX(CHARGES,MATCH($D211&$F211,$AQ$2:$AQ$44&$AR$2:$AR$44,0),MATCH(K$1,$AS$1:$AX$1,0))","v":24},{"$f":"INDEX(CHARGES,MATCH($D211&$F211,$AQ$2:$AQ$44&$AR$2:$AR$44,0),MATCH(L$1,$AS$1:$AX$1,0))","v":0}]
["Mt Isa - Water Supply Only","Community use","Community use","Places of assembly","NR_1","Impervious Area",5,{"$f":"INDEX(CHARGES,MATCH($D212&$F212,$AQ$2:$AQ$44&$AR$2:$AR$44,0),MATCH(H$1,$AS$1:$AX$1,0))","v":0},0,{"$f":"INDEX(CHARGES,MATCH($D212&$F212,$AQ$2:$AQ$44&$AR$2:$AR$44,0),MATCH(J$1,$AS$1:$AX$1,0))","v":5},{"$f":"INDEX(CHARGES,MATCH($D212&$F212,$AQ$2:$AQ$44&$AR$2:$AR$44,0),MATCH(K$1,$AS$1:$AX$1,0))","v":0},{"$f":"INDEX(CHARGES,MATCH($D212&$F212,$AQ$2:$AQ$44&$AR$2:$AR$44,0),MATCH(L$1,$AS$1:$AX$1,0))","v":0}]
["Mt Isa - Water Supply Only","Crematorium","Crematorium","Other uses","NR_1","Gross Floor Area",0,{"$f":"INDEX(CHARGES,MATCH($D213&$F213,$AQ$2:$AQ$44&$AR$2:$AR$44,0),MATCH(H$1,$AS$1:$AX$1,0))","v":0},0,{"$f":"INDEX(CHARGES,MATCH($D213&$F213,$AQ$2:$AQ$44&$AR$2:$AR$44,0),MATCH(J$1,$AS$1:$AX$1,0))","v":0},{"$f":"INDEX(CHARGES,MATCH($D213&$F213,$AQ$2:$AQ$44&$AR$2:$AR$44,0),MATCH(K$1,$AS$1:$AX$1,0))","v":0},{"$f":"INDEX(CHARGES,MATCH($D213&$F213,$AQ$2:$AQ$44&$AR$2:$AR$44,0),MATCH(L$1,$AS$1:$AX$1,0))","v":0}]
["Mt Isa - Water Supply Only","Crematorium","Crematorium","Other uses","NR_1","Impervious Area",0,{"$f":"INDEX(CHARGES,MATCH($D214&$F214,$AQ$2:$AQ$44&$AR$2:$AR$44,0),MATCH(H$1,$AS$1:$AX$1,0))","v":0},0,{"$f":"INDEX(CHARGES,MATCH($D214&$F214,$AQ$2:$AQ$44&$AR$2:$AR$44,0),MATCH(J$1,$AS$1:$AX$1,0))","v":0},{"$f":"INDEX(CHARGES,MATCH($D214&$F214,$AQ$2:$AQ$44&$AR$2:$AR$44,0),MATCH(K$1,$AS$1:$AX$1,0))","v":0},{"$f":"INDEX(CHARGES,MATCH($D214&$F214,$AQ$2:$AQ$44&$AR$2:$AR$44,0),MATCH(L$1,$AS$1:$AX$1,0))","v":0}]
["Mt Isa - Water Supply Only","Cropping","Cropping","Low impact rural","NR_3","Gross Floor Area",0,{"$f":"INDEX(CHARGES,MATCH($D215&$F215,$AQ$2:$AQ$44&$AR$2:$AR$44,0),MATCH(H$1,$AS$1:$AX$1,0))","v":0},0,{"$f":"INDEX(CHARGES,MATCH($D215&$F215,$AQ$2:$AQ$44&$AR$2:$AR$44,0),MATCH(J$1,$AS$1:$AX$1,0))","v":0},{"$f":"INDEX(CHARGES,MATCH($D215&$F215,$AQ$2:$AQ$44&$AR$2:$AR$44,0),MATCH(K$1,$AS$1:$AX$1,0))","v":0},{"$f":"INDEX(CHARGES,MATCH($D215&$F215,$AQ$2:$AQ$44&$AR$2:$AR$44,0),MATCH(L$1,$AS$1:$AX$1,0))","v":0}]
["Mt Isa - Water Supply Only","Detention facility","Correctional facility","Essential services","NR_1","Gross Floor Area",63,{"$f":"INDEX(CHARGES,MATCH($D216&$F216,$AQ$2:$AQ$44&$AR$2:$AR$44,0),MATCH(H$1,$AS$1:$AX$1,0))","v":15},0,{"$f":"INDEX(CHARGES,MATCH($D216&$F216,$AQ$2:$AQ$44&$AR$2:$AR$44,0),MATCH(J$1,$AS$1:$AX$1,0))","v":0},{"$f":"INDEX(CHARGES,MATCH($D216&$F216,$AQ$2:$AQ$44&$AR$2:$AR$44,0),MATCH(K$1,$AS$1:$AX$1,0))","v":48},{"$f":"INDEX(CHARGES,MATCH($D216&$F216,$AQ$2:$AQ$44&$AR$2:$AR$44,0),MATCH(L$1,$AS$1:$AX$1,0))","v":0}]
["Mt Isa - Water Supply Only","Detention facility","Correctional facility","Essential services","NR_1","Impervious Area",5,{"$f":"INDEX(CHARGES,MATCH($D217&$F217,$AQ$2:$AQ$44&$AR$2:$AR$44,0),MATCH(H$1,$AS$1:$AX$1,0))","v":0},0,{"$f":"INDEX(CHARGES,MATCH($D217&$F217,$AQ$2:$AQ$44&$AR$2:$AR$44,0),MATCH(J$1,$AS$1:$AX$1,0))","v":5},{"$f":"INDEX(CHARGES,MATCH($D217&$F217,$AQ$2:$AQ$44&$AR$2:$AR$44,0),MATCH(K$1,$AS$1:$AX$1,0))","v":0},{"$f":"INDEX(CHARGES,MATCH($D217&$F217,$AQ$2:$AQ$44&$AR$2:$AR$44,0),MATCH(L$1,$AS$1:$AX$1,0))","v":0}]
["Mt Isa - Water Supply Only","Dual occupancy","Dual occupancy","Residential uses","RU_1","2 or less bedrooms",8592,{"$f":"INDEX(CHARGES,MATCH($D218&$F218,$AQ$2:$AQ$44&$AR$2:$AR$44,0),MATCH(H$1,$AS$1:$AX$1,0))","v":2934},0,{"$f":"INDEX(CHARGES,MATCH($D218&$F218,$AQ$2:$AQ$44&$AR$2:$AR$44,0),MATCH(J$1,$AS$1:$AX$1,0))","v":209},{"$f":"INDEX(CHARGES,MATCH($D218&$F218,$AQ$2:$AQ$44&$AR$2:$AR$44,0),MATCH(K$1,$AS$1:$AX$1,0))","v":5239},{"$f":"INDEX(CHARGES,MATCH($D218&$F218,$AQ$2:$AQ$44&$AR$2:$AR$44,0),MATCH(L$1,$AS$1:$AX$1,0))","v":210}]
["Mt Isa - Water Supply Only","Dual occupancy","Dual occupancy","Residential uses","RU_1","3 or more bedrooms",12029,{"$f":"INDEX(CHARGES,MATCH($D219&$F219,$AQ$2:$AQ$44&$AR$2:$AR$44,0),MATCH(H$1,$AS$1:$AX$1,0))","v":4108},0,{"$f":"INDEX(CHARGES,MATCH($D219&$F219,$AQ$2:$AQ$44&$AR$2:$AR$44,0),MATCH(J$1,$AS$1:$AX$1,0))","v":293},{"$f":"INDEX(CHARGES,MATCH($D219&$F219,$AQ$2:$AQ$44&$AR$2:$AR$44,0),MATCH(K$1,$AS$1:$AX$1,0))","v":7335},{"$f":"INDEX(CHARGES,MATCH($D219&$F219,$AQ$2:$AQ$44&$AR$2:$AR$44,0),MATCH(L$1,$AS$1:$AX$1,0))","v":293}]
["Mt Isa - Water Supply Only","Dwelling house","Dwelling house","Residential uses","RU_1","2 or less bedrooms",8592,{"$f":"INDEX(CHARGES,MATCH($D220&$F220,$AQ$2:$AQ$44&$AR$2:$AR$44,0),MATCH(H$1,$AS$1:$AX$1,0))","v":2934},0,{"$f":"INDEX(CHARGES,MATCH($D220&$F220,$AQ$2:$AQ$44&$AR$2:$AR$44,0),MATCH(J$1,$AS$1:$AX$1,0))","v":209},{"$f":"INDEX(CHARGES,MATCH($D220&$F220,$AQ$2:$AQ$44&$AR$2:$AR$44,0),MATCH(K$1,$AS$1:$AX$1,0))","v":5239},{"$f":"INDEX(CHARGES,MATCH($D220&$F220,$AQ$2:$AQ$44&$AR$2:$AR$44,0),MATCH(L$1,$AS$1:$AX$1,0))","v":210}]
["Mt Isa - Water Supply Only","Dwelling house","Dwelling house","Residential uses","RU_1","3 or more bedrooms",12029,{"$f":"INDEX(CHARGES,MATCH($D221&$F221,$AQ$2:$AQ$44&$AR$2:$AR$44,0),MATCH(H$1,$AS$1:$AX$1,0))","v":4108},0,{"$f":"INDEX(CHARGES,MATCH($D221&$F221,$AQ$2:$AQ$44&$AR$2:$AR$44,0),MATCH(J$1,$AS$1:$AX$1,0))","v":293},{"$f":"INDEX(CHARGES,MATCH($D221&$F221,$AQ$2:$AQ$44&$AR$2:$AR$44,0),MATCH(K$1,$AS$1:$AX$1,0))","v":7335},{"$f":"INDEX(CHARGES,MATCH($D221&$F221,$AQ$2:$AQ$44&$AR$2:$AR$44,0),MATCH(L$1,$AS$1:$AX$1,0))","v":293}]
["Mt Isa - Water Supply Only","Dwelling unit","Multiple dwelling","Residential uses","RU_1","2 or less bedrooms",8592,{"$f":"INDEX(CHARGES,MATCH($D222&$F222,$AQ$2:$AQ$44&$AR$2:$AR$44,0),MATCH(H$1,$AS$1:$AX$1,0))","v":2934},0,{"$f":"INDEX(CHARGES,MATCH($D222&$F222,$AQ$2:$AQ$44&$AR$2:$AR$44,0),MATCH(J$1,$AS$1:$AX$1,0))","v":209},{"$f":"INDEX(CHARGES,MATCH($D222&$F222,$AQ$2:$AQ$44&$AR$2:$AR$44,0),MATCH(K$1,$AS$1:$AX$1,0))","v":5239},{"$f":"INDEX(CHARGES,MATCH($D222&$F222,$AQ$2:$AQ$44&$AR$2:$AR$44,0),MATCH(L$1,$AS$1:$AX$1,0))","v":210}]
["Mt Isa - Water Supply Only","Dwelling unit","Multiple dwelling","Residential uses","RU_1","3 or more bedrooms",12029,{"$f":"INDEX(CHARGES,MATCH($D223&$F223,$AQ$2:$AQ$44&$AR$2:$AR$44,0),MATCH(H$1,$AS$1:$AX$1,0))","v":4108},0,{"$f":"INDEX(CHARGES,MATCH($D223&$F223,$AQ$2:$AQ$44&$AR$2:$AR$44,0),MATCH(J$1,$AS$1:$AX$1,0))","v":293},{"$f":"INDEX(CHARGES,MATCH($D223&$F223,$AQ$2:$AQ$44&$AR$2:$AR$44,0),MATCH(K$1,$AS$1:$AX$1,0))","v":7335},{"$f":"INDEX(CHARGES,MATCH($D223&$F223,$AQ$2:$AQ$44&$AR$2:$AR$44,0),MATCH(L$1,$AS$1:$AX$1,0))","v":293}]
["Mt Isa - Water Supply Only","Educational establishment other than an educational establishment for the Flying Start for Queensland Children program","Educational establishment other than an educational establishment for the Flying Start for Queensland Children program","Educational Facility","NR_1","Gross Floor Area",63,{"$f":"INDEX(CHARGES,MATCH($D224&$F224,$AQ$2:$AQ$44&$AR$2:$AR$44,0),MATCH(H$1,$AS$1:$AX$1,0))","v":15},0,{"$f":"INDEX(CHARGES,MATCH($D224&$F224,$AQ$2:$AQ$44&$AR$2:$AR$44,0),MATCH(J$1,$AS$1:$AX$1,0))","v":0},{"$f":"INDEX(CHARGES,MATCH($D224&$F224,$AQ$2:$AQ$44&$AR$2:$AR$44,0),MATCH(K$1,$AS$1:$AX$1,0))","v":48},{"$f":"INDEX(CHARGES,MATCH($D224&$F224,$AQ$2:$AQ$44&$AR$2:$AR$44,0),MATCH(L$1,$AS$1:$AX$1,0))","v":0}]
["Mt Isa - Water Supply Only","Educational establishment other than an educational establishment for the Flying Start for Queensland Children program","Educational establishment other than an educational establishment for the Flying Start for Queensland Children program","Educational Facility","NR_1","Impervious Area",5,{"$f":"INDEX(CHARGES,MATCH($D225&$F225,$AQ$2:$AQ$44&$AR$2:$AR$44,0),MATCH(H$1,$AS$1:$AX$1,0))","v":0},0,{"$f":"INDEX(CHARGES,MATCH($D225&$F225,$AQ$2:$AQ$44&$AR$2:$AR$44,0),MATCH(J$1,$AS$1:$AX$1,0))","v":5},{"$f":"INDEX(CHARGES,MATCH($D225&$F225,$AQ$2:$AQ$44&$AR$2:$AR$44,0),MATCH(K$1,$AS$1:$AX$1,0))","v":0},{"$f":"INDEX(CHARGES,MATCH($D225&$F225,$AQ$2:$AQ$44&$AR$2:$AR$44,0),MATCH(L$1,$AS$1:$AX$1,0))","v":0}]
["Mt Isa - Water Supply Only","Educational establishment that is an educational establishment for the Flying Start for Queensland Children program","Educational establishment that is an educational establishment for the Flying Start for Queensland Children program","Educational Facility","NR_1","Gross Floor Area",63,{"$f":"INDEX(CHARGES,MATCH($D226&$F226,$AQ$2:$AQ$44&$AR$2:$AR$44,0),MATCH(H$1,$AS$1:$AX$1,0))","v":15},0,{"$f":"INDEX(CHARGES,MATCH($D226&$F226,$AQ$2:$AQ$44&$AR$2:$AR$44,0),MATCH(J$1,$AS$1:$AX$1,0))","v":0},{"$f":"INDEX(CHARGES,MATCH($D226&$F226,$AQ$2:$AQ$44&$AR$2:$AR$44,0),MATCH(K$1,$AS$1:$AX$1,0))","v":48},{"$f":"INDEX(CHARGES,MATCH($D226&$F226,$AQ$2:$AQ$44&$AR$2:$AR$44,0),MATCH(L$1,$AS$1:$AX$1,0))","v":0}]
["Mt Isa - Water Supply Only","Educational establishment that is an educational establishment for the Flying Start for Queensland Children program","Educational establishment that is an educational establishment for the Flying Start for Queensland Children program","Educational Facility","NR_1","Impervious Area",5,{"$f":"INDEX(CHARGES,MATCH($D227&$F227,$AQ$2:$AQ$44&$AR$2:$AR$44,0),MATCH(H$1,$AS$1:$AX$1,0))","v":0},0,{"$f":"INDEX(CHARGES,MATCH($D227&$F227,$AQ$2:$AQ$44&$AR$2:$AR$44,0),MATCH(J$1,$AS$1:$AX$1,0))","v":5},{"$f":"INDEX(CHARGES,MATCH($D227&$F227,$AQ$2:$AQ$44&$AR$2:$AR$44,0),MATCH(K$1,$AS$1:$AX$1,0))","v":0},{"$f":"INDEX(CHARGES,MATCH($D227&$F227,$AQ$2:$AQ$44&$AR$2:$AR$44,0),MATCH(L$1,$AS$1:$AX$1,0))","v":0}]
["Mt Isa - Water Supply Only","Emergency services","Emergency services","Essential services","NR_1","Gross Floor Area",63,{"$f":"INDEX(CHARGES,MATCH($D228&$F228,$AQ$2:$AQ$44&$AR$2:$AR$44,0),MATCH(H$1,$AS$1:$AX$1,0))","v":15},0,{"$f":"INDEX(CHARGES,MATCH($D228&$F228,$AQ$2:$AQ$44&$AR$2:$AR$44,0),MATCH(J$1,$AS$1:$AX$1,0))","v":0},{"$f":"INDEX(CHARGES,MATCH($D228&$F228,$AQ$2:$AQ$44&$AR$2:$AR$44,0),MATCH(K$1,$AS$1:$AX$1,0))","v":48},{"$f":"INDEX(CHARGES,MATCH($D228&$F228,$AQ$2:$AQ$44&$AR$2:$AR$44,0),MATCH(L$1,$AS$1:$AX$1,0))","v":0}]
["Mt Isa - Water Supply Only","Emergency services","Emergency services","Essential services","NR_1","Impervious Area",5,{"$f":"INDEX(CHARGES,MATCH($D229&$F229,$AQ$2:$AQ$44&$AR$2:$AR$44,0),MATCH(H$1,$AS$1:$AX$1,0))","v":0},0,{"$f":"INDEX(CHARGES,MATCH($D229&$F229,$AQ$2:$AQ$44&$AR$2:$AR$44,0),MATCH(J$1,$AS$1:$AX$1,0))","v":5},{"$f":"INDEX(CHARGES,MATCH($D229&$F229,$AQ$2:$AQ$44&$AR$2:$AR$44,0),MATCH(K$1,$AS$1:$AX$1,0))","v":0},{"$f":"INDEX(CHARGES,MATCH($D229&$F229,$AQ$2:$AQ$44&$AR$2:$AR$44,0),MATCH(L$1,$AS$1:$AX$1,0))","v":0}]
["Mt Isa - Water Supply Only","Environment facility",null,"Other uses","NR_1","Gross Floor Area",0,{"$f":"INDEX(CHARGES,MATCH($D230&$F230,$AQ$2:$AQ$44&$AR$2:$AR$44,0),MATCH(H$1,$AS$1:$AX$1,0))","v":0},0,{"$f":"INDEX(CHARGES,MATCH($D230&$F230,$AQ$2:$AQ$44&$AR$2:$AR$44,0),MATCH(J$1,$AS$1:$AX$1,0))","v":0},{"$f":"INDEX(CHARGES,MATCH($D230&$F230,$AQ$2:$AQ$44&$AR$2:$AR$44,0),MATCH(K$1,$AS$1:$AX$1,0))","v":0},{"$f":"INDEX(CHARGES,MATCH($D230&$F230,$AQ$2:$AQ$44&$AR$2:$AR$44,0),MATCH(L$1,$AS$1:$AX$1,0))","v":0}]
["Mt Isa - Water Supply Only","Environment facility",null,"Other uses","NR_1","Impervious Area",0,{"$f":"INDEX(CHARGES,MATCH($D231&$F231,$AQ$2:$AQ$44&$AR$2:$AR$44,0),MATCH(H$1,$AS$1:$AX$1,0))","v":0},0,{"$f":"INDEX(CHARGES,MATCH($D231&$F231,$AQ$2:$AQ$44&$AR$2:$AR$44,0),MATCH(J$1,$AS$1:$AX$1,0))","v":0},{"$f":"INDEX(CHARGES,MATCH($D231&$F231,$AQ$2:$AQ$44&$AR$2:$AR$44,0),MATCH(K$1,$AS$1:$AX$1,0))","v":0},{"$f":"INDEX(CHARGES,MATCH($D231&$F231,$AQ$2:$AQ$44&$AR$2:$AR$44,0),MATCH(L$1,$AS$1:$AX$1,0))","v":0}]
["Mt Isa - Water Supply Only","Extractive industry","Extractive industry","Other uses","NR_1","Gross Floor Area",0,{"$f":"INDEX(CHARGES,MATCH($D232&$F232,$AQ$2:$AQ$44&$AR$2:$AR$44,0),MATCH(H$1,$AS$1:$AX$1,0))","v":0},0,{"$f":"INDEX(CHARGES,MATCH($D232&$F232,$AQ$2:$AQ$44&$AR$2:$AR$44,0),MATCH(J$1,$AS$1:$AX$1,0))","v":0},{"$f":"INDEX(CHARGES,MATCH($D232&$F232,$AQ$2:$AQ$44&$AR$2:$AR$44,0),MATCH(K$1,$AS$1:$AX$1,0))","v":0},{"$f":"INDEX(CHARGES,MATCH($D232&$F232,$AQ$2:$AQ$44&$AR$2:$AR$44,0),MATCH(L$1,$AS$1:$AX$1,0))","v":0}]
["Mt Isa - Water Supply Only","Extractive industry","Extractive industry","Other uses","NR_1","Impervious Area",0,{"$f":"INDEX(CHARGES,MATCH($D233&$F233,$AQ$2:$AQ$44&$AR$2:$AR$44,0),MATCH(H$1,$AS$1:$AX$1,0))","v":0},0,{"$f":"INDEX(CHARGES,MATCH($D233&$F233,$AQ$2:$AQ$44&$AR$2:$AR$44,0),MATCH(J$1,$AS$1:$AX$1,0))","v":0},{"$f":"INDEX(CHARGES,MATCH($D233&$F233,$AQ$2:$AQ$44&$AR$2:$AR$44,0),MATCH(K$1,$AS$1:$AX$1,0))","v":0},{"$f":"INDEX(CHARGES,MATCH($D233&$F233,$AQ$2:$AQ$44&$AR$2:$AR$44,0),MATCH(L$1,$AS$1:$AX$1,0))","v":0}]
["Mt Isa - Water Supply Only","Food and drink outlet","Food and drink outlet","Commercial (retail)","NR_1","Gross Floor Area",81,{"$f":"INDEX(CHARGES,MATCH($D234&$F234,$AQ$2:$AQ$44&$AR$2:$AR$44,0),MATCH(H$1,$AS$1:$AX$1,0))","v":20},0,{"$f":"INDEX(CHARGES,MATCH($D234&$F234,$AQ$2:$AQ$44&$AR$2:$AR$44,0),MATCH(J$1,$AS$1:$AX$1,0))","v":0},{"$f":"INDEX(CHARGES,MATCH($D234&$F234,$AQ$2:$AQ$44&$AR$2:$AR$44,0),MATCH(K$1,$AS$1:$AX$1,0))","v":61},{"$f":"INDEX(CHARGES,MATCH($D234&$F234,$AQ$2:$AQ$44&$AR$2:$AR$44,0),MATCH(L$1,$AS$1:$AX$1,0))","v":0}]
["Mt Isa - Water Supply Only","Food and drink outlet","Food and drink outlet","Commercial (retail)","NR_1","Impervious Area",5,{"$f":"INDEX(CHARGES,MATCH($D235&$F235,$AQ$2:$AQ$44&$AR$2:$AR$44,0),MATCH(H$1,$AS$1:$AX$1,0))","v":0},0,{"$f":"INDEX(CHARGES,MATCH($D235&$F235,$AQ$2:$AQ$44&$AR$2:$AR$44,0),MATCH(J$1,$AS$1:$AX$1,0))","v":5},{"$f":"INDEX(CHARGES,MATCH($D235&$F235,$AQ$2:$AQ$44&$AR$2:$AR$44,0),MATCH(K$1,$AS$1:$AX$1,0))","v":0},{"$f":"INDEX(CHARGES,MATCH($D235&$F235,$AQ$2:$AQ$44&$AR$2:$AR$44,0),MATCH(L$1,$AS$1:$AX$1,0))","v":0}]
["Mt Isa - Water Supply Only","Office","Office","Commercial (office)","NR_1","Gross Floor Area",63,{"$f":"INDEX(CHARGES,MATCH($D236&$F236,$AQ$2:$AQ$44&$AR$2:$AR$44,0),MATCH(H$1,$AS$1:$AX$1,0))","v":15},0,{"$f":"INDEX(CHARGES,MATCH($D236&$F236,$AQ$2:$AQ$44&$AR$2:$AR$44,0),MATCH(J$1,$AS$1:$AX$1,0))","v":0},{"$f":"INDEX(CHARGES,MATCH($D236&$F236,$AQ$2:$AQ$44&$AR$2:$AR$44,0),MATCH(K$1,$AS$1:$AX$1,0))","v":48},{"$f":"INDEX(CHARGES,MATCH($D236&$F236,$AQ$2:$AQ$44&$AR$2:$AR$44,0),MATCH(L$1,$AS$1:$AX$1,0))","v":0}]
["Mt Isa - Water Supply Only","Office","Office","Commercial (office)","NR_1","Impervious Area",5,{"$f":"INDEX(CHARGES,MATCH($D237&$F237,$AQ$2:$AQ$44&$AR$2:$AR$44,0),MATCH(H$1,$AS$1:$AX$1,0))","v":0},0,{"$f":"INDEX(CHARGES,MATCH($D237&$F237,$AQ$2:$AQ$44&$AR$2:$AR$44,0),MATCH(J$1,$AS$1:$AX$1,0))","v":5},{"$f":"INDEX(CHARGES,MATCH($D237&$F237,$AQ$2:$AQ$44&$AR$2:$AR$44,0),MATCH(K$1,$AS$1:$AX$1,0))","v":0},{"$f":"INDEX(CHARGES,MATCH($D237&$F237,$AQ$2:$AQ$44&$AR$2:$AR$44,0),MATCH(L$1,$AS$1:$AX$1,0))","v":0}]
["Mt Isa - Water Supply Only","Outdoor sales","Outdoor sales","Commercial (retail)","NR_1","Gross Floor Area",81,{"$f":"INDEX(CHARGES,MATCH($D238&$F238,$AQ$2:$AQ$44&$AR$2:$AR$44,0),MATCH(H$1,$AS$1:$AX$1,0))","v":20},0,{"$f":"INDEX(CHARGES,MATCH($D238&$F238,$AQ$2:$AQ$44&$AR$2:$AR$44,0),MATCH(J$1,$AS$1:$AX$1,0))","v":0},{"$f":"INDEX(CHARGES,MATCH($D238&$F238,$AQ$2:$AQ$44&$AR$2:$AR$44,0),MATCH(K$1,$AS$1:$AX$1,0))","v":61},{"$f":"INDEX(CHARGES,MATCH($D238&$F238,$AQ$2:$AQ$44&$AR$2:$AR$44,0),MATCH(L$1,$AS$1:$AX$1,0))","v":0}]
["Mt Isa - Water Supply Only","Outdoor sales","Outdoor sales","Commercial (retail)","NR_1","Impervious Area",5,{"$f":"INDEX(CHARGES,MATCH($D239&$F239,$AQ$2:$AQ$44&$AR$2:$AR$44,0),MATCH(H$1,$AS$1:$AX$1,0))","v":0},0,{"$f":"INDEX(CHARGES,MATCH($D239&$F239,$AQ$2:$AQ$44&$AR$2:$AR$44,0),MATCH(J$1,$AS$1:$AX$1,0))","v":5},{"$f":"INDEX(CHARGES,MATCH($D239&$F239,$AQ$2:$AQ$44&$AR$2:$AR$44,0),MATCH(K$1,$AS$1:$AX$1,0))","v":0},{"$f":"INDEX(CHARGES,MATCH($D239&$F239,$AQ$2:$AQ$44&$AR$2:$AR$44,0),MATCH(L$1,$AS$1:$AX$1,0))","v":0}]
["Mt Isa - Water Supply Only","Outdoor sport and recreation","Outdoor sport and recreation","Other uses","NR_2","Gross Floor Area - not court area",0,{"$f":"INDEX(CHARGES,MATCH($D240&$F240,$AQ$2:$AQ$44&$AR$2:$AR$44,0),MATCH(H$1,$AS$1:$AX$1,0))","v":0},0,{"$f":"INDEX(CHARGES,MATCH($D240&$F240,$AQ$2:$AQ$44&$AR$2:$AR$44,0),MATCH(J$1,$AS$1:$AX$1,0))","v":0},{"$f":"INDEX(CHARGES,MATCH($D240&$F240,$AQ$2:$AQ$44&$AR$2:$AR$44,0),MATCH(K$1,$AS$1:$AX$1,0))","v":0},{"$f":"INDEX(CHARGES,MATCH($D240&$F240,$AQ$2:$AQ$44&$AR$2:$AR$44,0),MATCH(L$1,$AS$1:$AX$1,0))","v":0}]
["Mt Isa - Water Supply Only","Outdoor sport and recreation","Outdoor sport and recreation","Other uses","NR_2","Gross Floor Area - court area",0,{"$f":"INDEX(CHARGES,MATCH($D241&$F241,$AQ$2:$AQ$44&$AR$2:$AR$44,0),MATCH(H$1,$AS$1:$AX$1,0))","v":0},0,{"$f":"INDEX(CHARGES,MATCH($D241&$F241,$AQ$2:$AQ$44&$AR$2:$AR$44,0),MATCH(J$1,$AS$1:$AX$1,0))","v":0},{"$f":"INDEX(CHARGES,MATCH($D241&$F241,$AQ$2:$AQ$44&$AR$2:$AR$44,0),MATCH(K$1,$AS$1:$AX$1,0))","v":0},{"$f":"INDEX(CHARGES,MATCH($D241&$F241,$AQ$2:$AQ$44&$AR$2:$AR$44,0),MATCH(L$1,$AS$1:$AX$1,0))","v":0}]
["Mt Isa - Water Supply Only","Outdoor sport and recreation","Outdoor sport and recreation","Other uses","NR_2","Impervious Area",0,{"$f":"INDEX(CHARGES,MATCH($D242&$F242,$AQ$2:$AQ$44&$AR$2:$AR$44,0),MATCH(H$1,$AS$1:$AX$1,0))","v":0},0,{"$f":"INDEX(CHARGES,MATCH($D242&$F242,$AQ$2:$AQ$44&$AR$2:$AR$44,0),MATCH(J$1,$AS$1:$AX$1,0))","v":0},{"$f":"INDEX(CHARGES,MATCH($D242&$F242,$AQ$2:$AQ$44&$AR$2:$AR$44,0),MATCH(K$1,$AS$1:$AX$1,0))","v":0},{"$f":"INDEX(CHARGES,MATCH($D242&$F242,$AQ$2:$AQ$44&$AR$2:$AR$44,0),MATCH(L$1,$AS$1:$AX$1,0))","v":0}]
["Mt Isa - Water Supply Only","Outstation",null,"Other uses","NR_1","Gross Floor Area",0,{"$f":"INDEX(CHARGES,MATCH($D243&$F243,$AQ$2:$AQ$44&$AR$2:$AR$44,0),MATCH(H$1,$AS$1:$AX$1,0))","v":0},0,{"$f":"INDEX(CHARGES,MATCH($D243&$F243,$AQ$2:$AQ$44&$AR$2:$AR$44,0),MATCH(J$1,$AS$1:$AX$1,0))","v":0},{"$f":"INDEX(CHARGES,MATCH($D243&$F243,$AQ$2:$AQ$44&$AR$2:$AR$44,0),MATCH(K$1,$AS$1:$AX$1,0))","v":0},{"$f":"INDEX(CHARGES,MATCH($D243&$F243,$AQ$2:$AQ$44&$AR$2:$AR$44,0),MATCH(L$1,$AS$1:$AX$1,0))","v":0}]
["Mt Isa - Water Supply Only","Outstation",null,"Other uses","NR_1","Impervious Area",0,{"$f":"INDEX(CHARGES,MATCH($D244&$F244,$AQ$2:$AQ$44&$AR$2:$AR$44,0),MATCH(H$1,$AS$1:$AX$1,0))","v":0},0,{"$f":"INDEX(CHARGES,MATCH($D244&$F244,$AQ$2:$AQ$44&$AR$2:$AR$44,0),MATCH(J$1,$AS$1:$AX$1,0))","v":0},{"$f":"INDEX(CHARGES,MATCH($D244&$F244,$AQ$2:$AQ$44&$AR$2:$AR$44,0),MATCH(K$1,$AS$1:$AX$1,0))","v":0},{"$f":"INDEX(CHARGES,MATCH($D244&$F244,$AQ$2:$AQ$44&$AR$2:$AR$44,0),MATCH(L$1,$AS$1:$AX$1,0))","v":0}]
["Mt Isa - Water Supply Only","Park","Park","Minor uses","NR_3","Gross Floor Area",0,{"$f":"INDEX(CHARGES,MATCH($D245&$F245,$AQ$2:$AQ$44&$AR$2:$AR$44,0),MATCH(H$1,$AS$1:$AX$1,0))","v":0},0,{"$f":"INDEX(CHARGES,MATCH($D245&$F245,$AQ$2:$AQ$44&$AR$2:$AR$44,0),MATCH(J$1,$AS$1:$AX$1,0))","v":0},{"$f":"INDEX(CHARGES,MATCH($D245&$F245,$AQ$2:$AQ$44&$AR$2:$AR$44,0),MATCH(K$1,$AS$1:$AX$1,0))","v":0},{"$f":"INDEX(CHARGES,MATCH($D245&$F245,$AQ$2:$AQ$44&$AR$2:$AR$44,0),MATCH(L$1,$AS$1:$AX$1,0))","v":0}]
["Mt Isa - Water Supply Only","Parking station",null,"Other uses","NR_1","Gross Floor Area",0,{"$f":"INDEX(CHARGES,MATCH($D246&$F246,$AQ$2:$AQ$44&$AR$2:$AR$44,0),MATCH(H$1,$AS$1:$AX$1,0))","v":0},0,{"$f":"INDEX(CHARGES,MATCH($D246&$F246,$AQ$2:$AQ$44&$AR$2:$AR$44,0),MATCH(J$1,$AS$1:$AX$1,0))","v":0},{"$f":"INDEX(CHARGES,MATCH($D246&$F246,$AQ$2:$AQ$44&$AR$2:$AR$44,0),MATCH(K$1,$AS$1:$AX$1,0))","v":0},{"$f":"INDEX(CHARGES,MATCH($D246&$F246,$AQ$2:$AQ$44&$AR$2:$AR$44,0),MATCH(L$1,$AS$1:$AX$1,0))","v":0}]
["Mt Isa - Water Supply Only","Parking station",null,"Other uses","NR_1","Impervious Area",0,{"$f":"INDEX(CHARGES,MATCH($D247&$F247,$AQ$2:$AQ$44&$AR$2:$AR$44,0),MATCH(H$1,$AS$1:$AX$1,0))","v":0},0,{"$f":"INDEX(CHARGES,MATCH($D247&$F247,$AQ$2:$AQ$44&$AR$2:$AR$44,0),MATCH(J$1,$AS$1:$AX$1,0))","v":0},{"$f":"INDEX(CHARGES,MATCH($D247&$F247,$AQ$2:$AQ$44&$AR$2:$AR$44,0),MATCH(K$1,$AS$1:$AX$1,0))","v":0},{"$f":"INDEX(CHARGES,MATCH($D247&$F247,$AQ$2:$AQ$44&$AR$2:$AR$44,0),MATCH(L$1,$AS$1:$AX$1,0))","v":0}]
["Mt Isa - Water Supply Only","Permanent plantation","Permanent plantation","Low impact rural","NR_3","Gross Floor Area",0,{"$f":"INDEX(CHARGES,MATCH($D248&$F248,$AQ$2:$AQ$44&$AR$2:$AR$44,0),MATCH(H$1,$AS$1:$AX$1,0))","v":0},0,{"$f":"INDEX(CHARGES,MATCH($D248&$F248,$AQ$2:$AQ$44&$AR$2:$AR$44,0),MATCH(J$1,$AS$1:$AX$1,0))","v":0},{"$f":"INDEX(CHARGES,MATCH($D248&$F248,$AQ$2:$AQ$44&$AR$2:$AR$44,0),MATCH(K$1,$AS$1:$AX$1,0))","v":0},{"$f":"INDEX(CHARGES,MATCH($D248&$F248,$AQ$2:$AQ$44&$AR$2:$AR$44,0),MATCH(L$1,$AS$1:$AX$1,0))","v":0}]
["Mt Isa - Water Supply Only","Function facility","Function facility","Places of assembly","NR_1","Gross Floor Area",32,{"$f":"INDEX(CHARGES,MATCH($D249&$F249,$AQ$2:$AQ$44&$AR$2:$AR$44,0),MATCH(H$1,$AS$1:$AX$1,0))","v":8},0,{"$f":"INDEX(CHARGES,MATCH($D249&$F249,$AQ$2:$AQ$44&$AR$2:$AR$44,0),MATCH(J$1,$AS$1:$AX$1,0))","v":0},{"$f":"INDEX(CHARGES,MATCH($D249&$F249,$AQ$2:$AQ$44&$AR$2:$AR$44,0),MATCH(K$1,$AS$1:$AX$1,0))","v":24},{"$f":"INDEX(CHARGES,MATCH($D249&$F249,$AQ$2:$AQ$44&$AR$2:$AR$44,0),MATCH(L$1,$AS$1:$AX$1,0))","v":0}]
["Mt Isa - Water Supply Only","Function facility","Function facility","Places of assembly","NR_1","Impervious Area",5,{"$f":"INDEX(CHARGES,MATCH($D250&$F250,$AQ$2:$AQ$44&$AR$2:$AR$44,0),MATCH(H$1,$AS$1:$AX$1,0))","v":0},0,{"$f":"INDEX(CHARGES,MATCH($D250&$F250,$AQ$2:$AQ$44&$AR$2:$AR$44,0),MATCH(J$1,$AS$1:$AX$1,0))","v":5},{"$f":"INDEX(CHARGES,MATCH($D250&$F250,$AQ$2:$AQ$44&$AR$2:$AR$44,0),MATCH(K$1,$AS$1:$AX$1,0))","v":0},{"$f":"INDEX(CHARGES,MATCH($D250&$F250,$AQ$2:$AQ$44&$AR$2:$AR$44,0),MATCH(L$1,$AS$1:$AX$1,0))","v":0}]
["Mt Isa - Water Supply Only","Funeral parlour","Funeral parlour","Places of assembly","NR_1","Gross Floor Area",32,{"$f":"INDEX(CHARGES,MATCH($D251&$F251,$AQ$2:$AQ$44&$AR$2:$AR$44,0),MATCH(H$1,$AS$1:$AX$1,0))","v":8},0,{"$f":"INDEX(CHARGES,MATCH($D251&$F251,$AQ$2:$AQ$44&$AR$2:$AR$44,0),MATCH(J$1,$AS$1:$AX$1,0))","v":0},{"$f":"INDEX(CHARGES,MATCH($D251&$F251,$AQ$2:$AQ$44&$AR$2:$AR$44,0),MATCH(K$1,$AS$1:$AX$1,0))","v":24},{"$f":"INDEX(CHARGES,MATCH($D251&$F251,$AQ$2:$AQ$44&$AR$2:$AR$44,0),MATCH(L$1,$AS$1:$AX$1,0))","v":0}]
["Mt Isa - Water Supply Only","Funeral parlour","Funeral parlour","Places of assembly","NR_1","Impervious Area",5,{"$f":"INDEX(CHARGES,MATCH($D252&$F252,$AQ$2:$AQ$44&$AR$2:$AR$44,0),MATCH(H$1,$AS$1:$AX$1,0))","v":0},0,{"$f":"INDEX(CHARGES,MATCH($D252&$F252,$AQ$2:$AQ$44&$AR$2:$AR$44,0),MATCH(J$1,$AS$1:$AX$1,0))","v":5},{"$f":"INDEX(CHARGES,MATCH($D252&$F252,$AQ$2:$AQ$44&$AR$2:$AR$44,0),MATCH(K$1,$AS$1:$AX$1,0))","v":0},{"$f":"INDEX(CHARGES,MATCH($D252&$F252,$AQ$2:$AQ$44&$AR$2:$AR$44,0),MATCH(L$1,$AS$1:$AX$1,0))","v":0}]
["Mt Isa - Water Supply Only","Garden centre","Garden centre","Commercial (bulk goods)","NR_1","Gross Floor Area",63,{"$f":"INDEX(CHARGES,MATCH($D253&$F253,$AQ$2:$AQ$44&$AR$2:$AR$44,0),MATCH(H$1,$AS$1:$AX$1,0))","v":15},0,{"$f":"INDEX(CHARGES,MATCH($D253&$F253,$AQ$2:$AQ$44&$AR$2:$AR$44,0),MATCH(J$1,$AS$1:$AX$1,0))","v":0},{"$f":"INDEX(CHARGES,MATCH($D253&$F253,$AQ$2:$AQ$44&$AR$2:$AR$44,0),MATCH(K$1,$AS$1:$AX$1,0))","v":48},{"$f":"INDEX(CHARGES,MATCH($D253&$F253,$AQ$2:$AQ$44&$AR$2:$AR$44,0),MATCH(L$1,$AS$1:$AX$1,0))","v":0}]
["Mt Isa - Water Supply Only","Garden centre","Garden centre","Commercial (bulk goods)","NR_1","Impervious Area",5,{"$f":"INDEX(CHARGES,MATCH($D254&$F254,$AQ$2:$AQ$44&$AR$2:$AR$44,0),MATCH(H$1,$AS$1:$AX$1,0))","v":0},0,{"$f":"INDEX(CHARGES,MATCH($D254&$F254,$AQ$2:$AQ$44&$AR$2:$AR$44,0),MATCH(J$1,$AS$1:$AX$1,0))","v":5},{"$f":"INDEX(CHARGES,MATCH($D254&$F254,$AQ$2:$AQ$44&$AR$2:$AR$44,0),MATCH(K$1,$AS$1:$AX$1,0))","v":0},{"$f":"INDEX(CHARGES,MATCH($D254&$F254,$AQ$2:$AQ$44&$AR$2:$AR$44,0),MATCH(L$1,$AS$1:$AX$1,0))","v":0}]
["Mt Isa - Water Supply Only","Hardware and trade supplies","Hardware and trade supplies","Commercial (bulk goods)","NR_1","Gross Floor Area",63,{"$f":"INDEX(CHARGES,MATCH($D255&$F255,$AQ$2:$AQ$44&$AR$2:$AR$44,0),MATCH(H$1,$AS$1:$AX$1,0))","v":15},0,{"$f":"INDEX(CHARGES,MATCH($D255&$F255,$AQ$2:$AQ$44&$AR$2:$AR$44,0),MATCH(J$1,$AS$1:$AX$1,0))","v":0},{"$f":"INDEX(CHARGES,MATCH($D255&$F255,$AQ$2:$AQ$44&$AR$2:$AR$44,0),MATCH(K$1,$AS$1:$AX$1,0))","v":48},{"$f":"INDEX(CHARGES,MATCH($D255&$F255,$AQ$2:$AQ$44&$AR$2:$AR$44,0),MATCH(L$1,$AS$1:$AX$1,0))","v":0}]
["Mt Isa - Water Supply Only","Hardware and trade supplies","Hardware and trade supplies","Commercial (bulk goods)","NR_1","Impervious Area",5,{"$f":"INDEX(CHARGES,MATCH($D256&$F256,$AQ$2:$AQ$44&$AR$2:$AR$44,0),MATCH(H$1,$AS$1:$AX$1,0))","v":0},0,{"$f":"INDEX(CHARGES,MATCH($D256&$F256,$AQ$2:$AQ$44&$AR$2:$AR$44,0),MATCH(J$1,$AS$1:$AX$1,0))","v":5},{"$f":"INDEX(CHARGES,MATCH($D256&$F256,$AQ$2:$AQ$44&$AR$2:$AR$44,0),MATCH(K$1,$AS$1:$AX$1,0))","v":0},{"$f":"INDEX(CHARGES,MATCH($D256&$F256,$AQ$2:$AQ$44&$AR$2:$AR$44,0),MATCH(L$1,$AS$1:$AX$1,0))","v":0}]
["Mt Isa - Water Supply Only","Health care services","Health care service","Essential services","NR_1","Gross Floor Area",63,{"$f":"INDEX(CHARGES,MATCH($D257&$F257,$AQ$2:$AQ$44&$AR$2:$AR$44,0),MATCH(H$1,$AS$1:$AX$1,0))","v":15},0,{"$f":"INDEX(CHARGES,MATCH($D257&$F257,$AQ$2:$AQ$44&$AR$2:$AR$44,0),MATCH(J$1,$AS$1:$AX$1,0))","v":0},{"$f":"INDEX(CHARGES,MATCH($D257&$F257,$AQ$2:$AQ$44&$AR$2:$AR$44,0),MATCH(K$1,$AS$1:$AX$1,0))","v":48},{"$f":"INDEX(CHARGES,MATCH($D257&$F257,$AQ$2:$AQ$44&$AR$2:$AR$44,0),MATCH(L$1,$AS$1:$AX$1,0))","v":0}]
["Mt Isa - Water Supply Only","Health care services","Health care service","Essential services","NR_1","Impervious Area",5,{"$f":"INDEX(CHARGES,MATCH($D258&$F258,$AQ$2:$AQ$44&$AR$2:$AR$44,0),MATCH(H$1,$AS$1:$AX$1,0))","v":0},0,{"$f":"INDEX(CHARGES,MATCH($D258&$F258,$AQ$2:$AQ$44&$AR$2:$AR$44,0),MATCH(J$1,$AS$1:$AX$1,0))","v":5},{"$f":"INDEX(CHARGES,MATCH($D258&$F258,$AQ$2:$AQ$44&$AR$2:$AR$44,0),MATCH(K$1,$AS$1:$AX$1,0))","v":0},{"$f":"INDEX(CHARGES,MATCH($D258&$F258,$AQ$2:$AQ$44&$AR$2:$AR$44,0),MATCH(L$1,$AS$1:$AX$1,0))","v":0}]
["Mt Isa - Water Supply Only","High impact industry","High impact industry","High impact industry or special industry","NR_1","Gross Floor Area",32,{"$f":"INDEX(CHARGES,MATCH($D259&$F259,$AQ$2:$AQ$44&$AR$2:$AR$44,0),MATCH(H$1,$AS$1:$AX$1,0))","v":8},0,{"$f":"INDEX(CHARGES,MATCH($D259&$F259,$AQ$2:$AQ$44&$AR$2:$AR$44,0),MATCH(J$1,$AS$1:$AX$1,0))","v":0},{"$f":"INDEX(CHARGES,MATCH($D259&$F259,$AQ$2:$AQ$44&$AR$2:$AR$44,0),MATCH(K$1,$AS$1:$AX$1,0))","v":24},{"$f":"INDEX(CHARGES,MATCH($D259&$F259,$AQ$2:$AQ$44&$AR$2:$AR$44,0),MATCH(L$1,$AS$1:$AX$1,0))","v":0}]
["Mt Isa - Water Supply Only","High impact industry","High impact industry","High impact industry or special industry","NR_1","Impervious Area",5,{"$f":"INDEX(CHARGES,MATCH($D260&$F260,$AQ$2:$AQ$44&$AR$2:$AR$44,0),MATCH(H$1,$AS$1:$AX$1,0))","v":0},0,{"$f":"INDEX(CHARGES,MATCH($D260&$F260,$AQ$2:$AQ$44&$AR$2:$AR$44,0),MATCH(J$1,$AS$1:$AX$1,0))","v":5},{"$f":"INDEX(CHARGES,MATCH($D260&$F260,$AQ$2:$AQ$44&$AR$2:$AR$44,0),MATCH(K$1,$AS$1:$AX$1,0))","v":0},{"$f":"INDEX(CHARGES,MATCH($D260&$F260,$AQ$2:$AQ$44&$AR$2:$AR$44,0),MATCH(L$1,$AS$1:$AX$1,0))","v":0}]
["Mt Isa - Water Supply Only","Home based business","Home based business","Minor uses","NR_3","Gross Floor Area",0,{"$f":"INDEX(CHARGES,MATCH($D261&$F261,$AQ$2:$AQ$44&$AR$2:$AR$44,0),MATCH(H$1,$AS$1:$AX$1,0))","v":0},0,{"$f":"INDEX(CHARGES,MATCH($D261&$F261,$AQ$2:$AQ$44&$AR$2:$AR$44,0),MATCH(J$1,$AS$1:$AX$1,0))","v":0},{"$f":"INDEX(CHARGES,MATCH($D261&$F261,$AQ$2:$AQ$44&$AR$2:$AR$44,0),MATCH(K$1,$AS$1:$AX$1,0))","v":0},{"$f":"INDEX(CHARGES,MATCH($D261&$F261,$AQ$2:$AQ$44&$AR$2:$AR$44,0),MATCH(L$1,$AS$1:$AX$1,0))","v":0}]
["Mt Isa - Water Supply Only","Hospital","Hospital","Essential services","NR_1","Gross Floor Area",63,{"$f":"INDEX(CHARGES,MATCH($D262&$F262,$AQ$2:$AQ$44&$AR$2:$AR$44,0),MATCH(H$1,$AS$1:$AX$1,0))","v":15},0,{"$f":"INDEX(CHARGES,MATCH($D262&$F262,$AQ$2:$AQ$44&$AR$2:$AR$44,0),MATCH(J$1,$AS$1:$AX$1,0))","v":0},{"$f":"INDEX(CHARGES,MATCH($D262&$F262,$AQ$2:$AQ$44&$AR$2:$AR$44,0),MATCH(K$1,$AS$1:$AX$1,0))","v":48},{"$f":"INDEX(CHARGES,MATCH($D262&$F262,$AQ$2:$AQ$44&$AR$2:$AR$44,0),MATCH(L$1,$AS$1:$AX$1,0))","v":0}]
["Mt Isa - Water Supply Only","Hospital","Hospital","Essential services","NR_1","Impervious Area",5,{"$f":"INDEX(CHARGES,MATCH($D263&$F263,$AQ$2:$AQ$44&$AR$2:$AR$44,0),MATCH(H$1,$AS$1:$AX$1,0))","v":0},0,{"$f":"INDEX(CHARGES,MATCH($D263&$F263,$AQ$2:$AQ$44&$AR$2:$AR$44,0),MATCH(J$1,$AS$1:$AX$1,0))","v":5},{"$f":"INDEX(CHARGES,MATCH($D263&$F263,$AQ$2:$AQ$44&$AR$2:$AR$44,0),MATCH(K$1,$AS$1:$AX$1,0))","v":0},{"$f":"INDEX(CHARGES,MATCH($D263&$F263,$AQ$2:$AQ$44&$AR$2:$AR$44,0),MATCH(L$1,$AS$1:$AX$1,0))","v":0}]
["Mt Isa - Water Supply Only","Hotel - Accommodation component","Hotel","Accommodation (short-term)","RU_2","bedroom that is not part of a suite",{"$f":"SUM(H264:L264)","v":4296},{"$f":"INDEX(CHARGES,MATCH($D264&$F264,$AQ$2:$AQ$44&$AR$2:$AR$44,0),MATCH(H$1,$AS$1:$AX$1,0))","v":1467},0,{"$f":"INDEX(CHARGES,MATCH($D264&$F264,$AQ$2:$AQ$44&$AR$2:$AR$44,0),MATCH(J$1,$AS$1:$AX$1,0))","v":104},{"$f":"INDEX(CHARGES,MATCH($D264&$F264,$AQ$2:$AQ$44&$AR$2:$AR$44,0),MATCH(K$1,$AS$1:$AX$1,0))","v":2620},{"$f":"INDEX(CHARGES,MATCH($D264&$F264,$AQ$2:$AQ$44&$AR$2:$AR$44,0),MATCH(L$1,$AS$1:$AX$1,0))","v":105}]
["Mt Isa - Water Supply Only","Hotel - Accommodation component","Hotel","Accommodation (short-term)","RU_2","2 or less bedrooms",4296,{"$f":"INDEX(CHARGES,MATCH($D265&$F265,$AQ$2:$AQ$44&$AR$2:$AR$44,0),MATCH(H$1,$AS$1:$AX$1,0))","v":1467},0,{"$f":"INDEX(CHARGES,MATCH($D265&$F265,$AQ$2:$AQ$44&$AR$2:$AR$44,0),MATCH(J$1,$AS$1:$AX$1,0))","v":104},{"$f":"INDEX(CHARGES,MATCH($D265&$F265,$AQ$2:$AQ$44&$AR$2:$AR$44,0),MATCH(K$1,$AS$1:$AX$1,0))","v":2620},{"$f":"INDEX(CHARGES,MATCH($D265&$F265,$AQ$2:$AQ$44&$AR$2:$AR$44,0),MATCH(L$1,$AS$1:$AX$1,0))","v":105}]
["Mt Isa - Water Supply Only","Hotel - Accommodation component","Hotel","Accommodation (short-term)","RU_2","3 or more bedrooms",6015,{"$f":"INDEX(CHARGES,MATCH($D266&$F266,$AQ$2:$AQ$44&$AR$2:$AR$44,0),MATCH(H$1,$AS$1:$AX$1,0))","v":2054},0,{"$f":"INDEX(CHARGES,MATCH($D266&$F266,$AQ$2:$AQ$44&$AR$2:$AR$44,0),MATCH(J$1,$AS$1:$AX$1,0))","v":146},{"$f":"INDEX(CHARGES,MATCH($D266&$F266,$AQ$2:$AQ$44&$AR$2:$AR$44,0),MATCH(K$1,$AS$1:$AX$1,0))","v":3668},{"$f":"INDEX(CHARGES,MATCH($D266&$F266,$AQ$2:$AQ$44&$AR$2:$AR$44,0),MATCH(L$1,$AS$1:$AX$1,0))","v":147}]
["Mt Isa - Water Supply Only","Hotel - Entertainment component","Hotel","Entertainment","NR_1","Gross Floor Area",90,{"$f":"INDEX(CHARGES,MATCH($D267&$F267,$AQ$2:$AQ$44&$AR$2:$AR$44,0),MATCH(H$1,$AS$1:$AX$1,0))","v":22},0,{"$f":"INDEX(CHARGES,MATCH($D267&$F267,$AQ$2:$AQ$44&$AR$2:$AR$44,0),MATCH(J$1,$AS$1:$AX$1,0))","v":0},{"$f":"INDEX(CHARGES,MATCH($D267&$F267,$AQ$2:$AQ$44&$AR$2:$AR$44,0),MATCH(K$1,$AS$1:$AX$1,0))","v":68},{"$f":"INDEX(CHARGES,MATCH($D267&$F267,$AQ$2:$AQ$44&$AR$2:$AR$44,0),MATCH(L$1,$AS$1:$AX$1,0))","v":0}]
["Mt Isa - Water Supply Only","Hotel - Entertainment component","Hotel","Entertainment","NR_1","Impervious Area",5,{"$f":"INDEX(CHARGES,MATCH($D268&$F268,$AQ$2:$AQ$44&$AR$2:$AR$44,0),MATCH(H$1,$AS$1:$AX$1,0))","v":0},0,{"$f":"INDEX(CHARGES,MATCH($D268&$F268,$AQ$2:$AQ$44&$AR$2:$AR$44,0),MATCH(J$1,$AS$1:$AX$1,0))","v":5},{"$f":"INDEX(CHARGES,MATCH($D268&$F268,$AQ$2:$AQ$44&$AR$2:$AR$44,0),MATCH(K$1,$AS$1:$AX$1,0))","v":0},{"$f":"INDEX(CHARGES,MATCH($D268&$F268,$AQ$2:$AQ$44&$AR$2:$AR$44,0),MATCH(L$1,$AS$1:$AX$1,0))","v":0}]
["Mt Isa - Water Supply Only","Indoor sport and recreation","Indoor sport and recreation","Indoor sport and recreation","NR_2","Gross Floor Area - not court area",{"$f":"SUM(H269:L269)","v":90},{"$f":"INDEX(CHARGES,MATCH($D269&$F269,$AQ$2:$AQ$44&$AR$2:$AR$44,0),MATCH(H$1,$AS$1:$AX$1,0))","v":22},0,{"$f":"INDEX(CHARGES,MATCH($D269&$F269,$AQ$2:$AQ$44&$AR$2:$AR$44,0),MATCH(J$1,$AS$1:$AX$1,0))","v":0},{"$f":"INDEX(CHARGES,MATCH($D269&$F269,$AQ$2:$AQ$44&$AR$2:$AR$44,0),MATCH(K$1,$AS$1:$AX$1,0))","v":68},{"$f":"INDEX(CHARGES,MATCH($D269&$F269,$AQ$2:$AQ$44&$AR$2:$AR$44,0),MATCH(L$1,$AS$1:$AX$1,0))","v":0}]
["Mt Isa - Water Supply Only","Indoor sport and recreation","Indoor sport and recreation","Indoor sport and recreation","NR_2","Gross Floor Area - court area",9,{"$f":"INDEX(CHARGES,MATCH($D270&$F270,$AQ$2:$AQ$44&$AR$2:$AR$44,0),MATCH(H$1,$AS$1:$AX$1,0))","v":2},0,{"$f":"INDEX(CHARGES,MATCH($D270&$F270,$AQ$2:$AQ$44&$AR$2:$AR$44,0),MATCH(J$1,$AS$1:$AX$1,0))","v":0},{"$f":"INDEX(CHARGES,MATCH($D270&$F270,$AQ$2:$AQ$44&$AR$2:$AR$44,0),MATCH(K$1,$AS$1:$AX$1,0))","v":7},{"$f":"INDEX(CHARGES,MATCH($D270&$F270,$AQ$2:$AQ$44&$AR$2:$AR$44,0),MATCH(L$1,$AS$1:$AX$1,0))","v":0}]
["Mt Isa - Water Supply Only","Indoor sport and recreation","Indoor sport and recreation","Indoor sport and recreation","NR_2","Impervious Area",5,{"$f":"INDEX(CHARGES,MATCH($D271&$F271,$AQ$2:$AQ$44&$AR$2:$AR$44,0),MATCH(H$1,$AS$1:$AX$1,0))","v":0},0,{"$f":"INDEX(CHARGES,MATCH($D271&$F271,$AQ$2:$AQ$44&$AR$2:$AR$44,0),MATCH(J$1,$AS$1:$AX$1,0))","v":5},{"$f":"INDEX(CHARGES,MATCH($D271&$F271,$AQ$2:$AQ$44&$AR$2:$AR$44,0),MATCH(K$1,$AS$1:$AX$1,0))","v":0},{"$f":"INDEX(CHARGES,MATCH($D271&$F271,$AQ$2:$AQ$44&$AR$2:$AR$44,0),MATCH(L$1,$AS$1:$AX$1,0))","v":0}]
["Mt Isa - Water Supply Only","Intensive animal industry","Intensive animal industry","High impact rural","NR_3","Gross Floor Area",9,{"$f":"INDEX(CHARGES,MATCH($D272&$F272,$AQ$2:$AQ$44&$AR$2:$AR$44,0),MATCH(H$1,$AS$1:$AX$1,0))","v":2},0,{"$f":"INDEX(CHARGES,MATCH($D272&$F272,$AQ$2:$AQ$44&$AR$2:$AR$44,0),MATCH(J$1,$AS$1:$AX$1,0))","v":0},{"$f":"INDEX(CHARGES,MATCH($D272&$F272,$AQ$2:$AQ$44&$AR$2:$AR$44,0),MATCH(K$1,$AS$1:$AX$1,0))","v":7},{"$f":"INDEX(CHARGES,MATCH($D272&$F272,$AQ$2:$AQ$44&$AR$2:$AR$44,0),MATCH(L$1,$AS$1:$AX$1,0))","v":0}]
["Mt Isa - Water Supply Only","Intensive horticulture","Intensive horticulture","High impact rural","NR_3","Gross Floor Area",9,{"$f":"INDEX(CHARGES,MATCH($D273&$F273,$AQ$2:$AQ$44&$AR$2:$AR$44,0),MATCH(H$1,$AS$1:$AX$1,0))","v":2},0,{"$f":"INDEX(CHARGES,MATCH($D273&$F273,$AQ$2:$AQ$44&$AR$2:$AR$44,0),MATCH(J$1,$AS$1:$AX$1,0))","v":0},{"$f":"INDEX(CHARGES,MATCH($D273&$F273,$AQ$2:$AQ$44&$AR$2:$AR$44,0),MATCH(K$1,$AS$1:$AX$1,0))","v":7},{"$f":"INDEX(CHARGES,MATCH($D273&$F273,$AQ$2:$AQ$44&$AR$2:$AR$44,0),MATCH(L$1,$AS$1:$AX$1,0))","v":0}]
["Mt Isa - Water Supply Only","Landing","Landing","Minor uses","NR_3","Gross Floor Area",0,{"$f":"INDEX(CHARGES,MATCH($D274&$F274,$AQ$2:$AQ$44&$AR$2:$AR$44,0),MATCH(H$1,$AS$1:$AX$1,0))","v":0},0,{"$f":"INDEX(CHARGES,MATCH($D274&$F274,$AQ$2:$AQ$44&$AR$2:$AR$44,0),MATCH(J$1,$AS$1:$AX$1,0))","v":0},{"$f":"INDEX(CHARGES,MATCH($D274&$F274,$AQ$2:$AQ$44&$AR$2:$AR$44,0),MATCH(K$1,$AS$1:$AX$1,0))","v":0},{"$f":"INDEX(CHARGES,MATCH($D274&$F274,$AQ$2:$AQ$44&$AR$2:$AR$44,0),MATCH(L$1,$AS$1:$AX$1,0))","v":0}]
["Mt Isa - Water Supply Only","Low impact industry","Low impact industry","Other industry","NR_1","Gross Floor Area",22,{"$f":"INDEX(CHARGES,MATCH($D275&$F275,$AQ$2:$AQ$44&$AR$2:$AR$44,0),MATCH(H$1,$AS$1:$AX$1,0))","v":5},0,{"$f":"INDEX(CHARGES,MATCH($D275&$F275,$AQ$2:$AQ$44&$AR$2:$AR$44,0),MATCH(J$1,$AS$1:$AX$1,0))","v":0},{"$f":"INDEX(CHARGES,MATCH($D275&$F275,$AQ$2:$AQ$44&$AR$2:$AR$44,0),MATCH(K$1,$AS$1:$AX$1,0))","v":17},{"$f":"INDEX(CHARGES,MATCH($D275&$F275,$AQ$2:$AQ$44&$AR$2:$AR$44,0),MATCH(L$1,$AS$1:$AX$1,0))","v":0}]
["Mt Isa - Water Supply Only","Low impact industry","Low impact industry","Other industry","NR_1","Impervious Area",5,{"$f":"INDEX(CHARGES,MATCH($D276&$F276,$AQ$2:$AQ$44&$AR$2:$AR$44,0),MATCH(H$1,$AS$1:$AX$1,0))","v":0},0,{"$f":"INDEX(CHARGES,MATCH($D276&$F276,$AQ$2:$AQ$44&$AR$2:$AR$44,0),MATCH(J$1,$AS$1:$AX$1,0))","v":5},{"$f":"INDEX(CHARGES,MATCH($D276&$F276,$AQ$2:$AQ$44&$AR$2:$AR$44,0),MATCH(K$1,$AS$1:$AX$1,0))","v":0},{"$f":"INDEX(CHARGES,MATCH($D276&$F276,$AQ$2:$AQ$44&$AR$2:$AR$44,0),MATCH(L$1,$AS$1:$AX$1,0))","v":0}]
["Mt Isa - Water Supply Only","Major electricity infrastructure","Utility installation","Other uses","NR_1","Gross Floor Area",0,{"$f":"INDEX(CHARGES,MATCH($D277&$F277,$AQ$2:$AQ$44&$AR$2:$AR$44,0),MATCH(H$1,$AS$1:$AX$1,0))","v":0},0,{"$f":"INDEX(CHARGES,MATCH($D277&$F277,$AQ$2:$AQ$44&$AR$2:$AR$44,0),MATCH(J$1,$AS$1:$AX$1,0))","v":0},{"$f":"INDEX(CHARGES,MATCH($D277&$F277,$AQ$2:$AQ$44&$AR$2:$AR$44,0),MATCH(K$1,$AS$1:$AX$1,0))","v":0},{"$f":"INDEX(CHARGES,MATCH($D277&$F277,$AQ$2:$AQ$44&$AR$2:$AR$44,0),MATCH(L$1,$AS$1:$AX$1,0))","v":0}]
["Mt Isa - Water Supply Only","Major electricity infrastructure","Utility installation","Other uses","NR_1","Impervious Area",0,{"$f":"INDEX(CHARGES,MATCH($D278&$F278,$AQ$2:$AQ$44&$AR$2:$AR$44,0),MATCH(H$1,$AS$1:$AX$1,0))","v":0},0,{"$f":"INDEX(CHARGES,MATCH($D278&$F278,$AQ$2:$AQ$44&$AR$2:$AR$44,0),MATCH(J$1,$AS$1:$AX$1,0))","v":0},{"$f":"INDEX(CHARGES,MATCH($D278&$F278,$AQ$2:$AQ$44&$AR$2:$AR$44,0),MATCH(K$1,$AS$1:$AX$1,0))","v":0},{"$f":"INDEX(CHARGES,MATCH($D278&$F278,$AQ$2:$AQ$44&$AR$2:$AR$44,0),MATCH(L$1,$AS$1:$AX$1,0))","v":0}]
["Mt Isa - Water Supply Only","Major sport, recreation and entertainment facility","Major sport, recreation and entertainment facility","Other uses","NR_1","Gross Floor Area",0,{"$f":"INDEX(CHARGES,MATCH($D279&$F279,$AQ$2:$AQ$44&$AR$2:$AR$44,0),MATCH(H$1,$AS$1:$AX$1,0))","v":0},0,{"$f":"INDEX(CHARGES,MATCH($D279&$F279,$AQ$2:$AQ$44&$AR$2:$AR$44,0),MATCH(J$1,$AS$1:$AX$1,0))","v":0},{"$f":"INDEX(CHARGES,MATCH($D279&$F279,$AQ$2:$AQ$44&$AR$2:$AR$44,0),MATCH(K$1,$AS$1:$AX$1,0))","v":0},{"$f":"INDEX(CHARGES,MATCH($D279&$F279,$AQ$2:$AQ$44&$AR$2:$AR$44,0),MATCH(L$1,$AS$1:$AX$1,0))","v":0}]
["Mt Isa - Water Supply Only","Major sport, recreation and entertainment facility","Major sport, recreation and entertainment facility","Other uses","NR_1","Impervious Area",0,{"$f":"INDEX(CHARGES,MATCH($D280&$F280,$AQ$2:$AQ$44&$AR$2:$AR$44,0),MATCH(H$1,$AS$1:$AX$1,0))","v":0},0,{"$f":"INDEX(CHARGES,MATCH($D280&$F280,$AQ$2:$AQ$44&$AR$2:$AR$44,0),MATCH(J$1,$AS$1:$AX$1,0))","v":0},{"$f":"INDEX(CHARGES,MATCH($D280&$F280,$AQ$2:$AQ$44&$AR$2:$AR$44,0),MATCH(K$1,$AS$1:$AX$1,0))","v":0},{"$f":"INDEX(CHARGES,MATCH($D280&$F280,$AQ$2:$AQ$44&$AR$2:$AR$44,0),MATCH(L$1,$AS$1:$AX$1,0))","v":0}]
["Mt Isa - Water Supply Only","Marine industry","Marine industry","Other industry","NR_1","Gross Floor Area",22,{"$f":"INDEX(CHARGES,MATCH($D281&$F281,$AQ$2:$AQ$44&$AR$2:$AR$44,0),MATCH(H$1,$AS$1:$AX$1,0))","v":5},0,{"$f":"INDEX(CHARGES,MATCH($D281&$F281,$AQ$2:$AQ$44&$AR$2:$AR$44,0),MATCH(J$1,$AS$1:$AX$1,0))","v":0},{"$f":"INDEX(CHARGES,MATCH($D281&$F281,$AQ$2:$AQ$44&$AR$2:$AR$44,0),MATCH(K$1,$AS$1:$AX$1,0))","v":17},{"$f":"INDEX(CHARGES,MATCH($D281&$F281,$AQ$2:$AQ$44&$AR$2:$AR$44,0),MATCH(L$1,$AS$1:$AX$1,0))","v":0}]
["Mt Isa - Water Supply Only","Marine industry","Marine industry","Other industry","NR_1","Impervious Area",5,{"$f":"INDEX(CHARGES,MATCH($D282&$F282,$AQ$2:$AQ$44&$AR$2:$AR$44,0),MATCH(H$1,$AS$1:$AX$1,0))","v":0},0,{"$f":"INDEX(CHARGES,MATCH($D282&$F282,$AQ$2:$AQ$44&$AR$2:$AR$44,0),MATCH(J$1,$AS$1:$AX$1,0))","v":5},{"$f":"INDEX(CHARGES,MATCH($D282&$F282,$AQ$2:$AQ$44&$AR$2:$AR$44,0),MATCH(K$1,$AS$1:$AX$1,0))","v":0},{"$f":"INDEX(CHARGES,MATCH($D282&$F282,$AQ$2:$AQ$44&$AR$2:$AR$44,0),MATCH(L$1,$AS$1:$AX$1,0))","v":0}]
["Mt Isa - Water Supply Only","Market","Market","Minor uses","NR_3","Gross Floor Area",0,{"$f":"INDEX(CHARGES,MATCH($D283&$F283,$AQ$2:$AQ$44&$AR$2:$AR$44,0),MATCH(H$1,$AS$1:$AX$1,0))","v":0},0,{"$f":"INDEX(CHARGES,MATCH($D283&$F283,$AQ$2:$AQ$44&$AR$2:$AR$44,0),MATCH(J$1,$AS$1:$AX$1,0))","v":0},{"$f":"INDEX(CHARGES,MATCH($D283&$F283,$AQ$2:$AQ$44&$AR$2:$AR$44,0),MATCH(K$1,$AS$1:$AX$1,0))","v":0},{"$f":"INDEX(CHARGES,MATCH($D283&$F283,$AQ$2:$AQ$44&$AR$2:$AR$44,0),MATCH(L$1,$AS$1:$AX$1,0))","v":0}]
["Mt Isa - Water Supply Only","Medium impact industry","Medium impact industry","Other industry","NR_1","Gross Floor Area",22,{"$f":"INDEX(CHARGES,MATCH($D284&$F284,$AQ$2:$AQ$44&$AR$2:$AR$44,0),MATCH(H$1,$AS$1:$AX$1,0))","v":5},0,{"$f":"INDEX(CHARGES,MATCH($D284&$F284,$AQ$2:$AQ$44&$AR$2:$AR$44,0),MATCH(J$1,$AS$1:$AX$1,0))","v":0},{"$f":"INDEX(CHARGES,MATCH($D284&$F284,$AQ$2:$AQ$44&$AR$2:$AR$44,0),MATCH(K$1,$AS$1:$AX$1,0))","v":17},{"$f":"INDEX(CHARGES,MATCH($D284&$F284,$AQ$2:$AQ$44&$AR$2:$AR$44,0),MATCH(L$1,$AS$1:$AX$1,0))","v":0}]
["Mt Isa - Water Supply Only","Medium impact industry","Medium impact industry","Other industry","NR_1","Impervious Area",5,{"$f":"INDEX(CHARGES,MATCH($D285&$F285,$AQ$2:$AQ$44&$AR$2:$AR$44,0),MATCH(H$1,$AS$1:$AX$1,0))","v":0},0,{"$f":"INDEX(CHARGES,MATCH($D285&$F285,$AQ$2:$AQ$44&$AR$2:$AR$44,0),MATCH(J$1,$AS$1:$AX$1,0))","v":5},{"$f":"INDEX(CHARGES,MATCH($D285&$F285,$AQ$2:$AQ$44&$AR$2:$AR$44,0),MATCH(K$1,$AS$1:$AX$1,0))","v":0},{"$f":"INDEX(CHARGES,MATCH($D285&$F285,$AQ$2:$AQ$44&$AR$2:$AR$44,0),MATCH(L$1,$AS$1:$AX$1,0))","v":0}]
["Mt Isa - Water Supply Only","Motor sport facility","Motor sport facility","Other uses","NR_1","Gross Floor Area",0,{"$f":"INDEX(CHARGES,MATCH($D286&$F286,$AQ$2:$AQ$44&$AR$2:$AR$44,0),MATCH(H$1,$AS$1:$AX$1,0))","v":0},0,{"$f":"INDEX(CHARGES,MATCH($D286&$F286,$AQ$2:$AQ$44&$AR$2:$AR$44,0),MATCH(J$1,$AS$1:$AX$1,0))","v":0},{"$f":"INDEX(CHARGES,MATCH($D286&$F286,$AQ$2:$AQ$44&$AR$2:$AR$44,0),MATCH(K$1,$AS$1:$AX$1,0))","v":0},{"$f":"INDEX(CHARGES,MATCH($D286&$F286,$AQ$2:$AQ$44&$AR$2:$AR$44,0),MATCH(L$1,$AS$1:$AX$1,0))","v":0}]
["Mt Isa - Water Supply Only","Motor sport facility","Motor sport facility","Other uses","NR_1","Impervious Area",0,{"$f":"INDEX(CHARGES,MATCH($D287&$F287,$AQ$2:$AQ$44&$AR$2:$AR$44,0),MATCH(H$1,$AS$1:$AX$1,0))","v":0},0,{"$f":"INDEX(CHARGES,MATCH($D287&$F287,$AQ$2:$AQ$44&$AR$2:$AR$44,0),MATCH(J$1,$AS$1:$AX$1,0))","v":0},{"$f":"INDEX(CHARGES,MATCH($D287&$F287,$AQ$2:$AQ$44&$AR$2:$AR$44,0),MATCH(K$1,$AS$1:$AX$1,0))","v":0},{"$f":"INDEX(CHARGES,MATCH($D287&$F287,$AQ$2:$AQ$44&$AR$2:$AR$44,0),MATCH(L$1,$AS$1:$AX$1,0))","v":0}]
["Mt Isa - Water Supply Only","Multiple dwelling","Multiple dwelling","Residential uses","RU_1","2 or less bedrooms",8592,{"$f":"INDEX(CHARGES,MATCH($D288&$F288,$AQ$2:$AQ$44&$AR$2:$AR$44,0),MATCH(H$1,$AS$1:$AX$1,0))","v":2934},0,{"$f":"INDEX(CHARGES,MATCH($D288&$F288,$AQ$2:$AQ$44&$AR$2:$AR$44,0),MATCH(J$1,$AS$1:$AX$1,0))","v":209},{"$f":"INDEX(CHARGES,MATCH($D288&$F288,$AQ$2:$AQ$44&$AR$2:$AR$44,0),MATCH(K$1,$AS$1:$AX$1,0))","v":5239},{"$f":"INDEX(CHARGES,MATCH($D288&$F288,$AQ$2:$AQ$44&$AR$2:$AR$44,0),MATCH(L$1,$AS$1:$AX$1,0))","v":210}]
["Mt Isa - Water Supply Only","Multiple dwelling","Multiple dwelling","Residential uses","RU_1","3 or more bedrooms",12029,{"$f":"INDEX(CHARGES,MATCH($D289&$F289,$AQ$2:$AQ$44&$AR$2:$AR$44,0),MATCH(H$1,$AS$1:$AX$1,0))","v":4108},0,{"$f":"INDEX(CHARGES,MATCH($D289&$F289,$AQ$2:$AQ$44&$AR$2:$AR$44,0),MATCH(J$1,$AS$1:$AX$1,0))","v":293},{"$f":"INDEX(CHARGES,MATCH($D289&$F289,$AQ$2:$AQ$44&$AR$2:$AR$44,0),MATCH(K$1,$AS$1:$AX$1,0))","v":7335},{"$f":"INDEX(CHARGES,MATCH($D289&$F289,$AQ$2:$AQ$44&$AR$2:$AR$44,0),MATCH(L$1,$AS$1:$AX$1,0))","v":293}]
["Mt Isa - Water Supply Only","Nature-based tourism",null,"Other uses","NR_1","Gross Floor Area",0,{"$f":"INDEX(CHARGES,MATCH($D290&$F290,$AQ$2:$AQ$44&$AR$2:$AR$44,0),MATCH(H$1,$AS$1:$AX$1,0))","v":0},0,{"$f":"INDEX(CHARGES,MATCH($D290&$F290,$AQ$2:$AQ$44&$AR$2:$AR$44,0),MATCH(J$1,$AS$1:$AX$1,0))","v":0},{"$f":"INDEX(CHARGES,MATCH($D290&$F290,$AQ$2:$AQ$44&$AR$2:$AR$44,0),MATCH(K$1,$AS$1:$AX$1,0))","v":0},{"$f":"INDEX(CHARGES,MATCH($D290&$F290,$AQ$2:$AQ$44&$AR$2:$AR$44,0),MATCH(L$1,$AS$1:$AX$1,0))","v":0}]
["Mt Isa - Water Supply Only","Nature-based tourism",null,"Other uses","NR_1","Impervious Area",0,{"$f":"INDEX(CHARGES,MATCH($D291&$F291,$AQ$2:$AQ$44&$AR$2:$AR$44,0),MATCH(H$1,$AS$1:$AX$1,0))","v":0},0,{"$f":"INDEX(CHARGES,MATCH($D291&$F291,$AQ$2:$AQ$44&$AR$2:$AR$44,0),MATCH(J$1,$AS$1:$AX$1,0))","v":0},{"$f":"INDEX(CHARGES,MATCH($D291&$F291,$AQ$2:$AQ$44&$AR$2:$AR$44,0),MATCH(K$1,$AS$1:$AX$1,0))","v":0},{"$f":"INDEX(CHARGES,MATCH($D291&$F291,$AQ$2:$AQ$44&$AR$2:$AR$44,0),MATCH(L$1,$AS$1:$AX$1,0))","v":0}]
["Mt Isa - Water Supply Only","Nightclub entertainment facility","Nightclub entertainment facility","Entertainment","NR_1","Gross Floor Area",90,{"$f":"INDEX(CHARGES,MATCH($D292&$F292,$AQ$2:$AQ$44&$AR$2:$AR$44,0),MATCH(H$1,$AS$1:$AX$1,0))","v":22},0,{"$f":"INDEX(CHARGES,MATCH($D292&$F292,$AQ$2:$AQ$44&$AR$2:$AR$44,0),MATCH(J$1,$AS$1:$AX$1,0))","v":0},{"$f":"INDEX(CHARGES,MATCH($D292&$F292,$AQ$2:$AQ$44&$AR$2:$AR$44,0),MATCH(K$1,$AS$1:$AX$1,0))","v":68},{"$f":"INDEX(CHARGES,MATCH($D292&$F292,$AQ$2:$AQ$44&$AR$2:$AR$44,0),MATCH(L$1,$AS$1:$AX$1,0))","v":0}]
["Mt Isa - Water Supply Only","Nightclub entertainment facility","Nightclub entertainment facility","Entertainment","NR_1","Impervious Area",5,{"$f":"INDEX(CHARGES,MATCH($D293&$F293,$AQ$2:$AQ$44&$AR$2:$AR$44,0),MATCH(H$1,$AS$1:$AX$1,0))","v":0},0,{"$f":"INDEX(CHARGES,MATCH($D293&$F293,$AQ$2:$AQ$44&$AR$2:$AR$44,0),MATCH(J$1,$AS$1:$AX$1,0))","v":5},{"$f":"INDEX(CHARGES,MATCH($D293&$F293,$AQ$2:$AQ$44&$AR$2:$AR$44,0),MATCH(K$1,$AS$1:$AX$1,0))","v":0},{"$f":"INDEX(CHARGES,MATCH($D293&$F293,$AQ$2:$AQ$44&$AR$2:$AR$44,0),MATCH(L$1,$AS$1:$AX$1,0))","v":0}]
["Mt Isa - Water Supply Only","Non-resident workforce accommodation","Short-term accommodation","Accommodation (short-term)","RU_2","bedroom that is not part of a suite",4296,{"$f":"INDEX(CHARGES,MATCH($D294&$F294,$AQ$2:$AQ$44&$AR$2:$AR$44,0),MATCH(H$1,$AS$1:$AX$1,0))","v":1467},0,{"$f":"INDEX(CHARGES,MATCH($D294&$F294,$AQ$2:$AQ$44&$AR$2:$AR$44,0),MATCH(J$1,$AS$1:$AX$1,0))","v":104},{"$f":"INDEX(CHARGES,MATCH($D294&$F294,$AQ$2:$AQ$44&$AR$2:$AR$44,0),MATCH(K$1,$AS$1:$AX$1,0))","v":2620},{"$f":"INDEX(CHARGES,MATCH($D294&$F294,$AQ$2:$AQ$44&$AR$2:$AR$44,0),MATCH(L$1,$AS$1:$AX$1,0))","v":105}]
["Mt Isa - Water Supply Only","Non-resident workforce accommodation","Short-term accommodation","Accommodation (short-term)","RU_2","2 or less bedrooms",4296,{"$f":"INDEX(CHARGES,MATCH($D295&$F295,$AQ$2:$AQ$44&$AR$2:$AR$44,0),MATCH(H$1,$AS$1:$AX$1,0))","v":1467},0,{"$f":"INDEX(CHARGES,MATCH($D295&$F295,$AQ$2:$AQ$44&$AR$2:$AR$44,0),MATCH(J$1,$AS$1:$AX$1,0))","v":104},{"$f":"INDEX(CHARGES,MATCH($D295&$F295,$AQ$2:$AQ$44&$AR$2:$AR$44,0),MATCH(K$1,$AS$1:$AX$1,0))","v":2620},{"$f":"INDEX(CHARGES,MATCH($D295&$F295,$AQ$2:$AQ$44&$AR$2:$AR$44,0),MATCH(L$1,$AS$1:$AX$1,0))","v":105}]
["Mt Isa - Water Supply Only","Non-resident workforce accommodation","Short-term accommodation","Accommodation (short-term)","RU_2","3 or more bedrooms",6015,{"$f":"INDEX(CHARGES,MATCH($D296&$F296,$AQ$2:$AQ$44&$AR$2:$AR$44,0),MATCH(H$1,$AS$1:$AX$1,0))","v":2054},0,{"$f":"INDEX(CHARGES,MATCH($D296&$F296,$AQ$2:$AQ$44&$AR$2:$AR$44,0),MATCH(J$1,$AS$1:$AX$1,0))","v":146},{"$f":"INDEX(CHARGES,MATCH($D296&$F296,$AQ$2:$AQ$44&$AR$2:$AR$44,0),MATCH(K$1,$AS$1:$AX$1,0))","v":3668},{"$f":"INDEX(CHARGES,MATCH($D296&$F296,$AQ$2:$AQ$44&$AR$2:$AR$44,0),MATCH(L$1,$AS$1:$AX$1,0))","v":147}]
["Mt Isa - Water Supply Only","Place of worship","Place of worship","Places of assembly","NR_1","Gross Floor Area",32,{"$f":"INDEX(CHARGES,MATCH($D297&$F297,$AQ$2:$AQ$44&$AR$2:$AR$44,0),MATCH(H$1,$AS$1:$AX$1,0))","v":8},0,{"$f":"INDEX(CHARGES,MATCH($D297&$F297,$AQ$2:$AQ$44&$AR$2:$AR$44,0),MATCH(J$1,$AS$1:$AX$1,0))","v":0},{"$f":"INDEX(CHARGES,MATCH($D297&$F297,$AQ$2:$AQ$44&$AR$2:$AR$44,0),MATCH(K$1,$AS$1:$AX$1,0))","v":24},{"$f":"INDEX(CHARGES,MATCH($D297&$F297,$AQ$2:$AQ$44&$AR$2:$AR$44,0),MATCH(L$1,$AS$1:$AX$1,0))","v":0}]
["Mt Isa - Water Supply Only","Place of worship","Place of worship","Places of assembly","NR_1","Impervious Area",5,{"$f":"INDEX(CHARGES,MATCH($D298&$F298,$AQ$2:$AQ$44&$AR$2:$AR$44,0),MATCH(H$1,$AS$1:$AX$1,0))","v":0},0,{"$f":"INDEX(CHARGES,MATCH($D298&$F298,$AQ$2:$AQ$44&$AR$2:$AR$44,0),MATCH(J$1,$AS$1:$AX$1,0))","v":5},{"$f":"INDEX(CHARGES,MATCH($D298&$F298,$AQ$2:$AQ$44&$AR$2:$AR$44,0),MATCH(K$1,$AS$1:$AX$1,0))","v":0},{"$f":"INDEX(CHARGES,MATCH($D298&$F298,$AQ$2:$AQ$44&$AR$2:$AR$44,0),MATCH(L$1,$AS$1:$AX$1,0))","v":0}]
["Mt Isa - Water Supply Only","Port services","Port service","Other uses","NR_1","Gross Floor Area",0,{"$f":"INDEX(CHARGES,MATCH($D299&$F299,$AQ$2:$AQ$44&$AR$2:$AR$44,0),MATCH(H$1,$AS$1:$AX$1,0))","v":0},0,{"$f":"INDEX(CHARGES,MATCH($D299&$F299,$AQ$2:$AQ$44&$AR$2:$AR$44,0),MATCH(J$1,$AS$1:$AX$1,0))","v":0},{"$f":"INDEX(CHARGES,MATCH($D299&$F299,$AQ$2:$AQ$44&$AR$2:$AR$44,0),MATCH(K$1,$AS$1:$AX$1,0))","v":0},{"$f":"INDEX(CHARGES,MATCH($D299&$F299,$AQ$2:$AQ$44&$AR$2:$AR$44,0),MATCH(L$1,$AS$1:$AX$1,0))","v":0}]
["Mt Isa - Water Supply Only","Port services","Port service","Other uses","NR_1","Impervious Area",0,{"$f":"INDEX(CHARGES,MATCH($D300&$F300,$AQ$2:$AQ$44&$AR$2:$AR$44,0),MATCH(H$1,$AS$1:$AX$1,0))","v":0},0,{"$f":"INDEX(CHARGES,MATCH($D300&$F300,$AQ$2:$AQ$44&$AR$2:$AR$44,0),MATCH(J$1,$AS$1:$AX$1,0))","v":0},{"$f":"INDEX(CHARGES,MATCH($D300&$F300,$AQ$2:$AQ$44&$AR$2:$AR$44,0),MATCH(K$1,$AS$1:$AX$1,0))","v":0},{"$f":"INDEX(CHARGES,MATCH($D300&$F300,$AQ$2:$AQ$44&$AR$2:$AR$44,0),MATCH(L$1,$AS$1:$AX$1,0))","v":0}]
["Mt Isa - Water Supply Only","Relocatable home park","Relocatable home park","Accommodation (long-term)","RU_1","2 or less bedrooms",8592,{"$f":"INDEX(CHARGES,MATCH($D301&$F301,$AQ$2:$AQ$44&$AR$2:$AR$44,0),MATCH(H$1,$AS$1:$AX$1,0))","v":2934},0,{"$f":"INDEX(CHARGES,MATCH($D301&$F301,$AQ$2:$AQ$44&$AR$2:$AR$44,0),MATCH(J$1,$AS$1:$AX$1,0))","v":209},{"$f":"INDEX(CHARGES,MATCH($D301&$F301,$AQ$2:$AQ$44&$AR$2:$AR$44,0),MATCH(K$1,$AS$1:$AX$1,0))","v":5239},{"$f":"INDEX(CHARGES,MATCH($D301&$F301,$AQ$2:$AQ$44&$AR$2:$AR$44,0),MATCH(L$1,$AS$1:$AX$1,0))","v":210}]
["Mt Isa - Water Supply Only","Relocatable home park","Relocatable home park","Accommodation (long-term)","RU_1","3 or more bedrooms",12029,{"$f":"INDEX(CHARGES,MATCH($D302&$F302,$AQ$2:$AQ$44&$AR$2:$AR$44,0),MATCH(H$1,$AS$1:$AX$1,0))","v":4108},0,{"$f":"INDEX(CHARGES,MATCH($D302&$F302,$AQ$2:$AQ$44&$AR$2:$AR$44,0),MATCH(J$1,$AS$1:$AX$1,0))","v":293},{"$f":"INDEX(CHARGES,MATCH($D302&$F302,$AQ$2:$AQ$44&$AR$2:$AR$44,0),MATCH(K$1,$AS$1:$AX$1,0))","v":7335},{"$f":"INDEX(CHARGES,MATCH($D302&$F302,$AQ$2:$AQ$44&$AR$2:$AR$44,0),MATCH(L$1,$AS$1:$AX$1,0))","v":293}]
["Mt Isa - Water Supply Only","Renewable energy facility",null,"Other uses","NR_1","Gross Floor Area",0,{"$f":"INDEX(CHARGES,MATCH($D303&$F303,$AQ$2:$AQ$44&$AR$2:$AR$44,0),MATCH(H$1,$AS$1:$AX$1,0))","v":0},0,{"$f":"INDEX(CHARGES,MATCH($D303&$F303,$AQ$2:$AQ$44&$AR$2:$AR$44,0),MATCH(J$1,$AS$1:$AX$1,0))","v":0},{"$f":"INDEX(CHARGES,MATCH($D303&$F303,$AQ$2:$AQ$44&$AR$2:$AR$44,0),MATCH(K$1,$AS$1:$AX$1,0))","v":0},{"$f":"INDEX(CHARGES,MATCH($D303&$F303,$AQ$2:$AQ$44&$AR$2:$AR$44,0),MATCH(L$1,$AS$1:$AX$1,0))","v":0}]
["Mt Isa - Water Supply Only","Renewable energy facility",null,"Other uses","NR_1","Impervious Area",0,{"$f":"INDEX(CHARGES,MATCH($D304&$F304,$AQ$2:$AQ$44&$AR$2:$AR$44,0),MATCH(H$1,$AS$1:$AX$1,0))","v":0},0,{"$f":"INDEX(CHARGES,MATCH($D304&$F304,$AQ$2:$AQ$44&$AR$2:$AR$44,0),MATCH(J$1,$AS$1:$AX$1,0))","v":0},{"$f":"INDEX(CHARGES,MATCH($D304&$F304,$AQ$2:$AQ$44&$AR$2:$AR$44,0),MATCH(K$1,$AS$1:$AX$1,0))","v":0},{"$f":"INDEX(CHARGES,MATCH($D304&$F304,$AQ$2:$AQ$44&$AR$2:$AR$44,0),MATCH(L$1,$AS$1:$AX$1,0))","v":0}]
["Mt Isa - Water Supply Only","Research and technology industry","Low impact industry","Other industry","NR_1","Gross Floor Area",22,{"$f":"INDEX(CHARGES,MATCH($D305&$F305,$AQ$2:$AQ$44&$AR$2:$AR$44,0),MATCH(H$1,$AS$1:$AX$1,0))","v":5},0,{"$f":"INDEX(CHARGES,MATCH($D305&$F305,$AQ$2:$AQ$44&$AR$2:$AR$44,0),MATCH(J$1,$AS$1:$AX$1,0))","v":0},{"$f":"INDEX(CHARGES,MATCH($D305&$F305,$AQ$2:$AQ$44&$AR$2:$AR$44,0),MATCH(K$1,$AS$1:$AX$1,0))","v":17},{"$f":"INDEX(CHARGES,MATCH($D305&$F305,$AQ$2:$AQ$44&$AR$2:$AR$44,0),MATCH(L$1,$AS$1:$AX$1,0))","v":0}]
["Mt Isa - Water Supply Only","Research and technology industry","Low impact industry","Other industry","NR_1","Impervious Area",5,{"$f":"INDEX(CHARGES,MATCH($D306&$F306,$AQ$2:$AQ$44&$AR$2:$AR$44,0),MATCH(H$1,$AS$1:$AX$1,0))","v":0},0,{"$f":"INDEX(CHARGES,MATCH($D306&$F306,$AQ$2:$AQ$44&$AR$2:$AR$44,0),MATCH(J$1,$AS$1:$AX$1,0))","v":5},{"$f":"INDEX(CHARGES,MATCH($D306&$F306,$AQ$2:$AQ$44&$AR$2:$AR$44,0),MATCH(K$1,$AS$1:$AX$1,0))","v":0},{"$f":"INDEX(CHARGES,MATCH($D306&$F306,$AQ$2:$AQ$44&$AR$2:$AR$44,0),MATCH(L$1,$AS$1:$AX$1,0))","v":0}]
["Mt Isa - Water Supply Only","Residential care facility","Short-term accommodation","Accommodation (short-term)","RU_2","bedroom that is not part of a suite",4296,{"$f":"INDEX(CHARGES,MATCH($D307&$F307,$AQ$2:$AQ$44&$AR$2:$AR$44,0),MATCH(H$1,$AS$1:$AX$1,0))","v":1467},0,{"$f":"INDEX(CHARGES,MATCH($D307&$F307,$AQ$2:$AQ$44&$AR$2:$AR$44,0),MATCH(J$1,$AS$1:$AX$1,0))","v":104},{"$f":"INDEX(CHARGES,MATCH($D307&$F307,$AQ$2:$AQ$44&$AR$2:$AR$44,0),MATCH(K$1,$AS$1:$AX$1,0))","v":2620},{"$f":"INDEX(CHARGES,MATCH($D307&$F307,$AQ$2:$AQ$44&$AR$2:$AR$44,0),MATCH(L$1,$AS$1:$AX$1,0))","v":105}]
["Mt Isa - Water Supply Only","Residential care facility","Short-term accommodation","Accommodation (short-term)","RU_2","2 or less bedrooms",4296,{"$f":"INDEX(CHARGES,MATCH($D308&$F308,$AQ$2:$AQ$44&$AR$2:$AR$44,0),MATCH(H$1,$AS$1:$AX$1,0))","v":1467},0,{"$f":"INDEX(CHARGES,MATCH($D308&$F308,$AQ$2:$AQ$44&$AR$2:$AR$44,0),MATCH(J$1,$AS$1:$AX$1,0))","v":104},{"$f":"INDEX(CHARGES,MATCH($D308&$F308,$AQ$2:$AQ$44&$AR$2:$AR$44,0),MATCH(K$1,$AS$1:$AX$1,0))","v":2620},{"$f":"INDEX(CHARGES,MATCH($D308&$F308,$AQ$2:$AQ$44&$AR$2:$AR$44,0),MATCH(L$1,$AS$1:$AX$1,0))","v":105}]
["Mt Isa - Water Supply Only","Residential care facility","Short-term accommodation","Accommodation (short-term)","RU_2","3 or more bedrooms",6015,{"$f":"INDEX(CHARGES,MATCH($D309&$F309,$AQ$2:$AQ$44&$AR$2:$AR$44,0),MATCH(H$1,$AS$1:$AX$1,0))","v":2054},0,{"$f":"INDEX(CHARGES,MATCH($D309&$F309,$AQ$2:$AQ$44&$AR$2:$AR$44,0),MATCH(J$1,$AS$1:$AX$1,0))","v":146},{"$f":"INDEX(CHARGES,MATCH($D309&$F309,$AQ$2:$AQ$44&$AR$2:$AR$44,0),MATCH(K$1,$AS$1:$AX$1,0))","v":3668},{"$f":"INDEX(CHARGES,MATCH($D309&$F309,$AQ$2:$AQ$44&$AR$2:$AR$44,0),MATCH(L$1,$AS$1:$AX$1,0))","v":147}]
["Mt Isa - Water Supply Only","Resort complex - Accommodation component","Resort complex","Accommodation (short-term)","RU_2","bedroom that is not part of a suite",{"$f":"SUM(H310:L310)","v":4296},{"$f":"INDEX(CHARGES,MATCH($D310&$F310,$AQ$2:$AQ$44&$AR$2:$AR$44,0),MATCH(H$1,$AS$1:$AX$1,0))","v":1467},0,{"$f":"INDEX(CHARGES,MATCH($D310&$F310,$AQ$2:$AQ$44&$AR$2:$AR$44,0),MATCH(J$1,$AS$1:$AX$1,0))","v":104},{"$f":"INDEX(CHARGES,MATCH($D310&$F310,$AQ$2:$AQ$44&$AR$2:$AR$44,0),MATCH(K$1,$AS$1:$AX$1,0))","v":2620},{"$f":"INDEX(CHARGES,MATCH($D310&$F310,$AQ$2:$AQ$44&$AR$2:$AR$44,0),MATCH(L$1,$AS$1:$AX$1,0))","v":105}]
["Mt Isa - Water Supply Only","Resort complex - Accommodation component","Resort complex","Accommodation (short-term)","RU_2","2 or less bedrooms",{"$f":"SUM(H311:L311)","v":4296},{"$f":"INDEX(CHARGES,MATCH($D311&$F311,$AQ$2:$AQ$44&$AR$2:$AR$44,0),MATCH(H$1,$AS$1:$AX$1,0))","v":1467},0,{"$f":"INDEX(CHARGES,MATCH($D311&$F311,$AQ$2:$AQ$44&$AR$2:$AR$44,0),MATCH(J$1,$AS$1:$AX$1,0))","v":104},{"$f":"INDEX(CHARGES,MATCH($D311&$F311,$AQ$2:$AQ$44&$AR$2:$AR$44,0),MATCH(K$1,$AS$1:$AX$1,0))","v":2620},{"$f":"INDEX(CHARGES,MATCH($D311&$F311,$AQ$2:$AQ$44&$AR$2:$AR$44,0),MATCH(L$1,$AS$1:$AX$1,0))","v":105}]
["Mt Isa - Water Supply Only","Resort complex - Accommodation component","Resort complex","Accommodation (short-term)","RU_2","3 or more bedrooms",{"$f":"SUM(H312:L312)","v":6015},{"$f":"INDEX(CHARGES,MATCH($D312&$F312,$AQ$2:$AQ$44&$AR$2:$AR$44,0),MATCH(H$1,$AS$1:$AX$1,0))","v":2054},0,{"$f":"INDEX(CHARGES,MATCH($D312&$F312,$AQ$2:$AQ$44&$AR$2:$AR$44,0),MATCH(J$1,$AS$1:$AX$1,0))","v":146},{"$f":"INDEX(CHARGES,MATCH($D312&$F312,$AQ$2:$AQ$44&$AR$2:$AR$44,0),MATCH(K$1,$AS$1:$AX$1,0))","v":3668},{"$f":"INDEX(CHARGES,MATCH($D312&$F312,$AQ$2:$AQ$44&$AR$2:$AR$44,0),MATCH(L$1,$AS$1:$AX$1,0))","v":147}]
["Mt Isa - Water Supply Only","Resort complex - Entertainment component","Resort complex","Entertainment","NR_1","Gross Floor Area",{"$f":"SUM(H313:L313)","v":90},{"$f":"INDEX(CHARGES,MATCH($D313&$F313,$AQ$2:$AQ$44&$AR$2:$AR$44,0),MATCH(H$1,$AS$1:$AX$1,0))","v":22},0,{"$f":"INDEX(CHARGES,MATCH($D313&$F313,$AQ$2:$AQ$44&$AR$2:$AR$44,0),MATCH(J$1,$AS$1:$AX$1,0))","v":0},{"$f":"INDEX(CHARGES,MATCH($D313&$F313,$AQ$2:$AQ$44&$AR$2:$AR$44,0),MATCH(K$1,$AS$1:$AX$1,0))","v":68},{"$f":"INDEX(CHARGES,MATCH($D313&$F313,$AQ$2:$AQ$44&$AR$2:$AR$44,0),MATCH(L$1,$AS$1:$AX$1,0))","v":0}]
["Mt Isa - Water Supply Only","Resort complex - Entertainment component","Resort complex","Entertainment","NR_1","Impervious Area",{"$f":"SUM(H314:L314)","v":5},{"$f":"INDEX(CHARGES,MATCH($D314&$F314,$AQ$2:$AQ$44&$AR$2:$AR$44,0),MATCH(H$1,$AS$1:$AX$1,0))","v":0},0,{"$f":"INDEX(CHARGES,MATCH($D314&$F314,$AQ$2:$AQ$44&$AR$2:$AR$44,0),MATCH(J$1,$AS$1:$AX$1,0))","v":5},{"$f":"INDEX(CHARGES,MATCH($D314&$F314,$AQ$2:$AQ$44&$AR$2:$AR$44,0),MATCH(K$1,$AS$1:$AX$1,0))","v":0},{"$f":"INDEX(CHARGES,MATCH($D314&$F314,$AQ$2:$AQ$44&$AR$2:$AR$44,0),MATCH(L$1,$AS$1:$AX$1,0))","v":0}]
["Mt Isa - Water Supply Only","Retirement facility","Retirement facility","Accommodation (long-term)","RU_2","bedroom that is not part of a suite",8592,{"$f":"INDEX(CHARGES,MATCH($D315&$F315,$AQ$2:$AQ$44&$AR$2:$AR$44,0),MATCH(H$1,$AS$1:$AX$1,0))","v":2934},0,{"$f":"INDEX(CHARGES,MATCH($D315&$F315,$AQ$2:$AQ$44&$AR$2:$AR$44,0),MATCH(J$1,$AS$1:$AX$1,0))","v":209},{"$f":"INDEX(CHARGES,MATCH($D315&$F315,$AQ$2:$AQ$44&$AR$2:$AR$44,0),MATCH(K$1,$AS$1:$AX$1,0))","v":5239},{"$f":"INDEX(CHARGES,MATCH($D315&$F315,$AQ$2:$AQ$44&$AR$2:$AR$44,0),MATCH(L$1,$AS$1:$AX$1,0))","v":210}]
["Mt Isa - Water Supply Only","Retirement facility","Retirement facility","Accommodation (long-term)","RU_2","2 or less bedrooms",8592,{"$f":"INDEX(CHARGES,MATCH($D316&$F316,$AQ$2:$AQ$44&$AR$2:$AR$44,0),MATCH(H$1,$AS$1:$AX$1,0))","v":2934},0,{"$f":"INDEX(CHARGES,MATCH($D316&$F316,$AQ$2:$AQ$44&$AR$2:$AR$44,0),MATCH(J$1,$AS$1:$AX$1,0))","v":209},{"$f":"INDEX(CHARGES,MATCH($D316&$F316,$AQ$2:$AQ$44&$AR$2:$AR$44,0),MATCH(K$1,$AS$1:$AX$1,0))","v":5239},{"$f":"INDEX(CHARGES,MATCH($D316&$F316,$AQ$2:$AQ$44&$AR$2:$AR$44,0),MATCH(L$1,$AS$1:$AX$1,0))","v":210}]
["Mt Isa - Water Supply Only","Retirement facility","Retirement facility","Accommodation (long-term)","RU_2","3 or more bedrooms",12029,{"$f":"INDEX(CHARGES,MATCH($D317&$F317,$AQ$2:$AQ$44&$AR$2:$AR$44,0),MATCH(H$1,$AS$1:$AX$1,0))","v":4108},0,{"$f":"INDEX(CHARGES,MATCH($D317&$F317,$AQ$2:$AQ$44&$AR$2:$AR$44,0),MATCH(J$1,$AS$1:$AX$1,0))","v":293},{"$f":"INDEX(CHARGES,MATCH($D317&$F317,$AQ$2:$AQ$44&$AR$2:$AR$44,0),MATCH(K$1,$AS$1:$AX$1,0))","v":7335},{"$f":"INDEX(CHARGES,MATCH($D317&$F317,$AQ$2:$AQ$44&$AR$2:$AR$44,0),MATCH(L$1,$AS$1:$AX$1,0))","v":293}]
["Mt Isa - Water Supply Only","Roadside stall","Roadside stall","Minor uses","NR_3","Gross Floor Area",0,{"$f":"INDEX(CHARGES,MATCH($D318&$F318,$AQ$2:$AQ$44&$AR$2:$AR$44,0),MATCH(H$1,$AS$1:$AX$1,0))","v":0},0,{"$f":"INDEX(CHARGES,MATCH($D318&$F318,$AQ$2:$AQ$44&$AR$2:$AR$44,0),MATCH(J$1,$AS$1:$AX$1,0))","v":0},{"$f":"INDEX(CHARGES,MATCH($D318&$F318,$AQ$2:$AQ$44&$AR$2:$AR$44,0),MATCH(K$1,$AS$1:$AX$1,0))","v":0},{"$f":"INDEX(CHARGES,MATCH($D318&$F318,$AQ$2:$AQ$44&$AR$2:$AR$44,0),MATCH(L$1,$AS$1:$AX$1,0))","v":0}]
["Mt Isa - Water Supply Only","Rooming accommodation","Rooming accommodation","Accommodation (long-term)","RU_2","bedroom that is not part of a suite",8592,{"$f":"INDEX(CHARGES,MATCH($D319&$F319,$AQ$2:$AQ$44&$AR$2:$AR$44,0),MATCH(H$1,$AS$1:$AX$1,0))","v":2934},0,{"$f":"INDEX(CHARGES,MATCH($D319&$F319,$AQ$2:$AQ$44&$AR$2:$AR$44,0),MATCH(J$1,$AS$1:$AX$1,0))","v":209},{"$f":"INDEX(CHARGES,MATCH($D319&$F319,$AQ$2:$AQ$44&$AR$2:$AR$44,0),MATCH(K$1,$AS$1:$AX$1,0))","v":5239},{"$f":"INDEX(CHARGES,MATCH($D319&$F319,$AQ$2:$AQ$44&$AR$2:$AR$44,0),MATCH(L$1,$AS$1:$AX$1,0))","v":210}]
["Mt Isa - Water Supply Only","Rooming accommodation","Rooming accommodation","Accommodation (long-term)","RU_2","2 or less bedrooms",8592,{"$f":"INDEX(CHARGES,MATCH($D320&$F320,$AQ$2:$AQ$44&$AR$2:$AR$44,0),MATCH(H$1,$AS$1:$AX$1,0))","v":2934},0,{"$f":"INDEX(CHARGES,MATCH($D320&$F320,$AQ$2:$AQ$44&$AR$2:$AR$44,0),MATCH(J$1,$AS$1:$AX$1,0))","v":209},{"$f":"INDEX(CHARGES,MATCH($D320&$F320,$AQ$2:$AQ$44&$AR$2:$AR$44,0),MATCH(K$1,$AS$1:$AX$1,0))","v":5239},{"$f":"INDEX(CHARGES,MATCH($D320&$F320,$AQ$2:$AQ$44&$AR$2:$AR$44,0),MATCH(L$1,$AS$1:$AX$1,0))","v":210}]
["Mt Isa - Water Supply Only","Rooming accommodation","Rooming accommodation","Accommodation (long-term)","RU_2","3 or more bedrooms",12029,{"$f":"INDEX(CHARGES,MATCH($D321&$F321,$AQ$2:$AQ$44&$AR$2:$AR$44,0),MATCH(H$1,$AS$1:$AX$1,0))","v":4108},0,{"$f":"INDEX(CHARGES,MATCH($D321&$F321,$AQ$2:$AQ$44&$AR$2:$AR$44,0),MATCH(J$1,$AS$1:$AX$1,0))","v":293},{"$f":"INDEX(CHARGES,MATCH($D321&$F321,$AQ$2:$AQ$44&$AR$2:$AR$44,0),MATCH(K$1,$AS$1:$AX$1,0))","v":7335},{"$f":"INDEX(CHARGES,MATCH($D321&$F321,$AQ$2:$AQ$44&$AR$2:$AR$44,0),MATCH(L$1,$AS$1:$AX$1,0))","v":293}]
["Mt Isa - Water Supply Only","Rural industry","Rural industry","Other industry","NR_1","Gross Floor Area",22,{"$f":"INDEX(CHARGES,MATCH($D322&$F322,$AQ$2:$AQ$44&$AR$2:$AR$44,0),MATCH(H$1,$AS$1:$AX$1,0))","v":5},0,{"$f":"INDEX(CHARGES,MATCH($D322&$F322,$AQ$2:$AQ$44&$AR$2:$AR$44,0),MATCH(J$1,$AS$1:$AX$1,0))","v":0},{"$f":"INDEX(CHARGES,MATCH($D322&$F322,$AQ$2:$AQ$44&$AR$2:$AR$44,0),MATCH(K$1,$AS$1:$AX$1,0))","v":17},{"$f":"INDEX(CHARGES,MATCH($D322&$F322,$AQ$2:$AQ$44&$AR$2:$AR$44,0),MATCH(L$1,$AS$1:$AX$1,0))","v":0}]
["Mt Isa - Water Supply Only","Rural industry","Rural industry","Other industry","NR_1","Impervious Area",5,{"$f":"INDEX(CHARGES,MATCH($D323&$F323,$AQ$2:$AQ$44&$AR$2:$AR$44,0),MATCH(H$1,$AS$1:$AX$1,0))","v":0},0,{"$f":"INDEX(CHARGES,MATCH($D323&$F323,$AQ$2:$AQ$44&$AR$2:$AR$44,0),MATCH(J$1,$AS$1:$AX$1,0))","v":5},{"$f":"INDEX(CHARGES,MATCH($D323&$F323,$AQ$2:$AQ$44&$AR$2:$AR$44,0),MATCH(K$1,$AS$1:$AX$1,0))","v":0},{"$f":"INDEX(CHARGES,MATCH($D323&$F323,$AQ$2:$AQ$44&$AR$2:$AR$44,0),MATCH(L$1,$AS$1:$AX$1,0))","v":0}]
["Mt Isa - Water Supply Only","Rural workers accommodation","Short-term accommodation","Accommodation (short-term)","RU_2","bedroom that is not part of a suite",4296,{"$f":"INDEX(CHARGES,MATCH($D324&$F324,$AQ$2:$AQ$44&$AR$2:$AR$44,0),MATCH(H$1,$AS$1:$AX$1,0))","v":1467},0,{"$f":"INDEX(CHARGES,MATCH($D324&$F324,$AQ$2:$AQ$44&$AR$2:$AR$44,0),MATCH(J$1,$AS$1:$AX$1,0))","v":104},{"$f":"INDEX(CHARGES,MATCH($D324&$F324,$AQ$2:$AQ$44&$AR$2:$AR$44,0),MATCH(K$1,$AS$1:$AX$1,0))","v":2620},{"$f":"INDEX(CHARGES,MATCH($D324&$F324,$AQ$2:$AQ$44&$AR$2:$AR$44,0),MATCH(L$1,$AS$1:$AX$1,0))","v":105}]
["Mt Isa - Water Supply Only","Rural workers accommodation","Short-term accommodation","Accommodation (short-term)","RU_2","2 or less bedrooms",4296,{"$f":"INDEX(CHARGES,MATCH($D325&$F325,$AQ$2:$AQ$44&$AR$2:$AR$44,0),MATCH(H$1,$AS$1:$AX$1,0))","v":1467},0,{"$f":"INDEX(CHARGES,MATCH($D325&$F325,$AQ$2:$AQ$44&$AR$2:$AR$44,0),MATCH(J$1,$AS$1:$AX$1,0))","v":104},{"$f":"INDEX(CHARGES,MATCH($D325&$F325,$AQ$2:$AQ$44&$AR$2:$AR$44,0),MATCH(K$1,$AS$1:$AX$1,0))","v":2620},{"$f":"INDEX(CHARGES,MATCH($D325&$F325,$AQ$2:$AQ$44&$AR$2:$AR$44,0),MATCH(L$1,$AS$1:$AX$1,0))","v":105}]
["Mt Isa - Water Supply Only","Rural workers accommodation","Short-term accommodation","Accommodation (short-term)","RU_2","3 or more bedrooms",6015,{"$f":"INDEX(CHARGES,MATCH($D326&$F326,$AQ$2:$AQ$44&$AR$2:$AR$44,0),MATCH(H$1,$AS$1:$AX$1,0))","v":2054},0,{"$f":"INDEX(CHARGES,MATCH($D326&$F326,$AQ$2:$AQ$44&$AR$2:$AR$44,0),MATCH(J$1,$AS$1:$AX$1,0))","v":146},{"$f":"INDEX(CHARGES,MATCH($D326&$F326,$AQ$2:$AQ$44&$AR$2:$AR$44,0),MATCH(K$1,$AS$1:$AX$1,0))","v":3668},{"$f":"INDEX(CHARGES,MATCH($D326&$F326,$AQ$2:$AQ$44&$AR$2:$AR$44,0),MATCH(L$1,$AS$1:$AX$1,0))","v":147}]
["Mt Isa - Water Supply Only","Sales office","Sales office","Commercial (office)","NR_1","Gross Floor Area",63,{"$f":"INDEX(CHARGES,MATCH($D327&$F327,$AQ$2:$AQ$44&$AR$2:$AR$44,0),MATCH(H$1,$AS$1:$AX$1,0))","v":15},0,{"$f":"INDEX(CHARGES,MATCH($D327&$F327,$AQ$2:$AQ$44&$AR$2:$AR$44,0),MATCH(J$1,$AS$1:$AX$1,0))","v":0},{"$f":"INDEX(CHARGES,MATCH($D327&$F327,$AQ$2:$AQ$44&$AR$2:$AR$44,0),MATCH(K$1,$AS$1:$AX$1,0))","v":48},{"$f":"INDEX(CHARGES,MATCH($D327&$F327,$AQ$2:$AQ$44&$AR$2:$AR$44,0),MATCH(L$1,$AS$1:$AX$1,0))","v":0}]
["Mt Isa - Water Supply Only","Sales office","Sales office","Commercial (office)","NR_1","Impervious Area",5,{"$f":"INDEX(CHARGES,MATCH($D328&$F328,$AQ$2:$AQ$44&$AR$2:$AR$44,0),MATCH(H$1,$AS$1:$AX$1,0))","v":0},0,{"$f":"INDEX(CHARGES,MATCH($D328&$F328,$AQ$2:$AQ$44&$AR$2:$AR$44,0),MATCH(J$1,$AS$1:$AX$1,0))","v":5},{"$f":"INDEX(CHARGES,MATCH($D328&$F328,$AQ$2:$AQ$44&$AR$2:$AR$44,0),MATCH(K$1,$AS$1:$AX$1,0))","v":0},{"$f":"INDEX(CHARGES,MATCH($D328&$F328,$AQ$2:$AQ$44&$AR$2:$AR$44,0),MATCH(L$1,$AS$1:$AX$1,0))","v":0}]
["Mt Isa - Water Supply Only","Service industry","Service industry","Commercial (retail)","NR_1","Gross Floor Area",81,{"$f":"INDEX(CHARGES,MATCH($D329&$F329,$AQ$2:$AQ$44&$AR$2:$AR$44,0),MATCH(H$1,$AS$1:$AX$1,0))","v":20},0,{"$f":"INDEX(CHARGES,MATCH($D329&$F329,$AQ$2:$AQ$44&$AR$2:$AR$44,0),MATCH(J$1,$AS$1:$AX$1,0))","v":0},{"$f":"INDEX(CHARGES,MATCH($D329&$F329,$AQ$2:$AQ$44&$AR$2:$AR$44,0),MATCH(K$1,$AS$1:$AX$1,0))","v":61},{"$f":"INDEX(CHARGES,MATCH($D329&$F329,$AQ$2:$AQ$44&$AR$2:$AR$44,0),MATCH(L$1,$AS$1:$AX$1,0))","v":0}]
["Mt Isa - Water Supply Only","Service industry","Service industry","Commercial (retail)","NR_1","Impervious Area",5,{"$f":"INDEX(CHARGES,MATCH($D330&$F330,$AQ$2:$AQ$44&$AR$2:$AR$44,0),MATCH(H$1,$AS$1:$AX$1,0))","v":0},0,{"$f":"INDEX(CHARGES,MATCH($D330&$F330,$AQ$2:$AQ$44&$AR$2:$AR$44,0),MATCH(J$1,$AS$1:$AX$1,0))","v":5},{"$f":"INDEX(CHARGES,MATCH($D330&$F330,$AQ$2:$AQ$44&$AR$2:$AR$44,0),MATCH(K$1,$AS$1:$AX$1,0))","v":0},{"$f":"INDEX(CHARGES,MATCH($D330&$F330,$AQ$2:$AQ$44&$AR$2:$AR$44,0),MATCH(L$1,$AS$1:$AX$1,0))","v":0}]
["Mt Isa - Water Supply Only","Service station","Service station","Commercial (retail)","NR_1","Gross Floor Area",81,{"$f":"INDEX(CHARGES,MATCH($D331&$F331,$AQ$2:$AQ$44&$AR$2:$AR$44,0),MATCH(H$1,$AS$1:$AX$1,0))","v":20},0,{"$f":"INDEX(CHARGES,MATCH($D331&$F331,$AQ$2:$AQ$44&$AR$2:$AR$44,0),MATCH(J$1,$AS$1:$AX$1,0))","v":0},{"$f":"INDEX(CHARGES,MATCH($D331&$F331,$AQ$2:$AQ$44&$AR$2:$AR$44,0),MATCH(K$1,$AS$1:$AX$1,0))","v":61},{"$f":"INDEX(CHARGES,MATCH($D331&$F331,$AQ$2:$AQ$44&$AR$2:$AR$44,0),MATCH(L$1,$AS$1:$AX$1,0))","v":0}]
["Mt Isa - Water Supply Only","Service station","Service station","Commercial (retail)","NR_1","Impervious Area",{"$f":"SUM(H332:L332)","v":5},{"$f":"INDEX(CHARGES,MATCH($D332&$F332,$AQ$2:$AQ$44&$AR$2:$AR$44,0),MATCH(H$1,$AS$1:$AX$1,0))","v":0},0,{"$f":"INDEX(CHARGES,MATCH($D332&$F332,$AQ$2:$AQ$44&$AR$2:$AR$44,0),MATCH(J$1,$AS$1:$AX$1,0))","v":5},{"$f":"INDEX(CHARGES,MATCH($D332&$F332,$AQ$2:$AQ$44&$AR$2:$AR$44,0),MATCH(K$1,$AS$1:$AX$1,0))","v":0},{"$f":"INDEX(CHARGES,MATCH($D332&$F332,$AQ$2:$AQ$44&$AR$2:$AR$44,0),MATCH(L$1,$AS$1:$AX$1,0))","v":0}]
["Mt Isa - Water Supply Only","Shop","Shop","Commercial (retail)","NR_1","Gross Floor Area",81,{"$f":"INDEX(CHARGES,MATCH($D333&$F333,$AQ$2:$AQ$44&$AR$2:$AR$44,0),MATCH(H$1,$AS$1:$AX$1,0))","v":20},0,{"$f":"INDEX(CHARGES,MATCH($D333&$F333,$AQ$2:$AQ$44&$AR$2:$AR$44,0),MATCH(J$1,$AS$1:$AX$1,0))","v":0},{"$f":"INDEX(CHARGES,MATCH($D333&$F333,$AQ$2:$AQ$44&$AR$2:$AR$44,0),MATCH(K$1,$AS$1:$AX$1,0))","v":61},{"$f":"INDEX(CHARGES,MATCH($D333&$F333,$AQ$2:$AQ$44&$AR$2:$AR$44,0),MATCH(L$1,$AS$1:$AX$1,0))","v":0}]
["Mt Isa - Water Supply Only","Shop","Shop","Commercial (retail)","NR_1","Impervious Area",5,{"$f":"INDEX(CHARGES,MATCH($D334&$F334,$AQ$2:$AQ$44&$AR$2:$AR$44,0),MATCH(H$1,$AS$1:$AX$1,0))","v":0},0,{"$f":"INDEX(CHARGES,MATCH($D334&$F334,$AQ$2:$AQ$44&$AR$2:$AR$44,0),MATCH(J$1,$AS$1:$AX$1,0))","v":5},{"$f":"INDEX(CHARGES,MATCH($D334&$F334,$AQ$2:$AQ$44&$AR$2:$AR$44,0),MATCH(K$1,$AS$1:$AX$1,0))","v":0},{"$f":"INDEX(CHARGES,MATCH($D334&$F334,$AQ$2:$AQ$44&$AR$2:$AR$44,0),MATCH(L$1,$AS$1:$AX$1,0))","v":0}]
["Mt Isa - Water Supply Only","Shopping centre","Shopping centre","Commercial (retail)","NR_1","Gross Floor Area",81,{"$f":"INDEX(CHARGES,MATCH($D335&$F335,$AQ$2:$AQ$44&$AR$2:$AR$44,0),MATCH(H$1,$AS$1:$AX$1,0))","v":20},0,{"$f":"INDEX(CHARGES,MATCH($D335&$F335,$AQ$2:$AQ$44&$AR$2:$AR$44,0),MATCH(J$1,$AS$1:$AX$1,0))","v":0},{"$f":"INDEX(CHARGES,MATCH($D335&$F335,$AQ$2:$AQ$44&$AR$2:$AR$44,0),MATCH(K$1,$AS$1:$AX$1,0))","v":61},{"$f":"INDEX(CHARGES,MATCH($D335&$F335,$AQ$2:$AQ$44&$AR$2:$AR$44,0),MATCH(L$1,$AS$1:$AX$1,0))","v":0}]
["Mt Isa - Water Supply Only","Shopping centre","Shopping centre","Commercial (retail)","NR_1","Impervious Area",5,{"$f":"INDEX(CHARGES,MATCH($D336&$F336,$AQ$2:$AQ$44&$AR$2:$AR$44,0),MATCH(H$1,$AS$1:$AX$1,0))","v":0},0,{"$f":"INDEX(CHARGES,MATCH($D336&$F336,$AQ$2:$AQ$44&$AR$2:$AR$44,0),MATCH(J$1,$AS$1:$AX$1,0))","v":5},{"$f":"INDEX(CHARGES,MATCH($D336&$F336,$AQ$2:$AQ$44&$AR$2:$AR$44,0),MATCH(K$1,$AS$1:$AX$1,0))","v":0},{"$f":"INDEX(CHARGES,MATCH($D336&$F336,$AQ$2:$AQ$44&$AR$2:$AR$44,0),MATCH(L$1,$AS$1:$AX$1,0))","v":0}]
["Mt Isa - Water Supply Only","Short-term accommodation","Short-term accommodation","Accommodation (short-term)","RU_2","bedroom that is not part of a suite",4296,{"$f":"INDEX(CHARGES,MATCH($D337&$F337,$AQ$2:$AQ$44&$AR$2:$AR$44,0),MATCH(H$1,$AS$1:$AX$1,0))","v":1467},0,{"$f":"INDEX(CHARGES,MATCH($D337&$F337,$AQ$2:$AQ$44&$AR$2:$AR$44,0),MATCH(J$1,$AS$1:$AX$1,0))","v":104},{"$f":"INDEX(CHARGES,MATCH($D337&$F337,$AQ$2:$AQ$44&$AR$2:$AR$44,0),MATCH(K$1,$AS$1:$AX$1,0))","v":2620},{"$f":"INDEX(CHARGES,MATCH($D337&$F337,$AQ$2:$AQ$44&$AR$2:$AR$44,0),MATCH(L$1,$AS$1:$AX$1,0))","v":105}]
["Mt Isa - Water Supply Only","Short-term accommodation","Short-term accommodation","Accommodation (short-term)","RU_2","2 or less bedrooms",4296,{"$f":"INDEX(CHARGES,MATCH($D338&$F338,$AQ$2:$AQ$44&$AR$2:$AR$44,0),MATCH(H$1,$AS$1:$AX$1,0))","v":1467},0,{"$f":"INDEX(CHARGES,MATCH($D338&$F338,$AQ$2:$AQ$44&$AR$2:$AR$44,0),MATCH(J$1,$AS$1:$AX$1,0))","v":104},{"$f":"INDEX(CHARGES,MATCH($D338&$F338,$AQ$2:$AQ$44&$AR$2:$AR$44,0),MATCH(K$1,$AS$1:$AX$1,0))","v":2620},{"$f":"INDEX(CHARGES,MATCH($D338&$F338,$AQ$2:$AQ$44&$AR$2:$AR$44,0),MATCH(L$1,$AS$1:$AX$1,0))","v":105}]
["Mt Isa - Water Supply Only","Short-term accommodation","Short-term accommodation","Accommodation (short-term)","RU_2","3 or more bedrooms",6015,{"$f":"INDEX(CHARGES,MATCH($D339&$F339,$AQ$2:$AQ$44&$AR$2:$AR$44,0),MATCH(H$1,$AS$1:$AX$1,0))","v":2054},0,{"$f":"INDEX(CHARGES,MATCH($D339&$F339,$AQ$2:$AQ$44&$AR$2:$AR$44,0),MATCH(J$1,$AS$1:$AX$1,0))","v":146},{"$f":"INDEX(CHARGES,MATCH($D339&$F339,$AQ$2:$AQ$44&$AR$2:$AR$44,0),MATCH(K$1,$AS$1:$AX$1,0))","v":3668},{"$f":"INDEX(CHARGES,MATCH($D339&$F339,$AQ$2:$AQ$44&$AR$2:$AR$44,0),MATCH(L$1,$AS$1:$AX$1,0))","v":147}]
["Mt Isa - Water Supply Only","Showroom","Showroom","Commercial (bulk goods)","NR_1","Gross Floor Area",63,{"$f":"INDEX(CHARGES,MATCH($D340&$F340,$AQ$2:$AQ$44&$AR$2:$AR$44,0),MATCH(H$1,$AS$1:$AX$1,0))","v":15},0,{"$f":"INDEX(CHARGES,MATCH($D340&$F340,$AQ$2:$AQ$44&$AR$2:$AR$44,0),MATCH(J$1,$AS$1:$AX$1,0))","v":0},{"$f":"INDEX(CHARGES,MATCH($D340&$F340,$AQ$2:$AQ$44&$AR$2:$AR$44,0),MATCH(K$1,$AS$1:$AX$1,0))","v":48},{"$f":"INDEX(CHARGES,MATCH($D340&$F340,$AQ$2:$AQ$44&$AR$2:$AR$44,0),MATCH(L$1,$AS$1:$AX$1,0))","v":0}]
["Mt Isa - Water Supply Only","Showroom","Showroom","Commercial (bulk goods)","NR_1","Impervious Area",5,{"$f":"INDEX(CHARGES,MATCH($D341&$F341,$AQ$2:$AQ$44&$AR$2:$AR$44,0),MATCH(H$1,$AS$1:$AX$1,0))","v":0},0,{"$f":"INDEX(CHARGES,MATCH($D341&$F341,$AQ$2:$AQ$44&$AR$2:$AR$44,0),MATCH(J$1,$AS$1:$AX$1,0))","v":5},{"$f":"INDEX(CHARGES,MATCH($D341&$F341,$AQ$2:$AQ$44&$AR$2:$AR$44,0),MATCH(K$1,$AS$1:$AX$1,0))","v":0},{"$f":"INDEX(CHARGES,MATCH($D341&$F341,$AQ$2:$AQ$44&$AR$2:$AR$44,0),MATCH(L$1,$AS$1:$AX$1,0))","v":0}]
["Mt Isa - Water Supply Only","Special industry","Special industry","High impact industry or special industry","NR_1","Gross Floor Area",32,{"$f":"INDEX(CHARGES,MATCH($D342&$F342,$AQ$2:$AQ$44&$AR$2:$AR$44,0),MATCH(H$1,$AS$1:$AX$1,0))","v":8},0,{"$f":"INDEX(CHARGES,MATCH($D342&$F342,$AQ$2:$AQ$44&$AR$2:$AR$44,0),MATCH(J$1,$AS$1:$AX$1,0))","v":0},{"$f":"INDEX(CHARGES,MATCH($D342&$F342,$AQ$2:$AQ$44&$AR$2:$AR$44,0),MATCH(K$1,$AS$1:$AX$1,0))","v":24},{"$f":"INDEX(CHARGES,MATCH($D342&$F342,$AQ$2:$AQ$44&$AR$2:$AR$44,0),MATCH(L$1,$AS$1:$AX$1,0))","v":0}]
["Mt Isa - Water Supply Only","Special industry","Special industry","High impact industry or special industry","NR_1","Impervious Area",5,{"$f":"INDEX(CHARGES,MATCH($D343&$F343,$AQ$2:$AQ$44&$AR$2:$AR$44,0),MATCH(H$1,$AS$1:$AX$1,0))","v":0},0,{"$f":"INDEX(CHARGES,MATCH($D343&$F343,$AQ$2:$AQ$44&$AR$2:$AR$44,0),MATCH(J$1,$AS$1:$AX$1,0))","v":5},{"$f":"INDEX(CHARGES,MATCH($D343&$F343,$AQ$2:$AQ$44&$AR$2:$AR$44,0),MATCH(K$1,$AS$1:$AX$1,0))","v":0},{"$f":"INDEX(CHARGES,MATCH($D343&$F343,$AQ$2:$AQ$44&$AR$2:$AR$44,0),MATCH(L$1,$AS$1:$AX$1,0))","v":0}]
["Mt Isa - Water Supply Only","Substation","Utility installation","Other uses","NR_1","Gross Floor Area",0,{"$f":"INDEX(CHARGES,MATCH($D344&$F344,$AQ$2:$AQ$44&$AR$2:$AR$44,0),MATCH(H$1,$AS$1:$AX$1,0))","v":0},0,{"$f":"INDEX(CHARGES,MATCH($D344&$F344,$AQ$2:$AQ$44&$AR$2:$AR$44,0),MATCH(J$1,$AS$1:$AX$1,0))","v":0},{"$f":"INDEX(CHARGES,MATCH($D344&$F344,$AQ$2:$AQ$44&$AR$2:$AR$44,0),MATCH(K$1,$AS$1:$AX$1,0))","v":0},{"$f":"INDEX(CHARGES,MATCH($D344&$F344,$AQ$2:$AQ$44&$AR$2:$AR$44,0),MATCH(L$1,$AS$1:$AX$1,0))","v":0}]
["Mt Isa - Water Supply Only","Substation","Utility installation","Other uses","NR_1","Impervious Area",0,{"$f":"INDEX(CHARGES,MATCH($D345&$F345,$AQ$2:$AQ$44&$AR$2:$AR$44,0),MATCH(H$1,$AS$1:$AX$1,0))","v":0},0,{"$f":"INDEX(CHARGES,MATCH($D345&$F345,$AQ$2:$AQ$44&$AR$2:$AR$44,0),MATCH(J$1,$AS$1:$AX$1,0))","v":0},{"$f":"INDEX(CHARGES,MATCH($D345&$F345,$AQ$2:$AQ$44&$AR$2:$AR$44,0),MATCH(K$1,$AS$1:$AX$1,0))","v":0},{"$f":"INDEX(CHARGES,MATCH($D345&$F345,$AQ$2:$AQ$44&$AR$2:$AR$44,0),MATCH(L$1,$AS$1:$AX$1,0))","v":0}]
["Mt Isa - Water Supply Only","Telecommunications facility","Utility installation","Other uses","NR_1","Gross Floor Area",0,{"$f":"INDEX(CHARGES,MATCH($D346&$F346,$AQ$2:$AQ$44&$AR$2:$AR$44,0),MATCH(H$1,$AS$1:$AX$1,0))","v":0},0,{"$f":"INDEX(CHARGES,MATCH($D346&$F346,$AQ$2:$AQ$44&$AR$2:$AR$44,0),MATCH(J$1,$AS$1:$AX$1,0))","v":0},{"$f":"INDEX(CHARGES,MATCH($D346&$F346,$AQ$2:$AQ$44&$AR$2:$AR$44,0),MATCH(K$1,$AS$1:$AX$1,0))","v":0},{"$f":"INDEX(CHARGES,MATCH($D346&$F346,$AQ$2:$AQ$44&$AR$2:$AR$44,0),MATCH(L$1,$AS$1:$AX$1,0))","v":0}]
["Mt Isa - Water Supply Only","Telecommunications facility","Utility installation","Other uses","NR_1","Impervious Area",0,{"$f":"INDEX(CHARGES,MATCH($D347&$F347,$AQ$2:$AQ$44&$AR$2:$AR$44,0),MATCH(H$1,$AS$1:$AX$1,0))","v":0},0,{"$f":"INDEX(CHARGES,MATCH($D347&$F347,$AQ$2:$AQ$44&$AR$2:$AR$44,0),MATCH(J$1,$AS$1:$AX$1,0))","v":0},{"$f":"INDEX(CHARGES,MATCH($D347&$F347,$AQ$2:$AQ$44&$AR$2:$AR$44,0),MATCH(K$1,$AS$1:$AX$1,0))","v":0},{"$f":"INDEX(CHARGES,MATCH($D347&$F347,$AQ$2:$AQ$44&$AR$2:$AR$44,0),MATCH(L$1,$AS$1:$AX$1,0))","v":0}]
["Mt Isa - Water Supply Only","Theatre","Theatre","Entertainment","NR_1","Gross Floor Area",90,{"$f":"INDEX(CHARGES,MATCH($D348&$F348,$AQ$2:$AQ$44&$AR$2:$AR$44,0),MATCH(H$1,$AS$1:$AX$1,0))","v":22},0,{"$f":"INDEX(CHARGES,MATCH($D348&$F348,$AQ$2:$AQ$44&$AR$2:$AR$44,0),MATCH(J$1,$AS$1:$AX$1,0))","v":0},{"$f":"INDEX(CHARGES,MATCH($D348&$F348,$AQ$2:$AQ$44&$AR$2:$AR$44,0),MATCH(K$1,$AS$1:$AX$1,0))","v":68},{"$f":"INDEX(CHARGES,MATCH($D348&$F348,$AQ$2:$AQ$44&$AR$2:$AR$44,0),MATCH(L$1,$AS$1:$AX$1,0))","v":0}]
["Mt Isa - Water Supply Only","Theatre","Theatre","Entertainment","NR_1","Impervious Area",5,{"$f":"INDEX(CHARGES,MATCH($D349&$F349,$AQ$2:$AQ$44&$AR$2:$AR$44,0),MATCH(H$1,$AS$1:$AX$1,0))","v":0},0,{"$f":"INDEX(CHARGES,MATCH($D349&$F349,$AQ$2:$AQ$44&$AR$2:$AR$44,0),MATCH(J$1,$AS$1:$AX$1,0))","v":5},{"$f":"INDEX(CHARGES,MATCH($D349&$F349,$AQ$2:$AQ$44&$AR$2:$AR$44,0),MATCH(K$1,$AS$1:$AX$1,0))","v":0},{"$f":"INDEX(CHARGES,MATCH($D349&$F349,$AQ$2:$AQ$44&$AR$2:$AR$44,0),MATCH(L$1,$AS$1:$AX$1,0))","v":0}]
["Mt Isa - Water Supply Only","Tourist attraction","Tourist attraction","Other uses","NR_1","Gross Floor Area",0,{"$f":"INDEX(CHARGES,MATCH($D350&$F350,$AQ$2:$AQ$44&$AR$2:$AR$44,0),MATCH(H$1,$AS$1:$AX$1,0))","v":0},0,{"$f":"INDEX(CHARGES,MATCH($D350&$F350,$AQ$2:$AQ$44&$AR$2:$AR$44,0),MATCH(J$1,$AS$1:$AX$1,0))","v":0},{"$f":"INDEX(CHARGES,MATCH($D350&$F350,$AQ$2:$AQ$44&$AR$2:$AR$44,0),MATCH(K$1,$AS$1:$AX$1,0))","v":0},{"$f":"INDEX(CHARGES,MATCH($D350&$F350,$AQ$2:$AQ$44&$AR$2:$AR$44,0),MATCH(L$1,$AS$1:$AX$1,0))","v":0}]
["Mt Isa - Water Supply Only","Tourist attraction","Tourist attraction","Other uses","NR_1","Impervious Area",0,{"$f":"INDEX(CHARGES,MATCH($D351&$F351,$AQ$2:$AQ$44&$AR$2:$AR$44,0),MATCH(H$1,$AS$1:$AX$1,0))","v":0},0,{"$f":"INDEX(CHARGES,MATCH($D351&$F351,$AQ$2:$AQ$44&$AR$2:$AR$44,0),MATCH(J$1,$AS$1:$AX$1,0))","v":0},{"$f":"INDEX(CHARGES,MATCH($D351&$F351,$AQ$2:$AQ$44&$AR$2:$AR$44,0),MATCH(K$1,$AS$1:$AX$1,0))","v":0},{"$f":"INDEX(CHARGES,MATCH($D351&$F351,$AQ$2:$AQ$44&$AR$2:$AR$44,0),MATCH(L$1,$AS$1:$AX$1,0))","v":0}]
["Mt Isa - Water Supply Only","Tourist park","Tourist park","Accommodation (short-term)","RU_3","group of 2 sites/cabins or less",4296,{"$f":"INDEX(CHARGES,MATCH($D352&$F352,$AQ$2:$AQ$44&$AR$2:$AR$44,0),MATCH(H$1,$AS$1:$AX$1,0))","v":1467},0,{"$f":"INDEX(CHARGES,MATCH($D352&$F352,$AQ$2:$AQ$44&$AR$2:$AR$44,0),MATCH(J$1,$AS$1:$AX$1,0))","v":104},{"$f":"INDEX(CHARGES,MATCH($D352&$F352,$AQ$2:$AQ$44&$AR$2:$AR$44,0),MATCH(K$1,$AS$1:$AX$1,0))","v":2620},{"$f":"INDEX(CHARGES,MATCH($D352&$F352,$AQ$2:$AQ$44&$AR$2:$AR$44,0),MATCH(L$1,$AS$1:$AX$1,0))","v":105}]
["Mt Isa - Water Supply Only","Tourist park","Tourist park","Accommodation (short-term)","RU_3","group of 3 sites/cabins",6015,{"$f":"INDEX(CHARGES,MATCH($D353&$F353,$AQ$2:$AQ$44&$AR$2:$AR$44,0),MATCH(H$1,$AS$1:$AX$1,0))","v":2054},0,{"$f":"INDEX(CHARGES,MATCH($D353&$F353,$AQ$2:$AQ$44&$AR$2:$AR$44,0),MATCH(J$1,$AS$1:$AX$1,0))","v":146},{"$f":"INDEX(CHARGES,MATCH($D353&$F353,$AQ$2:$AQ$44&$AR$2:$AR$44,0),MATCH(K$1,$AS$1:$AX$1,0))","v":3668},{"$f":"INDEX(CHARGES,MATCH($D353&$F353,$AQ$2:$AQ$44&$AR$2:$AR$44,0),MATCH(L$1,$AS$1:$AX$1,0))","v":147}]
["Mt Isa - Water Supply Only","Transport depot","Low impact industry","Other industry","NR_1","Gross Floor Area",22,{"$f":"INDEX(CHARGES,MATCH($D354&$F354,$AQ$2:$AQ$44&$AR$2:$AR$44,0),MATCH(H$1,$AS$1:$AX$1,0))","v":5},0,{"$f":"INDEX(CHARGES,MATCH($D354&$F354,$AQ$2:$AQ$44&$AR$2:$AR$44,0),MATCH(J$1,$AS$1:$AX$1,0))","v":0},{"$f":"INDEX(CHARGES,MATCH($D354&$F354,$AQ$2:$AQ$44&$AR$2:$AR$44,0),MATCH(K$1,$AS$1:$AX$1,0))","v":17},{"$f":"INDEX(CHARGES,MATCH($D354&$F354,$AQ$2:$AQ$44&$AR$2:$AR$44,0),MATCH(L$1,$AS$1:$AX$1,0))","v":0}]
["Mt Isa - Water Supply Only","Transport depot","Low impact industry","Other industry","NR_1","Impervious Area",5,{"$f":"INDEX(CHARGES,MATCH($D355&$F355,$AQ$2:$AQ$44&$AR$2:$AR$44,0),MATCH(H$1,$AS$1:$AX$1,0))","v":0},0,{"$f":"INDEX(CHARGES,MATCH($D355&$F355,$AQ$2:$AQ$44&$AR$2:$AR$44,0),MATCH(J$1,$AS$1:$AX$1,0))","v":5},{"$f":"INDEX(CHARGES,MATCH($D355&$F355,$AQ$2:$AQ$44&$AR$2:$AR$44,0),MATCH(K$1,$AS$1:$AX$1,0))","v":0},{"$f":"INDEX(CHARGES,MATCH($D355&$F355,$AQ$2:$AQ$44&$AR$2:$AR$44,0),MATCH(L$1,$AS$1:$AX$1,0))","v":0}]
["Mt Isa - Water Supply Only","Utility installation","Utility installation","Other uses","NR_1","Gross Floor Area",0,{"$f":"INDEX(CHARGES,MATCH($D356&$F356,$AQ$2:$AQ$44&$AR$2:$AR$44,0),MATCH(H$1,$AS$1:$AX$1,0))","v":0},0,{"$f":"INDEX(CHARGES,MATCH($D356&$F356,$AQ$2:$AQ$44&$AR$2:$AR$44,0),MATCH(J$1,$AS$1:$AX$1,0))","v":0},{"$f":"INDEX(CHARGES,MATCH($D356&$F356,$AQ$2:$AQ$44&$AR$2:$AR$44,0),MATCH(K$1,$AS$1:$AX$1,0))","v":0},{"$f":"INDEX(CHARGES,MATCH($D356&$F356,$AQ$2:$AQ$44&$AR$2:$AR$44,0),MATCH(L$1,$AS$1:$AX$1,0))","v":0}]
["Mt Isa - Water Supply Only","Utility installation","Utility installation","Other uses","NR_1","Impervious Area",0,{"$f":"INDEX(CHARGES,MATCH($D357&$F357,$AQ$2:$AQ$44&$AR$2:$AR$44,0),MATCH(H$1,$AS$1:$AX$1,0))","v":0},0,{"$f":"INDEX(CHARGES,MATCH($D357&$F357,$AQ$2:$AQ$44&$AR$2:$AR$44,0),MATCH(J$1,$AS$1:$AX$1,0))","v":0},{"$f":"INDEX(CHARGES,MATCH($D357&$F357,$AQ$2:$AQ$44&$AR$2:$AR$44,0),MATCH(K$1,$AS$1:$AX$1,0))","v":0},{"$f":"INDEX(CHARGES,MATCH($D357&$F357,$AQ$2:$AQ$44&$AR$2:$AR$44,0),MATCH(L$1,$AS$1:$AX$1,0))","v":0}]
["Mt Isa - Water Supply Only","Veterinary services","Veterinary services","Essential services","NR_1","Gross Floor Area",63,{"$f":"INDEX(CHARGES,MATCH($D358&$F358,$AQ$2:$AQ$44&$AR$2:$AR$44,0),MATCH(H$1,$AS$1:$AX$1,0))","v":15},0,{"$f":"INDEX(CHARGES,MATCH($D358&$F358,$AQ$2:$AQ$44&$AR$2:$AR$44,0),MATCH(J$1,$AS$1:$AX$1,0))","v":0},{"$f":"INDEX(CHARGES,MATCH($D358&$F358,$AQ$2:$AQ$44&$AR$2:$AR$44,0),MATCH(K$1,$AS$1:$AX$1,0))","v":48},{"$f":"INDEX(CHARGES,MATCH($D358&$F358,$AQ$2:$AQ$44&$AR$2:$AR$44,0),MATCH(L$1,$AS$1:$AX$1,0))","v":0}]
["Mt Isa - Water Supply Only","Veterinary services","Veterinary services","Essential services","NR_1","Impervious Area",5,{"$f":"INDEX(CHARGES,MATCH($D359&$F359,$AQ$2:$AQ$44&$AR$2:$AR$44,0),MATCH(H$1,$AS$1:$AX$1,0))","v":0},0,{"$f":"INDEX(CHARGES,MATCH($D359&$F359,$AQ$2:$AQ$44&$AR$2:$AR$44,0),MATCH(J$1,$AS$1:$AX$1,0))","v":5},{"$f":"INDEX(CHARGES,MATCH($D359&$F359,$AQ$2:$AQ$44&$AR$2:$AR$44,0),MATCH(K$1,$AS$1:$AX$1,0))","v":0},{"$f":"INDEX(CHARGES,MATCH($D359&$F359,$AQ$2:$AQ$44&$AR$2:$AR$44,0),MATCH(L$1,$AS$1:$AX$1,0))","v":0}]
["Mt Isa - Water Supply Only","Warehouse","Warehouse","Other industry","NR_1","Gross Floor Area",22,{"$f":"INDEX(CHARGES,MATCH($D360&$F360,$AQ$2:$AQ$44&$AR$2:$AR$44,0),MATCH(H$1,$AS$1:$AX$1,0))","v":5},0,{"$f":"INDEX(CHARGES,MATCH($D360&$F360,$AQ$2:$AQ$44&$AR$2:$AR$44,0),MATCH(J$1,$AS$1:$AX$1,0))","v":0},{"$f":"INDEX(CHARGES,MATCH($D360&$F360,$AQ$2:$AQ$44&$AR$2:$AR$44,0),MATCH(K$1,$AS$1:$AX$1,0))","v":17},{"$f":"INDEX(CHARGES,MATCH($D360&$F360,$AQ$2:$AQ$44&$AR$2:$AR$44,0),MATCH(L$1,$AS$1:$AX$1,0))","v":0}]
["Mt Isa - Water Supply Only","Warehouse","Warehouse","Other industry","NR_1","Impervious Area",5,{"$f":"INDEX(CHARGES,MATCH($D361&$F361,$AQ$2:$AQ$44&$AR$2:$AR$44,0),MATCH(H$1,$AS$1:$AX$1,0))","v":0},0,{"$f":"INDEX(CHARGES,MATCH($D361&$F361,$AQ$2:$AQ$44&$AR$2:$AR$44,0),MATCH(J$1,$AS$1:$AX$1,0))","v":5},{"$f":"INDEX(CHARGES,MATCH($D361&$F361,$AQ$2:$AQ$44&$AR$2:$AR$44,0),MATCH(K$1,$AS$1:$AX$1,0))","v":0},{"$f":"INDEX(CHARGES,MATCH($D361&$F361,$AQ$2:$AQ$44&$AR$2:$AR$44,0),MATCH(L$1,$AS$1:$AX$1,0))","v":0}]
["Mt Isa - Water Supply Only","Wholesale nursery","Wholesale nursery","High impact rural","NR_3","Gross Floor Area",9,{"$f":"INDEX(CHARGES,MATCH($D362&$F362,$AQ$2:$AQ$44&$AR$2:$AR$44,0),MATCH(H$1,$AS$1:$AX$1,0))","v":2},0,{"$f":"INDEX(CHARGES,MATCH($D362&$F362,$AQ$2:$AQ$44&$AR$2:$AR$44,0),MATCH(J$1,$AS$1:$AX$1,0))","v":0},{"$f":"INDEX(CHARGES,MATCH($D362&$F362,$AQ$2:$AQ$44&$AR$2:$AR$44,0),MATCH(K$1,$AS$1:$AX$1,0))","v":7},{"$f":"INDEX(CHARGES,MATCH($D362&$F362,$AQ$2:$AQ$44&$AR$2:$AR$44,0),MATCH(L$1,$AS$1:$AX$1,0))","v":0}]
["Mt Isa - Water Supply Only","Winery","Winery","High impact rural","NR_3","Gross Floor Area",9,{"$f":"INDEX(CHARGES,MATCH($D363&$F363,$AQ$2:$AQ$44&$AR$2:$AR$44,0),MATCH(H$1,$AS$1:$AX$1,0))","v":2},0,{"$f":"INDEX(CHARGES,MATCH($D363&$F363,$AQ$2:$AQ$44&$AR$2:$AR$44,0),MATCH(J$1,$AS$1:$AX$1,0))","v":0},{"$f":"INDEX(CHARGES,MATCH($D363&$F363,$AQ$2:$AQ$44&$AR$2:$AR$44,0),MATCH(K$1,$AS$1:$AX$1,0))","v":7},{"$f":"INDEX(CHARGES,MATCH($D363&$F363,$AQ$2:$AQ$44&$AR$2:$AR$44,0),MATCH(L$1,$AS$1:$AX$1,0))","v":0}]
["Mt Isa - Water Supply Only","Reconfiguring a lot - Residential","Reconfiguring a lot - Residential","Residential uses","ROL","Lots",12029,{"$f":"INDEX(CHARGES,MATCH($D364&$F364,$AQ$2:$AQ$44&$AR$2:$AR$44,0),MATCH(H$1,$AS$1:$AX$1,0))","v":4108},0,{"$f":"INDEX(CHARGES,MATCH($D364&$F364,$AQ$2:$AQ$44&$AR$2:$AR$44,0),MATCH(J$1,$AS$1:$AX$1,0))","v":293},{"$f":"INDEX(CHARGES,MATCH($D364&$F364,$AQ$2:$AQ$44&$AR$2:$AR$44,0),MATCH(K$1,$AS$1:$AX$1,0))","v":7335},{"$f":"INDEX(CHARGES,MATCH($D364&$F364,$AQ$2:$AQ$44&$AR$2:$AR$44,0),MATCH(L$1,$AS$1:$AX$1,0))","v":293}]
["Mt Isa - Water Supply Only","Reconfiguring a lot - Non residential","Reconfiguring a lot - Non residential","Non-residential uses","ROL","Lots",12616,{"$f":"INDEX(CHARGES,MATCH($D365&$F365,$AQ$2:$AQ$44&$AR$2:$AR$44,0),MATCH(H$1,$AS$1:$AX$1,0))","v":3081},0,{"$f":"INDEX(CHARGES,MATCH($D365&$F365,$AQ$2:$AQ$44&$AR$2:$AR$44,0),MATCH(J$1,$AS$1:$AX$1,0))","v":293},{"$f":"INDEX(CHARGES,MATCH($D365&$F365,$AQ$2:$AQ$44&$AR$2:$AR$44,0),MATCH(K$1,$AS$1:$AX$1,0))","v":9242},{"$f":"INDEX(CHARGES,MATCH($D365&$F365,$AQ$2:$AQ$44&$AR$2:$AR$44,0),MATCH(L$1,$AS$1:$AX$1,0))","v":0}]
["Mt Isa - No Water or Sewer","Adult store","Adult store","Commercial (retail)","NR_1","Gross Floor Area",61,0,0,{"$f":"INDEX(CHARGES,MATCH($D366&$F366,$AQ$2:$AQ$44&$AR$2:$AR$44,0),MATCH(J$1,$AS$1:$AX$1,0))","v":0},{"$f":"INDEX(CHARGES,MATCH($D366&$F366,$AQ$2:$AQ$44&$AR$2:$AR$44,0),MATCH(K$1,$AS$1:$AX$1,0))","v":61},{"$f":"INDEX(CHARGES,MATCH($D366&$F366,$AQ$2:$AQ$44&$AR$2:$AR$44,0),MATCH(L$1,$AS$1:$AX$1,0))","v":0}]
["Mt Isa - No Water or Sewer","Adult store","Adult store","Commercial (retail)","NR_1","Impervious Area",5,0,0,{"$f":"INDEX(CHARGES,MATCH($D367&$F367,$AQ$2:$AQ$44&$AR$2:$AR$44,0),MATCH(J$1,$AS$1:$AX$1,0))","v":5},{"$f":"INDEX(CHARGES,MATCH($D367&$F367,$AQ$2:$AQ$44&$AR$2:$AR$44,0),MATCH(K$1,$AS$1:$AX$1,0))","v":0},{"$f":"INDEX(CHARGES,MATCH($D367&$F367,$AQ$2:$AQ$44&$AR$2:$AR$44,0),MATCH(L$1,$AS$1:$AX$1,0))","v":0}]
["Mt Isa - No Water or Sewer","Agrigultural supplies store","Agrigultural supplies store","Commercial (bulk goods)","NR_1","Gross Floor Area",48,0,0,{"$f":"INDEX(CHARGES,MATCH($D368&$F368,$AQ$2:$AQ$44&$AR$2:$AR$44,0),MATCH(J$1,$AS$1:$AX$1,0))","v":0},{"$f":"INDEX(CHARGES,MATCH($D368&$F368,$AQ$2:$AQ$44&$AR$2:$AR$44,0),MATCH(K$1,$AS$1:$AX$1,0))","v":48},{"$f":"INDEX(CHARGES,MATCH($D368&$F368,$AQ$2:$AQ$44&$AR$2:$AR$44,0),MATCH(L$1,$AS$1:$AX$1,0))","v":0}]
["Mt Isa - No Water or Sewer","Agrigultural supplies store","Agrigultural supplies store","Commercial (bulk goods)","NR_1","Impervious Area",5,0,0,{"$f":"INDEX(CHARGES,MATCH($D369&$F369,$AQ$2:$AQ$44&$AR$2:$AR$44,0),MATCH(J$1,$AS$1:$AX$1,0))","v":5},{"$f":"INDEX(CHARGES,MATCH($D369&$F369,$AQ$2:$AQ$44&$AR$2:$AR$44,0),MATCH(K$1,$AS$1:$AX$1,0))","v":0},{"$f":"INDEX(CHARGES,MATCH($D369&$F369,$AQ$2:$AQ$44&$AR$2:$AR$44,0),MATCH(L$1,$AS$1:$AX$1,0))","v":0}]
["Mt Isa - No Water or Sewer","Air services","Air services","Other uses","NR_1","Gross Floor Area",0,0,0,{"$f":"INDEX(CHARGES,MATCH($D370&$F370,$AQ$2:$AQ$44&$AR$2:$AR$44,0),MATCH(J$1,$AS$1:$AX$1,0))","v":0},{"$f":"INDEX(CHARGES,MATCH($D370&$F370,$AQ$2:$AQ$44&$AR$2:$AR$44,0),MATCH(K$1,$AS$1:$AX$1,0))","v":0},{"$f":"INDEX(CHARGES,MATCH($D370&$F370,$AQ$2:$AQ$44&$AR$2:$AR$44,0),MATCH(L$1,$AS$1:$AX$1,0))","v":0}]
["Mt Isa - No Water or Sewer","Air services","Air services","Other uses","NR_1","Impervious Area",0,0,0,{"$f":"INDEX(CHARGES,MATCH($D371&$F371,$AQ$2:$AQ$44&$AR$2:$AR$44,0),MATCH(J$1,$AS$1:$AX$1,0))","v":0},{"$f":"INDEX(CHARGES,MATCH($D371&$F371,$AQ$2:$AQ$44&$AR$2:$AR$44,0),MATCH(K$1,$AS$1:$AX$1,0))","v":0},{"$f":"INDEX(CHARGES,MATCH($D371&$F371,$AQ$2:$AQ$44&$AR$2:$AR$44,0),MATCH(L$1,$AS$1:$AX$1,0))","v":0}]
["Mt Isa - No Water or Sewer","Animal husbandry","Animal husbandry","Low impact rural","NR_3","Gross Floor Area",0,0,0,{"$f":"INDEX(CHARGES,MATCH($D372&$F372,$AQ$2:$AQ$44&$AR$2:$AR$44,0),MATCH(J$1,$AS$1:$AX$1,0))","v":0},{"$f":"INDEX(CHARGES,MATCH($D372&$F372,$AQ$2:$AQ$44&$AR$2:$AR$44,0),MATCH(K$1,$AS$1:$AX$1,0))","v":0},{"$f":"INDEX(CHARGES,MATCH($D372&$F372,$AQ$2:$AQ$44&$AR$2:$AR$44,0),MATCH(L$1,$AS$1:$AX$1,0))","v":0}]
["Mt Isa - No Water or Sewer","Animal keeping","Animal keeping","Other uses","NR_1","Gross Floor Area",0,0,0,{"$f":"INDEX(CHARGES,MATCH($D373&$F373,$AQ$2:$AQ$44&$AR$2:$AR$44,0),MATCH(J$1,$AS$1:$AX$1,0))","v":0},{"$f":"INDEX(CHARGES,MATCH($D373&$F373,$AQ$2:$AQ$44&$AR$2:$AR$44,0),MATCH(K$1,$AS$1:$AX$1,0))","v":0},{"$f":"INDEX(CHARGES,MATCH($D373&$F373,$AQ$2:$AQ$44&$AR$2:$AR$44,0),MATCH(L$1,$AS$1:$AX$1,0))","v":0}]
["Mt Isa - No Water or Sewer","Animal keeping","Animal keeping","Other uses","NR_1","Impervious Area",0,0,0,{"$f":"INDEX(CHARGES,MATCH($D374&$F374,$AQ$2:$AQ$44&$AR$2:$AR$44,0),MATCH(J$1,$AS$1:$AX$1,0))","v":0},{"$f":"INDEX(CHARGES,MATCH($D374&$F374,$AQ$2:$AQ$44&$AR$2:$AR$44,0),MATCH(K$1,$AS$1:$AX$1,0))","v":0},{"$f":"INDEX(CHARGES,MATCH($D374&$F374,$AQ$2:$AQ$44&$AR$2:$AR$44,0),MATCH(L$1,$AS$1:$AX$1,0))","v":0}]
["Mt Isa - No Water or Sewer","Aquaculture",null,"Other uses","NR_1","Gross Floor Area",0,0,0,{"$f":"INDEX(CHARGES,MATCH($D375&$F375,$AQ$2:$AQ$44&$AR$2:$AR$44,0),MATCH(J$1,$AS$1:$AX$1,0))","v":0},{"$f":"INDEX(CHARGES,MATCH($D375&$F375,$AQ$2:$AQ$44&$AR$2:$AR$44,0),MATCH(K$1,$AS$1:$AX$1,0))","v":0},{"$f":"INDEX(CHARGES,MATCH($D375&$F375,$AQ$2:$AQ$44&$AR$2:$AR$44,0),MATCH(L$1,$AS$1:$AX$1,0))","v":0}]
["Mt Isa - No Water or Sewer","Aquaculture",null,"Other uses","NR_1","Impervious Area",0,0,0,{"$f":"INDEX(CHARGES,MATCH($D376&$F376,$AQ$2:$AQ$44&$AR$2:$AR$44,0),MATCH(J$1,$AS$1:$AX$1,0))","v":0},{"$f":"INDEX(CHARGES,MATCH($D376&$F376,$AQ$2:$AQ$44&$AR$2:$AR$44,0),MATCH(K$1,$AS$1:$AX$1,0))","v":0},{"$f":"INDEX(CHARGES,MATCH($D376&$F376,$AQ$2:$AQ$44&$AR$2:$AR$44,0),MATCH(L$1,$AS$1:$AX$1,0))","v":0}]
["Mt Isa - No Water or Sewer","Bar","Hotel","Entertainment","NR_1","Gross Floor Area",68,0,0,{"$f":"INDEX(CHARGES,MATCH($D377&$F377,$AQ$2:$AQ$44&$AR$2:$AR$44,0),MATCH(J$1,$AS$1:$AX$1,0))","v":0},{"$f":"INDEX(CHARGES,MATCH($D377&$F377,$AQ$2:$AQ$44&$AR$2:$AR$44,0),MATCH(K$1,$AS$1:$AX$1,0))","v":68},{"$f":"INDEX(CHARGES,MATCH($D377&$F377,$AQ$2:$AQ$44&$AR$2:$AR$44,0),MATCH(L$1,$AS$1:$AX$1,0))","v":0}]
["Mt Isa - No Water or Sewer","Bar","Hotel","Entertainment","NR_1","Impervious Area",5,0,0,{"$f":"INDEX(CHARGES,MATCH($D378&$F378,$AQ$2:$AQ$44&$AR$2:$AR$44,0),MATCH(J$1,$AS$1:$AX$1,0))","v":5},{"$f":"INDEX(CHARGES,MATCH($D378&$F378,$AQ$2:$AQ$44&$AR$2:$AR$44,0),MATCH(K$1,$AS$1:$AX$1,0))","v":0},{"$f":"INDEX(CHARGES,MATCH($D378&$F378,$AQ$2:$AQ$44&$AR$2:$AR$44,0),MATCH(L$1,$AS$1:$AX$1,0))","v":0}]
["Mt Isa - No Water or Sewer","Brothel",null,"Entertainment","NR_1","Gross Floor Area",68,0,0,{"$f":"INDEX(CHARGES,MATCH($D379&$F379,$AQ$2:$AQ$44&$AR$2:$AR$44,0),MATCH(J$1,$AS$1:$AX$1,0))","v":0},{"$f":"INDEX(CHARGES,MATCH($D379&$F379,$AQ$2:$AQ$44&$AR$2:$AR$44,0),MATCH(K$1,$AS$1:$AX$1,0))","v":68},{"$f":"INDEX(CHARGES,MATCH($D379&$F379,$AQ$2:$AQ$44&$AR$2:$AR$44,0),MATCH(L$1,$AS$1:$AX$1,0))","v":0}]
["Mt Isa - No Water or Sewer","Brothel",null,"Entertainment","NR_1","Impervious Area",5,0,0,{"$f":"INDEX(CHARGES,MATCH($D380&$F380,$AQ$2:$AQ$44&$AR$2:$AR$44,0),MATCH(J$1,$AS$1:$AX$1,0))","v":5},{"$f":"INDEX(CHARGES,MATCH($D380&$F380,$AQ$2:$AQ$44&$AR$2:$AR$44,0),MATCH(K$1,$AS$1:$AX$1,0))","v":0},{"$f":"INDEX(CHARGES,MATCH($D380&$F380,$AQ$2:$AQ$44&$AR$2:$AR$44,0),MATCH(L$1,$AS$1:$AX$1,0))","v":0}]
["Mt Isa - No Water or Sewer","Bulk landscape supplies","Bulk landscape supplies","Commercial (bulk goods)","NR_1","Gross Floor Area",48,0,0,{"$f":"INDEX(CHARGES,MATCH($D381&$F381,$AQ$2:$AQ$44&$AR$2:$AR$44,0),MATCH(J$1,$AS$1:$AX$1,0))","v":0},{"$f":"INDEX(CHARGES,MATCH($D381&$F381,$AQ$2:$AQ$44&$AR$2:$AR$44,0),MATCH(K$1,$AS$1:$AX$1,0))","v":48},{"$f":"INDEX(CHARGES,MATCH($D381&$F381,$AQ$2:$AQ$44&$AR$2:$AR$44,0),MATCH(L$1,$AS$1:$AX$1,0))","v":0}]
["Mt Isa - No Water or Sewer","Bulk landscape supplies","Bulk landscape supplies","Commercial (bulk goods)","NR_1","Impervious Area",5,0,0,{"$f":"INDEX(CHARGES,MATCH($D382&$F382,$AQ$2:$AQ$44&$AR$2:$AR$44,0),MATCH(J$1,$AS$1:$AX$1,0))","v":5},{"$f":"INDEX(CHARGES,MATCH($D382&$F382,$AQ$2:$AQ$44&$AR$2:$AR$44,0),MATCH(K$1,$AS$1:$AX$1,0))","v":0},{"$f":"INDEX(CHARGES,MATCH($D382&$F382,$AQ$2:$AQ$44&$AR$2:$AR$44,0),MATCH(L$1,$AS$1:$AX$1,0))","v":0}]
["Mt Isa - No Water or Sewer","Caretaker's accommodation","Caretaker's accommodation","Residential uses","RU_1","2 or less bedrooms",5658,0,0,{"$f":"INDEX(CHARGES,MATCH($D383&$F383,$AQ$2:$AQ$44&$AR$2:$AR$44,0),MATCH(J$1,$AS$1:$AX$1,0))","v":209},{"$f":"INDEX(CHARGES,MATCH($D383&$F383,$AQ$2:$AQ$44&$AR$2:$AR$44,0),MATCH(K$1,$AS$1:$AX$1,0))","v":5239},{"$f":"INDEX(CHARGES,MATCH($D383&$F383,$AQ$2:$AQ$44&$AR$2:$AR$44,0),MATCH(L$1,$AS$1:$AX$1,0))","v":210}]
["Mt Isa - No Water or Sewer","Caretaker's accommodation","Caretaker's accommodation","Residential uses","RU_1","3 or more bedrooms",7921,0,0,{"$f":"INDEX(CHARGES,MATCH($D384&$F384,$AQ$2:$AQ$44&$AR$2:$AR$44,0),MATCH(J$1,$AS$1:$AX$1,0))","v":293},{"$f":"INDEX(CHARGES,MATCH($D384&$F384,$AQ$2:$AQ$44&$AR$2:$AR$44,0),MATCH(K$1,$AS$1:$AX$1,0))","v":7335},{"$f":"INDEX(CHARGES,MATCH($D384&$F384,$AQ$2:$AQ$44&$AR$2:$AR$44,0),MATCH(L$1,$AS$1:$AX$1,0))","v":293}]
["Mt Isa - No Water or Sewer","Car wash",null,"Other uses","NR_1","Gross Floor Area",0,0,0,{"$f":"INDEX(CHARGES,MATCH($D385&$F385,$AQ$2:$AQ$44&$AR$2:$AR$44,0),MATCH(J$1,$AS$1:$AX$1,0))","v":0},{"$f":"INDEX(CHARGES,MATCH($D385&$F385,$AQ$2:$AQ$44&$AR$2:$AR$44,0),MATCH(K$1,$AS$1:$AX$1,0))","v":0},{"$f":"INDEX(CHARGES,MATCH($D385&$F385,$AQ$2:$AQ$44&$AR$2:$AR$44,0),MATCH(L$1,$AS$1:$AX$1,0))","v":0}]
["Mt Isa - No Water or Sewer","Car wash",null,"Other uses","NR_1","Impervious Area",0,0,0,{"$f":"INDEX(CHARGES,MATCH($D386&$F386,$AQ$2:$AQ$44&$AR$2:$AR$44,0),MATCH(J$1,$AS$1:$AX$1,0))","v":0},{"$f":"INDEX(CHARGES,MATCH($D386&$F386,$AQ$2:$AQ$44&$AR$2:$AR$44,0),MATCH(K$1,$AS$1:$AX$1,0))","v":0},{"$f":"INDEX(CHARGES,MATCH($D386&$F386,$AQ$2:$AQ$44&$AR$2:$AR$44,0),MATCH(L$1,$AS$1:$AX$1,0))","v":0}]
["Mt Isa - No Water or Sewer","Cemetery","Cemetery","Minor uses","NR_3","Gross Floor Area",0,0,0,{"$f":"INDEX(CHARGES,MATCH($D387&$F387,$AQ$2:$AQ$44&$AR$2:$AR$44,0),MATCH(J$1,$AS$1:$AX$1,0))","v":0},{"$f":"INDEX(CHARGES,MATCH($D387&$F387,$AQ$2:$AQ$44&$AR$2:$AR$44,0),MATCH(K$1,$AS$1:$AX$1,0))","v":0},{"$f":"INDEX(CHARGES,MATCH($D387&$F387,$AQ$2:$AQ$44&$AR$2:$AR$44,0),MATCH(L$1,$AS$1:$AX$1,0))","v":0}]
["Mt Isa - No Water or Sewer","Child care centre","Childcare centre","Educational Facility","NR_1","Gross Floor Area",48,0,0,{"$f":"INDEX(CHARGES,MATCH($D388&$F388,$AQ$2:$AQ$44&$AR$2:$AR$44,0),MATCH(J$1,$AS$1:$AX$1,0))","v":0},{"$f":"INDEX(CHARGES,MATCH($D388&$F388,$AQ$2:$AQ$44&$AR$2:$AR$44,0),MATCH(K$1,$AS$1:$AX$1,0))","v":48},{"$f":"INDEX(CHARGES,MATCH($D388&$F388,$AQ$2:$AQ$44&$AR$2:$AR$44,0),MATCH(L$1,$AS$1:$AX$1,0))","v":0}]
["Mt Isa - No Water or Sewer","Child care centre","Childcare centre","Educational Facility","NR_1","Impervious Area",5,0,0,{"$f":"INDEX(CHARGES,MATCH($D389&$F389,$AQ$2:$AQ$44&$AR$2:$AR$44,0),MATCH(J$1,$AS$1:$AX$1,0))","v":5},{"$f":"INDEX(CHARGES,MATCH($D389&$F389,$AQ$2:$AQ$44&$AR$2:$AR$44,0),MATCH(K$1,$AS$1:$AX$1,0))","v":0},{"$f":"INDEX(CHARGES,MATCH($D389&$F389,$AQ$2:$AQ$44&$AR$2:$AR$44,0),MATCH(L$1,$AS$1:$AX$1,0))","v":0}]
["Mt Isa - No Water or Sewer","Community residence","Community residence","Accommodation (long-term)","RU_2","bedroom that is not part of a suite",5658,0,0,{"$f":"INDEX(CHARGES,MATCH($D390&$F390,$AQ$2:$AQ$44&$AR$2:$AR$44,0),MATCH(J$1,$AS$1:$AX$1,0))","v":209},{"$f":"INDEX(CHARGES,MATCH($D390&$F390,$AQ$2:$AQ$44&$AR$2:$AR$44,0),MATCH(K$1,$AS$1:$AX$1,0))","v":5239},{"$f":"INDEX(CHARGES,MATCH($D390&$F390,$AQ$2:$AQ$44&$AR$2:$AR$44,0),MATCH(L$1,$AS$1:$AX$1,0))","v":210}]
["Mt Isa - No Water or Sewer","Community residence","Community residence","Accommodation (long-term)","RU_2","2 or less bedrooms",5658,0,0,{"$f":"INDEX(CHARGES,MATCH($D391&$F391,$AQ$2:$AQ$44&$AR$2:$AR$44,0),MATCH(J$1,$AS$1:$AX$1,0))","v":209},{"$f":"INDEX(CHARGES,MATCH($D391&$F391,$AQ$2:$AQ$44&$AR$2:$AR$44,0),MATCH(K$1,$AS$1:$AX$1,0))","v":5239},{"$f":"INDEX(CHARGES,MATCH($D391&$F391,$AQ$2:$AQ$44&$AR$2:$AR$44,0),MATCH(L$1,$AS$1:$AX$1,0))","v":210}]
["Mt Isa - No Water or Sewer","Community residence","Community residence","Accommodation (long-term)","RU_2","3 or more bedrooms",7921,0,0,{"$f":"INDEX(CHARGES,MATCH($D392&$F392,$AQ$2:$AQ$44&$AR$2:$AR$44,0),MATCH(J$1,$AS$1:$AX$1,0))","v":293},{"$f":"INDEX(CHARGES,MATCH($D392&$F392,$AQ$2:$AQ$44&$AR$2:$AR$44,0),MATCH(K$1,$AS$1:$AX$1,0))","v":7335},{"$f":"INDEX(CHARGES,MATCH($D392&$F392,$AQ$2:$AQ$44&$AR$2:$AR$44,0),MATCH(L$1,$AS$1:$AX$1,0))","v":293}]
["Mt Isa - No Water or Sewer","Community use","Community use","Places of assembly","NR_1","Gross Floor Area",24,0,0,{"$f":"INDEX(CHARGES,MATCH($D393&$F393,$AQ$2:$AQ$44&$AR$2:$AR$44,0),MATCH(J$1,$AS$1:$AX$1,0))","v":0},{"$f":"INDEX(CHARGES,MATCH($D393&$F393,$AQ$2:$AQ$44&$AR$2:$AR$44,0),MATCH(K$1,$AS$1:$AX$1,0))","v":24},{"$f":"INDEX(CHARGES,MATCH($D393&$F393,$AQ$2:$AQ$44&$AR$2:$AR$44,0),MATCH(L$1,$AS$1:$AX$1,0))","v":0}]
["Mt Isa - No Water or Sewer","Community use","Community use","Places of assembly","NR_1","Impervious Area",5,0,0,{"$f":"INDEX(CHARGES,MATCH($D394&$F394,$AQ$2:$AQ$44&$AR$2:$AR$44,0),MATCH(J$1,$AS$1:$AX$1,0))","v":5},{"$f":"INDEX(CHARGES,MATCH($D394&$F394,$AQ$2:$AQ$44&$AR$2:$AR$44,0),MATCH(K$1,$AS$1:$AX$1,0))","v":0},{"$f":"INDEX(CHARGES,MATCH($D394&$F394,$AQ$2:$AQ$44&$AR$2:$AR$44,0),MATCH(L$1,$AS$1:$AX$1,0))","v":0}]
["Mt Isa - No Water or Sewer","Crematorium","Crematorium","Other uses","NR_1","Gross Floor Area",0,0,0,{"$f":"INDEX(CHARGES,MATCH($D395&$F395,$AQ$2:$AQ$44&$AR$2:$AR$44,0),MATCH(J$1,$AS$1:$AX$1,0))","v":0},{"$f":"INDEX(CHARGES,MATCH($D395&$F395,$AQ$2:$AQ$44&$AR$2:$AR$44,0),MATCH(K$1,$AS$1:$AX$1,0))","v":0},{"$f":"INDEX(CHARGES,MATCH($D395&$F395,$AQ$2:$AQ$44&$AR$2:$AR$44,0),MATCH(L$1,$AS$1:$AX$1,0))","v":0}]
["Mt Isa - No Water or Sewer","Crematorium","Crematorium","Other uses","NR_1","Impervious Area",0,0,0,{"$f":"INDEX(CHARGES,MATCH($D396&$F396,$AQ$2:$AQ$44&$AR$2:$AR$44,0),MATCH(J$1,$AS$1:$AX$1,0))","v":0},{"$f":"INDEX(CHARGES,MATCH($D396&$F396,$AQ$2:$AQ$44&$AR$2:$AR$44,0),MATCH(K$1,$AS$1:$AX$1,0))","v":0},{"$f":"INDEX(CHARGES,MATCH($D396&$F396,$AQ$2:$AQ$44&$AR$2:$AR$44,0),MATCH(L$1,$AS$1:$AX$1,0))","v":0}]
["Mt Isa - No Water or Sewer","Cropping","Cropping","Low impact rural","NR_3","Gross Floor Area",0,0,0,{"$f":"INDEX(CHARGES,MATCH($D397&$F397,$AQ$2:$AQ$44&$AR$2:$AR$44,0),MATCH(J$1,$AS$1:$AX$1,0))","v":0},{"$f":"INDEX(CHARGES,MATCH($D397&$F397,$AQ$2:$AQ$44&$AR$2:$AR$44,0),MATCH(K$1,$AS$1:$AX$1,0))","v":0},{"$f":"INDEX(CHARGES,MATCH($D397&$F397,$AQ$2:$AQ$44&$AR$2:$AR$44,0),MATCH(L$1,$AS$1:$AX$1,0))","v":0}]
["Mt Isa - No Water or Sewer","Detention facility","Correctional facility","Essential services","NR_1","Gross Floor Area",48,0,0,{"$f":"INDEX(CHARGES,MATCH($D398&$F398,$AQ$2:$AQ$44&$AR$2:$AR$44,0),MATCH(J$1,$AS$1:$AX$1,0))","v":0},{"$f":"INDEX(CHARGES,MATCH($D398&$F398,$AQ$2:$AQ$44&$AR$2:$AR$44,0),MATCH(K$1,$AS$1:$AX$1,0))","v":48},{"$f":"INDEX(CHARGES,MATCH($D398&$F398,$AQ$2:$AQ$44&$AR$2:$AR$44,0),MATCH(L$1,$AS$1:$AX$1,0))","v":0}]
["Mt Isa - No Water or Sewer","Detention facility","Correctional facility","Essential services","NR_1","Impervious Area",{"$f":"SUM(H399:L399)","v":5},0,0,{"$f":"INDEX(CHARGES,MATCH($D399&$F399,$AQ$2:$AQ$44&$AR$2:$AR$44,0),MATCH(J$1,$AS$1:$AX$1,0))","v":5},{"$f":"INDEX(CHARGES,MATCH($D399&$F399,$AQ$2:$AQ$44&$AR$2:$AR$44,0),MATCH(K$1,$AS$1:$AX$1,0))","v":0},{"$f":"INDEX(CHARGES,MATCH($D399&$F399,$AQ$2:$AQ$44&$AR$2:$AR$44,0),MATCH(L$1,$AS$1:$AX$1,0))","v":0}]
["Mt Isa - No Water or Sewer","Dual occupancy","Dual occupancy","Residential uses","RU_1","2 or less bedrooms",5658,0,0,{"$f":"INDEX(CHARGES,MATCH($D400&$F400,$AQ$2:$AQ$44&$AR$2:$AR$44,0),MATCH(J$1,$AS$1:$AX$1,0))","v":209},{"$f":"INDEX(CHARGES,MATCH($D400&$F400,$AQ$2:$AQ$44&$AR$2:$AR$44,0),MATCH(K$1,$AS$1:$AX$1,0))","v":5239},{"$f":"INDEX(CHARGES,MATCH($D400&$F400,$AQ$2:$AQ$44&$AR$2:$AR$44,0),MATCH(L$1,$AS$1:$AX$1,0))","v":210}]
["Mt Isa - No Water or Sewer","Dual occupancy","Dual occupancy","Residential uses","RU_1","3 or more bedrooms",7921,0,0,{"$f":"INDEX(CHARGES,MATCH($D401&$F401,$AQ$2:$AQ$44&$AR$2:$AR$44,0),MATCH(J$1,$AS$1:$AX$1,0))","v":293},{"$f":"INDEX(CHARGES,MATCH($D401&$F401,$AQ$2:$AQ$44&$AR$2:$AR$44,0),MATCH(K$1,$AS$1:$AX$1,0))","v":7335},{"$f":"INDEX(CHARGES,MATCH($D401&$F401,$AQ$2:$AQ$44&$AR$2:$AR$44,0),MATCH(L$1,$AS$1:$AX$1,0))","v":293}]
["Mt Isa - No Water or Sewer","Dwelling house","Dwelling house","Residential uses","RU_1","2 or less bedrooms",5658,0,0,{"$f":"INDEX(CHARGES,MATCH($D402&$F402,$AQ$2:$AQ$44&$AR$2:$AR$44,0),MATCH(J$1,$AS$1:$AX$1,0))","v":209},{"$f":"INDEX(CHARGES,MATCH($D402&$F402,$AQ$2:$AQ$44&$AR$2:$AR$44,0),MATCH(K$1,$AS$1:$AX$1,0))","v":5239},{"$f":"INDEX(CHARGES,MATCH($D402&$F402,$AQ$2:$AQ$44&$AR$2:$AR$44,0),MATCH(L$1,$AS$1:$AX$1,0))","v":210}]
["Mt Isa - No Water or Sewer","Dwelling house","Dwelling house","Residential uses","RU_1","3 or more bedrooms",7921,0,0,{"$f":"INDEX(CHARGES,MATCH($D403&$F403,$AQ$2:$AQ$44&$AR$2:$AR$44,0),MATCH(J$1,$AS$1:$AX$1,0))","v":293},{"$f":"INDEX(CHARGES,MATCH($D403&$F403,$AQ$2:$AQ$44&$AR$2:$AR$44,0),MATCH(K$1,$AS$1:$AX$1,0))","v":7335},{"$f":"INDEX(CHARGES,MATCH($D403&$F403,$AQ$2:$AQ$44&$AR$2:$AR$44,0),MATCH(L$1,$AS$1:$AX$1,0))","v":293}]
["Mt Isa - No Water or Sewer","Dwelling unit","Multiple dwelling","Residential uses","RU_1","2 or less bedrooms",5658,0,0,{"$f":"INDEX(CHARGES,MATCH($D404&$F404,$AQ$2:$AQ$44&$AR$2:$AR$44,0),MATCH(J$1,$AS$1:$AX$1,0))","v":209},{"$f":"INDEX(CHARGES,MATCH($D404&$F404,$AQ$2:$AQ$44&$AR$2:$AR$44,0),MATCH(K$1,$AS$1:$AX$1,0))","v":5239},{"$f":"INDEX(CHARGES,MATCH($D404&$F404,$AQ$2:$AQ$44&$AR$2:$AR$44,0),MATCH(L$1,$AS$1:$AX$1,0))","v":210}]
["Mt Isa - No Water or Sewer","Dwelling unit","Multiple dwelling","Residential uses","RU_1","3 or more bedrooms",7921,0,0,{"$f":"INDEX(CHARGES,MATCH($D405&$F405,$AQ$2:$AQ$44&$AR$2:$AR$44,0),MATCH(J$1,$AS$1:$AX$1,0))","v":293},{"$f":"INDEX(CHARGES,MATCH($D405&$F405,$AQ$2:$AQ$44&$AR$2:$AR$44,0),MATCH(K$1,$AS$1:$AX$1,0))","v":7335},{"$f":"INDEX(CHARGES,MATCH($D405&$F405,$AQ$2:$AQ$44&$AR$2:$AR$44,0),MATCH(L$1,$AS$1:$AX$1,0))","v":293}]
["Mt Isa - No Water or Sewer","Educational establishment other than an educational establishment for the Flying Start for Queensland Children program","Educational establishment other than an educational establishment for the Flying Start for Queensland Children program","Educational Facility","NR_1","Gross Floor Area",48,0,0,{"$f":"INDEX(CHARGES,MATCH($D406&$F406,$AQ$2:$AQ$44&$AR$2:$AR$44,0),MATCH(J$1,$AS$1:$AX$1,0))","v":0},{"$f":"INDEX(CHARGES,MATCH($D406&$F406,$AQ$2:$AQ$44&$AR$2:$AR$44,0),MATCH(K$1,$AS$1:$AX$1,0))","v":48},{"$f":"INDEX(CHARGES,MATCH($D406&$F406,$AQ$2:$AQ$44&$AR$2:$AR$44,0),MATCH(L$1,$AS$1:$AX$1,0))","v":0}]
["Mt Isa - No Water or Sewer","Educational establishment other than an educational establishment for the Flying Start for Queensland Children program","Educational establishment other than an educational establishment for the Flying Start for Queensland Children program","Educational Facility","NR_1","Impervious Area",5,0,0,{"$f":"INDEX(CHARGES,MATCH($D407&$F407,$AQ$2:$AQ$44&$AR$2:$AR$44,0),MATCH(J$1,$AS$1:$AX$1,0))","v":5},{"$f":"INDEX(CHARGES,MATCH($D407&$F407,$AQ$2:$AQ$44&$AR$2:$AR$44,0),MATCH(K$1,$AS$1:$AX$1,0))","v":0},{"$f":"INDEX(CHARGES,MATCH($D407&$F407,$AQ$2:$AQ$44&$AR$2:$AR$44,0),MATCH(L$1,$AS$1:$AX$1,0))","v":0}]
["Mt Isa - No Water or Sewer","Educational establishment that is an educational establishment for the Flying Start for Queensland Children program","Educational establishment that is an educational establishment for the Flying Start for Queensland Children program","Educational Facility","NR_1","Gross Floor Area",48,0,0,{"$f":"INDEX(CHARGES,MATCH($D408&$F408,$AQ$2:$AQ$44&$AR$2:$AR$44,0),MATCH(J$1,$AS$1:$AX$1,0))","v":0},{"$f":"INDEX(CHARGES,MATCH($D408&$F408,$AQ$2:$AQ$44&$AR$2:$AR$44,0),MATCH(K$1,$AS$1:$AX$1,0))","v":48},{"$f":"INDEX(CHARGES,MATCH($D408&$F408,$AQ$2:$AQ$44&$AR$2:$AR$44,0),MATCH(L$1,$AS$1:$AX$1,0))","v":0}]
["Mt Isa - No Water or Sewer","Educational establishment that is an educational establishment for the Flying Start for Queensland Children program","Educational establishment that is an educational establishment for the Flying Start for Queensland Children program","Educational Facility","NR_1","Impervious Area",5,0,0,{"$f":"INDEX(CHARGES,MATCH($D409&$F409,$AQ$2:$AQ$44&$AR$2:$AR$44,0),MATCH(J$1,$AS$1:$AX$1,0))","v":5},{"$f":"INDEX(CHARGES,MATCH($D409&$F409,$AQ$2:$AQ$44&$AR$2:$AR$44,0),MATCH(K$1,$AS$1:$AX$1,0))","v":0},{"$f":"INDEX(CHARGES,MATCH($D409&$F409,$AQ$2:$AQ$44&$AR$2:$AR$44,0),MATCH(L$1,$AS$1:$AX$1,0))","v":0}]
["Mt Isa - No Water or Sewer","Emergency services","Emergency services","Essential services","NR_1","Gross Floor Area",48,0,0,{"$f":"INDEX(CHARGES,MATCH($D410&$F410,$AQ$2:$AQ$44&$AR$2:$AR$44,0),MATCH(J$1,$AS$1:$AX$1,0))","v":0},{"$f":"INDEX(CHARGES,MATCH($D410&$F410,$AQ$2:$AQ$44&$AR$2:$AR$44,0),MATCH(K$1,$AS$1:$AX$1,0))","v":48},{"$f":"INDEX(CHARGES,MATCH($D410&$F410,$AQ$2:$AQ$44&$AR$2:$AR$44,0),MATCH(L$1,$AS$1:$AX$1,0))","v":0}]
["Mt Isa - No Water or Sewer","Emergency services","Emergency services","Essential services","NR_1","Impervious Area",5,0,0,{"$f":"INDEX(CHARGES,MATCH($D411&$F411,$AQ$2:$AQ$44&$AR$2:$AR$44,0),MATCH(J$1,$AS$1:$AX$1,0))","v":5},{"$f":"INDEX(CHARGES,MATCH($D411&$F411,$AQ$2:$AQ$44&$AR$2:$AR$44,0),MATCH(K$1,$AS$1:$AX$1,0))","v":0},{"$f":"INDEX(CHARGES,MATCH($D411&$F411,$AQ$2:$AQ$44&$AR$2:$AR$44,0),MATCH(L$1,$AS$1:$AX$1,0))","v":0}]
["Mt Isa - No Water or Sewer","Environment facility",null,"Other uses","NR_1","Gross Floor Area",0,0,0,{"$f":"INDEX(CHARGES,MATCH($D412&$F412,$AQ$2:$AQ$44&$AR$2:$AR$44,0),MATCH(J$1,$AS$1:$AX$1,0))","v":0},{"$f":"INDEX(CHARGES,MATCH($D412&$F412,$AQ$2:$AQ$44&$AR$2:$AR$44,0),MATCH(K$1,$AS$1:$AX$1,0))","v":0},{"$f":"INDEX(CHARGES,MATCH($D412&$F412,$AQ$2:$AQ$44&$AR$2:$AR$44,0),MATCH(L$1,$AS$1:$AX$1,0))","v":0}]
["Mt Isa - No Water or Sewer","Environment facility",null,"Other uses","NR_1","Impervious Area",0,0,0,{"$f":"INDEX(CHARGES,MATCH($D413&$F413,$AQ$2:$AQ$44&$AR$2:$AR$44,0),MATCH(J$1,$AS$1:$AX$1,0))","v":0},{"$f":"INDEX(CHARGES,MATCH($D413&$F413,$AQ$2:$AQ$44&$AR$2:$AR$44,0),MATCH(K$1,$AS$1:$AX$1,0))","v":0},{"$f":"INDEX(CHARGES,MATCH($D413&$F413,$AQ$2:$AQ$44&$AR$2:$AR$44,0),MATCH(L$1,$AS$1:$AX$1,0))","v":0}]
["Mt Isa - No Water or Sewer","Extractive industry","Extractive industry","Other uses","NR_1","Gross Floor Area",0,0,0,{"$f":"INDEX(CHARGES,MATCH($D414&$F414,$AQ$2:$AQ$44&$AR$2:$AR$44,0),MATCH(J$1,$AS$1:$AX$1,0))","v":0},{"$f":"INDEX(CHARGES,MATCH($D414&$F414,$AQ$2:$AQ$44&$AR$2:$AR$44,0),MATCH(K$1,$AS$1:$AX$1,0))","v":0},{"$f":"INDEX(CHARGES,MATCH($D414&$F414,$AQ$2:$AQ$44&$AR$2:$AR$44,0),MATCH(L$1,$AS$1:$AX$1,0))","v":0}]
["Mt Isa - No Water or Sewer","Extractive industry","Extractive industry","Other uses","NR_1","Impervious Area",0,0,0,{"$f":"INDEX(CHARGES,MATCH($D415&$F415,$AQ$2:$AQ$44&$AR$2:$AR$44,0),MATCH(J$1,$AS$1:$AX$1,0))","v":0},{"$f":"INDEX(CHARGES,MATCH($D415&$F415,$AQ$2:$AQ$44&$AR$2:$AR$44,0),MATCH(K$1,$AS$1:$AX$1,0))","v":0},{"$f":"INDEX(CHARGES,MATCH($D415&$F415,$AQ$2:$AQ$44&$AR$2:$AR$44,0),MATCH(L$1,$AS$1:$AX$1,0))","v":0}]
["Mt Isa - No Water or Sewer","Food and drink outlet","Food and drink outlet","Commercial (retail)","NR_1","Gross Floor Area",61,0,0,{"$f":"INDEX(CHARGES,MATCH($D416&$F416,$AQ$2:$AQ$44&$AR$2:$AR$44,0),MATCH(J$1,$AS$1:$AX$1,0))","v":0},{"$f":"INDEX(CHARGES,MATCH($D416&$F416,$AQ$2:$AQ$44&$AR$2:$AR$44,0),MATCH(K$1,$AS$1:$AX$1,0))","v":61},{"$f":"INDEX(CHARGES,MATCH($D416&$F416,$AQ$2:$AQ$44&$AR$2:$AR$44,0),MATCH(L$1,$AS$1:$AX$1,0))","v":0}]
["Mt Isa - No Water or Sewer","Food and drink outlet","Food and drink outlet","Commercial (retail)","NR_1","Impervious Area",5,0,0,{"$f":"INDEX(CHARGES,MATCH($D417&$F417,$AQ$2:$AQ$44&$AR$2:$AR$44,0),MATCH(J$1,$AS$1:$AX$1,0))","v":5},{"$f":"INDEX(CHARGES,MATCH($D417&$F417,$AQ$2:$AQ$44&$AR$2:$AR$44,0),MATCH(K$1,$AS$1:$AX$1,0))","v":0},{"$f":"INDEX(CHARGES,MATCH($D417&$F417,$AQ$2:$AQ$44&$AR$2:$AR$44,0),MATCH(L$1,$AS$1:$AX$1,0))","v":0}]
["Mt Isa - No Water or Sewer","Office","Office","Commercial (office)","NR_1","Gross Floor Area",48,0,0,{"$f":"INDEX(CHARGES,MATCH($D418&$F418,$AQ$2:$AQ$44&$AR$2:$AR$44,0),MATCH(J$1,$AS$1:$AX$1,0))","v":0},{"$f":"INDEX(CHARGES,MATCH($D418&$F418,$AQ$2:$AQ$44&$AR$2:$AR$44,0),MATCH(K$1,$AS$1:$AX$1,0))","v":48},{"$f":"INDEX(CHARGES,MATCH($D418&$F418,$AQ$2:$AQ$44&$AR$2:$AR$44,0),MATCH(L$1,$AS$1:$AX$1,0))","v":0}]
["Mt Isa - No Water or Sewer","Office","Office","Commercial (office)","NR_1","Impervious Area",5,0,0,{"$f":"INDEX(CHARGES,MATCH($D419&$F419,$AQ$2:$AQ$44&$AR$2:$AR$44,0),MATCH(J$1,$AS$1:$AX$1,0))","v":5},{"$f":"INDEX(CHARGES,MATCH($D419&$F419,$AQ$2:$AQ$44&$AR$2:$AR$44,0),MATCH(K$1,$AS$1:$AX$1,0))","v":0},{"$f":"INDEX(CHARGES,MATCH($D419&$F419,$AQ$2:$AQ$44&$AR$2:$AR$44,0),MATCH(L$1,$AS$1:$AX$1,0))","v":0}]
["Mt Isa - No Water or Sewer","Outdoor sales","Outdoor sales","Commercial (retail)","NR_1","Gross Floor Area",61,0,0,{"$f":"INDEX(CHARGES,MATCH($D420&$F420,$AQ$2:$AQ$44&$AR$2:$AR$44,0),MATCH(J$1,$AS$1:$AX$1,0))","v":0},{"$f":"INDEX(CHARGES,MATCH($D420&$F420,$AQ$2:$AQ$44&$AR$2:$AR$44,0),MATCH(K$1,$AS$1:$AX$1,0))","v":61},{"$f":"INDEX(CHARGES,MATCH($D420&$F420,$AQ$2:$AQ$44&$AR$2:$AR$44,0),MATCH(L$1,$AS$1:$AX$1,0))","v":0}]
["Mt Isa - No Water or Sewer","Outdoor sales","Outdoor sales","Commercial (retail)","NR_1","Impervious Area",5,0,0,{"$f":"INDEX(CHARGES,MATCH($D421&$F421,$AQ$2:$AQ$44&$AR$2:$AR$44,0),MATCH(J$1,$AS$1:$AX$1,0))","v":5},{"$f":"INDEX(CHARGES,MATCH($D421&$F421,$AQ$2:$AQ$44&$AR$2:$AR$44,0),MATCH(K$1,$AS$1:$AX$1,0))","v":0},{"$f":"INDEX(CHARGES,MATCH($D421&$F421,$AQ$2:$AQ$44&$AR$2:$AR$44,0),MATCH(L$1,$AS$1:$AX$1,0))","v":0}]
["Mt Isa - No Water or Sewer","Outdoor sport and recreation","Outdoor sport and recreation","Other uses","NR_2","Gross Floor Area - not court area",0,0,0,{"$f":"INDEX(CHARGES,MATCH($D422&$F422,$AQ$2:$AQ$44&$AR$2:$AR$44,0),MATCH(J$1,$AS$1:$AX$1,0))","v":0},{"$f":"INDEX(CHARGES,MATCH($D422&$F422,$AQ$2:$AQ$44&$AR$2:$AR$44,0),MATCH(K$1,$AS$1:$AX$1,0))","v":0},{"$f":"INDEX(CHARGES,MATCH($D422&$F422,$AQ$2:$AQ$44&$AR$2:$AR$44,0),MATCH(L$1,$AS$1:$AX$1,0))","v":0}]
["Mt Isa - No Water or Sewer","Outdoor sport and recreation","Outdoor sport and recreation","Other uses","NR_2","Gross Floor Area - court area",0,0,0,{"$f":"INDEX(CHARGES,MATCH($D423&$F423,$AQ$2:$AQ$44&$AR$2:$AR$44,0),MATCH(J$1,$AS$1:$AX$1,0))","v":0},{"$f":"INDEX(CHARGES,MATCH($D423&$F423,$AQ$2:$AQ$44&$AR$2:$AR$44,0),MATCH(K$1,$AS$1:$AX$1,0))","v":0},{"$f":"INDEX(CHARGES,MATCH($D423&$F423,$AQ$2:$AQ$44&$AR$2:$AR$44,0),MATCH(L$1,$AS$1:$AX$1,0))","v":0}]
["Mt Isa - No Water or Sewer","Outdoor sport and recreation","Outdoor sport and recreation","Other uses","NR_2","Impervious Area",0,0,0,{"$f":"INDEX(CHARGES,MATCH($D424&$F424,$AQ$2:$AQ$44&$AR$2:$AR$44,0),MATCH(J$1,$AS$1:$AX$1,0))","v":0},{"$f":"INDEX(CHARGES,MATCH($D424&$F424,$AQ$2:$AQ$44&$AR$2:$AR$44,0),MATCH(K$1,$AS$1:$AX$1,0))","v":0},{"$f":"INDEX(CHARGES,MATCH($D424&$F424,$AQ$2:$AQ$44&$AR$2:$AR$44,0),MATCH(L$1,$AS$1:$AX$1,0))","v":0}]
["Mt Isa - No Water or Sewer","Outstation",null,"Other uses","NR_1","Gross Floor Area",0,0,0,{"$f":"INDEX(CHARGES,MATCH($D425&$F425,$AQ$2:$AQ$44&$AR$2:$AR$44,0),MATCH(J$1,$AS$1:$AX$1,0))","v":0},{"$f":"INDEX(CHARGES,MATCH($D425&$F425,$AQ$2:$AQ$44&$AR$2:$AR$44,0),MATCH(K$1,$AS$1:$AX$1,0))","v":0},{"$f":"INDEX(CHARGES,MATCH($D425&$F425,$AQ$2:$AQ$44&$AR$2:$AR$44,0),MATCH(L$1,$AS$1:$AX$1,0))","v":0}]
["Mt Isa - No Water or Sewer","Outstation",null,"Other uses","NR_1","Impervious Area",0,0,0,{"$f":"INDEX(CHARGES,MATCH($D426&$F426,$AQ$2:$AQ$44&$AR$2:$AR$44,0),MATCH(J$1,$AS$1:$AX$1,0))","v":0},{"$f":"INDEX(CHARGES,MATCH($D426&$F426,$AQ$2:$AQ$44&$AR$2:$AR$44,0),MATCH(K$1,$AS$1:$AX$1,0))","v":0},{"$f":"INDEX(CHARGES,MATCH($D426&$F426,$AQ$2:$AQ$44&$AR$2:$AR$44,0),MATCH(L$1,$AS$1:$AX$1,0))","v":0}]
["Mt Isa - No Water or Sewer","Park","Park","Minor uses","NR_3","Gross Floor Area",0,0,0,{"$f":"INDEX(CHARGES,MATCH($D427&$F427,$AQ$2:$AQ$44&$AR$2:$AR$44,0),MATCH(J$1,$AS$1:$AX$1,0))","v":0},{"$f":"INDEX(CHARGES,MATCH($D427&$F427,$AQ$2:$AQ$44&$AR$2:$AR$44,0),MATCH(K$1,$AS$1:$AX$1,0))","v":0},{"$f":"INDEX(CHARGES,MATCH($D427&$F427,$AQ$2:$AQ$44&$AR$2:$AR$44,0),MATCH(L$1,$AS$1:$AX$1,0))","v":0}]
["Mt Isa - No Water or Sewer","Parking station",null,"Other uses","NR_1","Gross Floor Area",0,0,0,{"$f":"INDEX(CHARGES,MATCH($D428&$F428,$AQ$2:$AQ$44&$AR$2:$AR$44,0),MATCH(J$1,$AS$1:$AX$1,0))","v":0},{"$f":"INDEX(CHARGES,MATCH($D428&$F428,$AQ$2:$AQ$44&$AR$2:$AR$44,0),MATCH(K$1,$AS$1:$AX$1,0))","v":0},{"$f":"INDEX(CHARGES,MATCH($D428&$F428,$AQ$2:$AQ$44&$AR$2:$AR$44,0),MATCH(L$1,$AS$1:$AX$1,0))","v":0}]
["Mt Isa - No Water or Sewer","Parking station",null,"Other uses","NR_1","Impervious Area",0,0,0,{"$f":"INDEX(CHARGES,MATCH($D429&$F429,$AQ$2:$AQ$44&$AR$2:$AR$44,0),MATCH(J$1,$AS$1:$AX$1,0))","v":0},{"$f":"INDEX(CHARGES,MATCH($D429&$F429,$AQ$2:$AQ$44&$AR$2:$AR$44,0),MATCH(K$1,$AS$1:$AX$1,0))","v":0},{"$f":"INDEX(CHARGES,MATCH($D429&$F429,$AQ$2:$AQ$44&$AR$2:$AR$44,0),MATCH(L$1,$AS$1:$AX$1,0))","v":0}]
["Mt Isa - No Water or Sewer","Permanent plantation","Permanent plantation","Low impact rural","NR_3","Gross Floor Area",0,0,0,{"$f":"INDEX(CHARGES,MATCH($D430&$F430,$AQ$2:$AQ$44&$AR$2:$AR$44,0),MATCH(J$1,$AS$1:$AX$1,0))","v":0},{"$f":"INDEX(CHARGES,MATCH($D430&$F430,$AQ$2:$AQ$44&$AR$2:$AR$44,0),MATCH(K$1,$AS$1:$AX$1,0))","v":0},{"$f":"INDEX(CHARGES,MATCH($D430&$F430,$AQ$2:$AQ$44&$AR$2:$AR$44,0),MATCH(L$1,$AS$1:$AX$1,0))","v":0}]
["Mt Isa - No Water or Sewer","Function facility","Function facility","Places of assembly","NR_1","Gross Floor Area",24,0,0,{"$f":"INDEX(CHARGES,MATCH($D431&$F431,$AQ$2:$AQ$44&$AR$2:$AR$44,0),MATCH(J$1,$AS$1:$AX$1,0))","v":0},{"$f":"INDEX(CHARGES,MATCH($D431&$F431,$AQ$2:$AQ$44&$AR$2:$AR$44,0),MATCH(K$1,$AS$1:$AX$1,0))","v":24},{"$f":"INDEX(CHARGES,MATCH($D431&$F431,$AQ$2:$AQ$44&$AR$2:$AR$44,0),MATCH(L$1,$AS$1:$AX$1,0))","v":0}]
["Mt Isa - No Water or Sewer","Function facility","Function facility","Places of assembly","NR_1","Impervious Area",5,0,0,{"$f":"INDEX(CHARGES,MATCH($D432&$F432,$AQ$2:$AQ$44&$AR$2:$AR$44,0),MATCH(J$1,$AS$1:$AX$1,0))","v":5},{"$f":"INDEX(CHARGES,MATCH($D432&$F432,$AQ$2:$AQ$44&$AR$2:$AR$44,0),MATCH(K$1,$AS$1:$AX$1,0))","v":0},{"$f":"INDEX(CHARGES,MATCH($D432&$F432,$AQ$2:$AQ$44&$AR$2:$AR$44,0),MATCH(L$1,$AS$1:$AX$1,0))","v":0}]
["Mt Isa - No Water or Sewer","Funeral parlour","Funeral parlour","Places of assembly","NR_1","Gross Floor Area",24,0,0,{"$f":"INDEX(CHARGES,MATCH($D433&$F433,$AQ$2:$AQ$44&$AR$2:$AR$44,0),MATCH(J$1,$AS$1:$AX$1,0))","v":0},{"$f":"INDEX(CHARGES,MATCH($D433&$F433,$AQ$2:$AQ$44&$AR$2:$AR$44,0),MATCH(K$1,$AS$1:$AX$1,0))","v":24},{"$f":"INDEX(CHARGES,MATCH($D433&$F433,$AQ$2:$AQ$44&$AR$2:$AR$44,0),MATCH(L$1,$AS$1:$AX$1,0))","v":0}]
["Mt Isa - No Water or Sewer","Funeral parlour","Funeral parlour","Places of assembly","NR_1","Impervious Area",5,0,0,{"$f":"INDEX(CHARGES,MATCH($D434&$F434,$AQ$2:$AQ$44&$AR$2:$AR$44,0),MATCH(J$1,$AS$1:$AX$1,0))","v":5},{"$f":"INDEX(CHARGES,MATCH($D434&$F434,$AQ$2:$AQ$44&$AR$2:$AR$44,0),MATCH(K$1,$AS$1:$AX$1,0))","v":0},{"$f":"INDEX(CHARGES,MATCH($D434&$F434,$AQ$2:$AQ$44&$AR$2:$AR$44,0),MATCH(L$1,$AS$1:$AX$1,0))","v":0}]
["Mt Isa - No Water or Sewer","Garden centre","Garden centre","Commercial (bulk goods)","NR_1","Gross Floor Area",48,0,0,{"$f":"INDEX(CHARGES,MATCH($D435&$F435,$AQ$2:$AQ$44&$AR$2:$AR$44,0),MATCH(J$1,$AS$1:$AX$1,0))","v":0},{"$f":"INDEX(CHARGES,MATCH($D435&$F435,$AQ$2:$AQ$44&$AR$2:$AR$44,0),MATCH(K$1,$AS$1:$AX$1,0))","v":48},{"$f":"INDEX(CHARGES,MATCH($D435&$F435,$AQ$2:$AQ$44&$AR$2:$AR$44,0),MATCH(L$1,$AS$1:$AX$1,0))","v":0}]
["Mt Isa - No Water or Sewer","Garden centre","Garden centre","Commercial (bulk goods)","NR_1","Impervious Area",5,0,0,{"$f":"INDEX(CHARGES,MATCH($D436&$F436,$AQ$2:$AQ$44&$AR$2:$AR$44,0),MATCH(J$1,$AS$1:$AX$1,0))","v":5},{"$f":"INDEX(CHARGES,MATCH($D436&$F436,$AQ$2:$AQ$44&$AR$2:$AR$44,0),MATCH(K$1,$AS$1:$AX$1,0))","v":0},{"$f":"INDEX(CHARGES,MATCH($D436&$F436,$AQ$2:$AQ$44&$AR$2:$AR$44,0),MATCH(L$1,$AS$1:$AX$1,0))","v":0}]
["Mt Isa - No Water or Sewer","Hardware and trade supplies","Hardware and trade supplies","Commercial (bulk goods)","NR_1","Gross Floor Area",48,0,0,{"$f":"INDEX(CHARGES,MATCH($D437&$F437,$AQ$2:$AQ$44&$AR$2:$AR$44,0),MATCH(J$1,$AS$1:$AX$1,0))","v":0},{"$f":"INDEX(CHARGES,MATCH($D437&$F437,$AQ$2:$AQ$44&$AR$2:$AR$44,0),MATCH(K$1,$AS$1:$AX$1,0))","v":48},{"$f":"INDEX(CHARGES,MATCH($D437&$F437,$AQ$2:$AQ$44&$AR$2:$AR$44,0),MATCH(L$1,$AS$1:$AX$1,0))","v":0}]
["Mt Isa - No Water or Sewer","Hardware and trade supplies","Hardware and trade supplies","Commercial (bulk goods)","NR_1","Impervious Area",5,0,0,{"$f":"INDEX(CHARGES,MATCH($D438&$F438,$AQ$2:$AQ$44&$AR$2:$AR$44,0),MATCH(J$1,$AS$1:$AX$1,0))","v":5},{"$f":"INDEX(CHARGES,MATCH($D438&$F438,$AQ$2:$AQ$44&$AR$2:$AR$44,0),MATCH(K$1,$AS$1:$AX$1,0))","v":0},{"$f":"INDEX(CHARGES,MATCH($D438&$F438,$AQ$2:$AQ$44&$AR$2:$AR$44,0),MATCH(L$1,$AS$1:$AX$1,0))","v":0}]
["Mt Isa - No Water or Sewer","Health care services","Health care service","Essential services","NR_1","Gross Floor Area",48,0,0,{"$f":"INDEX(CHARGES,MATCH($D439&$F439,$AQ$2:$AQ$44&$AR$2:$AR$44,0),MATCH(J$1,$AS$1:$AX$1,0))","v":0},{"$f":"INDEX(CHARGES,MATCH($D439&$F439,$AQ$2:$AQ$44&$AR$2:$AR$44,0),MATCH(K$1,$AS$1:$AX$1,0))","v":48},{"$f":"INDEX(CHARGES,MATCH($D439&$F439,$AQ$2:$AQ$44&$AR$2:$AR$44,0),MATCH(L$1,$AS$1:$AX$1,0))","v":0}]
["Mt Isa - No Water or Sewer","Health care services","Health care service","Essential services","NR_1","Impervious Area",5,0,0,{"$f":"INDEX(CHARGES,MATCH($D440&$F440,$AQ$2:$AQ$44&$AR$2:$AR$44,0),MATCH(J$1,$AS$1:$AX$1,0))","v":5},{"$f":"INDEX(CHARGES,MATCH($D440&$F440,$AQ$2:$AQ$44&$AR$2:$AR$44,0),MATCH(K$1,$AS$1:$AX$1,0))","v":0},{"$f":"INDEX(CHARGES,MATCH($D440&$F440,$AQ$2:$AQ$44&$AR$2:$AR$44,0),MATCH(L$1,$AS$1:$AX$1,0))","v":0}]
["Mt Isa - No Water or Sewer","High impact industry","High impact industry","High impact industry or special industry","NR_1","Gross Floor Area",24,0,0,{"$f":"INDEX(CHARGES,MATCH($D441&$F441,$AQ$2:$AQ$44&$AR$2:$AR$44,0),MATCH(J$1,$AS$1:$AX$1,0))","v":0},{"$f":"INDEX(CHARGES,MATCH($D441&$F441,$AQ$2:$AQ$44&$AR$2:$AR$44,0),MATCH(K$1,$AS$1:$AX$1,0))","v":24},{"$f":"INDEX(CHARGES,MATCH($D441&$F441,$AQ$2:$AQ$44&$AR$2:$AR$44,0),MATCH(L$1,$AS$1:$AX$1,0))","v":0}]
["Mt Isa - No Water or Sewer","High impact industry","High impact industry","High impact industry or special industry","NR_1","Impervious Area",5,0,0,{"$f":"INDEX(CHARGES,MATCH($D442&$F442,$AQ$2:$AQ$44&$AR$2:$AR$44,0),MATCH(J$1,$AS$1:$AX$1,0))","v":5},{"$f":"INDEX(CHARGES,MATCH($D442&$F442,$AQ$2:$AQ$44&$AR$2:$AR$44,0),MATCH(K$1,$AS$1:$AX$1,0))","v":0},{"$f":"INDEX(CHARGES,MATCH($D442&$F442,$AQ$2:$AQ$44&$AR$2:$AR$44,0),MATCH(L$1,$AS$1:$AX$1,0))","v":0}]
["Mt Isa - No Water or Sewer","Home based business","Home based business","Minor uses","NR_3","Gross Floor Area",0,0,0,{"$f":"INDEX(CHARGES,MATCH($D443&$F443,$AQ$2:$AQ$44&$AR$2:$AR$44,0),MATCH(J$1,$AS$1:$AX$1,0))","v":0},{"$f":"INDEX(CHARGES,MATCH($D443&$F443,$AQ$2:$AQ$44&$AR$2:$AR$44,0),MATCH(K$1,$AS$1:$AX$1,0))","v":0},{"$f":"INDEX(CHARGES,MATCH($D443&$F443,$AQ$2:$AQ$44&$AR$2:$AR$44,0),MATCH(L$1,$AS$1:$AX$1,0))","v":0}]
["Mt Isa - No Water or Sewer","Hospital","Hospital","Essential services","NR_1","Gross Floor Area",48,0,0,{"$f":"INDEX(CHARGES,MATCH($D444&$F444,$AQ$2:$AQ$44&$AR$2:$AR$44,0),MATCH(J$1,$AS$1:$AX$1,0))","v":0},{"$f":"INDEX(CHARGES,MATCH($D444&$F444,$AQ$2:$AQ$44&$AR$2:$AR$44,0),MATCH(K$1,$AS$1:$AX$1,0))","v":48},{"$f":"INDEX(CHARGES,MATCH($D444&$F444,$AQ$2:$AQ$44&$AR$2:$AR$44,0),MATCH(L$1,$AS$1:$AX$1,0))","v":0}]
["Mt Isa - No Water or Sewer","Hospital","Hospital","Essential services","NR_1","Impervious Area",5,0,0,{"$f":"INDEX(CHARGES,MATCH($D445&$F445,$AQ$2:$AQ$44&$AR$2:$AR$44,0),MATCH(J$1,$AS$1:$AX$1,0))","v":5},{"$f":"INDEX(CHARGES,MATCH($D445&$F445,$AQ$2:$AQ$44&$AR$2:$AR$44,0),MATCH(K$1,$AS$1:$AX$1,0))","v":0},{"$f":"INDEX(CHARGES,MATCH($D445&$F445,$AQ$2:$AQ$44&$AR$2:$AR$44,0),MATCH(L$1,$AS$1:$AX$1,0))","v":0}]
["Mt Isa - No Water or Sewer","Hotel - Accommodation component","Hotel","Accommodation (short-term)","RU_2","bedroom that is not part of a suite",{"$f":"SUM(H446:L446)","v":2829},0,0,{"$f":"INDEX(CHARGES,MATCH($D446&$F446,$AQ$2:$AQ$44&$AR$2:$AR$44,0),MATCH(J$1,$AS$1:$AX$1,0))","v":104},{"$f":"INDEX(CHARGES,MATCH($D446&$F446,$AQ$2:$AQ$44&$AR$2:$AR$44,0),MATCH(K$1,$AS$1:$AX$1,0))","v":2620},{"$f":"INDEX(CHARGES,MATCH($D446&$F446,$AQ$2:$AQ$44&$AR$2:$AR$44,0),MATCH(L$1,$AS$1:$AX$1,0))","v":105}]
["Mt Isa - No Water or Sewer","Hotel - Accommodation component","Hotel","Accommodation (short-term)","RU_2","2 or less bedrooms",2829,0,0,{"$f":"INDEX(CHARGES,MATCH($D447&$F447,$AQ$2:$AQ$44&$AR$2:$AR$44,0),MATCH(J$1,$AS$1:$AX$1,0))","v":104},{"$f":"INDEX(CHARGES,MATCH($D447&$F447,$AQ$2:$AQ$44&$AR$2:$AR$44,0),MATCH(K$1,$AS$1:$AX$1,0))","v":2620},{"$f":"INDEX(CHARGES,MATCH($D447&$F447,$AQ$2:$AQ$44&$AR$2:$AR$44,0),MATCH(L$1,$AS$1:$AX$1,0))","v":105}]
["Mt Isa - No Water or Sewer","Hotel - Accommodation component","Hotel","Accommodation (short-term)","RU_2","3 or more bedrooms",3961,0,0,{"$f":"INDEX(CHARGES,MATCH($D448&$F448,$AQ$2:$AQ$44&$AR$2:$AR$44,0),MATCH(J$1,$AS$1:$AX$1,0))","v":146},{"$f":"INDEX(CHARGES,MATCH($D448&$F448,$AQ$2:$AQ$44&$AR$2:$AR$44,0),MATCH(K$1,$AS$1:$AX$1,0))","v":3668},{"$f":"INDEX(CHARGES,MATCH($D448&$F448,$AQ$2:$AQ$44&$AR$2:$AR$44,0),MATCH(L$1,$AS$1:$AX$1,0))","v":147}]
["Mt Isa - No Water or Sewer","Hotel - Entertainment component","Hotel","Entertainment","NR_1","Gross Floor Area",68,0,0,{"$f":"INDEX(CHARGES,MATCH($D449&$F449,$AQ$2:$AQ$44&$AR$2:$AR$44,0),MATCH(J$1,$AS$1:$AX$1,0))","v":0},{"$f":"INDEX(CHARGES,MATCH($D449&$F449,$AQ$2:$AQ$44&$AR$2:$AR$44,0),MATCH(K$1,$AS$1:$AX$1,0))","v":68},{"$f":"INDEX(CHARGES,MATCH($D449&$F449,$AQ$2:$AQ$44&$AR$2:$AR$44,0),MATCH(L$1,$AS$1:$AX$1,0))","v":0}]
["Mt Isa - No Water or Sewer","Hotel - Entertainment component","Hotel","Entertainment","NR_1","Impervious Area",5,0,0,{"$f":"INDEX(CHARGES,MATCH($D450&$F450,$AQ$2:$AQ$44&$AR$2:$AR$44,0),MATCH(J$1,$AS$1:$AX$1,0))","v":5},{"$f":"INDEX(CHARGES,MATCH($D450&$F450,$AQ$2:$AQ$44&$AR$2:$AR$44,0),MATCH(K$1,$AS$1:$AX$1,0))","v":0},{"$f":"INDEX(CHARGES,MATCH($D450&$F450,$AQ$2:$AQ$44&$AR$2:$AR$44,0),MATCH(L$1,$AS$1:$AX$1,0))","v":0}]
["Mt Isa - No Water or Sewer","Indoor sport and recreation","Indoor sport and recreation","Indoor sport and recreation","NR_2","Gross Floor Area - not court area",68,0,0,{"$f":"INDEX(CHARGES,MATCH($D451&$F451,$AQ$2:$AQ$44&$AR$2:$AR$44,0),MATCH(J$1,$AS$1:$AX$1,0))","v":0},{"$f":"INDEX(CHARGES,MATCH($D451&$F451,$AQ$2:$AQ$44&$AR$2:$AR$44,0),MATCH(K$1,$AS$1:$AX$1,0))","v":68},{"$f":"INDEX(CHARGES,MATCH($D451&$F451,$AQ$2:$AQ$44&$AR$2:$AR$44,0),MATCH(L$1,$AS$1:$AX$1,0))","v":0}]
["Mt Isa - No Water or Sewer","Indoor sport and recreation","Indoor sport and recreation","Indoor sport and recreation","NR_2","Gross Floor Area - court area",7,0,0,{"$f":"INDEX(CHARGES,MATCH($D452&$F452,$AQ$2:$AQ$44&$AR$2:$AR$44,0),MATCH(J$1,$AS$1:$AX$1,0))","v":0},{"$f":"INDEX(CHARGES,MATCH($D452&$F452,$AQ$2:$AQ$44&$AR$2:$AR$44,0),MATCH(K$1,$AS$1:$AX$1,0))","v":7},{"$f":"INDEX(CHARGES,MATCH($D452&$F452,$AQ$2:$AQ$44&$AR$2:$AR$44,0),MATCH(L$1,$AS$1:$AX$1,0))","v":0}]
["Mt Isa - No Water or Sewer","Indoor sport and recreation","Indoor sport and recreation","Indoor sport and recreation","NR_2","Impervious Area",5,0,0,{"$f":"INDEX(CHARGES,MATCH($D453&$F453,$AQ$2:$AQ$44&$AR$2:$AR$44,0),MATCH(J$1,$AS$1:$AX$1,0))","v":5},{"$f":"INDEX(CHARGES,MATCH($D453&$F453,$AQ$2:$AQ$44&$AR$2:$AR$44,0),MATCH(K$1,$AS$1:$AX$1,0))","v":0},{"$f":"INDEX(CHARGES,MATCH($D453&$F453,$AQ$2:$AQ$44&$AR$2:$AR$44,0),MATCH(L$1,$AS$1:$AX$1,0))","v":0}]
["Mt Isa - No Water or Sewer","Intensive animal industry","Intensive animal industry","High impact rural","NR_3","Gross Floor Area",7,0,0,{"$f":"INDEX(CHARGES,MATCH($D454&$F454,$AQ$2:$AQ$44&$AR$2:$AR$44,0),MATCH(J$1,$AS$1:$AX$1,0))","v":0},{"$f":"INDEX(CHARGES,MATCH($D454&$F454,$AQ$2:$AQ$44&$AR$2:$AR$44,0),MATCH(K$1,$AS$1:$AX$1,0))","v":7},{"$f":"INDEX(CHARGES,MATCH($D454&$F454,$AQ$2:$AQ$44&$AR$2:$AR$44,0),MATCH(L$1,$AS$1:$AX$1,0))","v":0}]
["Mt Isa - No Water or Sewer","Intensive horticulture","Intensive horticulture","High impact rural","NR_3","Gross Floor Area",7,0,0,{"$f":"INDEX(CHARGES,MATCH($D455&$F455,$AQ$2:$AQ$44&$AR$2:$AR$44,0),MATCH(J$1,$AS$1:$AX$1,0))","v":0},{"$f":"INDEX(CHARGES,MATCH($D455&$F455,$AQ$2:$AQ$44&$AR$2:$AR$44,0),MATCH(K$1,$AS$1:$AX$1,0))","v":7},{"$f":"INDEX(CHARGES,MATCH($D455&$F455,$AQ$2:$AQ$44&$AR$2:$AR$44,0),MATCH(L$1,$AS$1:$AX$1,0))","v":0}]
["Mt Isa - No Water or Sewer","Landing","Landing","Minor uses","NR_3","Gross Floor Area",0,0,0,{"$f":"INDEX(CHARGES,MATCH($D456&$F456,$AQ$2:$AQ$44&$AR$2:$AR$44,0),MATCH(J$1,$AS$1:$AX$1,0))","v":0},{"$f":"INDEX(CHARGES,MATCH($D456&$F456,$AQ$2:$AQ$44&$AR$2:$AR$44,0),MATCH(K$1,$AS$1:$AX$1,0))","v":0},{"$f":"INDEX(CHARGES,MATCH($D456&$F456,$AQ$2:$AQ$44&$AR$2:$AR$44,0),MATCH(L$1,$AS$1:$AX$1,0))","v":0}]
["Mt Isa - No Water or Sewer","Low impact industry","Low impact industry","Other industry","NR_1","Gross Floor Area",17,0,0,{"$f":"INDEX(CHARGES,MATCH($D457&$F457,$AQ$2:$AQ$44&$AR$2:$AR$44,0),MATCH(J$1,$AS$1:$AX$1,0))","v":0},{"$f":"INDEX(CHARGES,MATCH($D457&$F457,$AQ$2:$AQ$44&$AR$2:$AR$44,0),MATCH(K$1,$AS$1:$AX$1,0))","v":17},{"$f":"INDEX(CHARGES,MATCH($D457&$F457,$AQ$2:$AQ$44&$AR$2:$AR$44,0),MATCH(L$1,$AS$1:$AX$1,0))","v":0}]
["Mt Isa - No Water or Sewer","Low impact industry","Low impact industry","Other industry","NR_1","Impervious Area",5,0,0,{"$f":"INDEX(CHARGES,MATCH($D458&$F458,$AQ$2:$AQ$44&$AR$2:$AR$44,0),MATCH(J$1,$AS$1:$AX$1,0))","v":5},{"$f":"INDEX(CHARGES,MATCH($D458&$F458,$AQ$2:$AQ$44&$AR$2:$AR$44,0),MATCH(K$1,$AS$1:$AX$1,0))","v":0},{"$f":"INDEX(CHARGES,MATCH($D458&$F458,$AQ$2:$AQ$44&$AR$2:$AR$44,0),MATCH(L$1,$AS$1:$AX$1,0))","v":0}]
["Mt Isa - No Water or Sewer","Major electricity infrastructure","Utility installation","Other uses","NR_1","Gross Floor Area",0,0,0,{"$f":"INDEX(CHARGES,MATCH($D459&$F459,$AQ$2:$AQ$44&$AR$2:$AR$44,0),MATCH(J$1,$AS$1:$AX$1,0))","v":0},{"$f":"INDEX(CHARGES,MATCH($D459&$F459,$AQ$2:$AQ$44&$AR$2:$AR$44,0),MATCH(K$1,$AS$1:$AX$1,0))","v":0},{"$f":"INDEX(CHARGES,MATCH($D459&$F459,$AQ$2:$AQ$44&$AR$2:$AR$44,0),MATCH(L$1,$AS$1:$AX$1,0))","v":0}]
["Mt Isa - No Water or Sewer","Major electricity infrastructure","Utility installation","Other uses","NR_1","Impervious Area",0,0,0,{"$f":"INDEX(CHARGES,MATCH($D460&$F460,$AQ$2:$AQ$44&$AR$2:$AR$44,0),MATCH(J$1,$AS$1:$AX$1,0))","v":0},{"$f":"INDEX(CHARGES,MATCH($D460&$F460,$AQ$2:$AQ$44&$AR$2:$AR$44,0),MATCH(K$1,$AS$1:$AX$1,0))","v":0},{"$f":"INDEX(CHARGES,MATCH($D460&$F460,$AQ$2:$AQ$44&$AR$2:$AR$44,0),MATCH(L$1,$AS$1:$AX$1,0))","v":0}]
["Mt Isa - No Water or Sewer","Major sport, recreation and entertainment facility","Major sport, recreation and entertainment facility","Other uses","NR_1","Gross Floor Area",0,0,0,{"$f":"INDEX(CHARGES,MATCH($D461&$F461,$AQ$2:$AQ$44&$AR$2:$AR$44,0),MATCH(J$1,$AS$1:$AX$1,0))","v":0},{"$f":"INDEX(CHARGES,MATCH($D461&$F461,$AQ$2:$AQ$44&$AR$2:$AR$44,0),MATCH(K$1,$AS$1:$AX$1,0))","v":0},{"$f":"INDEX(CHARGES,MATCH($D461&$F461,$AQ$2:$AQ$44&$AR$2:$AR$44,0),MATCH(L$1,$AS$1:$AX$1,0))","v":0}]
["Mt Isa - No Water or Sewer","Major sport, recreation and entertainment facility","Major sport, recreation and entertainment facility","Other uses","NR_1","Impervious Area",0,0,0,{"$f":"INDEX(CHARGES,MATCH($D462&$F462,$AQ$2:$AQ$44&$AR$2:$AR$44,0),MATCH(J$1,$AS$1:$AX$1,0))","v":0},{"$f":"INDEX(CHARGES,MATCH($D462&$F462,$AQ$2:$AQ$44&$AR$2:$AR$44,0),MATCH(K$1,$AS$1:$AX$1,0))","v":0},{"$f":"INDEX(CHARGES,MATCH($D462&$F462,$AQ$2:$AQ$44&$AR$2:$AR$44,0),MATCH(L$1,$AS$1:$AX$1,0))","v":0}]
["Mt Isa - No Water or Sewer","Marine industry","Marine industry","Other industry","NR_1","Gross Floor Area",17,0,0,{"$f":"INDEX(CHARGES,MATCH($D463&$F463,$AQ$2:$AQ$44&$AR$2:$AR$44,0),MATCH(J$1,$AS$1:$AX$1,0))","v":0},{"$f":"INDEX(CHARGES,MATCH($D463&$F463,$AQ$2:$AQ$44&$AR$2:$AR$44,0),MATCH(K$1,$AS$1:$AX$1,0))","v":17},{"$f":"INDEX(CHARGES,MATCH($D463&$F463,$AQ$2:$AQ$44&$AR$2:$AR$44,0),MATCH(L$1,$AS$1:$AX$1,0))","v":0}]
["Mt Isa - No Water or Sewer","Marine industry","Marine industry","Other industry","NR_1","Impervious Area",{"$f":"SUM(H464:L464)","v":5},0,0,{"$f":"INDEX(CHARGES,MATCH($D464&$F464,$AQ$2:$AQ$44&$AR$2:$AR$44,0),MATCH(J$1,$AS$1:$AX$1,0))","v":5},{"$f":"INDEX(CHARGES,MATCH($D464&$F464,$AQ$2:$AQ$44&$AR$2:$AR$44,0),MATCH(K$1,$AS$1:$AX$1,0))","v":0},{"$f":"INDEX(CHARGES,MATCH($D464&$F464,$AQ$2:$AQ$44&$AR$2:$AR$44,0),MATCH(L$1,$AS$1:$AX$1,0))","v":0}]
["Mt Isa - No Water or Sewer","Market","Market","Minor uses","NR_3","Gross Floor Area",0,0,0,{"$f":"INDEX(CHARGES,MATCH($D465&$F465,$AQ$2:$AQ$44&$AR$2:$AR$44,0),MATCH(J$1,$AS$1:$AX$1,0))","v":0},{"$f":"INDEX(CHARGES,MATCH($D465&$F465,$AQ$2:$AQ$44&$AR$2:$AR$44,0),MATCH(K$1,$AS$1:$AX$1,0))","v":0},{"$f":"INDEX(CHARGES,MATCH($D465&$F465,$AQ$2:$AQ$44&$AR$2:$AR$44,0),MATCH(L$1,$AS$1:$AX$1,0))","v":0}]
["Mt Isa - No Water or Sewer","Medium impact industry","Medium impact industry","Other industry","NR_1","Gross Floor Area",17,0,0,{"$f":"INDEX(CHARGES,MATCH($D466&$F466,$AQ$2:$AQ$44&$AR$2:$AR$44,0),MATCH(J$1,$AS$1:$AX$1,0))","v":0},{"$f":"INDEX(CHARGES,MATCH($D466&$F466,$AQ$2:$AQ$44&$AR$2:$AR$44,0),MATCH(K$1,$AS$1:$AX$1,0))","v":17},{"$f":"INDEX(CHARGES,MATCH($D466&$F466,$AQ$2:$AQ$44&$AR$2:$AR$44,0),MATCH(L$1,$AS$1:$AX$1,0))","v":0}]
["Mt Isa - No Water or Sewer","Medium impact industry","Medium impact industry","Other industry","NR_1","Impervious Area",5,0,0,{"$f":"INDEX(CHARGES,MATCH($D467&$F467,$AQ$2:$AQ$44&$AR$2:$AR$44,0),MATCH(J$1,$AS$1:$AX$1,0))","v":5},{"$f":"INDEX(CHARGES,MATCH($D467&$F467,$AQ$2:$AQ$44&$AR$2:$AR$44,0),MATCH(K$1,$AS$1:$AX$1,0))","v":0},{"$f":"INDEX(CHARGES,MATCH($D467&$F467,$AQ$2:$AQ$44&$AR$2:$AR$44,0),MATCH(L$1,$AS$1:$AX$1,0))","v":0}]
["Mt Isa - No Water or Sewer","Motor sport facility","Motor sport facility","Other uses","NR_1","Gross Floor Area",0,0,0,{"$f":"INDEX(CHARGES,MATCH($D468&$F468,$AQ$2:$AQ$44&$AR$2:$AR$44,0),MATCH(J$1,$AS$1:$AX$1,0))","v":0},{"$f":"INDEX(CHARGES,MATCH($D468&$F468,$AQ$2:$AQ$44&$AR$2:$AR$44,0),MATCH(K$1,$AS$1:$AX$1,0))","v":0},{"$f":"INDEX(CHARGES,MATCH($D468&$F468,$AQ$2:$AQ$44&$AR$2:$AR$44,0),MATCH(L$1,$AS$1:$AX$1,0))","v":0}]
["Mt Isa - No Water or Sewer","Motor sport facility","Motor sport facility","Other uses","NR_1","Impervious Area",0,0,0,{"$f":"INDEX(CHARGES,MATCH($D469&$F469,$AQ$2:$AQ$44&$AR$2:$AR$44,0),MATCH(J$1,$AS$1:$AX$1,0))","v":0},{"$f":"INDEX(CHARGES,MATCH($D469&$F469,$AQ$2:$AQ$44&$AR$2:$AR$44,0),MATCH(K$1,$AS$1:$AX$1,0))","v":0},{"$f":"INDEX(CHARGES,MATCH($D469&$F469,$AQ$2:$AQ$44&$AR$2:$AR$44,0),MATCH(L$1,$AS$1:$AX$1,0))","v":0}]
["Mt Isa - No Water or Sewer","Multiple dwelling","Multiple dwelling","Residential uses","RU_1","2 or less bedrooms",5658,0,0,{"$f":"INDEX(CHARGES,MATCH($D470&$F470,$AQ$2:$AQ$44&$AR$2:$AR$44,0),MATCH(J$1,$AS$1:$AX$1,0))","v":209},{"$f":"INDEX(CHARGES,MATCH($D470&$F470,$AQ$2:$AQ$44&$AR$2:$AR$44,0),MATCH(K$1,$AS$1:$AX$1,0))","v":5239},{"$f":"INDEX(CHARGES,MATCH($D470&$F470,$AQ$2:$AQ$44&$AR$2:$AR$44,0),MATCH(L$1,$AS$1:$AX$1,0))","v":210}]
["Mt Isa - No Water or Sewer","Multiple dwelling","Multiple dwelling","Residential uses","RU_1","3 or more bedrooms",7921,0,0,{"$f":"INDEX(CHARGES,MATCH($D471&$F471,$AQ$2:$AQ$44&$AR$2:$AR$44,0),MATCH(J$1,$AS$1:$AX$1,0))","v":293},{"$f":"INDEX(CHARGES,MATCH($D471&$F471,$AQ$2:$AQ$44&$AR$2:$AR$44,0),MATCH(K$1,$AS$1:$AX$1,0))","v":7335},{"$f":"INDEX(CHARGES,MATCH($D471&$F471,$AQ$2:$AQ$44&$AR$2:$AR$44,0),MATCH(L$1,$AS$1:$AX$1,0))","v":293}]
["Mt Isa - No Water or Sewer","Nature-based tourism",null,"Other uses","NR_1","Gross Floor Area",0,0,0,{"$f":"INDEX(CHARGES,MATCH($D472&$F472,$AQ$2:$AQ$44&$AR$2:$AR$44,0),MATCH(J$1,$AS$1:$AX$1,0))","v":0},{"$f":"INDEX(CHARGES,MATCH($D472&$F472,$AQ$2:$AQ$44&$AR$2:$AR$44,0),MATCH(K$1,$AS$1:$AX$1,0))","v":0},{"$f":"INDEX(CHARGES,MATCH($D472&$F472,$AQ$2:$AQ$44&$AR$2:$AR$44,0),MATCH(L$1,$AS$1:$AX$1,0))","v":0}]
["Mt Isa - No Water or Sewer","Nature-based tourism",null,"Other uses","NR_1","Impervious Area",0,0,0,{"$f":"INDEX(CHARGES,MATCH($D473&$F473,$AQ$2:$AQ$44&$AR$2:$AR$44,0),MATCH(J$1,$AS$1:$AX$1,0))","v":0},{"$f":"INDEX(CHARGES,MATCH($D473&$F473,$AQ$2:$AQ$44&$AR$2:$AR$44,0),MATCH(K$1,$AS$1:$AX$1,0))","v":0},{"$f":"INDEX(CHARGES,MATCH($D473&$F473,$AQ$2:$AQ$44&$AR$2:$AR$44,0),MATCH(L$1,$AS$1:$AX$1,0))","v":0}]
["Mt Isa - No Water or Sewer","Nightclub entertainment facility","Nightclub entertainment facility","Entertainment","NR_1","Gross Floor Area",68,0,0,{"$f":"INDEX(CHARGES,MATCH($D474&$F474,$AQ$2:$AQ$44&$AR$2:$AR$44,0),MATCH(J$1,$AS$1:$AX$1,0))","v":0},{"$f":"INDEX(CHARGES,MATCH($D474&$F474,$AQ$2:$AQ$44&$AR$2:$AR$44,0),MATCH(K$1,$AS$1:$AX$1,0))","v":68},{"$f":"INDEX(CHARGES,MATCH($D474&$F474,$AQ$2:$AQ$44&$AR$2:$AR$44,0),MATCH(L$1,$AS$1:$AX$1,0))","v":0}]
["Mt Isa - No Water or Sewer","Nightclub entertainment facility","Nightclub entertainment facility","Entertainment","NR_1","Impervious Area",5,0,0,{"$f":"INDEX(CHARGES,MATCH($D475&$F475,$AQ$2:$AQ$44&$AR$2:$AR$44,0),MATCH(J$1,$AS$1:$AX$1,0))","v":5},{"$f":"INDEX(CHARGES,MATCH($D475&$F475,$AQ$2:$AQ$44&$AR$2:$AR$44,0),MATCH(K$1,$AS$1:$AX$1,0))","v":0},{"$f":"INDEX(CHARGES,MATCH($D475&$F475,$AQ$2:$AQ$44&$AR$2:$AR$44,0),MATCH(L$1,$AS$1:$AX$1,0))","v":0}]
["Mt Isa - No Water or Sewer","Non-resident workforce accommodation","Short-term accommodation","Accommodation (short-term)","RU_2","bedroom that is not part of a suite",2829,0,0,{"$f":"INDEX(CHARGES,MATCH($D476&$F476,$AQ$2:$AQ$44&$AR$2:$AR$44,0),MATCH(J$1,$AS$1:$AX$1,0))","v":104},{"$f":"INDEX(CHARGES,MATCH($D476&$F476,$AQ$2:$AQ$44&$AR$2:$AR$44,0),MATCH(K$1,$AS$1:$AX$1,0))","v":2620},{"$f":"INDEX(CHARGES,MATCH($D476&$F476,$AQ$2:$AQ$44&$AR$2:$AR$44,0),MATCH(L$1,$AS$1:$AX$1,0))","v":105}]
["Mt Isa - No Water or Sewer","Non-resident workforce accommodation","Short-term accommodation","Accommodation (short-term)","RU_2","2 or less bedrooms",2829,0,0,{"$f":"INDEX(CHARGES,MATCH($D477&$F477,$AQ$2:$AQ$44&$AR$2:$AR$44,0),MATCH(J$1,$AS$1:$AX$1,0))","v":104},{"$f":"INDEX(CHARGES,MATCH($D477&$F477,$AQ$2:$AQ$44&$AR$2:$AR$44,0),MATCH(K$1,$AS$1:$AX$1,0))","v":2620},{"$f":"INDEX(CHARGES,MATCH($D477&$F477,$AQ$2:$AQ$44&$AR$2:$AR$44,0),MATCH(L$1,$AS$1:$AX$1,0))","v":105}]
["Mt Isa - No Water or Sewer","Non-resident workforce accommodation","Short-term accommodation","Accommodation (short-term)","RU_2","3 or more bedrooms",3961,0,0,{"$f":"INDEX(CHARGES,MATCH($D478&$F478,$AQ$2:$AQ$44&$AR$2:$AR$44,0),MATCH(J$1,$AS$1:$AX$1,0))","v":146},{"$f":"INDEX(CHARGES,MATCH($D478&$F478,$AQ$2:$AQ$44&$AR$2:$AR$44,0),MATCH(K$1,$AS$1:$AX$1,0))","v":3668},{"$f":"INDEX(CHARGES,MATCH($D478&$F478,$AQ$2:$AQ$44&$AR$2:$AR$44,0),MATCH(L$1,$AS$1:$AX$1,0))","v":147}]
["Mt Isa - No Water or Sewer","Place of worship","Place of worship","Places of assembly","NR_1","Gross Floor Area",24,0,0,{"$f":"INDEX(CHARGES,MATCH($D479&$F479,$AQ$2:$AQ$44&$AR$2:$AR$44,0),MATCH(J$1,$AS$1:$AX$1,0))","v":0},{"$f":"INDEX(CHARGES,MATCH($D479&$F479,$AQ$2:$AQ$44&$AR$2:$AR$44,0),MATCH(K$1,$AS$1:$AX$1,0))","v":24},{"$f":"INDEX(CHARGES,MATCH($D479&$F479,$AQ$2:$AQ$44&$AR$2:$AR$44,0),MATCH(L$1,$AS$1:$AX$1,0))","v":0}]
["Mt Isa - No Water or Sewer","Place of worship","Place of worship","Places of assembly","NR_1","Impervious Area",5,0,0,{"$f":"INDEX(CHARGES,MATCH($D480&$F480,$AQ$2:$AQ$44&$AR$2:$AR$44,0),MATCH(J$1,$AS$1:$AX$1,0))","v":5},{"$f":"INDEX(CHARGES,MATCH($D480&$F480,$AQ$2:$AQ$44&$AR$2:$AR$44,0),MATCH(K$1,$AS$1:$AX$1,0))","v":0},{"$f":"INDEX(CHARGES,MATCH($D480&$F480,$AQ$2:$AQ$44&$AR$2:$AR$44,0),MATCH(L$1,$AS$1:$AX$1,0))","v":0}]
["Mt Isa - No Water or Sewer","Port services","Port service","Other uses","NR_1","Gross Floor Area",0,0,0,{"$f":"INDEX(CHARGES,MATCH($D481&$F481,$AQ$2:$AQ$44&$AR$2:$AR$44,0),MATCH(J$1,$AS$1:$AX$1,0))","v":0},{"$f":"INDEX(CHARGES,MATCH($D481&$F481,$AQ$2:$AQ$44&$AR$2:$AR$44,0),MATCH(K$1,$AS$1:$AX$1,0))","v":0},{"$f":"INDEX(CHARGES,MATCH($D481&$F481,$AQ$2:$AQ$44&$AR$2:$AR$44,0),MATCH(L$1,$AS$1:$AX$1,0))","v":0}]
["Mt Isa - No Water or Sewer","Port services","Port service","Other uses","NR_1","Impervious Area",0,0,0,{"$f":"INDEX(CHARGES,MATCH($D482&$F482,$AQ$2:$AQ$44&$AR$2:$AR$44,0),MATCH(J$1,$AS$1:$AX$1,0))","v":0},{"$f":"INDEX(CHARGES,MATCH($D482&$F482,$AQ$2:$AQ$44&$AR$2:$AR$44,0),MATCH(K$1,$AS$1:$AX$1,0))","v":0},{"$f":"INDEX(CHARGES,MATCH($D482&$F482,$AQ$2:$AQ$44&$AR$2:$AR$44,0),MATCH(L$1,$AS$1:$AX$1,0))","v":0}]
["Mt Isa - No Water or Sewer","Relocatable home park","Relocatable home park","Accommodation (long-term)","RU_1","2 or less bedrooms",5658,0,0,{"$f":"INDEX(CHARGES,MATCH($D483&$F483,$AQ$2:$AQ$44&$AR$2:$AR$44,0),MATCH(J$1,$AS$1:$AX$1,0))","v":209},{"$f":"INDEX(CHARGES,MATCH($D483&$F483,$AQ$2:$AQ$44&$AR$2:$AR$44,0),MATCH(K$1,$AS$1:$AX$1,0))","v":5239},{"$f":"INDEX(CHARGES,MATCH($D483&$F483,$AQ$2:$AQ$44&$AR$2:$AR$44,0),MATCH(L$1,$AS$1:$AX$1,0))","v":210}]
["Mt Isa - No Water or Sewer","Relocatable home park","Relocatable home park","Accommodation (long-term)","RU_1","3 or more bedrooms",7921,0,0,{"$f":"INDEX(CHARGES,MATCH($D484&$F484,$AQ$2:$AQ$44&$AR$2:$AR$44,0),MATCH(J$1,$AS$1:$AX$1,0))","v":293},{"$f":"INDEX(CHARGES,MATCH($D484&$F484,$AQ$2:$AQ$44&$AR$2:$AR$44,0),MATCH(K$1,$AS$1:$AX$1,0))","v":7335},{"$f":"INDEX(CHARGES,MATCH($D484&$F484,$AQ$2:$AQ$44&$AR$2:$AR$44,0),MATCH(L$1,$AS$1:$AX$1,0))","v":293}]
["Mt Isa - No Water or Sewer","Renewable energy facility",null,"Other uses","NR_1","Gross Floor Area",0,0,0,{"$f":"INDEX(CHARGES,MATCH($D485&$F485,$AQ$2:$AQ$44&$AR$2:$AR$44,0),MATCH(J$1,$AS$1:$AX$1,0))","v":0},{"$f":"INDEX(CHARGES,MATCH($D485&$F485,$AQ$2:$AQ$44&$AR$2:$AR$44,0),MATCH(K$1,$AS$1:$AX$1,0))","v":0},{"$f":"INDEX(CHARGES,MATCH($D485&$F485,$AQ$2:$AQ$44&$AR$2:$AR$44,0),MATCH(L$1,$AS$1:$AX$1,0))","v":0}]
["Mt Isa - No Water or Sewer","Renewable energy facility",null,"Other uses","NR_1","Impervious Area",0,0,0,{"$f":"INDEX(CHARGES,MATCH($D486&$F486,$AQ$2:$AQ$44&$AR$2:$AR$44,0),MATCH(J$1,$AS$1:$AX$1,0))","v":0},{"$f":"INDEX(CHARGES,MATCH($D486&$F486,$AQ$2:$AQ$44&$AR$2:$AR$44,0),MATCH(K$1,$AS$1:$AX$1,0))","v":0},{"$f":"INDEX(CHARGES,MATCH($D486&$F486,$AQ$2:$AQ$44&$AR$2:$AR$44,0),MATCH(L$1,$AS$1:$AX$1,0))","v":0}]
["Mt Isa - No Water or Sewer","Research and technology industry","Low impact industry","Other industry","NR_1","Gross Floor Area",17,0,0,{"$f":"INDEX(CHARGES,MATCH($D487&$F487,$AQ$2:$AQ$44&$AR$2:$AR$44,0),MATCH(J$1,$AS$1:$AX$1,0))","v":0},{"$f":"INDEX(CHARGES,MATCH($D487&$F487,$AQ$2:$AQ$44&$AR$2:$AR$44,0),MATCH(K$1,$AS$1:$AX$1,0))","v":17},{"$f":"INDEX(CHARGES,MATCH($D487&$F487,$AQ$2:$AQ$44&$AR$2:$AR$44,0),MATCH(L$1,$AS$1:$AX$1,0))","v":0}]
["Mt Isa - No Water or Sewer","Research and technology industry","Low impact industry","Other industry","NR_1","Impervious Area",5,0,0,{"$f":"INDEX(CHARGES,MATCH($D488&$F488,$AQ$2:$AQ$44&$AR$2:$AR$44,0),MATCH(J$1,$AS$1:$AX$1,0))","v":5},{"$f":"INDEX(CHARGES,MATCH($D488&$F488,$AQ$2:$AQ$44&$AR$2:$AR$44,0),MATCH(K$1,$AS$1:$AX$1,0))","v":0},{"$f":"INDEX(CHARGES,MATCH($D488&$F488,$AQ$2:$AQ$44&$AR$2:$AR$44,0),MATCH(L$1,$AS$1:$AX$1,0))","v":0}]
["Mt Isa - No Water or Sewer","Residential care facility","Short-term accommodation","Accommodation (short-term)","RU_2","bedroom that is not part of a suite",2829,0,0,{"$f":"INDEX(CHARGES,MATCH($D489&$F489,$AQ$2:$AQ$44&$AR$2:$AR$44,0),MATCH(J$1,$AS$1:$AX$1,0))","v":104},{"$f":"INDEX(CHARGES,MATCH($D489&$F489,$AQ$2:$AQ$44&$AR$2:$AR$44,0),MATCH(K$1,$AS$1:$AX$1,0))","v":2620},{"$f":"INDEX(CHARGES,MATCH($D489&$F489,$AQ$2:$AQ$44&$AR$2:$AR$44,0),MATCH(L$1,$AS$1:$AX$1,0))","v":105}]
["Mt Isa - No Water or Sewer","Residential care facility","Short-term accommodation","Accommodation (short-term)","RU_2","2 or less bedrooms",2829,0,0,{"$f":"INDEX(CHARGES,MATCH($D490&$F490,$AQ$2:$AQ$44&$AR$2:$AR$44,0),MATCH(J$1,$AS$1:$AX$1,0))","v":104},{"$f":"INDEX(CHARGES,MATCH($D490&$F490,$AQ$2:$AQ$44&$AR$2:$AR$44,0),MATCH(K$1,$AS$1:$AX$1,0))","v":2620},{"$f":"INDEX(CHARGES,MATCH($D490&$F490,$AQ$2:$AQ$44&$AR$2:$AR$44,0),MATCH(L$1,$AS$1:$AX$1,0))","v":105}]
["Mt Isa - No Water or Sewer","Residential care facility","Short-term accommodation","Accommodation (short-term)","RU_2","3 or more bedrooms",3961,0,0,{"$f":"INDEX(CHARGES,MATCH($D491&$F491,$AQ$2:$AQ$44&$AR$2:$AR$44,0),MATCH(J$1,$AS$1:$AX$1,0))","v":146},{"$f":"INDEX(CHARGES,MATCH($D491&$F491,$AQ$2:$AQ$44&$AR$2:$AR$44,0),MATCH(K$1,$AS$1:$AX$1,0))","v":3668},{"$f":"INDEX(CHARGES,MATCH($D491&$F491,$AQ$2:$AQ$44&$AR$2:$AR$44,0),MATCH(L$1,$AS$1:$AX$1,0))","v":147}]
["Mt Isa - No Water or Sewer","Resort complex - Accommodation component","Resort complex","Accommodation (short-term)","RU_2","bedroom that is not part of a suite",{"$f":"SUM(H492:L492)","v":2829},0,0,{"$f":"INDEX(CHARGES,MATCH($D492&$F492,$AQ$2:$AQ$44&$AR$2:$AR$44,0),MATCH(J$1,$AS$1:$AX$1,0))","v":104},{"$f":"INDEX(CHARGES,MATCH($D492&$F492,$AQ$2:$AQ$44&$AR$2:$AR$44,0),MATCH(K$1,$AS$1:$AX$1,0))","v":2620},{"$f":"INDEX(CHARGES,MATCH($D492&$F492,$AQ$2:$AQ$44&$AR$2:$AR$44,0),MATCH(L$1,$AS$1:$AX$1,0))","v":105}]
["Mt Isa - No Water or Sewer","Resort complex - Accommodation component","Resort complex","Accommodation (short-term)","RU_2","2 or less bedrooms",{"$f":"SUM(H493:L493)","v":2829},0,0,{"$f":"INDEX(CHARGES,MATCH($D493&$F493,$AQ$2:$AQ$44&$AR$2:$AR$44,0),MATCH(J$1,$AS$1:$AX$1,0))","v":104},{"$f":"INDEX(CHARGES,MATCH($D493&$F493,$AQ$2:$AQ$44&$AR$2:$AR$44,0),MATCH(K$1,$AS$1:$AX$1,0))","v":2620},{"$f":"INDEX(CHARGES,MATCH($D493&$F493,$AQ$2:$AQ$44&$AR$2:$AR$44,0),MATCH(L$1,$AS$1:$AX$1,0))","v":105}]
["Mt Isa - No Water or Sewer","Resort complex - Accommodation component","Resort complex","Accommodation (short-term)","RU_2","3 or more bedrooms",{"$f":"SUM(H494:L494)","v":3961},0,0,{"$f":"INDEX(CHARGES,MATCH($D494&$F494,$AQ$2:$AQ$44&$AR$2:$AR$44,0),MATCH(J$1,$AS$1:$AX$1,0))","v":146},{"$f":"INDEX(CHARGES,MATCH($D494&$F494,$AQ$2:$AQ$44&$AR$2:$AR$44,0),MATCH(K$1,$AS$1:$AX$1,0))","v":3668},{"$f":"INDEX(CHARGES,MATCH($D494&$F494,$AQ$2:$AQ$44&$AR$2:$AR$44,0),MATCH(L$1,$AS$1:$AX$1,0))","v":147}]
["Mt Isa - No Water or Sewer","Resort complex - Entertainment component","Resort complex","Entertainment","NR_1","Gross Floor Area",{"$f":"SUM(H495:L495)","v":68},0,0,{"$f":"INDEX(CHARGES,MATCH($D495&$F495,$AQ$2:$AQ$44&$AR$2:$AR$44,0),MATCH(J$1,$AS$1:$AX$1,0))","v":0},{"$f":"INDEX(CHARGES,MATCH($D495&$F495,$AQ$2:$AQ$44&$AR$2:$AR$44,0),MATCH(K$1,$AS$1:$AX$1,0))","v":68},{"$f":"INDEX(CHARGES,MATCH($D495&$F495,$AQ$2:$AQ$44&$AR$2:$AR$44,0),MATCH(L$1,$AS$1:$AX$1,0))","v":0}]
["Mt Isa - No Water or Sewer","Resort complex - Entertainment component","Resort complex","Entertainment","NR_1","Impervious Area",{"$f":"SUM(H496:L496)","v":5},0,0,{"$f":"INDEX(CHARGES,MATCH($D496&$F496,$AQ$2:$AQ$44&$AR$2:$AR$44,0),MATCH(J$1,$AS$1:$AX$1,0))","v":5},{"$f":"INDEX(CHARGES,MATCH($D496&$F496,$AQ$2:$AQ$44&$AR$2:$AR$44,0),MATCH(K$1,$AS$1:$AX$1,0))","v":0},{"$f":"INDEX(CHARGES,MATCH($D496&$F496,$AQ$2:$AQ$44&$AR$2:$AR$44,0),MATCH(L$1,$AS$1:$AX$1,0))","v":0}]
["Mt Isa - No Water or Sewer","Retirement facility","Retirement facility","Accommodation (long-term)","RU_2","bedroom that is not part of a suite",5658,0,0,{"$f":"INDEX(CHARGES,MATCH($D497&$F497,$AQ$2:$AQ$44&$AR$2:$AR$44,0),MATCH(J$1,$AS$1:$AX$1,0))","v":209},{"$f":"INDEX(CHARGES,MATCH($D497&$F497,$AQ$2:$AQ$44&$AR$2:$AR$44,0),MATCH(K$1,$AS$1:$AX$1,0))","v":5239},{"$f":"INDEX(CHARGES,MATCH($D497&$F497,$AQ$2:$AQ$44&$AR$2:$AR$44,0),MATCH(L$1,$AS$1:$AX$1,0))","v":210}]
["Mt Isa - No Water or Sewer","Retirement facility","Retirement facility","Accommodation (long-term)","RU_2","2 or less bedrooms",5658,0,0,{"$f":"INDEX(CHARGES,MATCH($D498&$F498,$AQ$2:$AQ$44&$AR$2:$AR$44,0),MATCH(J$1,$AS$1:$AX$1,0))","v":209},{"$f":"INDEX(CHARGES,MATCH($D498&$F498,$AQ$2:$AQ$44&$AR$2:$AR$44,0),MATCH(K$1,$AS$1:$AX$1,0))","v":5239},{"$f":"INDEX(CHARGES,MATCH($D498&$F498,$AQ$2:$AQ$44&$AR$2:$AR$44,0),MATCH(L$1,$AS$1:$AX$1,0))","v":210}]
["Mt Isa - No Water or Sewer","Retirement facility","Retirement facility","Accommodation (long-term)","RU_2","3 or more bedrooms",7921,0,0,{"$f":"INDEX(CHARGES,MATCH($D499&$F499,$AQ$2:$AQ$44&$AR$2:$AR$44,0),MATCH(J$1,$AS$1:$AX$1,0))","v":293},{"$f":"INDEX(CHARGES,MATCH($D499&$F499,$AQ$2:$AQ$44&$AR$2:$AR$44,0),MATCH(K$1,$AS$1:$AX$1,0))","v":7335},{"$f":"INDEX(CHARGES,MATCH($D499&$F499,$AQ$2:$AQ$44&$AR$2:$AR$44,0),MATCH(L$1,$AS$1:$AX$1,0))","v":293}]
["Mt Isa - No Water or Sewer","Roadside stall","Roadside stall","Minor uses","NR_3","Gross Floor Area",0,0,0,{"$f":"INDEX(CHARGES,MATCH($D500&$F500,$AQ$2:$AQ$44&$AR$2:$AR$44,0),MATCH(J$1,$AS$1:$AX$1,0))","v":0},{"$f":"INDEX(CHARGES,MATCH($D500&$F500,$AQ$2:$AQ$44&$AR$2:$AR$44,0),MATCH(K$1,$AS$1:$AX$1,0))","v":0},{"$f":"INDEX(CHARGES,MATCH($D500&$F500,$AQ$2:$AQ$44&$AR$2:$AR$44,0),MATCH(L$1,$AS$1:$AX$1,0))","v":0}]
["Mt Isa - No Water or Sewer","Rooming accommodation","Rooming accommodation","Accommodation (long-term)","RU_2","bedroom that is not part of a suite",5658,0,0,{"$f":"INDEX(CHARGES,MATCH($D501&$F501,$AQ$2:$AQ$44&$AR$2:$AR$44,0),MATCH(J$1,$AS$1:$AX$1,0))","v":209},{"$f":"INDEX(CHARGES,MATCH($D501&$F501,$AQ$2:$AQ$44&$AR$2:$AR$44,0),MATCH(K$1,$AS$1:$AX$1,0))","v":5239},{"$f":"INDEX(CHARGES,MATCH($D501&$F501,$AQ$2:$AQ$44&$AR$2:$AR$44,0),MATCH(L$1,$AS$1:$AX$1,0))","v":210}]
["Mt Isa - No Water or Sewer","Rooming accommodation","Rooming accommodation","Accommodation (long-term)","RU_2","2 or less bedrooms",5658,0,0,{"$f":"INDEX(CHARGES,MATCH($D502&$F502,$AQ$2:$AQ$44&$AR$2:$AR$44,0),MATCH(J$1,$AS$1:$AX$1,0))","v":209},{"$f":"INDEX(CHARGES,MATCH($D502&$F502,$AQ$2:$AQ$44&$AR$2:$AR$44,0),MATCH(K$1,$AS$1:$AX$1,0))","v":5239},{"$f":"INDEX(CHARGES,MATCH($D502&$F502,$AQ$2:$AQ$44&$AR$2:$AR$44,0),MATCH(L$1,$AS$1:$AX$1,0))","v":210}]
["Mt Isa - No Water or Sewer","Rooming accommodation","Rooming accommodation","Accommodation (long-term)","RU_2","3 or more bedrooms",7921,0,0,{"$f":"INDEX(CHARGES,MATCH($D503&$F503,$AQ$2:$AQ$44&$AR$2:$AR$44,0),MATCH(J$1,$AS$1:$AX$1,0))","v":293},{"$f":"INDEX(CHARGES,MATCH($D503&$F503,$AQ$2:$AQ$44&$AR$2:$AR$44,0),MATCH(K$1,$AS$1:$AX$1,0))","v":7335},{"$f":"INDEX(CHARGES,MATCH($D503&$F503,$AQ$2:$AQ$44&$AR$2:$AR$44,0),MATCH(L$1,$AS$1:$AX$1,0))","v":293}]
["Mt Isa - No Water or Sewer","Rural industry","Rural industry","Other industry","NR_1","Gross Floor Area",17,0,0,{"$f":"INDEX(CHARGES,MATCH($D504&$F504,$AQ$2:$AQ$44&$AR$2:$AR$44,0),MATCH(J$1,$AS$1:$AX$1,0))","v":0},{"$f":"INDEX(CHARGES,MATCH($D504&$F504,$AQ$2:$AQ$44&$AR$2:$AR$44,0),MATCH(K$1,$AS$1:$AX$1,0))","v":17},{"$f":"INDEX(CHARGES,MATCH($D504&$F504,$AQ$2:$AQ$44&$AR$2:$AR$44,0),MATCH(L$1,$AS$1:$AX$1,0))","v":0}]
["Mt Isa - No Water or Sewer","Rural industry","Rural industry","Other industry","NR_1","Impervious Area",5,0,0,{"$f":"INDEX(CHARGES,MATCH($D505&$F505,$AQ$2:$AQ$44&$AR$2:$AR$44,0),MATCH(J$1,$AS$1:$AX$1,0))","v":5},{"$f":"INDEX(CHARGES,MATCH($D505&$F505,$AQ$2:$AQ$44&$AR$2:$AR$44,0),MATCH(K$1,$AS$1:$AX$1,0))","v":0},{"$f":"INDEX(CHARGES,MATCH($D505&$F505,$AQ$2:$AQ$44&$AR$2:$AR$44,0),MATCH(L$1,$AS$1:$AX$1,0))","v":0}]
["Mt Isa - No Water or Sewer","Rural workers accommodation","Short-term accommodation","Accommodation (short-term)","RU_2","bedroom that is not part of a suite",2829,0,0,{"$f":"INDEX(CHARGES,MATCH($D506&$F506,$AQ$2:$AQ$44&$AR$2:$AR$44,0),MATCH(J$1,$AS$1:$AX$1,0))","v":104},{"$f":"INDEX(CHARGES,MATCH($D506&$F506,$AQ$2:$AQ$44&$AR$2:$AR$44,0),MATCH(K$1,$AS$1:$AX$1,0))","v":2620},{"$f":"INDEX(CHARGES,MATCH($D506&$F506,$AQ$2:$AQ$44&$AR$2:$AR$44,0),MATCH(L$1,$AS$1:$AX$1,0))","v":105}]
["Mt Isa - No Water or Sewer","Rural workers accommodation","Short-term accommodation","Accommodation (short-term)","RU_2","2 or less bedrooms",2829,0,0,{"$f":"INDEX(CHARGES,MATCH($D507&$F507,$AQ$2:$AQ$44&$AR$2:$AR$44,0),MATCH(J$1,$AS$1:$AX$1,0))","v":104},{"$f":"INDEX(CHARGES,MATCH($D507&$F507,$AQ$2:$AQ$44&$AR$2:$AR$44,0),MATCH(K$1,$AS$1:$AX$1,0))","v":2620},{"$f":"INDEX(CHARGES,MATCH($D507&$F507,$AQ$2:$AQ$44&$AR$2:$AR$44,0),MATCH(L$1,$AS$1:$AX$1,0))","v":105}]
["Mt Isa - No Water or Sewer","Rural workers accommodation","Short-term accommodation","Accommodation (short-term)","RU_2","3 or more bedrooms",3961,0,0,{"$f":"INDEX(CHARGES,MATCH($D508&$F508,$AQ$2:$AQ$44&$AR$2:$AR$44,0),MATCH(J$1,$AS$1:$AX$1,0))","v":146},{"$f":"INDEX(CHARGES,MATCH($D508&$F508,$AQ$2:$AQ$44&$AR$2:$AR$44,0),MATCH(K$1,$AS$1:$AX$1,0))","v":3668},{"$f":"INDEX(CHARGES,MATCH($D508&$F508,$AQ$2:$AQ$44&$AR$2:$AR$44,0),MATCH(L$1,$AS$1:$AX$1,0))","v":147}]
["Mt Isa - No Water or Sewer","Sales office","Sales office","Commercial (office)","NR_1","Gross Floor Area",48,0,0,{"$f":"INDEX(CHARGES,MATCH($D509&$F509,$AQ$2:$AQ$44&$AR$2:$AR$44,0),MATCH(J$1,$AS$1:$AX$1,0))","v":0},{"$f":"INDEX(CHARGES,MATCH($D509&$F509,$AQ$2:$AQ$44&$AR$2:$AR$44,0),MATCH(K$1,$AS$1:$AX$1,0))","v":48},{"$f":"INDEX(CHARGES,MATCH($D509&$F509,$AQ$2:$AQ$44&$AR$2:$AR$44,0),MATCH(L$1,$AS$1:$AX$1,0))","v":0}]
["Mt Isa - No Water or Sewer","Sales office","Sales office","Commercial (office)","NR_1","Impervious Area",5,0,0,{"$f":"INDEX(CHARGES,MATCH($D510&$F510,$AQ$2:$AQ$44&$AR$2:$AR$44,0),MATCH(J$1,$AS$1:$AX$1,0))","v":5},{"$f":"INDEX(CHARGES,MATCH($D510&$F510,$AQ$2:$AQ$44&$AR$2:$AR$44,0),MATCH(K$1,$AS$1:$AX$1,0))","v":0},{"$f":"INDEX(CHARGES,MATCH($D510&$F510,$AQ$2:$AQ$44&$AR$2:$AR$44,0),MATCH(L$1,$AS$1:$AX$1,0))","v":0}]
["Mt Isa - No Water or Sewer","Service industry","Service industry","Commercial (retail)","NR_1","Gross Floor Area",61,0,0,{"$f":"INDEX(CHARGES,MATCH($D511&$F511,$AQ$2:$AQ$44&$AR$2:$AR$44,0),MATCH(J$1,$AS$1:$AX$1,0))","v":0},{"$f":"INDEX(CHARGES,MATCH($D511&$F511,$AQ$2:$AQ$44&$AR$2:$AR$44,0),MATCH(K$1,$AS$1:$AX$1,0))","v":61},{"$f":"INDEX(CHARGES,MATCH($D511&$F511,$AQ$2:$AQ$44&$AR$2:$AR$44,0),MATCH(L$1,$AS$1:$AX$1,0))","v":0}]
["Mt Isa - No Water or Sewer","Service industry","Service industry","Commercial (retail)","NR_1","Impervious Area",5,0,0,{"$f":"INDEX(CHARGES,MATCH($D512&$F512,$AQ$2:$AQ$44&$AR$2:$AR$44,0),MATCH(J$1,$AS$1:$AX$1,0))","v":5},{"$f":"INDEX(CHARGES,MATCH($D512&$F512,$AQ$2:$AQ$44&$AR$2:$AR$44,0),MATCH(K$1,$AS$1:$AX$1,0))","v":0},{"$f":"INDEX(CHARGES,MATCH($D512&$F512,$AQ$2:$AQ$44&$AR$2:$AR$44,0),MATCH(L$1,$AS$1:$AX$1,0))","v":0}]
["Mt Isa - No Water or Sewer","Service station","Service station","Commercial (retail)","NR_1","Gross Floor Area",61,0,0,{"$f":"INDEX(CHARGES,MATCH($D513&$F513,$AQ$2:$AQ$44&$AR$2:$AR$44,0),MATCH(J$1,$AS$1:$AX$1,0))","v":0},{"$f":"INDEX(CHARGES,MATCH($D513&$F513,$AQ$2:$AQ$44&$AR$2:$AR$44,0),MATCH(K$1,$AS$1:$AX$1,0))","v":61},{"$f":"INDEX(CHARGES,MATCH($D513&$F513,$AQ$2:$AQ$44&$AR$2:$AR$44,0),MATCH(L$1,$AS$1:$AX$1,0))","v":0}]
["Mt Isa - No Water or Sewer","Service station","Service station","Commercial (retail)","NR_1","Impervious Area",5,0,0,{"$f":"INDEX(CHARGES,MATCH($D514&$F514,$AQ$2:$AQ$44&$AR$2:$AR$44,0),MATCH(J$1,$AS$1:$AX$1,0))","v":5},{"$f":"INDEX(CHARGES,MATCH($D514&$F514,$AQ$2:$AQ$44&$AR$2:$AR$44,0),MATCH(K$1,$AS$1:$AX$1,0))","v":0},{"$f":"INDEX(CHARGES,MATCH($D514&$F514,$AQ$2:$AQ$44&$AR$2:$AR$44,0),MATCH(L$1,$AS$1:$AX$1,0))","v":0}]
["Mt Isa - No Water or Sewer","Shop","Shop","Commercial (retail)","NR_1","Gross Floor Area",61,0,0,{"$f":"INDEX(CHARGES,MATCH($D515&$F515,$AQ$2:$AQ$44&$AR$2:$AR$44,0),MATCH(J$1,$AS$1:$AX$1,0))","v":0},{"$f":"INDEX(CHARGES,MATCH($D515&$F515,$AQ$2:$AQ$44&$AR$2:$AR$44,0),MATCH(K$1,$AS$1:$AX$1,0))","v":61},{"$f":"INDEX(CHARGES,MATCH($D515&$F515,$AQ$2:$AQ$44&$AR$2:$AR$44,0),MATCH(L$1,$AS$1:$AX$1,0))","v":0}]
["Mt Isa - No Water or Sewer","Shop","Shop","Commercial (retail)","NR_1","Impervious Area",5,0,0,{"$f":"INDEX(CHARGES,MATCH($D516&$F516,$AQ$2:$AQ$44&$AR$2:$AR$44,0),MATCH(J$1,$AS$1:$AX$1,0))","v":5},{"$f":"INDEX(CHARGES,MATCH($D516&$F516,$AQ$2:$AQ$44&$AR$2:$AR$44,0),MATCH(K$1,$AS$1:$AX$1,0))","v":0},{"$f":"INDEX(CHARGES,MATCH($D516&$F516,$AQ$2:$AQ$44&$AR$2:$AR$44,0),MATCH(L$1,$AS$1:$AX$1,0))","v":0}]
["Mt Isa - No Water or Sewer","Shopping centre","Shopping centre","Commercial (retail)","NR_1","Gross Floor Area",61,0,0,{"$f":"INDEX(CHARGES,MATCH($D517&$F517,$AQ$2:$AQ$44&$AR$2:$AR$44,0),MATCH(J$1,$AS$1:$AX$1,0))","v":0},{"$f":"INDEX(CHARGES,MATCH($D517&$F517,$AQ$2:$AQ$44&$AR$2:$AR$44,0),MATCH(K$1,$AS$1:$AX$1,0))","v":61},{"$f":"INDEX(CHARGES,MATCH($D517&$F517,$AQ$2:$AQ$44&$AR$2:$AR$44,0),MATCH(L$1,$AS$1:$AX$1,0))","v":0}]
["Mt Isa - No Water or Sewer","Shopping centre","Shopping centre","Commercial (retail)","NR_1","Impervious Area",5,0,0,{"$f":"INDEX(CHARGES,MATCH($D518&$F518,$AQ$2:$AQ$44&$AR$2:$AR$44,0),MATCH(J$1,$AS$1:$AX$1,0))","v":5},{"$f":"INDEX(CHARGES,MATCH($D518&$F518,$AQ$2:$AQ$44&$AR$2:$AR$44,0),MATCH(K$1,$AS$1:$AX$1,0))","v":0},{"$f":"INDEX(CHARGES,MATCH($D518&$F518,$AQ$2:$AQ$44&$AR$2:$AR$44,0),MATCH(L$1,$AS$1:$AX$1,0))","v":0}]
["Mt Isa - No Water or Sewer","Short-term accommodation","Short-term accommodation","Accommodation (short-term)","RU_2","bedroom that is not part of a suite",2829,0,0,{"$f":"INDEX(CHARGES,MATCH($D519&$F519,$AQ$2:$AQ$44&$AR$2:$AR$44,0),MATCH(J$1,$AS$1:$AX$1,0))","v":104},{"$f":"INDEX(CHARGES,MATCH($D519&$F519,$AQ$2:$AQ$44&$AR$2:$AR$44,0),MATCH(K$1,$AS$1:$AX$1,0))","v":2620},{"$f":"INDEX(CHARGES,MATCH($D519&$F519,$AQ$2:$AQ$44&$AR$2:$AR$44,0),MATCH(L$1,$AS$1:$AX$1,0))","v":105}]
["Mt Isa - No Water or Sewer","Short-term accommodation","Short-term accommodation","Accommodation (short-term)","RU_2","2 or less bedrooms",2829,0,0,{"$f":"INDEX(CHARGES,MATCH($D520&$F520,$AQ$2:$AQ$44&$AR$2:$AR$44,0),MATCH(J$1,$AS$1:$AX$1,0))","v":104},{"$f":"INDEX(CHARGES,MATCH($D520&$F520,$AQ$2:$AQ$44&$AR$2:$AR$44,0),MATCH(K$1,$AS$1:$AX$1,0))","v":2620},{"$f":"INDEX(CHARGES,MATCH($D520&$F520,$AQ$2:$AQ$44&$AR$2:$AR$44,0),MATCH(L$1,$AS$1:$AX$1,0))","v":105}]
["Mt Isa - No Water or Sewer","Short-term accommodation","Short-term accommodation","Accommodation (short-term)","RU_2","3 or more bedrooms",3961,0,0,{"$f":"INDEX(CHARGES,MATCH($D521&$F521,$AQ$2:$AQ$44&$AR$2:$AR$44,0),MATCH(J$1,$AS$1:$AX$1,0))","v":146},{"$f":"INDEX(CHARGES,MATCH($D521&$F521,$AQ$2:$AQ$44&$AR$2:$AR$44,0),MATCH(K$1,$AS$1:$AX$1,0))","v":3668},{"$f":"INDEX(CHARGES,MATCH($D521&$F521,$AQ$2:$AQ$44&$AR$2:$AR$44,0),MATCH(L$1,$AS$1:$AX$1,0))","v":147}]
["Mt Isa - No Water or Sewer","Showroom","Showroom","Commercial (bulk goods)","NR_1","Gross Floor Area",48,0,0,{"$f":"INDEX(CHARGES,MATCH($D522&$F522,$AQ$2:$AQ$44&$AR$2:$AR$44,0),MATCH(J$1,$AS$1:$AX$1,0))","v":0},{"$f":"INDEX(CHARGES,MATCH($D522&$F522,$AQ$2:$AQ$44&$AR$2:$AR$44,0),MATCH(K$1,$AS$1:$AX$1,0))","v":48},{"$f":"INDEX(CHARGES,MATCH($D522&$F522,$AQ$2:$AQ$44&$AR$2:$AR$44,0),MATCH(L$1,$AS$1:$AX$1,0))","v":0}]
["Mt Isa - No Water or Sewer","Showroom","Showroom","Commercial (bulk goods)","NR_1","Impervious Area",5,0,0,{"$f":"INDEX(CHARGES,MATCH($D523&$F523,$AQ$2:$AQ$44&$AR$2:$AR$44,0),MATCH(J$1,$AS$1:$AX$1,0))","v":5},{"$f":"INDEX(CHARGES,MATCH($D523&$F523,$AQ$2:$AQ$44&$AR$2:$AR$44,0),MATCH(K$1,$AS$1:$AX$1,0))","v":0},{"$f":"INDEX(CHARGES,MATCH($D523&$F523,$AQ$2:$AQ$44&$AR$2:$AR$44,0),MATCH(L$1,$AS$1:$AX$1,0))","v":0}]
["Mt Isa - No Water or Sewer","Special industry","Special industry","High impact industry or special industry","NR_1","Gross Floor Area",24,0,0,{"$f":"INDEX(CHARGES,MATCH($D524&$F524,$AQ$2:$AQ$44&$AR$2:$AR$44,0),MATCH(J$1,$AS$1:$AX$1,0))","v":0},{"$f":"INDEX(CHARGES,MATCH($D524&$F524,$AQ$2:$AQ$44&$AR$2:$AR$44,0),MATCH(K$1,$AS$1:$AX$1,0))","v":24},{"$f":"INDEX(CHARGES,MATCH($D524&$F524,$AQ$2:$AQ$44&$AR$2:$AR$44,0),MATCH(L$1,$AS$1:$AX$1,0))","v":0}]
["Mt Isa - No Water or Sewer","Special industry","Special industry","High impact industry or special industry","NR_1","Impervious Area",5,0,0,{"$f":"INDEX(CHARGES,MATCH($D525&$F525,$AQ$2:$AQ$44&$AR$2:$AR$44,0),MATCH(J$1,$AS$1:$AX$1,0))","v":5},{"$f":"INDEX(CHARGES,MATCH($D525&$F525,$AQ$2:$AQ$44&$AR$2:$AR$44,0),MATCH(K$1,$AS$1:$AX$1,0))","v":0},{"$f":"INDEX(CHARGES,MATCH($D525&$F525,$AQ$2:$AQ$44&$AR$2:$AR$44,0),MATCH(L$1,$AS$1:$AX$1,0))","v":0}]
["Mt Isa - No Water or Sewer","Substation","Utility installation","Other uses","NR_1","Gross Floor Area",0,0,0,{"$f":"INDEX(CHARGES,MATCH($D526&$F526,$AQ$2:$AQ$44&$AR$2:$AR$44,0),MATCH(J$1,$AS$1:$AX$1,0))","v":0},{"$f":"INDEX(CHARGES,MATCH($D526&$F526,$AQ$2:$AQ$44&$AR$2:$AR$44,0),MATCH(K$1,$AS$1:$AX$1,0))","v":0},{"$f":"INDEX(CHARGES,MATCH($D526&$F526,$AQ$2:$AQ$44&$AR$2:$AR$44,0),MATCH(L$1,$AS$1:$AX$1,0))","v":0}]
["Mt Isa - No Water or Sewer","Substation","Utility installation","Other uses","NR_1","Impervious Area",0,0,0,{"$f":"INDEX(CHARGES,MATCH($D527&$F527,$AQ$2:$AQ$44&$AR$2:$AR$44,0),MATCH(J$1,$AS$1:$AX$1,0))","v":0},{"$f":"INDEX(CHARGES,MATCH($D527&$F527,$AQ$2:$AQ$44&$AR$2:$AR$44,0),MATCH(K$1,$AS$1:$AX$1,0))","v":0},{"$f":"INDEX(CHARGES,MATCH($D527&$F527,$AQ$2:$AQ$44&$AR$2:$AR$44,0),MATCH(L$1,$AS$1:$AX$1,0))","v":0}]
["Mt Isa - No Water or Sewer","Telecommunications facility","Utility installation","Other uses","NR_1","Gross Floor Area",0,0,0,{"$f":"INDEX(CHARGES,MATCH($D528&$F528,$AQ$2:$AQ$44&$AR$2:$AR$44,0),MATCH(J$1,$AS$1:$AX$1,0))","v":0},{"$f":"INDEX(CHARGES,MATCH($D528&$F528,$AQ$2:$AQ$44&$AR$2:$AR$44,0),MATCH(K$1,$AS$1:$AX$1,0))","v":0},{"$f":"INDEX(CHARGES,MATCH($D528&$F528,$AQ$2:$AQ$44&$AR$2:$AR$44,0),MATCH(L$1,$AS$1:$AX$1,0))","v":0}]
["Mt Isa - No Water or Sewer","Telecommunications facility","Utility installation","Other uses","NR_1","Impervious Area",0,0,0,{"$f":"INDEX(CHARGES,MATCH($D529&$F529,$AQ$2:$AQ$44&$AR$2:$AR$44,0),MATCH(J$1,$AS$1:$AX$1,0))","v":0},{"$f":"INDEX(CHARGES,MATCH($D529&$F529,$AQ$2:$AQ$44&$AR$2:$AR$44,0),MATCH(K$1,$AS$1:$AX$1,0))","v":0},{"$f":"INDEX(CHARGES,MATCH($D529&$F529,$AQ$2:$AQ$44&$AR$2:$AR$44,0),MATCH(L$1,$AS$1:$AX$1,0))","v":0}]
["Mt Isa - No Water or Sewer","Theatre","Theatre","Entertainment","NR_1","Gross Floor Area",68,0,0,{"$f":"INDEX(CHARGES,MATCH($D530&$F530,$AQ$2:$AQ$44&$AR$2:$AR$44,0),MATCH(J$1,$AS$1:$AX$1,0))","v":0},{"$f":"INDEX(CHARGES,MATCH($D530&$F530,$AQ$2:$AQ$44&$AR$2:$AR$44,0),MATCH(K$1,$AS$1:$AX$1,0))","v":68},{"$f":"INDEX(CHARGES,MATCH($D530&$F530,$AQ$2:$AQ$44&$AR$2:$AR$44,0),MATCH(L$1,$AS$1:$AX$1,0))","v":0}]
["Mt Isa - No Water or Sewer","Theatre","Theatre","Entertainment","NR_1","Impervious Area",{"$f":"SUM(H531:L531)","v":5},0,0,{"$f":"INDEX(CHARGES,MATCH($D531&$F531,$AQ$2:$AQ$44&$AR$2:$AR$44,0),MATCH(J$1,$AS$1:$AX$1,0))","v":5},{"$f":"INDEX(CHARGES,MATCH($D531&$F531,$AQ$2:$AQ$44&$AR$2:$AR$44,0),MATCH(K$1,$AS$1:$AX$1,0))","v":0},{"$f":"INDEX(CHARGES,MATCH($D531&$F531,$AQ$2:$AQ$44&$AR$2:$AR$44,0),MATCH(L$1,$AS$1:$AX$1,0))","v":0}]
["Mt Isa - No Water or Sewer","Tourist attraction","Tourist attraction","Other uses","NR_1","Gross Floor Area",0,0,0,{"$f":"INDEX(CHARGES,MATCH($D532&$F532,$AQ$2:$AQ$44&$AR$2:$AR$44,0),MATCH(J$1,$AS$1:$AX$1,0))","v":0},{"$f":"INDEX(CHARGES,MATCH($D532&$F532,$AQ$2:$AQ$44&$AR$2:$AR$44,0),MATCH(K$1,$AS$1:$AX$1,0))","v":0},{"$f":"INDEX(CHARGES,MATCH($D532&$F532,$AQ$2:$AQ$44&$AR$2:$AR$44,0),MATCH(L$1,$AS$1:$AX$1,0))","v":0}]
["Mt Isa - No Water or Sewer","Tourist attraction","Tourist attraction","Other uses","NR_1","Impervious Area",0,0,0,{"$f":"INDEX(CHARGES,MATCH($D533&$F533,$AQ$2:$AQ$44&$AR$2:$AR$44,0),MATCH(J$1,$AS$1:$AX$1,0))","v":0},{"$f":"INDEX(CHARGES,MATCH($D533&$F533,$AQ$2:$AQ$44&$AR$2:$AR$44,0),MATCH(K$1,$AS$1:$AX$1,0))","v":0},{"$f":"INDEX(CHARGES,MATCH($D533&$F533,$AQ$2:$AQ$44&$AR$2:$AR$44,0),MATCH(L$1,$AS$1:$AX$1,0))","v":0}]
["Mt Isa - No Water or Sewer","Tourist park","Tourist park","Accommodation (short-term)","RU_3","group of 2 sites/cabins or less",2829,0,0,{"$f":"INDEX(CHARGES,MATCH($D534&$F534,$AQ$2:$AQ$44&$AR$2:$AR$44,0),MATCH(J$1,$AS$1:$AX$1,0))","v":104},{"$f":"INDEX(CHARGES,MATCH($D534&$F534,$AQ$2:$AQ$44&$AR$2:$AR$44,0),MATCH(K$1,$AS$1:$AX$1,0))","v":2620},{"$f":"INDEX(CHARGES,MATCH($D534&$F534,$AQ$2:$AQ$44&$AR$2:$AR$44,0),MATCH(L$1,$AS$1:$AX$1,0))","v":105}]
["Mt Isa - No Water or Sewer","Tourist park","Tourist park","Accommodation (short-term)","RU_3","group of 3 sites/cabins",3961,0,0,{"$f":"INDEX(CHARGES,MATCH($D535&$F535,$AQ$2:$AQ$44&$AR$2:$AR$44,0),MATCH(J$1,$AS$1:$AX$1,0))","v":146},{"$f":"INDEX(CHARGES,MATCH($D535&$F535,$AQ$2:$AQ$44&$AR$2:$AR$44,0),MATCH(K$1,$AS$1:$AX$1,0))","v":3668},{"$f":"INDEX(CHARGES,MATCH($D535&$F535,$AQ$2:$AQ$44&$AR$2:$AR$44,0),MATCH(L$1,$AS$1:$AX$1,0))","v":147}]
["Mt Isa - No Water or Sewer","Transport depot","Low impact industry","Other industry","NR_1","Gross Floor Area",17,0,0,{"$f":"INDEX(CHARGES,MATCH($D536&$F536,$AQ$2:$AQ$44&$AR$2:$AR$44,0),MATCH(J$1,$AS$1:$AX$1,0))","v":0},{"$f":"INDEX(CHARGES,MATCH($D536&$F536,$AQ$2:$AQ$44&$AR$2:$AR$44,0),MATCH(K$1,$AS$1:$AX$1,0))","v":17},{"$f":"INDEX(CHARGES,MATCH($D536&$F536,$AQ$2:$AQ$44&$AR$2:$AR$44,0),MATCH(L$1,$AS$1:$AX$1,0))","v":0}]
["Mt Isa - No Water or Sewer","Transport depot","Low impact industry","Other industry","NR_1","Impervious Area",5,0,0,{"$f":"INDEX(CHARGES,MATCH($D537&$F537,$AQ$2:$AQ$44&$AR$2:$AR$44,0),MATCH(J$1,$AS$1:$AX$1,0))","v":5},{"$f":"INDEX(CHARGES,MATCH($D537&$F537,$AQ$2:$AQ$44&$AR$2:$AR$44,0),MATCH(K$1,$AS$1:$AX$1,0))","v":0},{"$f":"INDEX(CHARGES,MATCH($D537&$F537,$AQ$2:$AQ$44&$AR$2:$AR$44,0),MATCH(L$1,$AS$1:$AX$1,0))","v":0}]
["Mt Isa - No Water or Sewer","Utility installation","Utility installation","Other uses","NR_1","Gross Floor Area",0,0,0,{"$f":"INDEX(CHARGES,MATCH($D538&$F538,$AQ$2:$AQ$44&$AR$2:$AR$44,0),MATCH(J$1,$AS$1:$AX$1,0))","v":0},{"$f":"INDEX(CHARGES,MATCH($D538&$F538,$AQ$2:$AQ$44&$AR$2:$AR$44,0),MATCH(K$1,$AS$1:$AX$1,0))","v":0},{"$f":"INDEX(CHARGES,MATCH($D538&$F538,$AQ$2:$AQ$44&$AR$2:$AR$44,0),MATCH(L$1,$AS$1:$AX$1,0))","v":0}]
["Mt Isa - No Water or Sewer","Utility installation","Utility installation","Other uses","NR_1","Impervious Area",0,0,0,{"$f":"INDEX(CHARGES,MATCH($D539&$F539,$AQ$2:$AQ$44&$AR$2:$AR$44,0),MATCH(J$1,$AS$1:$AX$1,0))","v":0},{"$f":"INDEX(CHARGES,MATCH($D539&$F539,$AQ$2:$AQ$44&$AR$2:$AR$44,0),MATCH(K$1,$AS$1:$AX$1,0))","v":0},{"$f":"INDEX(CHARGES,MATCH($D539&$F539,$AQ$2:$AQ$44&$AR$2:$AR$44,0),MATCH(L$1,$AS$1:$AX$1,0))","v":0}]
["Mt Isa - No Water or Sewer","Veterinary services","Veterinary services","Essential services","NR_1","Gross Floor Area",48,0,0,{"$f":"INDEX(CHARGES,MATCH($D540&$F540,$AQ$2:$AQ$44&$AR$2:$AR$44,0),MATCH(J$1,$AS$1:$AX$1,0))","v":0},{"$f":"INDEX(CHARGES,MATCH($D540&$F540,$AQ$2:$AQ$44&$AR$2:$AR$44,0),MATCH(K$1,$AS$1:$AX$1,0))","v":48},{"$f":"INDEX(CHARGES,MATCH($D540&$F540,$AQ$2:$AQ$44&$AR$2:$AR$44,0),MATCH(L$1,$AS$1:$AX$1,0))","v":0}]
["Mt Isa - No Water or Sewer","Veterinary services","Veterinary services","Essential services","NR_1","Impervious Area",5,0,0,{"$f":"INDEX(CHARGES,MATCH($D541&$F541,$AQ$2:$AQ$44&$AR$2:$AR$44,0),MATCH(J$1,$AS$1:$AX$1,0))","v":5},{"$f":"INDEX(CHARGES,MATCH($D541&$F541,$AQ$2:$AQ$44&$AR$2:$AR$44,0),MATCH(K$1,$AS$1:$AX$1,0))","v":0},{"$f":"INDEX(CHARGES,MATCH($D541&$F541,$AQ$2:$AQ$44&$AR$2:$AR$44,0),MATCH(L$1,$AS$1:$AX$1,0))","v":0}]
["Mt Isa - No Water or Sewer","Warehouse","Warehouse","Other industry","NR_1","Gross Floor Area",17,0,0,{"$f":"INDEX(CHARGES,MATCH($D542&$F542,$AQ$2:$AQ$44&$AR$2:$AR$44,0),MATCH(J$1,$AS$1:$AX$1,0))","v":0},{"$f":"INDEX(CHARGES,MATCH($D542&$F542,$AQ$2:$AQ$44&$AR$2:$AR$44,0),MATCH(K$1,$AS$1:$AX$1,0))","v":17},{"$f":"INDEX(CHARGES,MATCH($D542&$F542,$AQ$2:$AQ$44&$AR$2:$AR$44,0),MATCH(L$1,$AS$1:$AX$1,0))","v":0}]
["Mt Isa - No Water or Sewer","Warehouse","Warehouse","Other industry","NR_1","Impervious Area",5,0,0,{"$f":"INDEX(CHARGES,MATCH($D543&$F543,$AQ$2:$AQ$44&$AR$2:$AR$44,0),MATCH(J$1,$AS$1:$AX$1,0))","v":5},{"$f":"INDEX(CHARGES,MATCH($D543&$F543,$AQ$2:$AQ$44&$AR$2:$AR$44,0),MATCH(K$1,$AS$1:$AX$1,0))","v":0},{"$f":"INDEX(CHARGES,MATCH($D543&$F543,$AQ$2:$AQ$44&$AR$2:$AR$44,0),MATCH(L$1,$AS$1:$AX$1,0))","v":0}]
["Mt Isa - No Water or Sewer","Wholesale nursery","Wholesale nursery","High impact rural","NR_3","Gross Floor Area",7,0,0,{"$f":"INDEX(CHARGES,MATCH($D544&$F544,$AQ$2:$AQ$44&$AR$2:$AR$44,0),MATCH(J$1,$AS$1:$AX$1,0))","v":0},{"$f":"INDEX(CHARGES,MATCH($D544&$F544,$AQ$2:$AQ$44&$AR$2:$AR$44,0),MATCH(K$1,$AS$1:$AX$1,0))","v":7},{"$f":"INDEX(CHARGES,MATCH($D544&$F544,$AQ$2:$AQ$44&$AR$2:$AR$44,0),MATCH(L$1,$AS$1:$AX$1,0))","v":0}]
["Mt Isa - No Water or Sewer","Winery","Winery","High impact rural","NR_3","Gross Floor Area",7,0,0,{"$f":"INDEX(CHARGES,MATCH($D545&$F545,$AQ$2:$AQ$44&$AR$2:$AR$44,0),MATCH(J$1,$AS$1:$AX$1,0))","v":0},{"$f":"INDEX(CHARGES,MATCH($D545&$F545,$AQ$2:$AQ$44&$AR$2:$AR$44,0),MATCH(K$1,$AS$1:$AX$1,0))","v":7},{"$f":"INDEX(CHARGES,MATCH($D545&$F545,$AQ$2:$AQ$44&$AR$2:$AR$44,0),MATCH(L$1,$AS$1:$AX$1,0))","v":0}]
["Mt Isa - No Water or Sewer","Reconfiguring a lot - Residential","Reconfiguring a lot - Residential","Residential uses","ROL","Lots",7921,0,0,{"$f":"INDEX(CHARGES,MATCH($D546&$F546,$AQ$2:$AQ$44&$AR$2:$AR$44,0),MATCH(J$1,$AS$1:$AX$1,0))","v":293},{"$f":"INDEX(CHARGES,MATCH($D546&$F546,$AQ$2:$AQ$44&$AR$2:$AR$44,0),MATCH(K$1,$AS$1:$AX$1,0))","v":7335},{"$f":"INDEX(CHARGES,MATCH($D546&$F546,$AQ$2:$AQ$44&$AR$2:$AR$44,0),MATCH(L$1,$AS$1:$AX$1,0))","v":293}]
["Mt Isa - No Water or Sewer","Reconfiguring a lot - Non residential","Reconfiguring a lot - Non residential","Non-residential uses","ROL","Lots",9535,0,0,{"$f":"INDEX(CHARGES,MATCH($D547&$F547,$AQ$2:$AQ$44&$AR$2:$AR$44,0),MATCH(J$1,$AS$1:$AX$1,0))","v":293},{"$f":"INDEX(CHARGES,MATCH($D547&$F547,$AQ$2:$AQ$44&$AR$2:$AR$44,0),MATCH(K$1,$AS$1:$AX$1,0))","v":9242},{"$f":"INDEX(CHARGES,MATCH($D547&$F547,$AQ$2:$AQ$44&$AR$2:$AR$44,0),MATCH(L$1,$AS$1:$AX$1,0))","v":0}]
["Camooweal - Fully Serviced","Adult store","Adult store","Commercial (retail)","NR_1","Gross Floor Area",94,{"$f":"INDEX(CHARGES,MATCH($D548&$F548,$AQ$2:$AQ$44&$AR$2:$AR$44,0),MATCH(H$1,$AS$1:$AX$1,0))","v":20},{"$f":"INDEX(CHARGES,MATCH($D548&$F548,$AQ$2:$AQ$44&$AR$2:$AR$44,0),MATCH(I$1,$AS$1:$AX$1,0))","v":13},{"$f":"INDEX(CHARGES,MATCH($D548&$F548,$AQ$2:$AQ$44&$AR$2:$AR$44,0),MATCH(J$1,$AS$1:$AX$1,0))","v":0},{"$f":"INDEX(CHARGES,MATCH($D548&$F548,$AQ$2:$AQ$44&$AR$2:$AR$44,0),MATCH(K$1,$AS$1:$AX$1,0))","v":61},{"$f":"INDEX(CHARGES,MATCH($D548&$F548,$AQ$2:$AQ$44&$AR$2:$AR$44,0),MATCH(L$1,$AS$1:$AX$1,0))","v":0}]
["Camooweal - Fully Serviced","Adult store","Adult store","Commercial (retail)","NR_1","Impervious Area",5,{"$f":"INDEX(CHARGES,MATCH($D549&$F549,$AQ$2:$AQ$44&$AR$2:$AR$44,0),MATCH(H$1,$AS$1:$AX$1,0))","v":0},{"$f":"INDEX(CHARGES,MATCH($D549&$F549,$AQ$2:$AQ$44&$AR$2:$AR$44,0),MATCH(I$1,$AS$1:$AX$1,0))","v":0},{"$f":"INDEX(CHARGES,MATCH($D549&$F549,$AQ$2:$AQ$44&$AR$2:$AR$44,0),MATCH(J$1,$AS$1:$AX$1,0))","v":5},{"$f":"INDEX(CHARGES,MATCH($D549&$F549,$AQ$2:$AQ$44&$AR$2:$AR$44,0),MATCH(K$1,$AS$1:$AX$1,0))","v":0},{"$f":"INDEX(CHARGES,MATCH($D549&$F549,$AQ$2:$AQ$44&$AR$2:$AR$44,0),MATCH(L$1,$AS$1:$AX$1,0))","v":0}]
["Camooweal - Fully Serviced","Agrigultural supplies store","Agrigultural supplies store","Commercial (bulk goods)","NR_1","Gross Floor Area",73,{"$f":"INDEX(CHARGES,MATCH($D550&$F550,$AQ$2:$AQ$44&$AR$2:$AR$44,0),MATCH(H$1,$AS$1:$AX$1,0))","v":15},{"$f":"INDEX(CHARGES,MATCH($D550&$F550,$AQ$2:$AQ$44&$AR$2:$AR$44,0),MATCH(I$1,$AS$1:$AX$1,0))","v":10},{"$f":"INDEX(CHARGES,MATCH($D550&$F550,$AQ$2:$AQ$44&$AR$2:$AR$44,0),MATCH(J$1,$AS$1:$AX$1,0))","v":0},{"$f":"INDEX(CHARGES,MATCH($D550&$F550,$AQ$2:$AQ$44&$AR$2:$AR$44,0),MATCH(K$1,$AS$1:$AX$1,0))","v":48},{"$f":"INDEX(CHARGES,MATCH($D550&$F550,$AQ$2:$AQ$44&$AR$2:$AR$44,0),MATCH(L$1,$AS$1:$AX$1,0))","v":0}]
["Camooweal - Fully Serviced","Agrigultural supplies store","Agrigultural supplies store","Commercial (bulk goods)","NR_1","Impervious Area",5,{"$f":"INDEX(CHARGES,MATCH($D551&$F551,$AQ$2:$AQ$44&$AR$2:$AR$44,0),MATCH(H$1,$AS$1:$AX$1,0))","v":0},{"$f":"INDEX(CHARGES,MATCH($D551&$F551,$AQ$2:$AQ$44&$AR$2:$AR$44,0),MATCH(I$1,$AS$1:$AX$1,0))","v":0},{"$f":"INDEX(CHARGES,MATCH($D551&$F551,$AQ$2:$AQ$44&$AR$2:$AR$44,0),MATCH(J$1,$AS$1:$AX$1,0))","v":5},{"$f":"INDEX(CHARGES,MATCH($D551&$F551,$AQ$2:$AQ$44&$AR$2:$AR$44,0),MATCH(K$1,$AS$1:$AX$1,0))","v":0},{"$f":"INDEX(CHARGES,MATCH($D551&$F551,$AQ$2:$AQ$44&$AR$2:$AR$44,0),MATCH(L$1,$AS$1:$AX$1,0))","v":0}]
["Camooweal - Fully Serviced","Air services","Air services","Other uses","NR_1","Gross Floor Area",0,{"$f":"INDEX(CHARGES,MATCH($D552&$F552,$AQ$2:$AQ$44&$AR$2:$AR$44,0),MATCH(H$1,$AS$1:$AX$1,0))","v":0},{"$f":"INDEX(CHARGES,MATCH($D552&$F552,$AQ$2:$AQ$44&$AR$2:$AR$44,0),MATCH(I$1,$AS$1:$AX$1,0))","v":0},{"$f":"INDEX(CHARGES,MATCH($D552&$F552,$AQ$2:$AQ$44&$AR$2:$AR$44,0),MATCH(J$1,$AS$1:$AX$1,0))","v":0},{"$f":"INDEX(CHARGES,MATCH($D552&$F552,$AQ$2:$AQ$44&$AR$2:$AR$44,0),MATCH(K$1,$AS$1:$AX$1,0))","v":0},{"$f":"INDEX(CHARGES,MATCH($D552&$F552,$AQ$2:$AQ$44&$AR$2:$AR$44,0),MATCH(L$1,$AS$1:$AX$1,0))","v":0}]
["Camooweal - Fully Serviced","Air services","Air services","Other uses","NR_1","Impervious Area",0,{"$f":"INDEX(CHARGES,MATCH($D553&$F553,$AQ$2:$AQ$44&$AR$2:$AR$44,0),MATCH(H$1,$AS$1:$AX$1,0))","v":0},{"$f":"INDEX(CHARGES,MATCH($D553&$F553,$AQ$2:$AQ$44&$AR$2:$AR$44,0),MATCH(I$1,$AS$1:$AX$1,0))","v":0},{"$f":"INDEX(CHARGES,MATCH($D553&$F553,$AQ$2:$AQ$44&$AR$2:$AR$44,0),MATCH(J$1,$AS$1:$AX$1,0))","v":0},{"$f":"INDEX(CHARGES,MATCH($D553&$F553,$AQ$2:$AQ$44&$AR$2:$AR$44,0),MATCH(K$1,$AS$1:$AX$1,0))","v":0},{"$f":"INDEX(CHARGES,MATCH($D553&$F553,$AQ$2:$AQ$44&$AR$2:$AR$44,0),MATCH(L$1,$AS$1:$AX$1,0))","v":0}]
["Camooweal - Fully Serviced","Animal husbandry","Animal husbandry","Low impact rural","NR_3","Gross Floor Area",0,{"$f":"INDEX(CHARGES,MATCH($D554&$F554,$AQ$2:$AQ$44&$AR$2:$AR$44,0),MATCH(H$1,$AS$1:$AX$1,0))","v":0},{"$f":"INDEX(CHARGES,MATCH($D554&$F554,$AQ$2:$AQ$44&$AR$2:$AR$44,0),MATCH(I$1,$AS$1:$AX$1,0))","v":0},{"$f":"INDEX(CHARGES,MATCH($D554&$F554,$AQ$2:$AQ$44&$AR$2:$AR$44,0),MATCH(J$1,$AS$1:$AX$1,0))","v":0},{"$f":"INDEX(CHARGES,MATCH($D554&$F554,$AQ$2:$AQ$44&$AR$2:$AR$44,0),MATCH(K$1,$AS$1:$AX$1,0))","v":0},{"$f":"INDEX(CHARGES,MATCH($D554&$F554,$AQ$2:$AQ$44&$AR$2:$AR$44,0),MATCH(L$1,$AS$1:$AX$1,0))","v":0}]
["Camooweal - Fully Serviced","Animal keeping","Animal keeping","Other uses","NR_1","Gross Floor Area",0,{"$f":"INDEX(CHARGES,MATCH($D555&$F555,$AQ$2:$AQ$44&$AR$2:$AR$44,0),MATCH(H$1,$AS$1:$AX$1,0))","v":0},{"$f":"INDEX(CHARGES,MATCH($D555&$F555,$AQ$2:$AQ$44&$AR$2:$AR$44,0),MATCH(I$1,$AS$1:$AX$1,0))","v":0},{"$f":"INDEX(CHARGES,MATCH($D555&$F555,$AQ$2:$AQ$44&$AR$2:$AR$44,0),MATCH(J$1,$AS$1:$AX$1,0))","v":0},{"$f":"INDEX(CHARGES,MATCH($D555&$F555,$AQ$2:$AQ$44&$AR$2:$AR$44,0),MATCH(K$1,$AS$1:$AX$1,0))","v":0},{"$f":"INDEX(CHARGES,MATCH($D555&$F555,$AQ$2:$AQ$44&$AR$2:$AR$44,0),MATCH(L$1,$AS$1:$AX$1,0))","v":0}]
["Camooweal - Fully Serviced","Animal keeping","Animal keeping","Other uses","NR_1","Impervious Area",0,{"$f":"INDEX(CHARGES,MATCH($D556&$F556,$AQ$2:$AQ$44&$AR$2:$AR$44,0),MATCH(H$1,$AS$1:$AX$1,0))","v":0},{"$f":"INDEX(CHARGES,MATCH($D556&$F556,$AQ$2:$AQ$44&$AR$2:$AR$44,0),MATCH(I$1,$AS$1:$AX$1,0))","v":0},{"$f":"INDEX(CHARGES,MATCH($D556&$F556,$AQ$2:$AQ$44&$AR$2:$AR$44,0),MATCH(J$1,$AS$1:$AX$1,0))","v":0},{"$f":"INDEX(CHARGES,MATCH($D556&$F556,$AQ$2:$AQ$44&$AR$2:$AR$44,0),MATCH(K$1,$AS$1:$AX$1,0))","v":0},{"$f":"INDEX(CHARGES,MATCH($D556&$F556,$AQ$2:$AQ$44&$AR$2:$AR$44,0),MATCH(L$1,$AS$1:$AX$1,0))","v":0}]
["Camooweal - Fully Serviced","Aquaculture",null,"Other uses","NR_1","Gross Floor Area",0,{"$f":"INDEX(CHARGES,MATCH($D557&$F557,$AQ$2:$AQ$44&$AR$2:$AR$44,0),MATCH(H$1,$AS$1:$AX$1,0))","v":0},{"$f":"INDEX(CHARGES,MATCH($D557&$F557,$AQ$2:$AQ$44&$AR$2:$AR$44,0),MATCH(I$1,$AS$1:$AX$1,0))","v":0},{"$f":"INDEX(CHARGES,MATCH($D557&$F557,$AQ$2:$AQ$44&$AR$2:$AR$44,0),MATCH(J$1,$AS$1:$AX$1,0))","v":0},{"$f":"INDEX(CHARGES,MATCH($D557&$F557,$AQ$2:$AQ$44&$AR$2:$AR$44,0),MATCH(K$1,$AS$1:$AX$1,0))","v":0},{"$f":"INDEX(CHARGES,MATCH($D557&$F557,$AQ$2:$AQ$44&$AR$2:$AR$44,0),MATCH(L$1,$AS$1:$AX$1,0))","v":0}]
["Camooweal - Fully Serviced","Aquaculture",null,"Other uses","NR_1","Impervious Area",0,{"$f":"INDEX(CHARGES,MATCH($D558&$F558,$AQ$2:$AQ$44&$AR$2:$AR$44,0),MATCH(H$1,$AS$1:$AX$1,0))","v":0},{"$f":"INDEX(CHARGES,MATCH($D558&$F558,$AQ$2:$AQ$44&$AR$2:$AR$44,0),MATCH(I$1,$AS$1:$AX$1,0))","v":0},{"$f":"INDEX(CHARGES,MATCH($D558&$F558,$AQ$2:$AQ$44&$AR$2:$AR$44,0),MATCH(J$1,$AS$1:$AX$1,0))","v":0},{"$f":"INDEX(CHARGES,MATCH($D558&$F558,$AQ$2:$AQ$44&$AR$2:$AR$44,0),MATCH(K$1,$AS$1:$AX$1,0))","v":0},{"$f":"INDEX(CHARGES,MATCH($D558&$F558,$AQ$2:$AQ$44&$AR$2:$AR$44,0),MATCH(L$1,$AS$1:$AX$1,0))","v":0}]
["Camooweal - Fully Serviced","Bar","Hotel","Entertainment","NR_1","Gross Floor Area",105,{"$f":"INDEX(CHARGES,MATCH($D559&$F559,$AQ$2:$AQ$44&$AR$2:$AR$44,0),MATCH(H$1,$AS$1:$AX$1,0))","v":22},{"$f":"INDEX(CHARGES,MATCH($D559&$F559,$AQ$2:$AQ$44&$AR$2:$AR$44,0),MATCH(I$1,$AS$1:$AX$1,0))","v":15},{"$f":"INDEX(CHARGES,MATCH($D559&$F559,$AQ$2:$AQ$44&$AR$2:$AR$44,0),MATCH(J$1,$AS$1:$AX$1,0))","v":0},{"$f":"INDEX(CHARGES,MATCH($D559&$F559,$AQ$2:$AQ$44&$AR$2:$AR$44,0),MATCH(K$1,$AS$1:$AX$1,0))","v":68},{"$f":"INDEX(CHARGES,MATCH($D559&$F559,$AQ$2:$AQ$44&$AR$2:$AR$44,0),MATCH(L$1,$AS$1:$AX$1,0))","v":0}]
["Camooweal - Fully Serviced","Bar","Hotel","Entertainment","NR_1","Impervious Area",5,{"$f":"INDEX(CHARGES,MATCH($D560&$F560,$AQ$2:$AQ$44&$AR$2:$AR$44,0),MATCH(H$1,$AS$1:$AX$1,0))","v":0},{"$f":"INDEX(CHARGES,MATCH($D560&$F560,$AQ$2:$AQ$44&$AR$2:$AR$44,0),MATCH(I$1,$AS$1:$AX$1,0))","v":0},{"$f":"INDEX(CHARGES,MATCH($D560&$F560,$AQ$2:$AQ$44&$AR$2:$AR$44,0),MATCH(J$1,$AS$1:$AX$1,0))","v":5},{"$f":"INDEX(CHARGES,MATCH($D560&$F560,$AQ$2:$AQ$44&$AR$2:$AR$44,0),MATCH(K$1,$AS$1:$AX$1,0))","v":0},{"$f":"INDEX(CHARGES,MATCH($D560&$F560,$AQ$2:$AQ$44&$AR$2:$AR$44,0),MATCH(L$1,$AS$1:$AX$1,0))","v":0}]
["Camooweal - Fully Serviced","Brothel",null,"Entertainment","NR_1","Gross Floor Area",105,{"$f":"INDEX(CHARGES,MATCH($D561&$F561,$AQ$2:$AQ$44&$AR$2:$AR$44,0),MATCH(H$1,$AS$1:$AX$1,0))","v":22},{"$f":"INDEX(CHARGES,MATCH($D561&$F561,$AQ$2:$AQ$44&$AR$2:$AR$44,0),MATCH(I$1,$AS$1:$AX$1,0))","v":15},{"$f":"INDEX(CHARGES,MATCH($D561&$F561,$AQ$2:$AQ$44&$AR$2:$AR$44,0),MATCH(J$1,$AS$1:$AX$1,0))","v":0},{"$f":"INDEX(CHARGES,MATCH($D561&$F561,$AQ$2:$AQ$44&$AR$2:$AR$44,0),MATCH(K$1,$AS$1:$AX$1,0))","v":68},{"$f":"INDEX(CHARGES,MATCH($D561&$F561,$AQ$2:$AQ$44&$AR$2:$AR$44,0),MATCH(L$1,$AS$1:$AX$1,0))","v":0}]
["Camooweal - Fully Serviced","Brothel",null,"Entertainment","NR_1","Impervious Area",5,{"$f":"INDEX(CHARGES,MATCH($D562&$F562,$AQ$2:$AQ$44&$AR$2:$AR$44,0),MATCH(H$1,$AS$1:$AX$1,0))","v":0},{"$f":"INDEX(CHARGES,MATCH($D562&$F562,$AQ$2:$AQ$44&$AR$2:$AR$44,0),MATCH(I$1,$AS$1:$AX$1,0))","v":0},{"$f":"INDEX(CHARGES,MATCH($D562&$F562,$AQ$2:$AQ$44&$AR$2:$AR$44,0),MATCH(J$1,$AS$1:$AX$1,0))","v":5},{"$f":"INDEX(CHARGES,MATCH($D562&$F562,$AQ$2:$AQ$44&$AR$2:$AR$44,0),MATCH(K$1,$AS$1:$AX$1,0))","v":0},{"$f":"INDEX(CHARGES,MATCH($D562&$F562,$AQ$2:$AQ$44&$AR$2:$AR$44,0),MATCH(L$1,$AS$1:$AX$1,0))","v":0}]
["Camooweal - Fully Serviced","Bulk landscape supplies","Bulk landscape supplies","Commercial (bulk goods)","NR_1","Gross Floor Area",73,{"$f":"INDEX(CHARGES,MATCH($D563&$F563,$AQ$2:$AQ$44&$AR$2:$AR$44,0),MATCH(H$1,$AS$1:$AX$1,0))","v":15},{"$f":"INDEX(CHARGES,MATCH($D563&$F563,$AQ$2:$AQ$44&$AR$2:$AR$44,0),MATCH(I$1,$AS$1:$AX$1,0))","v":10},{"$f":"INDEX(CHARGES,MATCH($D563&$F563,$AQ$2:$AQ$44&$AR$2:$AR$44,0),MATCH(J$1,$AS$1:$AX$1,0))","v":0},{"$f":"INDEX(CHARGES,MATCH($D563&$F563,$AQ$2:$AQ$44&$AR$2:$AR$44,0),MATCH(K$1,$AS$1:$AX$1,0))","v":48},{"$f":"INDEX(CHARGES,MATCH($D563&$F563,$AQ$2:$AQ$44&$AR$2:$AR$44,0),MATCH(L$1,$AS$1:$AX$1,0))","v":0}]
["Camooweal - Fully Serviced","Bulk landscape supplies","Bulk landscape supplies","Commercial (bulk goods)","NR_1","Impervious Area",5,{"$f":"INDEX(CHARGES,MATCH($D564&$F564,$AQ$2:$AQ$44&$AR$2:$AR$44,0),MATCH(H$1,$AS$1:$AX$1,0))","v":0},{"$f":"INDEX(CHARGES,MATCH($D564&$F564,$AQ$2:$AQ$44&$AR$2:$AR$44,0),MATCH(I$1,$AS$1:$AX$1,0))","v":0},{"$f":"INDEX(CHARGES,MATCH($D564&$F564,$AQ$2:$AQ$44&$AR$2:$AR$44,0),MATCH(J$1,$AS$1:$AX$1,0))","v":5},{"$f":"INDEX(CHARGES,MATCH($D564&$F564,$AQ$2:$AQ$44&$AR$2:$AR$44,0),MATCH(K$1,$AS$1:$AX$1,0))","v":0},{"$f":"INDEX(CHARGES,MATCH($D564&$F564,$AQ$2:$AQ$44&$AR$2:$AR$44,0),MATCH(L$1,$AS$1:$AX$1,0))","v":0}]
["Camooweal - Fully Serviced","Caretaker's accommodation","Caretaker's accommodation","Residential uses","RU_1","2 or less bedrooms",10478,{"$f":"INDEX(CHARGES,MATCH($D565&$F565,$AQ$2:$AQ$44&$AR$2:$AR$44,0),MATCH(H$1,$AS$1:$AX$1,0))","v":2934},{"$f":"INDEX(CHARGES,MATCH($D565&$F565,$AQ$2:$AQ$44&$AR$2:$AR$44,0),MATCH(I$1,$AS$1:$AX$1,0))","v":1886},{"$f":"INDEX(CHARGES,MATCH($D565&$F565,$AQ$2:$AQ$44&$AR$2:$AR$44,0),MATCH(J$1,$AS$1:$AX$1,0))","v":209},{"$f":"INDEX(CHARGES,MATCH($D565&$F565,$AQ$2:$AQ$44&$AR$2:$AR$44,0),MATCH(K$1,$AS$1:$AX$1,0))","v":5239},{"$f":"INDEX(CHARGES,MATCH($D565&$F565,$AQ$2:$AQ$44&$AR$2:$AR$44,0),MATCH(L$1,$AS$1:$AX$1,0))","v":210}]
["Camooweal - Fully Serviced","Caretaker's accommodation","Caretaker's accommodation","Residential uses","RU_1","3 or more bedrooms",14670,{"$f":"INDEX(CHARGES,MATCH($D566&$F566,$AQ$2:$AQ$44&$AR$2:$AR$44,0),MATCH(H$1,$AS$1:$AX$1,0))","v":4108},{"$f":"INDEX(CHARGES,MATCH($D566&$F566,$AQ$2:$AQ$44&$AR$2:$AR$44,0),MATCH(I$1,$AS$1:$AX$1,0))","v":2641},{"$f":"INDEX(CHARGES,MATCH($D566&$F566,$AQ$2:$AQ$44&$AR$2:$AR$44,0),MATCH(J$1,$AS$1:$AX$1,0))","v":293},{"$f":"INDEX(CHARGES,MATCH($D566&$F566,$AQ$2:$AQ$44&$AR$2:$AR$44,0),MATCH(K$1,$AS$1:$AX$1,0))","v":7335},{"$f":"INDEX(CHARGES,MATCH($D566&$F566,$AQ$2:$AQ$44&$AR$2:$AR$44,0),MATCH(L$1,$AS$1:$AX$1,0))","v":293}]
["Camooweal - Fully Serviced","Car wash",null,"Other uses","NR_1","Gross Floor Area",0,{"$f":"INDEX(CHARGES,MATCH($D567&$F567,$AQ$2:$AQ$44&$AR$2:$AR$44,0),MATCH(H$1,$AS$1:$AX$1,0))","v":0},{"$f":"INDEX(CHARGES,MATCH($D567&$F567,$AQ$2:$AQ$44&$AR$2:$AR$44,0),MATCH(I$1,$AS$1:$AX$1,0))","v":0},{"$f":"INDEX(CHARGES,MATCH($D567&$F567,$AQ$2:$AQ$44&$AR$2:$AR$44,0),MATCH(J$1,$AS$1:$AX$1,0))","v":0},{"$f":"INDEX(CHARGES,MATCH($D567&$F567,$AQ$2:$AQ$44&$AR$2:$AR$44,0),MATCH(K$1,$AS$1:$AX$1,0))","v":0},{"$f":"INDEX(CHARGES,MATCH($D567&$F567,$AQ$2:$AQ$44&$AR$2:$AR$44,0),MATCH(L$1,$AS$1:$AX$1,0))","v":0}]
["Camooweal - Fully Serviced","Car wash",null,"Other uses","NR_1","Impervious Area",0,{"$f":"INDEX(CHARGES,MATCH($D568&$F568,$AQ$2:$AQ$44&$AR$2:$AR$44,0),MATCH(H$1,$AS$1:$AX$1,0))","v":0},{"$f":"INDEX(CHARGES,MATCH($D568&$F568,$AQ$2:$AQ$44&$AR$2:$AR$44,0),MATCH(I$1,$AS$1:$AX$1,0))","v":0},{"$f":"INDEX(CHARGES,MATCH($D568&$F568,$AQ$2:$AQ$44&$AR$2:$AR$44,0),MATCH(J$1,$AS$1:$AX$1,0))","v":0},{"$f":"INDEX(CHARGES,MATCH($D568&$F568,$AQ$2:$AQ$44&$AR$2:$AR$44,0),MATCH(K$1,$AS$1:$AX$1,0))","v":0},{"$f":"INDEX(CHARGES,MATCH($D568&$F568,$AQ$2:$AQ$44&$AR$2:$AR$44,0),MATCH(L$1,$AS$1:$AX$1,0))","v":0}]
["Camooweal - Fully Serviced","Cemetery","Cemetery","Minor uses","NR_3","Gross Floor Area",0,{"$f":"INDEX(CHARGES,MATCH($D569&$F569,$AQ$2:$AQ$44&$AR$2:$AR$44,0),MATCH(H$1,$AS$1:$AX$1,0))","v":0},{"$f":"INDEX(CHARGES,MATCH($D569&$F569,$AQ$2:$AQ$44&$AR$2:$AR$44,0),MATCH(I$1,$AS$1:$AX$1,0))","v":0},{"$f":"INDEX(CHARGES,MATCH($D569&$F569,$AQ$2:$AQ$44&$AR$2:$AR$44,0),MATCH(J$1,$AS$1:$AX$1,0))","v":0},{"$f":"INDEX(CHARGES,MATCH($D569&$F569,$AQ$2:$AQ$44&$AR$2:$AR$44,0),MATCH(K$1,$AS$1:$AX$1,0))","v":0},{"$f":"INDEX(CHARGES,MATCH($D569&$F569,$AQ$2:$AQ$44&$AR$2:$AR$44,0),MATCH(L$1,$AS$1:$AX$1,0))","v":0}]
["Camooweal - Fully Serviced","Child care centre","Childcare centre","Educational Facility","NR_1","Gross Floor Area",73,{"$f":"INDEX(CHARGES,MATCH($D570&$F570,$AQ$2:$AQ$44&$AR$2:$AR$44,0),MATCH(H$1,$AS$1:$AX$1,0))","v":15},{"$f":"INDEX(CHARGES,MATCH($D570&$F570,$AQ$2:$AQ$44&$AR$2:$AR$44,0),MATCH(I$1,$AS$1:$AX$1,0))","v":10},{"$f":"INDEX(CHARGES,MATCH($D570&$F570,$AQ$2:$AQ$44&$AR$2:$AR$44,0),MATCH(J$1,$AS$1:$AX$1,0))","v":0},{"$f":"INDEX(CHARGES,MATCH($D570&$F570,$AQ$2:$AQ$44&$AR$2:$AR$44,0),MATCH(K$1,$AS$1:$AX$1,0))","v":48},{"$f":"INDEX(CHARGES,MATCH($D570&$F570,$AQ$2:$AQ$44&$AR$2:$AR$44,0),MATCH(L$1,$AS$1:$AX$1,0))","v":0}]
["Camooweal - Fully Serviced","Child care centre","Childcare centre","Educational Facility","NR_1","Impervious Area",5,{"$f":"INDEX(CHARGES,MATCH($D571&$F571,$AQ$2:$AQ$44&$AR$2:$AR$44,0),MATCH(H$1,$AS$1:$AX$1,0))","v":0},{"$f":"INDEX(CHARGES,MATCH($D571&$F571,$AQ$2:$AQ$44&$AR$2:$AR$44,0),MATCH(I$1,$AS$1:$AX$1,0))","v":0},{"$f":"INDEX(CHARGES,MATCH($D571&$F571,$AQ$2:$AQ$44&$AR$2:$AR$44,0),MATCH(J$1,$AS$1:$AX$1,0))","v":5},{"$f":"INDEX(CHARGES,MATCH($D571&$F571,$AQ$2:$AQ$44&$AR$2:$AR$44,0),MATCH(K$1,$AS$1:$AX$1,0))","v":0},{"$f":"INDEX(CHARGES,MATCH($D571&$F571,$AQ$2:$AQ$44&$AR$2:$AR$44,0),MATCH(L$1,$AS$1:$AX$1,0))","v":0}]
["Camooweal - Fully Serviced","Community residence","Community residence","Accommodation (long-term)","RU_2","bedroom that is not part of a suite",10478,{"$f":"INDEX(CHARGES,MATCH($D572&$F572,$AQ$2:$AQ$44&$AR$2:$AR$44,0),MATCH(H$1,$AS$1:$AX$1,0))","v":2934},{"$f":"INDEX(CHARGES,MATCH($D572&$F572,$AQ$2:$AQ$44&$AR$2:$AR$44,0),MATCH(I$1,$AS$1:$AX$1,0))","v":1886},{"$f":"INDEX(CHARGES,MATCH($D572&$F572,$AQ$2:$AQ$44&$AR$2:$AR$44,0),MATCH(J$1,$AS$1:$AX$1,0))","v":209},{"$f":"INDEX(CHARGES,MATCH($D572&$F572,$AQ$2:$AQ$44&$AR$2:$AR$44,0),MATCH(K$1,$AS$1:$AX$1,0))","v":5239},{"$f":"INDEX(CHARGES,MATCH($D572&$F572,$AQ$2:$AQ$44&$AR$2:$AR$44,0),MATCH(L$1,$AS$1:$AX$1,0))","v":210}]
["Camooweal - Fully Serviced","Community residence","Community residence","Accommodation (long-term)","RU_2","2 or less bedrooms",10478,{"$f":"INDEX(CHARGES,MATCH($D573&$F573,$AQ$2:$AQ$44&$AR$2:$AR$44,0),MATCH(H$1,$AS$1:$AX$1,0))","v":2934},{"$f":"INDEX(CHARGES,MATCH($D573&$F573,$AQ$2:$AQ$44&$AR$2:$AR$44,0),MATCH(I$1,$AS$1:$AX$1,0))","v":1886},{"$f":"INDEX(CHARGES,MATCH($D573&$F573,$AQ$2:$AQ$44&$AR$2:$AR$44,0),MATCH(J$1,$AS$1:$AX$1,0))","v":209},{"$f":"INDEX(CHARGES,MATCH($D573&$F573,$AQ$2:$AQ$44&$AR$2:$AR$44,0),MATCH(K$1,$AS$1:$AX$1,0))","v":5239},{"$f":"INDEX(CHARGES,MATCH($D573&$F573,$AQ$2:$AQ$44&$AR$2:$AR$44,0),MATCH(L$1,$AS$1:$AX$1,0))","v":210}]
["Camooweal - Fully Serviced","Community residence","Community residence","Accommodation (long-term)","RU_2","3 or more bedrooms",14670,{"$f":"INDEX(CHARGES,MATCH($D574&$F574,$AQ$2:$AQ$44&$AR$2:$AR$44,0),MATCH(H$1,$AS$1:$AX$1,0))","v":4108},{"$f":"INDEX(CHARGES,MATCH($D574&$F574,$AQ$2:$AQ$44&$AR$2:$AR$44,0),MATCH(I$1,$AS$1:$AX$1,0))","v":2641},{"$f":"INDEX(CHARGES,MATCH($D574&$F574,$AQ$2:$AQ$44&$AR$2:$AR$44,0),MATCH(J$1,$AS$1:$AX$1,0))","v":293},{"$f":"INDEX(CHARGES,MATCH($D574&$F574,$AQ$2:$AQ$44&$AR$2:$AR$44,0),MATCH(K$1,$AS$1:$AX$1,0))","v":7335},{"$f":"INDEX(CHARGES,MATCH($D574&$F574,$AQ$2:$AQ$44&$AR$2:$AR$44,0),MATCH(L$1,$AS$1:$AX$1,0))","v":293}]
["Camooweal - Fully Serviced","Community use","Community use","Places of assembly","NR_1","Gross Floor Area",37,{"$f":"INDEX(CHARGES,MATCH($D575&$F575,$AQ$2:$AQ$44&$AR$2:$AR$44,0),MATCH(H$1,$AS$1:$AX$1,0))","v":8},{"$f":"INDEX(CHARGES,MATCH($D575&$F575,$AQ$2:$AQ$44&$AR$2:$AR$44,0),MATCH(I$1,$AS$1:$AX$1,0))","v":5},{"$f":"INDEX(CHARGES,MATCH($D575&$F575,$AQ$2:$AQ$44&$AR$2:$AR$44,0),MATCH(J$1,$AS$1:$AX$1,0))","v":0},{"$f":"INDEX(CHARGES,MATCH($D575&$F575,$AQ$2:$AQ$44&$AR$2:$AR$44,0),MATCH(K$1,$AS$1:$AX$1,0))","v":24},{"$f":"INDEX(CHARGES,MATCH($D575&$F575,$AQ$2:$AQ$44&$AR$2:$AR$44,0),MATCH(L$1,$AS$1:$AX$1,0))","v":0}]
["Camooweal - Fully Serviced","Community use","Community use","Places of assembly","NR_1","Impervious Area",5,{"$f":"INDEX(CHARGES,MATCH($D576&$F576,$AQ$2:$AQ$44&$AR$2:$AR$44,0),MATCH(H$1,$AS$1:$AX$1,0))","v":0},{"$f":"INDEX(CHARGES,MATCH($D576&$F576,$AQ$2:$AQ$44&$AR$2:$AR$44,0),MATCH(I$1,$AS$1:$AX$1,0))","v":0},{"$f":"INDEX(CHARGES,MATCH($D576&$F576,$AQ$2:$AQ$44&$AR$2:$AR$44,0),MATCH(J$1,$AS$1:$AX$1,0))","v":5},{"$f":"INDEX(CHARGES,MATCH($D576&$F576,$AQ$2:$AQ$44&$AR$2:$AR$44,0),MATCH(K$1,$AS$1:$AX$1,0))","v":0},{"$f":"INDEX(CHARGES,MATCH($D576&$F576,$AQ$2:$AQ$44&$AR$2:$AR$44,0),MATCH(L$1,$AS$1:$AX$1,0))","v":0}]
["Camooweal - Fully Serviced","Crematorium","Crematorium","Other uses","NR_1","Gross Floor Area",0,{"$f":"INDEX(CHARGES,MATCH($D577&$F577,$AQ$2:$AQ$44&$AR$2:$AR$44,0),MATCH(H$1,$AS$1:$AX$1,0))","v":0},{"$f":"INDEX(CHARGES,MATCH($D577&$F577,$AQ$2:$AQ$44&$AR$2:$AR$44,0),MATCH(I$1,$AS$1:$AX$1,0))","v":0},{"$f":"INDEX(CHARGES,MATCH($D577&$F577,$AQ$2:$AQ$44&$AR$2:$AR$44,0),MATCH(J$1,$AS$1:$AX$1,0))","v":0},{"$f":"INDEX(CHARGES,MATCH($D577&$F577,$AQ$2:$AQ$44&$AR$2:$AR$44,0),MATCH(K$1,$AS$1:$AX$1,0))","v":0},{"$f":"INDEX(CHARGES,MATCH($D577&$F577,$AQ$2:$AQ$44&$AR$2:$AR$44,0),MATCH(L$1,$AS$1:$AX$1,0))","v":0}]
["Camooweal - Fully Serviced","Crematorium","Crematorium","Other uses","NR_1","Impervious Area",0,{"$f":"INDEX(CHARGES,MATCH($D578&$F578,$AQ$2:$AQ$44&$AR$2:$AR$44,0),MATCH(H$1,$AS$1:$AX$1,0))","v":0},{"$f":"INDEX(CHARGES,MATCH($D578&$F578,$AQ$2:$AQ$44&$AR$2:$AR$44,0),MATCH(I$1,$AS$1:$AX$1,0))","v":0},{"$f":"INDEX(CHARGES,MATCH($D578&$F578,$AQ$2:$AQ$44&$AR$2:$AR$44,0),MATCH(J$1,$AS$1:$AX$1,0))","v":0},{"$f":"INDEX(CHARGES,MATCH($D578&$F578,$AQ$2:$AQ$44&$AR$2:$AR$44,0),MATCH(K$1,$AS$1:$AX$1,0))","v":0},{"$f":"INDEX(CHARGES,MATCH($D578&$F578,$AQ$2:$AQ$44&$AR$2:$AR$44,0),MATCH(L$1,$AS$1:$AX$1,0))","v":0}]
["Camooweal - Fully Serviced","Cropping","Cropping","Low impact rural","NR_3","Gross Floor Area",0,{"$f":"INDEX(CHARGES,MATCH($D579&$F579,$AQ$2:$AQ$44&$AR$2:$AR$44,0),MATCH(H$1,$AS$1:$AX$1,0))","v":0},{"$f":"INDEX(CHARGES,MATCH($D579&$F579,$AQ$2:$AQ$44&$AR$2:$AR$44,0),MATCH(I$1,$AS$1:$AX$1,0))","v":0},{"$f":"INDEX(CHARGES,MATCH($D579&$F579,$AQ$2:$AQ$44&$AR$2:$AR$44,0),MATCH(J$1,$AS$1:$AX$1,0))","v":0},{"$f":"INDEX(CHARGES,MATCH($D579&$F579,$AQ$2:$AQ$44&$AR$2:$AR$44,0),MATCH(K$1,$AS$1:$AX$1,0))","v":0},{"$f":"INDEX(CHARGES,MATCH($D579&$F579,$AQ$2:$AQ$44&$AR$2:$AR$44,0),MATCH(L$1,$AS$1:$AX$1,0))","v":0}]
["Camooweal - Fully Serviced","Detention facility","Correctional facility","Essential services","NR_1","Gross Floor Area",73,{"$f":"INDEX(CHARGES,MATCH($D580&$F580,$AQ$2:$AQ$44&$AR$2:$AR$44,0),MATCH(H$1,$AS$1:$AX$1,0))","v":15},{"$f":"INDEX(CHARGES,MATCH($D580&$F580,$AQ$2:$AQ$44&$AR$2:$AR$44,0),MATCH(I$1,$AS$1:$AX$1,0))","v":10},{"$f":"INDEX(CHARGES,MATCH($D580&$F580,$AQ$2:$AQ$44&$AR$2:$AR$44,0),MATCH(J$1,$AS$1:$AX$1,0))","v":0},{"$f":"INDEX(CHARGES,MATCH($D580&$F580,$AQ$2:$AQ$44&$AR$2:$AR$44,0),MATCH(K$1,$AS$1:$AX$1,0))","v":48},{"$f":"INDEX(CHARGES,MATCH($D580&$F580,$AQ$2:$AQ$44&$AR$2:$AR$44,0),MATCH(L$1,$AS$1:$AX$1,0))","v":0}]
["Camooweal - Fully Serviced","Detention facility","Correctional facility","Essential services","NR_1","Impervious Area",5,{"$f":"INDEX(CHARGES,MATCH($D581&$F581,$AQ$2:$AQ$44&$AR$2:$AR$44,0),MATCH(H$1,$AS$1:$AX$1,0))","v":0},{"$f":"INDEX(CHARGES,MATCH($D581&$F581,$AQ$2:$AQ$44&$AR$2:$AR$44,0),MATCH(I$1,$AS$1:$AX$1,0))","v":0},{"$f":"INDEX(CHARGES,MATCH($D581&$F581,$AQ$2:$AQ$44&$AR$2:$AR$44,0),MATCH(J$1,$AS$1:$AX$1,0))","v":5},{"$f":"INDEX(CHARGES,MATCH($D581&$F581,$AQ$2:$AQ$44&$AR$2:$AR$44,0),MATCH(K$1,$AS$1:$AX$1,0))","v":0},{"$f":"INDEX(CHARGES,MATCH($D581&$F581,$AQ$2:$AQ$44&$AR$2:$AR$44,0),MATCH(L$1,$AS$1:$AX$1,0))","v":0}]
["Camooweal - Fully Serviced","Dual occupancy","Dual occupancy","Residential uses","RU_1","2 or less bedrooms",10478,{"$f":"INDEX(CHARGES,MATCH($D582&$F582,$AQ$2:$AQ$44&$AR$2:$AR$44,0),MATCH(H$1,$AS$1:$AX$1,0))","v":2934},{"$f":"INDEX(CHARGES,MATCH($D582&$F582,$AQ$2:$AQ$44&$AR$2:$AR$44,0),MATCH(I$1,$AS$1:$AX$1,0))","v":1886},{"$f":"INDEX(CHARGES,MATCH($D582&$F582,$AQ$2:$AQ$44&$AR$2:$AR$44,0),MATCH(J$1,$AS$1:$AX$1,0))","v":209},{"$f":"INDEX(CHARGES,MATCH($D582&$F582,$AQ$2:$AQ$44&$AR$2:$AR$44,0),MATCH(K$1,$AS$1:$AX$1,0))","v":5239},{"$f":"INDEX(CHARGES,MATCH($D582&$F582,$AQ$2:$AQ$44&$AR$2:$AR$44,0),MATCH(L$1,$AS$1:$AX$1,0))","v":210}]
["Camooweal - Fully Serviced","Dual occupancy","Dual occupancy","Residential uses","RU_1","3 or more bedrooms",14670,{"$f":"INDEX(CHARGES,MATCH($D583&$F583,$AQ$2:$AQ$44&$AR$2:$AR$44,0),MATCH(H$1,$AS$1:$AX$1,0))","v":4108},{"$f":"INDEX(CHARGES,MATCH($D583&$F583,$AQ$2:$AQ$44&$AR$2:$AR$44,0),MATCH(I$1,$AS$1:$AX$1,0))","v":2641},{"$f":"INDEX(CHARGES,MATCH($D583&$F583,$AQ$2:$AQ$44&$AR$2:$AR$44,0),MATCH(J$1,$AS$1:$AX$1,0))","v":293},{"$f":"INDEX(CHARGES,MATCH($D583&$F583,$AQ$2:$AQ$44&$AR$2:$AR$44,0),MATCH(K$1,$AS$1:$AX$1,0))","v":7335},{"$f":"INDEX(CHARGES,MATCH($D583&$F583,$AQ$2:$AQ$44&$AR$2:$AR$44,0),MATCH(L$1,$AS$1:$AX$1,0))","v":293}]
["Camooweal - Fully Serviced","Dwelling house","Dwelling house","Residential uses","RU_1","2 or less bedrooms",10478,{"$f":"INDEX(CHARGES,MATCH($D584&$F584,$AQ$2:$AQ$44&$AR$2:$AR$44,0),MATCH(H$1,$AS$1:$AX$1,0))","v":2934},{"$f":"INDEX(CHARGES,MATCH($D584&$F584,$AQ$2:$AQ$44&$AR$2:$AR$44,0),MATCH(I$1,$AS$1:$AX$1,0))","v":1886},{"$f":"INDEX(CHARGES,MATCH($D584&$F584,$AQ$2:$AQ$44&$AR$2:$AR$44,0),MATCH(J$1,$AS$1:$AX$1,0))","v":209},{"$f":"INDEX(CHARGES,MATCH($D584&$F584,$AQ$2:$AQ$44&$AR$2:$AR$44,0),MATCH(K$1,$AS$1:$AX$1,0))","v":5239},{"$f":"INDEX(CHARGES,MATCH($D584&$F584,$AQ$2:$AQ$44&$AR$2:$AR$44,0),MATCH(L$1,$AS$1:$AX$1,0))","v":210}]
["Camooweal - Fully Serviced","Dwelling house","Dwelling house","Residential uses","RU_1","3 or more bedrooms",14670,{"$f":"INDEX(CHARGES,MATCH($D585&$F585,$AQ$2:$AQ$44&$AR$2:$AR$44,0),MATCH(H$1,$AS$1:$AX$1,0))","v":4108},{"$f":"INDEX(CHARGES,MATCH($D585&$F585,$AQ$2:$AQ$44&$AR$2:$AR$44,0),MATCH(I$1,$AS$1:$AX$1,0))","v":2641},{"$f":"INDEX(CHARGES,MATCH($D585&$F585,$AQ$2:$AQ$44&$AR$2:$AR$44,0),MATCH(J$1,$AS$1:$AX$1,0))","v":293},{"$f":"INDEX(CHARGES,MATCH($D585&$F585,$AQ$2:$AQ$44&$AR$2:$AR$44,0),MATCH(K$1,$AS$1:$AX$1,0))","v":7335},{"$f":"INDEX(CHARGES,MATCH($D585&$F585,$AQ$2:$AQ$44&$AR$2:$AR$44,0),MATCH(L$1,$AS$1:$AX$1,0))","v":293}]
["Camooweal - Fully Serviced","Dwelling unit","Multiple dwelling","Residential uses","RU_1","2 or less bedrooms",10478,{"$f":"INDEX(CHARGES,MATCH($D586&$F586,$AQ$2:$AQ$44&$AR$2:$AR$44,0),MATCH(H$1,$AS$1:$AX$1,0))","v":2934},{"$f":"INDEX(CHARGES,MATCH($D586&$F586,$AQ$2:$AQ$44&$AR$2:$AR$44,0),MATCH(I$1,$AS$1:$AX$1,0))","v":1886},{"$f":"INDEX(CHARGES,MATCH($D586&$F586,$AQ$2:$AQ$44&$AR$2:$AR$44,0),MATCH(J$1,$AS$1:$AX$1,0))","v":209},{"$f":"INDEX(CHARGES,MATCH($D586&$F586,$AQ$2:$AQ$44&$AR$2:$AR$44,0),MATCH(K$1,$AS$1:$AX$1,0))","v":5239},{"$f":"INDEX(CHARGES,MATCH($D586&$F586,$AQ$2:$AQ$44&$AR$2:$AR$44,0),MATCH(L$1,$AS$1:$AX$1,0))","v":210}]
["Camooweal - Fully Serviced","Dwelling unit","Multiple dwelling","Residential uses","RU_1","3 or more bedrooms",14670,{"$f":"INDEX(CHARGES,MATCH($D587&$F587,$AQ$2:$AQ$44&$AR$2:$AR$44,0),MATCH(H$1,$AS$1:$AX$1,0))","v":4108},{"$f":"INDEX(CHARGES,MATCH($D587&$F587,$AQ$2:$AQ$44&$AR$2:$AR$44,0),MATCH(I$1,$AS$1:$AX$1,0))","v":2641},{"$f":"INDEX(CHARGES,MATCH($D587&$F587,$AQ$2:$AQ$44&$AR$2:$AR$44,0),MATCH(J$1,$AS$1:$AX$1,0))","v":293},{"$f":"INDEX(CHARGES,MATCH($D587&$F587,$AQ$2:$AQ$44&$AR$2:$AR$44,0),MATCH(K$1,$AS$1:$AX$1,0))","v":7335},{"$f":"INDEX(CHARGES,MATCH($D587&$F587,$AQ$2:$AQ$44&$AR$2:$AR$44,0),MATCH(L$1,$AS$1:$AX$1,0))","v":293}]
["Camooweal - Fully Serviced","Educational establishment other than an educational establishment for the Flying Start for Queensland Children program","Educational establishment other than an educational establishment for the Flying Start for Queensland Children program","Educational Facility","NR_1","Gross Floor Area",73,{"$f":"INDEX(CHARGES,MATCH($D588&$F588,$AQ$2:$AQ$44&$AR$2:$AR$44,0),MATCH(H$1,$AS$1:$AX$1,0))","v":15},{"$f":"INDEX(CHARGES,MATCH($D588&$F588,$AQ$2:$AQ$44&$AR$2:$AR$44,0),MATCH(I$1,$AS$1:$AX$1,0))","v":10},{"$f":"INDEX(CHARGES,MATCH($D588&$F588,$AQ$2:$AQ$44&$AR$2:$AR$44,0),MATCH(J$1,$AS$1:$AX$1,0))","v":0},{"$f":"INDEX(CHARGES,MATCH($D588&$F588,$AQ$2:$AQ$44&$AR$2:$AR$44,0),MATCH(K$1,$AS$1:$AX$1,0))","v":48},{"$f":"INDEX(CHARGES,MATCH($D588&$F588,$AQ$2:$AQ$44&$AR$2:$AR$44,0),MATCH(L$1,$AS$1:$AX$1,0))","v":0}]
["Camooweal - Fully Serviced","Educational establishment other than an educational establishment for the Flying Start for Queensland Children program","Educational establishment other than an educational establishment for the Flying Start for Queensland Children program","Educational Facility","NR_1","Impervious Area",5,{"$f":"INDEX(CHARGES,MATCH($D589&$F589,$AQ$2:$AQ$44&$AR$2:$AR$44,0),MATCH(H$1,$AS$1:$AX$1,0))","v":0},{"$f":"INDEX(CHARGES,MATCH($D589&$F589,$AQ$2:$AQ$44&$AR$2:$AR$44,0),MATCH(I$1,$AS$1:$AX$1,0))","v":0},{"$f":"INDEX(CHARGES,MATCH($D589&$F589,$AQ$2:$AQ$44&$AR$2:$AR$44,0),MATCH(J$1,$AS$1:$AX$1,0))","v":5},{"$f":"INDEX(CHARGES,MATCH($D589&$F589,$AQ$2:$AQ$44&$AR$2:$AR$44,0),MATCH(K$1,$AS$1:$AX$1,0))","v":0},{"$f":"INDEX(CHARGES,MATCH($D589&$F589,$AQ$2:$AQ$44&$AR$2:$AR$44,0),MATCH(L$1,$AS$1:$AX$1,0))","v":0}]
["Camooweal - Fully Serviced","Educational establishment that is an educational establishment for the Flying Start for Queensland Children program","Educational establishment that is an educational establishment for the Flying Start for Queensland Children program","Educational Facility","NR_1","Gross Floor Area",73,{"$f":"INDEX(CHARGES,MATCH($D590&$F590,$AQ$2:$AQ$44&$AR$2:$AR$44,0),MATCH(H$1,$AS$1:$AX$1,0))","v":15},{"$f":"INDEX(CHARGES,MATCH($D590&$F590,$AQ$2:$AQ$44&$AR$2:$AR$44,0),MATCH(I$1,$AS$1:$AX$1,0))","v":10},{"$f":"INDEX(CHARGES,MATCH($D590&$F590,$AQ$2:$AQ$44&$AR$2:$AR$44,0),MATCH(J$1,$AS$1:$AX$1,0))","v":0},{"$f":"INDEX(CHARGES,MATCH($D590&$F590,$AQ$2:$AQ$44&$AR$2:$AR$44,0),MATCH(K$1,$AS$1:$AX$1,0))","v":48},{"$f":"INDEX(CHARGES,MATCH($D590&$F590,$AQ$2:$AQ$44&$AR$2:$AR$44,0),MATCH(L$1,$AS$1:$AX$1,0))","v":0}]
["Camooweal - Fully Serviced","Educational establishment that is an educational establishment for the Flying Start for Queensland Children program","Educational establishment that is an educational establishment for the Flying Start for Queensland Children program","Educational Facility","NR_1","Impervious Area",5,{"$f":"INDEX(CHARGES,MATCH($D591&$F591,$AQ$2:$AQ$44&$AR$2:$AR$44,0),MATCH(H$1,$AS$1:$AX$1,0))","v":0},{"$f":"INDEX(CHARGES,MATCH($D591&$F591,$AQ$2:$AQ$44&$AR$2:$AR$44,0),MATCH(I$1,$AS$1:$AX$1,0))","v":0},{"$f":"INDEX(CHARGES,MATCH($D591&$F591,$AQ$2:$AQ$44&$AR$2:$AR$44,0),MATCH(J$1,$AS$1:$AX$1,0))","v":5},{"$f":"INDEX(CHARGES,MATCH($D591&$F591,$AQ$2:$AQ$44&$AR$2:$AR$44,0),MATCH(K$1,$AS$1:$AX$1,0))","v":0},{"$f":"INDEX(CHARGES,MATCH($D591&$F591,$AQ$2:$AQ$44&$AR$2:$AR$44,0),MATCH(L$1,$AS$1:$AX$1,0))","v":0}]
["Camooweal - Fully Serviced","Emergency services","Emergency services","Essential services","NR_1","Gross Floor Area",73,{"$f":"INDEX(CHARGES,MATCH($D592&$F592,$AQ$2:$AQ$44&$AR$2:$AR$44,0),MATCH(H$1,$AS$1:$AX$1,0))","v":15},{"$f":"INDEX(CHARGES,MATCH($D592&$F592,$AQ$2:$AQ$44&$AR$2:$AR$44,0),MATCH(I$1,$AS$1:$AX$1,0))","v":10},{"$f":"INDEX(CHARGES,MATCH($D592&$F592,$AQ$2:$AQ$44&$AR$2:$AR$44,0),MATCH(J$1,$AS$1:$AX$1,0))","v":0},{"$f":"INDEX(CHARGES,MATCH($D592&$F592,$AQ$2:$AQ$44&$AR$2:$AR$44,0),MATCH(K$1,$AS$1:$AX$1,0))","v":48},{"$f":"INDEX(CHARGES,MATCH($D592&$F592,$AQ$2:$AQ$44&$AR$2:$AR$44,0),MATCH(L$1,$AS$1:$AX$1,0))","v":0}]
["Camooweal - Fully Serviced","Emergency services","Emergency services","Essential services","NR_1","Impervious Area",5,{"$f":"INDEX(CHARGES,MATCH($D593&$F593,$AQ$2:$AQ$44&$AR$2:$AR$44,0),MATCH(H$1,$AS$1:$AX$1,0))","v":0},{"$f":"INDEX(CHARGES,MATCH($D593&$F593,$AQ$2:$AQ$44&$AR$2:$AR$44,0),MATCH(I$1,$AS$1:$AX$1,0))","v":0},{"$f":"INDEX(CHARGES,MATCH($D593&$F593,$AQ$2:$AQ$44&$AR$2:$AR$44,0),MATCH(J$1,$AS$1:$AX$1,0))","v":5},{"$f":"INDEX(CHARGES,MATCH($D593&$F593,$AQ$2:$AQ$44&$AR$2:$AR$44,0),MATCH(K$1,$AS$1:$AX$1,0))","v":0},{"$f":"INDEX(CHARGES,MATCH($D593&$F593,$AQ$2:$AQ$44&$AR$2:$AR$44,0),MATCH(L$1,$AS$1:$AX$1,0))","v":0}]
["Camooweal - Fully Serviced","Environment facility",null,"Other uses","NR_1","Gross Floor Area",{"$f":"SUM(H594:L594)","v":0},{"$f":"INDEX(CHARGES,MATCH($D594&$F594,$AQ$2:$AQ$44&$AR$2:$AR$44,0),MATCH(H$1,$AS$1:$AX$1,0))","v":0},{"$f":"INDEX(CHARGES,MATCH($D594&$F594,$AQ$2:$AQ$44&$AR$2:$AR$44,0),MATCH(I$1,$AS$1:$AX$1,0))","v":0},{"$f":"INDEX(CHARGES,MATCH($D594&$F594,$AQ$2:$AQ$44&$AR$2:$AR$44,0),MATCH(J$1,$AS$1:$AX$1,0))","v":0},{"$f":"INDEX(CHARGES,MATCH($D594&$F594,$AQ$2:$AQ$44&$AR$2:$AR$44,0),MATCH(K$1,$AS$1:$AX$1,0))","v":0},{"$f":"INDEX(CHARGES,MATCH($D594&$F594,$AQ$2:$AQ$44&$AR$2:$AR$44,0),MATCH(L$1,$AS$1:$AX$1,0))","v":0}]
["Camooweal - Fully Serviced","Environment facility",null,"Other uses","NR_1","Impervious Area",0,{"$f":"INDEX(CHARGES,MATCH($D595&$F595,$AQ$2:$AQ$44&$AR$2:$AR$44,0),MATCH(H$1,$AS$1:$AX$1,0))","v":0},{"$f":"INDEX(CHARGES,MATCH($D595&$F595,$AQ$2:$AQ$44&$AR$2:$AR$44,0),MATCH(I$1,$AS$1:$AX$1,0))","v":0},{"$f":"INDEX(CHARGES,MATCH($D595&$F595,$AQ$2:$AQ$44&$AR$2:$AR$44,0),MATCH(J$1,$AS$1:$AX$1,0))","v":0},{"$f":"INDEX(CHARGES,MATCH($D595&$F595,$AQ$2:$AQ$44&$AR$2:$AR$44,0),MATCH(K$1,$AS$1:$AX$1,0))","v":0},{"$f":"INDEX(CHARGES,MATCH($D595&$F595,$AQ$2:$AQ$44&$AR$2:$AR$44,0),MATCH(L$1,$AS$1:$AX$1,0))","v":0}]
["Camooweal - Fully Serviced","Extractive industry","Extractive industry","Other uses","NR_1","Gross Floor Area",0,{"$f":"INDEX(CHARGES,MATCH($D596&$F596,$AQ$2:$AQ$44&$AR$2:$AR$44,0),MATCH(H$1,$AS$1:$AX$1,0))","v":0},{"$f":"INDEX(CHARGES,MATCH($D596&$F596,$AQ$2:$AQ$44&$AR$2:$AR$44,0),MATCH(I$1,$AS$1:$AX$1,0))","v":0},{"$f":"INDEX(CHARGES,MATCH($D596&$F596,$AQ$2:$AQ$44&$AR$2:$AR$44,0),MATCH(J$1,$AS$1:$AX$1,0))","v":0},{"$f":"INDEX(CHARGES,MATCH($D596&$F596,$AQ$2:$AQ$44&$AR$2:$AR$44,0),MATCH(K$1,$AS$1:$AX$1,0))","v":0},{"$f":"INDEX(CHARGES,MATCH($D596&$F596,$AQ$2:$AQ$44&$AR$2:$AR$44,0),MATCH(L$1,$AS$1:$AX$1,0))","v":0}]
["Camooweal - Fully Serviced","Extractive industry","Extractive industry","Other uses","NR_1","Impervious Area",0,{"$f":"INDEX(CHARGES,MATCH($D597&$F597,$AQ$2:$AQ$44&$AR$2:$AR$44,0),MATCH(H$1,$AS$1:$AX$1,0))","v":0},{"$f":"INDEX(CHARGES,MATCH($D597&$F597,$AQ$2:$AQ$44&$AR$2:$AR$44,0),MATCH(I$1,$AS$1:$AX$1,0))","v":0},{"$f":"INDEX(CHARGES,MATCH($D597&$F597,$AQ$2:$AQ$44&$AR$2:$AR$44,0),MATCH(J$1,$AS$1:$AX$1,0))","v":0},{"$f":"INDEX(CHARGES,MATCH($D597&$F597,$AQ$2:$AQ$44&$AR$2:$AR$44,0),MATCH(K$1,$AS$1:$AX$1,0))","v":0},{"$f":"INDEX(CHARGES,MATCH($D597&$F597,$AQ$2:$AQ$44&$AR$2:$AR$44,0),MATCH(L$1,$AS$1:$AX$1,0))","v":0}]
["Camooweal - Fully Serviced","Food and drink outlet","Food and drink outlet","Commercial (retail)","NR_1","Gross Floor Area",94,{"$f":"INDEX(CHARGES,MATCH($D598&$F598,$AQ$2:$AQ$44&$AR$2:$AR$44,0),MATCH(H$1,$AS$1:$AX$1,0))","v":20},{"$f":"INDEX(CHARGES,MATCH($D598&$F598,$AQ$2:$AQ$44&$AR$2:$AR$44,0),MATCH(I$1,$AS$1:$AX$1,0))","v":13},{"$f":"INDEX(CHARGES,MATCH($D598&$F598,$AQ$2:$AQ$44&$AR$2:$AR$44,0),MATCH(J$1,$AS$1:$AX$1,0))","v":0},{"$f":"INDEX(CHARGES,MATCH($D598&$F598,$AQ$2:$AQ$44&$AR$2:$AR$44,0),MATCH(K$1,$AS$1:$AX$1,0))","v":61},{"$f":"INDEX(CHARGES,MATCH($D598&$F598,$AQ$2:$AQ$44&$AR$2:$AR$44,0),MATCH(L$1,$AS$1:$AX$1,0))","v":0}]
["Camooweal - Fully Serviced","Food and drink outlet","Food and drink outlet","Commercial (retail)","NR_1","Impervious Area",5,{"$f":"INDEX(CHARGES,MATCH($D599&$F599,$AQ$2:$AQ$44&$AR$2:$AR$44,0),MATCH(H$1,$AS$1:$AX$1,0))","v":0},{"$f":"INDEX(CHARGES,MATCH($D599&$F599,$AQ$2:$AQ$44&$AR$2:$AR$44,0),MATCH(I$1,$AS$1:$AX$1,0))","v":0},{"$f":"INDEX(CHARGES,MATCH($D599&$F599,$AQ$2:$AQ$44&$AR$2:$AR$44,0),MATCH(J$1,$AS$1:$AX$1,0))","v":5},{"$f":"INDEX(CHARGES,MATCH($D599&$F599,$AQ$2:$AQ$44&$AR$2:$AR$44,0),MATCH(K$1,$AS$1:$AX$1,0))","v":0},{"$f":"INDEX(CHARGES,MATCH($D599&$F599,$AQ$2:$AQ$44&$AR$2:$AR$44,0),MATCH(L$1,$AS$1:$AX$1,0))","v":0}]
["Camooweal - Fully Serviced","Office","Office","Commercial (office)","NR_1","Gross Floor Area",73,{"$f":"INDEX(CHARGES,MATCH($D600&$F600,$AQ$2:$AQ$44&$AR$2:$AR$44,0),MATCH(H$1,$AS$1:$AX$1,0))","v":15},{"$f":"INDEX(CHARGES,MATCH($D600&$F600,$AQ$2:$AQ$44&$AR$2:$AR$44,0),MATCH(I$1,$AS$1:$AX$1,0))","v":10},{"$f":"INDEX(CHARGES,MATCH($D600&$F600,$AQ$2:$AQ$44&$AR$2:$AR$44,0),MATCH(J$1,$AS$1:$AX$1,0))","v":0},{"$f":"INDEX(CHARGES,MATCH($D600&$F600,$AQ$2:$AQ$44&$AR$2:$AR$44,0),MATCH(K$1,$AS$1:$AX$1,0))","v":48},{"$f":"INDEX(CHARGES,MATCH($D600&$F600,$AQ$2:$AQ$44&$AR$2:$AR$44,0),MATCH(L$1,$AS$1:$AX$1,0))","v":0}]
["Camooweal - Fully Serviced","Office","Office","Commercial (office)","NR_1","Impervious Area",5,{"$f":"INDEX(CHARGES,MATCH($D601&$F601,$AQ$2:$AQ$44&$AR$2:$AR$44,0),MATCH(H$1,$AS$1:$AX$1,0))","v":0},{"$f":"INDEX(CHARGES,MATCH($D601&$F601,$AQ$2:$AQ$44&$AR$2:$AR$44,0),MATCH(I$1,$AS$1:$AX$1,0))","v":0},{"$f":"INDEX(CHARGES,MATCH($D601&$F601,$AQ$2:$AQ$44&$AR$2:$AR$44,0),MATCH(J$1,$AS$1:$AX$1,0))","v":5},{"$f":"INDEX(CHARGES,MATCH($D601&$F601,$AQ$2:$AQ$44&$AR$2:$AR$44,0),MATCH(K$1,$AS$1:$AX$1,0))","v":0},{"$f":"INDEX(CHARGES,MATCH($D601&$F601,$AQ$2:$AQ$44&$AR$2:$AR$44,0),MATCH(L$1,$AS$1:$AX$1,0))","v":0}]
["Camooweal - Fully Serviced","Outdoor sales","Outdoor sales","Commercial (retail)","NR_1","Gross Floor Area",94,{"$f":"INDEX(CHARGES,MATCH($D602&$F602,$AQ$2:$AQ$44&$AR$2:$AR$44,0),MATCH(H$1,$AS$1:$AX$1,0))","v":20},{"$f":"INDEX(CHARGES,MATCH($D602&$F602,$AQ$2:$AQ$44&$AR$2:$AR$44,0),MATCH(I$1,$AS$1:$AX$1,0))","v":13},{"$f":"INDEX(CHARGES,MATCH($D602&$F602,$AQ$2:$AQ$44&$AR$2:$AR$44,0),MATCH(J$1,$AS$1:$AX$1,0))","v":0},{"$f":"INDEX(CHARGES,MATCH($D602&$F602,$AQ$2:$AQ$44&$AR$2:$AR$44,0),MATCH(K$1,$AS$1:$AX$1,0))","v":61},{"$f":"INDEX(CHARGES,MATCH($D602&$F602,$AQ$2:$AQ$44&$AR$2:$AR$44,0),MATCH(L$1,$AS$1:$AX$1,0))","v":0}]
["Camooweal - Fully Serviced","Outdoor sales","Outdoor sales","Commercial (retail)","NR_1","Impervious Area",5,{"$f":"INDEX(CHARGES,MATCH($D603&$F603,$AQ$2:$AQ$44&$AR$2:$AR$44,0),MATCH(H$1,$AS$1:$AX$1,0))","v":0},{"$f":"INDEX(CHARGES,MATCH($D603&$F603,$AQ$2:$AQ$44&$AR$2:$AR$44,0),MATCH(I$1,$AS$1:$AX$1,0))","v":0},{"$f":"INDEX(CHARGES,MATCH($D603&$F603,$AQ$2:$AQ$44&$AR$2:$AR$44,0),MATCH(J$1,$AS$1:$AX$1,0))","v":5},{"$f":"INDEX(CHARGES,MATCH($D603&$F603,$AQ$2:$AQ$44&$AR$2:$AR$44,0),MATCH(K$1,$AS$1:$AX$1,0))","v":0},{"$f":"INDEX(CHARGES,MATCH($D603&$F603,$AQ$2:$AQ$44&$AR$2:$AR$44,0),MATCH(L$1,$AS$1:$AX$1,0))","v":0}]
["Camooweal - Fully Serviced","Outdoor sport and recreation","Outdoor sport and recreation","Other uses","NR_2","Gross Floor Area - not court area",0,{"$f":"INDEX(CHARGES,MATCH($D604&$F604,$AQ$2:$AQ$44&$AR$2:$AR$44,0),MATCH(H$1,$AS$1:$AX$1,0))","v":0},{"$f":"INDEX(CHARGES,MATCH($D604&$F604,$AQ$2:$AQ$44&$AR$2:$AR$44,0),MATCH(I$1,$AS$1:$AX$1,0))","v":0},{"$f":"INDEX(CHARGES,MATCH($D604&$F604,$AQ$2:$AQ$44&$AR$2:$AR$44,0),MATCH(J$1,$AS$1:$AX$1,0))","v":0},{"$f":"INDEX(CHARGES,MATCH($D604&$F604,$AQ$2:$AQ$44&$AR$2:$AR$44,0),MATCH(K$1,$AS$1:$AX$1,0))","v":0},{"$f":"INDEX(CHARGES,MATCH($D604&$F604,$AQ$2:$AQ$44&$AR$2:$AR$44,0),MATCH(L$1,$AS$1:$AX$1,0))","v":0}]
["Camooweal - Fully Serviced","Outdoor sport and recreation","Outdoor sport and recreation","Other uses","NR_2","Gross Floor Area - court area",0,{"$f":"INDEX(CHARGES,MATCH($D605&$F605,$AQ$2:$AQ$44&$AR$2:$AR$44,0),MATCH(H$1,$AS$1:$AX$1,0))","v":0},{"$f":"INDEX(CHARGES,MATCH($D605&$F605,$AQ$2:$AQ$44&$AR$2:$AR$44,0),MATCH(I$1,$AS$1:$AX$1,0))","v":0},{"$f":"INDEX(CHARGES,MATCH($D605&$F605,$AQ$2:$AQ$44&$AR$2:$AR$44,0),MATCH(J$1,$AS$1:$AX$1,0))","v":0},{"$f":"INDEX(CHARGES,MATCH($D605&$F605,$AQ$2:$AQ$44&$AR$2:$AR$44,0),MATCH(K$1,$AS$1:$AX$1,0))","v":0},{"$f":"INDEX(CHARGES,MATCH($D605&$F605,$AQ$2:$AQ$44&$AR$2:$AR$44,0),MATCH(L$1,$AS$1:$AX$1,0))","v":0}]
["Camooweal - Fully Serviced","Outdoor sport and recreation","Outdoor sport and recreation","Other uses","NR_2","Impervious Area",0,{"$f":"INDEX(CHARGES,MATCH($D606&$F606,$AQ$2:$AQ$44&$AR$2:$AR$44,0),MATCH(H$1,$AS$1:$AX$1,0))","v":0},{"$f":"INDEX(CHARGES,MATCH($D606&$F606,$AQ$2:$AQ$44&$AR$2:$AR$44,0),MATCH(I$1,$AS$1:$AX$1,0))","v":0},{"$f":"INDEX(CHARGES,MATCH($D606&$F606,$AQ$2:$AQ$44&$AR$2:$AR$44,0),MATCH(J$1,$AS$1:$AX$1,0))","v":0},{"$f":"INDEX(CHARGES,MATCH($D606&$F606,$AQ$2:$AQ$44&$AR$2:$AR$44,0),MATCH(K$1,$AS$1:$AX$1,0))","v":0},{"$f":"INDEX(CHARGES,MATCH($D606&$F606,$AQ$2:$AQ$44&$AR$2:$AR$44,0),MATCH(L$1,$AS$1:$AX$1,0))","v":0}]
["Camooweal - Fully Serviced","Outstation",null,"Other uses","NR_1","Gross Floor Area",0,{"$f":"INDEX(CHARGES,MATCH($D607&$F607,$AQ$2:$AQ$44&$AR$2:$AR$44,0),MATCH(H$1,$AS$1:$AX$1,0))","v":0},{"$f":"INDEX(CHARGES,MATCH($D607&$F607,$AQ$2:$AQ$44&$AR$2:$AR$44,0),MATCH(I$1,$AS$1:$AX$1,0))","v":0},{"$f":"INDEX(CHARGES,MATCH($D607&$F607,$AQ$2:$AQ$44&$AR$2:$AR$44,0),MATCH(J$1,$AS$1:$AX$1,0))","v":0},{"$f":"INDEX(CHARGES,MATCH($D607&$F607,$AQ$2:$AQ$44&$AR$2:$AR$44,0),MATCH(K$1,$AS$1:$AX$1,0))","v":0},{"$f":"INDEX(CHARGES,MATCH($D607&$F607,$AQ$2:$AQ$44&$AR$2:$AR$44,0),MATCH(L$1,$AS$1:$AX$1,0))","v":0}]
["Camooweal - Fully Serviced","Outstation",null,"Other uses","NR_1","Impervious Area",0,{"$f":"INDEX(CHARGES,MATCH($D608&$F608,$AQ$2:$AQ$44&$AR$2:$AR$44,0),MATCH(H$1,$AS$1:$AX$1,0))","v":0},{"$f":"INDEX(CHARGES,MATCH($D608&$F608,$AQ$2:$AQ$44&$AR$2:$AR$44,0),MATCH(I$1,$AS$1:$AX$1,0))","v":0},{"$f":"INDEX(CHARGES,MATCH($D608&$F608,$AQ$2:$AQ$44&$AR$2:$AR$44,0),MATCH(J$1,$AS$1:$AX$1,0))","v":0},{"$f":"INDEX(CHARGES,MATCH($D608&$F608,$AQ$2:$AQ$44&$AR$2:$AR$44,0),MATCH(K$1,$AS$1:$AX$1,0))","v":0},{"$f":"INDEX(CHARGES,MATCH($D608&$F608,$AQ$2:$AQ$44&$AR$2:$AR$44,0),MATCH(L$1,$AS$1:$AX$1,0))","v":0}]
["Camooweal - Fully Serviced","Park","Park","Minor uses","NR_3","Gross Floor Area",0,{"$f":"INDEX(CHARGES,MATCH($D609&$F609,$AQ$2:$AQ$44&$AR$2:$AR$44,0),MATCH(H$1,$AS$1:$AX$1,0))","v":0},{"$f":"INDEX(CHARGES,MATCH($D609&$F609,$AQ$2:$AQ$44&$AR$2:$AR$44,0),MATCH(I$1,$AS$1:$AX$1,0))","v":0},{"$f":"INDEX(CHARGES,MATCH($D609&$F609,$AQ$2:$AQ$44&$AR$2:$AR$44,0),MATCH(J$1,$AS$1:$AX$1,0))","v":0},{"$f":"INDEX(CHARGES,MATCH($D609&$F609,$AQ$2:$AQ$44&$AR$2:$AR$44,0),MATCH(K$1,$AS$1:$AX$1,0))","v":0},{"$f":"INDEX(CHARGES,MATCH($D609&$F609,$AQ$2:$AQ$44&$AR$2:$AR$44,0),MATCH(L$1,$AS$1:$AX$1,0))","v":0}]
["Camooweal - Fully Serviced","Parking station",null,"Other uses","NR_1","Gross Floor Area",0,{"$f":"INDEX(CHARGES,MATCH($D610&$F610,$AQ$2:$AQ$44&$AR$2:$AR$44,0),MATCH(H$1,$AS$1:$AX$1,0))","v":0},{"$f":"INDEX(CHARGES,MATCH($D610&$F610,$AQ$2:$AQ$44&$AR$2:$AR$44,0),MATCH(I$1,$AS$1:$AX$1,0))","v":0},{"$f":"INDEX(CHARGES,MATCH($D610&$F610,$AQ$2:$AQ$44&$AR$2:$AR$44,0),MATCH(J$1,$AS$1:$AX$1,0))","v":0},{"$f":"INDEX(CHARGES,MATCH($D610&$F610,$AQ$2:$AQ$44&$AR$2:$AR$44,0),MATCH(K$1,$AS$1:$AX$1,0))","v":0},{"$f":"INDEX(CHARGES,MATCH($D610&$F610,$AQ$2:$AQ$44&$AR$2:$AR$44,0),MATCH(L$1,$AS$1:$AX$1,0))","v":0}]
["Camooweal - Fully Serviced","Parking station",null,"Other uses","NR_1","Impervious Area",0,{"$f":"INDEX(CHARGES,MATCH($D611&$F611,$AQ$2:$AQ$44&$AR$2:$AR$44,0),MATCH(H$1,$AS$1:$AX$1,0))","v":0},{"$f":"INDEX(CHARGES,MATCH($D611&$F611,$AQ$2:$AQ$44&$AR$2:$AR$44,0),MATCH(I$1,$AS$1:$AX$1,0))","v":0},{"$f":"INDEX(CHARGES,MATCH($D611&$F611,$AQ$2:$AQ$44&$AR$2:$AR$44,0),MATCH(J$1,$AS$1:$AX$1,0))","v":0},{"$f":"INDEX(CHARGES,MATCH($D611&$F611,$AQ$2:$AQ$44&$AR$2:$AR$44,0),MATCH(K$1,$AS$1:$AX$1,0))","v":0},{"$f":"INDEX(CHARGES,MATCH($D611&$F611,$AQ$2:$AQ$44&$AR$2:$AR$44,0),MATCH(L$1,$AS$1:$AX$1,0))","v":0}]
["Camooweal - Fully Serviced","Permanent plantation","Permanent plantation","Low impact rural","NR_3","Gross Floor Area",0,{"$f":"INDEX(CHARGES,MATCH($D612&$F612,$AQ$2:$AQ$44&$AR$2:$AR$44,0),MATCH(H$1,$AS$1:$AX$1,0))","v":0},{"$f":"INDEX(CHARGES,MATCH($D612&$F612,$AQ$2:$AQ$44&$AR$2:$AR$44,0),MATCH(I$1,$AS$1:$AX$1,0))","v":0},{"$f":"INDEX(CHARGES,MATCH($D612&$F612,$AQ$2:$AQ$44&$AR$2:$AR$44,0),MATCH(J$1,$AS$1:$AX$1,0))","v":0},{"$f":"INDEX(CHARGES,MATCH($D612&$F612,$AQ$2:$AQ$44&$AR$2:$AR$44,0),MATCH(K$1,$AS$1:$AX$1,0))","v":0},{"$f":"INDEX(CHARGES,MATCH($D612&$F612,$AQ$2:$AQ$44&$AR$2:$AR$44,0),MATCH(L$1,$AS$1:$AX$1,0))","v":0}]
["Camooweal - Fully Serviced","Function facility","Function facility","Places of assembly","NR_1","Gross Floor Area",37,{"$f":"INDEX(CHARGES,MATCH($D613&$F613,$AQ$2:$AQ$44&$AR$2:$AR$44,0),MATCH(H$1,$AS$1:$AX$1,0))","v":8},{"$f":"INDEX(CHARGES,MATCH($D613&$F613,$AQ$2:$AQ$44&$AR$2:$AR$44,0),MATCH(I$1,$AS$1:$AX$1,0))","v":5},{"$f":"INDEX(CHARGES,MATCH($D613&$F613,$AQ$2:$AQ$44&$AR$2:$AR$44,0),MATCH(J$1,$AS$1:$AX$1,0))","v":0},{"$f":"INDEX(CHARGES,MATCH($D613&$F613,$AQ$2:$AQ$44&$AR$2:$AR$44,0),MATCH(K$1,$AS$1:$AX$1,0))","v":24},{"$f":"INDEX(CHARGES,MATCH($D613&$F613,$AQ$2:$AQ$44&$AR$2:$AR$44,0),MATCH(L$1,$AS$1:$AX$1,0))","v":0}]
["Camooweal - Fully Serviced","Function facility","Function facility","Places of assembly","NR_1","Impervious Area",5,{"$f":"INDEX(CHARGES,MATCH($D614&$F614,$AQ$2:$AQ$44&$AR$2:$AR$44,0),MATCH(H$1,$AS$1:$AX$1,0))","v":0},{"$f":"INDEX(CHARGES,MATCH($D614&$F614,$AQ$2:$AQ$44&$AR$2:$AR$44,0),MATCH(I$1,$AS$1:$AX$1,0))","v":0},{"$f":"INDEX(CHARGES,MATCH($D614&$F614,$AQ$2:$AQ$44&$AR$2:$AR$44,0),MATCH(J$1,$AS$1:$AX$1,0))","v":5},{"$f":"INDEX(CHARGES,MATCH($D614&$F614,$AQ$2:$AQ$44&$AR$2:$AR$44,0),MATCH(K$1,$AS$1:$AX$1,0))","v":0},{"$f":"INDEX(CHARGES,MATCH($D614&$F614,$AQ$2:$AQ$44&$AR$2:$AR$44,0),MATCH(L$1,$AS$1:$AX$1,0))","v":0}]
["Camooweal - Fully Serviced","Funeral parlour","Funeral parlour","Places of assembly","NR_1","Gross Floor Area",37,{"$f":"INDEX(CHARGES,MATCH($D615&$F615,$AQ$2:$AQ$44&$AR$2:$AR$44,0),MATCH(H$1,$AS$1:$AX$1,0))","v":8},{"$f":"INDEX(CHARGES,MATCH($D615&$F615,$AQ$2:$AQ$44&$AR$2:$AR$44,0),MATCH(I$1,$AS$1:$AX$1,0))","v":5},{"$f":"INDEX(CHARGES,MATCH($D615&$F615,$AQ$2:$AQ$44&$AR$2:$AR$44,0),MATCH(J$1,$AS$1:$AX$1,0))","v":0},{"$f":"INDEX(CHARGES,MATCH($D615&$F615,$AQ$2:$AQ$44&$AR$2:$AR$44,0),MATCH(K$1,$AS$1:$AX$1,0))","v":24},{"$f":"INDEX(CHARGES,MATCH($D615&$F615,$AQ$2:$AQ$44&$AR$2:$AR$44,0),MATCH(L$1,$AS$1:$AX$1,0))","v":0}]
["Camooweal - Fully Serviced","Funeral parlour","Funeral parlour","Places of assembly","NR_1","Impervious Area",5,{"$f":"INDEX(CHARGES,MATCH($D616&$F616,$AQ$2:$AQ$44&$AR$2:$AR$44,0),MATCH(H$1,$AS$1:$AX$1,0))","v":0},{"$f":"INDEX(CHARGES,MATCH($D616&$F616,$AQ$2:$AQ$44&$AR$2:$AR$44,0),MATCH(I$1,$AS$1:$AX$1,0))","v":0},{"$f":"INDEX(CHARGES,MATCH($D616&$F616,$AQ$2:$AQ$44&$AR$2:$AR$44,0),MATCH(J$1,$AS$1:$AX$1,0))","v":5},{"$f":"INDEX(CHARGES,MATCH($D616&$F616,$AQ$2:$AQ$44&$AR$2:$AR$44,0),MATCH(K$1,$AS$1:$AX$1,0))","v":0},{"$f":"INDEX(CHARGES,MATCH($D616&$F616,$AQ$2:$AQ$44&$AR$2:$AR$44,0),MATCH(L$1,$AS$1:$AX$1,0))","v":0}]
["Camooweal - Fully Serviced","Garden centre","Garden centre","Commercial (bulk goods)","NR_1","Gross Floor Area",73,{"$f":"INDEX(CHARGES,MATCH($D617&$F617,$AQ$2:$AQ$44&$AR$2:$AR$44,0),MATCH(H$1,$AS$1:$AX$1,0))","v":15},{"$f":"INDEX(CHARGES,MATCH($D617&$F617,$AQ$2:$AQ$44&$AR$2:$AR$44,0),MATCH(I$1,$AS$1:$AX$1,0))","v":10},{"$f":"INDEX(CHARGES,MATCH($D617&$F617,$AQ$2:$AQ$44&$AR$2:$AR$44,0),MATCH(J$1,$AS$1:$AX$1,0))","v":0},{"$f":"INDEX(CHARGES,MATCH($D617&$F617,$AQ$2:$AQ$44&$AR$2:$AR$44,0),MATCH(K$1,$AS$1:$AX$1,0))","v":48},{"$f":"INDEX(CHARGES,MATCH($D617&$F617,$AQ$2:$AQ$44&$AR$2:$AR$44,0),MATCH(L$1,$AS$1:$AX$1,0))","v":0}]
["Camooweal - Fully Serviced","Garden centre","Garden centre","Commercial (bulk goods)","NR_1","Impervious Area",5,{"$f":"INDEX(CHARGES,MATCH($D618&$F618,$AQ$2:$AQ$44&$AR$2:$AR$44,0),MATCH(H$1,$AS$1:$AX$1,0))","v":0},{"$f":"INDEX(CHARGES,MATCH($D618&$F618,$AQ$2:$AQ$44&$AR$2:$AR$44,0),MATCH(I$1,$AS$1:$AX$1,0))","v":0},{"$f":"INDEX(CHARGES,MATCH($D618&$F618,$AQ$2:$AQ$44&$AR$2:$AR$44,0),MATCH(J$1,$AS$1:$AX$1,0))","v":5},{"$f":"INDEX(CHARGES,MATCH($D618&$F618,$AQ$2:$AQ$44&$AR$2:$AR$44,0),MATCH(K$1,$AS$1:$AX$1,0))","v":0},{"$f":"INDEX(CHARGES,MATCH($D618&$F618,$AQ$2:$AQ$44&$AR$2:$AR$44,0),MATCH(L$1,$AS$1:$AX$1,0))","v":0}]
["Camooweal - Fully Serviced","Hardware and trade supplies","Hardware and trade supplies","Commercial (bulk goods)","NR_1","Gross Floor Area",73,{"$f":"INDEX(CHARGES,MATCH($D619&$F619,$AQ$2:$AQ$44&$AR$2:$AR$44,0),MATCH(H$1,$AS$1:$AX$1,0))","v":15},{"$f":"INDEX(CHARGES,MATCH($D619&$F619,$AQ$2:$AQ$44&$AR$2:$AR$44,0),MATCH(I$1,$AS$1:$AX$1,0))","v":10},{"$f":"INDEX(CHARGES,MATCH($D619&$F619,$AQ$2:$AQ$44&$AR$2:$AR$44,0),MATCH(J$1,$AS$1:$AX$1,0))","v":0},{"$f":"INDEX(CHARGES,MATCH($D619&$F619,$AQ$2:$AQ$44&$AR$2:$AR$44,0),MATCH(K$1,$AS$1:$AX$1,0))","v":48},{"$f":"INDEX(CHARGES,MATCH($D619&$F619,$AQ$2:$AQ$44&$AR$2:$AR$44,0),MATCH(L$1,$AS$1:$AX$1,0))","v":0}]
["Camooweal - Fully Serviced","Hardware and trade supplies","Hardware and trade supplies","Commercial (bulk goods)","NR_1","Impervious Area",5,{"$f":"INDEX(CHARGES,MATCH($D620&$F620,$AQ$2:$AQ$44&$AR$2:$AR$44,0),MATCH(H$1,$AS$1:$AX$1,0))","v":0},{"$f":"INDEX(CHARGES,MATCH($D620&$F620,$AQ$2:$AQ$44&$AR$2:$AR$44,0),MATCH(I$1,$AS$1:$AX$1,0))","v":0},{"$f":"INDEX(CHARGES,MATCH($D620&$F620,$AQ$2:$AQ$44&$AR$2:$AR$44,0),MATCH(J$1,$AS$1:$AX$1,0))","v":5},{"$f":"INDEX(CHARGES,MATCH($D620&$F620,$AQ$2:$AQ$44&$AR$2:$AR$44,0),MATCH(K$1,$AS$1:$AX$1,0))","v":0},{"$f":"INDEX(CHARGES,MATCH($D620&$F620,$AQ$2:$AQ$44&$AR$2:$AR$44,0),MATCH(L$1,$AS$1:$AX$1,0))","v":0}]
["Camooweal - Fully Serviced","Health care services","Health care service","Essential services","NR_1","Gross Floor Area",73,{"$f":"INDEX(CHARGES,MATCH($D621&$F621,$AQ$2:$AQ$44&$AR$2:$AR$44,0),MATCH(H$1,$AS$1:$AX$1,0))","v":15},{"$f":"INDEX(CHARGES,MATCH($D621&$F621,$AQ$2:$AQ$44&$AR$2:$AR$44,0),MATCH(I$1,$AS$1:$AX$1,0))","v":10},{"$f":"INDEX(CHARGES,MATCH($D621&$F621,$AQ$2:$AQ$44&$AR$2:$AR$44,0),MATCH(J$1,$AS$1:$AX$1,0))","v":0},{"$f":"INDEX(CHARGES,MATCH($D621&$F621,$AQ$2:$AQ$44&$AR$2:$AR$44,0),MATCH(K$1,$AS$1:$AX$1,0))","v":48},{"$f":"INDEX(CHARGES,MATCH($D621&$F621,$AQ$2:$AQ$44&$AR$2:$AR$44,0),MATCH(L$1,$AS$1:$AX$1,0))","v":0}]
["Camooweal - Fully Serviced","Health care services","Health care service","Essential services","NR_1","Impervious Area",5,{"$f":"INDEX(CHARGES,MATCH($D622&$F622,$AQ$2:$AQ$44&$AR$2:$AR$44,0),MATCH(H$1,$AS$1:$AX$1,0))","v":0},{"$f":"INDEX(CHARGES,MATCH($D622&$F622,$AQ$2:$AQ$44&$AR$2:$AR$44,0),MATCH(I$1,$AS$1:$AX$1,0))","v":0},{"$f":"INDEX(CHARGES,MATCH($D622&$F622,$AQ$2:$AQ$44&$AR$2:$AR$44,0),MATCH(J$1,$AS$1:$AX$1,0))","v":5},{"$f":"INDEX(CHARGES,MATCH($D622&$F622,$AQ$2:$AQ$44&$AR$2:$AR$44,0),MATCH(K$1,$AS$1:$AX$1,0))","v":0},{"$f":"INDEX(CHARGES,MATCH($D622&$F622,$AQ$2:$AQ$44&$AR$2:$AR$44,0),MATCH(L$1,$AS$1:$AX$1,0))","v":0}]
["Camooweal - Fully Serviced","High impact industry","High impact industry","High impact industry or special industry","NR_1","Gross Floor Area",37,{"$f":"INDEX(CHARGES,MATCH($D623&$F623,$AQ$2:$AQ$44&$AR$2:$AR$44,0),MATCH(H$1,$AS$1:$AX$1,0))","v":8},{"$f":"INDEX(CHARGES,MATCH($D623&$F623,$AQ$2:$AQ$44&$AR$2:$AR$44,0),MATCH(I$1,$AS$1:$AX$1,0))","v":5},{"$f":"INDEX(CHARGES,MATCH($D623&$F623,$AQ$2:$AQ$44&$AR$2:$AR$44,0),MATCH(J$1,$AS$1:$AX$1,0))","v":0},{"$f":"INDEX(CHARGES,MATCH($D623&$F623,$AQ$2:$AQ$44&$AR$2:$AR$44,0),MATCH(K$1,$AS$1:$AX$1,0))","v":24},{"$f":"INDEX(CHARGES,MATCH($D623&$F623,$AQ$2:$AQ$44&$AR$2:$AR$44,0),MATCH(L$1,$AS$1:$AX$1,0))","v":0}]
["Camooweal - Fully Serviced","High impact industry","High impact industry","High impact industry or special industry","NR_1","Impervious Area",5,{"$f":"INDEX(CHARGES,MATCH($D624&$F624,$AQ$2:$AQ$44&$AR$2:$AR$44,0),MATCH(H$1,$AS$1:$AX$1,0))","v":0},{"$f":"INDEX(CHARGES,MATCH($D624&$F624,$AQ$2:$AQ$44&$AR$2:$AR$44,0),MATCH(I$1,$AS$1:$AX$1,0))","v":0},{"$f":"INDEX(CHARGES,MATCH($D624&$F624,$AQ$2:$AQ$44&$AR$2:$AR$44,0),MATCH(J$1,$AS$1:$AX$1,0))","v":5},{"$f":"INDEX(CHARGES,MATCH($D624&$F624,$AQ$2:$AQ$44&$AR$2:$AR$44,0),MATCH(K$1,$AS$1:$AX$1,0))","v":0},{"$f":"INDEX(CHARGES,MATCH($D624&$F624,$AQ$2:$AQ$44&$AR$2:$AR$44,0),MATCH(L$1,$AS$1:$AX$1,0))","v":0}]
["Camooweal - Fully Serviced","Home based business","Home based business","Minor uses","NR_3","Gross Floor Area",0,{"$f":"INDEX(CHARGES,MATCH($D625&$F625,$AQ$2:$AQ$44&$AR$2:$AR$44,0),MATCH(H$1,$AS$1:$AX$1,0))","v":0},{"$f":"INDEX(CHARGES,MATCH($D625&$F625,$AQ$2:$AQ$44&$AR$2:$AR$44,0),MATCH(I$1,$AS$1:$AX$1,0))","v":0},{"$f":"INDEX(CHARGES,MATCH($D625&$F625,$AQ$2:$AQ$44&$AR$2:$AR$44,0),MATCH(J$1,$AS$1:$AX$1,0))","v":0},{"$f":"INDEX(CHARGES,MATCH($D625&$F625,$AQ$2:$AQ$44&$AR$2:$AR$44,0),MATCH(K$1,$AS$1:$AX$1,0))","v":0},{"$f":"INDEX(CHARGES,MATCH($D625&$F625,$AQ$2:$AQ$44&$AR$2:$AR$44,0),MATCH(L$1,$AS$1:$AX$1,0))","v":0}]
["Camooweal - Fully Serviced","Hospital","Hospital","Essential services","NR_1","Gross Floor Area",73,{"$f":"INDEX(CHARGES,MATCH($D626&$F626,$AQ$2:$AQ$44&$AR$2:$AR$44,0),MATCH(H$1,$AS$1:$AX$1,0))","v":15},{"$f":"INDEX(CHARGES,MATCH($D626&$F626,$AQ$2:$AQ$44&$AR$2:$AR$44,0),MATCH(I$1,$AS$1:$AX$1,0))","v":10},{"$f":"INDEX(CHARGES,MATCH($D626&$F626,$AQ$2:$AQ$44&$AR$2:$AR$44,0),MATCH(J$1,$AS$1:$AX$1,0))","v":0},{"$f":"INDEX(CHARGES,MATCH($D626&$F626,$AQ$2:$AQ$44&$AR$2:$AR$44,0),MATCH(K$1,$AS$1:$AX$1,0))","v":48},{"$f":"INDEX(CHARGES,MATCH($D626&$F626,$AQ$2:$AQ$44&$AR$2:$AR$44,0),MATCH(L$1,$AS$1:$AX$1,0))","v":0}]
["Camooweal - Fully Serviced","Hospital","Hospital","Essential services","NR_1","Impervious Area",5,{"$f":"INDEX(CHARGES,MATCH($D627&$F627,$AQ$2:$AQ$44&$AR$2:$AR$44,0),MATCH(H$1,$AS$1:$AX$1,0))","v":0},{"$f":"INDEX(CHARGES,MATCH($D627&$F627,$AQ$2:$AQ$44&$AR$2:$AR$44,0),MATCH(I$1,$AS$1:$AX$1,0))","v":0},{"$f":"INDEX(CHARGES,MATCH($D627&$F627,$AQ$2:$AQ$44&$AR$2:$AR$44,0),MATCH(J$1,$AS$1:$AX$1,0))","v":5},{"$f":"INDEX(CHARGES,MATCH($D627&$F627,$AQ$2:$AQ$44&$AR$2:$AR$44,0),MATCH(K$1,$AS$1:$AX$1,0))","v":0},{"$f":"INDEX(CHARGES,MATCH($D627&$F627,$AQ$2:$AQ$44&$AR$2:$AR$44,0),MATCH(L$1,$AS$1:$AX$1,0))","v":0}]
["Camooweal - Fully Serviced","Hotel - Accommodation component","Hotel","Accommodation (short-term)","RU_2","bedroom that is not part of a suite",{"$f":"SUM(H628:L628)","v":5239},{"$f":"INDEX(CHARGES,MATCH($D628&$F628,$AQ$2:$AQ$44&$AR$2:$AR$44,0),MATCH(H$1,$AS$1:$AX$1,0))","v":1467},{"$f":"INDEX(CHARGES,MATCH($D628&$F628,$AQ$2:$AQ$44&$AR$2:$AR$44,0),MATCH(I$1,$AS$1:$AX$1,0))","v":943},{"$f":"INDEX(CHARGES,MATCH($D628&$F628,$AQ$2:$AQ$44&$AR$2:$AR$44,0),MATCH(J$1,$AS$1:$AX$1,0))","v":104},{"$f":"INDEX(CHARGES,MATCH($D628&$F628,$AQ$2:$AQ$44&$AR$2:$AR$44,0),MATCH(K$1,$AS$1:$AX$1,0))","v":2620},{"$f":"INDEX(CHARGES,MATCH($D628&$F628,$AQ$2:$AQ$44&$AR$2:$AR$44,0),MATCH(L$1,$AS$1:$AX$1,0))","v":105}]
["Camooweal - Fully Serviced","Hotel - Accommodation component","Hotel","Accommodation (short-term)","RU_2","2 or less bedrooms",5239,{"$f":"INDEX(CHARGES,MATCH($D629&$F629,$AQ$2:$AQ$44&$AR$2:$AR$44,0),MATCH(H$1,$AS$1:$AX$1,0))","v":1467},{"$f":"INDEX(CHARGES,MATCH($D629&$F629,$AQ$2:$AQ$44&$AR$2:$AR$44,0),MATCH(I$1,$AS$1:$AX$1,0))","v":943},{"$f":"INDEX(CHARGES,MATCH($D629&$F629,$AQ$2:$AQ$44&$AR$2:$AR$44,0),MATCH(J$1,$AS$1:$AX$1,0))","v":104},{"$f":"INDEX(CHARGES,MATCH($D629&$F629,$AQ$2:$AQ$44&$AR$2:$AR$44,0),MATCH(K$1,$AS$1:$AX$1,0))","v":2620},{"$f":"INDEX(CHARGES,MATCH($D629&$F629,$AQ$2:$AQ$44&$AR$2:$AR$44,0),MATCH(L$1,$AS$1:$AX$1,0))","v":105}]
["Camooweal - Fully Serviced","Hotel - Accommodation component","Hotel","Accommodation (short-term)","RU_2","3 or more bedrooms",7335,{"$f":"INDEX(CHARGES,MATCH($D630&$F630,$AQ$2:$AQ$44&$AR$2:$AR$44,0),MATCH(H$1,$AS$1:$AX$1,0))","v":2054},{"$f":"INDEX(CHARGES,MATCH($D630&$F630,$AQ$2:$AQ$44&$AR$2:$AR$44,0),MATCH(I$1,$AS$1:$AX$1,0))","v":1320},{"$f":"INDEX(CHARGES,MATCH($D630&$F630,$AQ$2:$AQ$44&$AR$2:$AR$44,0),MATCH(J$1,$AS$1:$AX$1,0))","v":146},{"$f":"INDEX(CHARGES,MATCH($D630&$F630,$AQ$2:$AQ$44&$AR$2:$AR$44,0),MATCH(K$1,$AS$1:$AX$1,0))","v":3668},{"$f":"INDEX(CHARGES,MATCH($D630&$F630,$AQ$2:$AQ$44&$AR$2:$AR$44,0),MATCH(L$1,$AS$1:$AX$1,0))","v":147}]
["Camooweal - Fully Serviced","Hotel - Entertainment component","Hotel","Entertainment","NR_1","Gross Floor Area",105,{"$f":"INDEX(CHARGES,MATCH($D631&$F631,$AQ$2:$AQ$44&$AR$2:$AR$44,0),MATCH(H$1,$AS$1:$AX$1,0))","v":22},{"$f":"INDEX(CHARGES,MATCH($D631&$F631,$AQ$2:$AQ$44&$AR$2:$AR$44,0),MATCH(I$1,$AS$1:$AX$1,0))","v":15},{"$f":"INDEX(CHARGES,MATCH($D631&$F631,$AQ$2:$AQ$44&$AR$2:$AR$44,0),MATCH(J$1,$AS$1:$AX$1,0))","v":0},{"$f":"INDEX(CHARGES,MATCH($D631&$F631,$AQ$2:$AQ$44&$AR$2:$AR$44,0),MATCH(K$1,$AS$1:$AX$1,0))","v":68},{"$f":"INDEX(CHARGES,MATCH($D631&$F631,$AQ$2:$AQ$44&$AR$2:$AR$44,0),MATCH(L$1,$AS$1:$AX$1,0))","v":0}]
["Camooweal - Fully Serviced","Hotel - Entertainment component","Hotel","Entertainment","NR_1","Impervious Area",5,{"$f":"INDEX(CHARGES,MATCH($D632&$F632,$AQ$2:$AQ$44&$AR$2:$AR$44,0),MATCH(H$1,$AS$1:$AX$1,0))","v":0},{"$f":"INDEX(CHARGES,MATCH($D632&$F632,$AQ$2:$AQ$44&$AR$2:$AR$44,0),MATCH(I$1,$AS$1:$AX$1,0))","v":0},{"$f":"INDEX(CHARGES,MATCH($D632&$F632,$AQ$2:$AQ$44&$AR$2:$AR$44,0),MATCH(J$1,$AS$1:$AX$1,0))","v":5},{"$f":"INDEX(CHARGES,MATCH($D632&$F632,$AQ$2:$AQ$44&$AR$2:$AR$44,0),MATCH(K$1,$AS$1:$AX$1,0))","v":0},{"$f":"INDEX(CHARGES,MATCH($D632&$F632,$AQ$2:$AQ$44&$AR$2:$AR$44,0),MATCH(L$1,$AS$1:$AX$1,0))","v":0}]
["Camooweal - Fully Serviced","Indoor sport and recreation","Indoor sport and recreation","Indoor sport and recreation","NR_2","Gross Floor Area - not court area",105,{"$f":"INDEX(CHARGES,MATCH($D633&$F633,$AQ$2:$AQ$44&$AR$2:$AR$44,0),MATCH(H$1,$AS$1:$AX$1,0))","v":22},{"$f":"INDEX(CHARGES,MATCH($D633&$F633,$AQ$2:$AQ$44&$AR$2:$AR$44,0),MATCH(I$1,$AS$1:$AX$1,0))","v":15},{"$f":"INDEX(CHARGES,MATCH($D633&$F633,$AQ$2:$AQ$44&$AR$2:$AR$44,0),MATCH(J$1,$AS$1:$AX$1,0))","v":0},{"$f":"INDEX(CHARGES,MATCH($D633&$F633,$AQ$2:$AQ$44&$AR$2:$AR$44,0),MATCH(K$1,$AS$1:$AX$1,0))","v":68},{"$f":"INDEX(CHARGES,MATCH($D633&$F633,$AQ$2:$AQ$44&$AR$2:$AR$44,0),MATCH(L$1,$AS$1:$AX$1,0))","v":0}]
["Camooweal - Fully Serviced","Indoor sport and recreation","Indoor sport and recreation","Indoor sport and recreation","NR_2","Gross Floor Area - court area",10,{"$f":"INDEX(CHARGES,MATCH($D634&$F634,$AQ$2:$AQ$44&$AR$2:$AR$44,0),MATCH(H$1,$AS$1:$AX$1,0))","v":2},{"$f":"INDEX(CHARGES,MATCH($D634&$F634,$AQ$2:$AQ$44&$AR$2:$AR$44,0),MATCH(I$1,$AS$1:$AX$1,0))","v":1},{"$f":"INDEX(CHARGES,MATCH($D634&$F634,$AQ$2:$AQ$44&$AR$2:$AR$44,0),MATCH(J$1,$AS$1:$AX$1,0))","v":0},{"$f":"INDEX(CHARGES,MATCH($D634&$F634,$AQ$2:$AQ$44&$AR$2:$AR$44,0),MATCH(K$1,$AS$1:$AX$1,0))","v":7},{"$f":"INDEX(CHARGES,MATCH($D634&$F634,$AQ$2:$AQ$44&$AR$2:$AR$44,0),MATCH(L$1,$AS$1:$AX$1,0))","v":0}]
["Camooweal - Fully Serviced","Indoor sport and recreation","Indoor sport and recreation","Indoor sport and recreation","NR_2","Impervious Area",5,{"$f":"INDEX(CHARGES,MATCH($D635&$F635,$AQ$2:$AQ$44&$AR$2:$AR$44,0),MATCH(H$1,$AS$1:$AX$1,0))","v":0},{"$f":"INDEX(CHARGES,MATCH($D635&$F635,$AQ$2:$AQ$44&$AR$2:$AR$44,0),MATCH(I$1,$AS$1:$AX$1,0))","v":0},{"$f":"INDEX(CHARGES,MATCH($D635&$F635,$AQ$2:$AQ$44&$AR$2:$AR$44,0),MATCH(J$1,$AS$1:$AX$1,0))","v":5},{"$f":"INDEX(CHARGES,MATCH($D635&$F635,$AQ$2:$AQ$44&$AR$2:$AR$44,0),MATCH(K$1,$AS$1:$AX$1,0))","v":0},{"$f":"INDEX(CHARGES,MATCH($D635&$F635,$AQ$2:$AQ$44&$AR$2:$AR$44,0),MATCH(L$1,$AS$1:$AX$1,0))","v":0}]
["Camooweal - Fully Serviced","Intensive animal industry","Intensive animal industry","High impact rural","NR_3","Gross Floor Area",10,{"$f":"INDEX(CHARGES,MATCH($D636&$F636,$AQ$2:$AQ$44&$AR$2:$AR$44,0),MATCH(H$1,$AS$1:$AX$1,0))","v":2},{"$f":"INDEX(CHARGES,MATCH($D636&$F636,$AQ$2:$AQ$44&$AR$2:$AR$44,0),MATCH(I$1,$AS$1:$AX$1,0))","v":1},{"$f":"INDEX(CHARGES,MATCH($D636&$F636,$AQ$2:$AQ$44&$AR$2:$AR$44,0),MATCH(J$1,$AS$1:$AX$1,0))","v":0},{"$f":"INDEX(CHARGES,MATCH($D636&$F636,$AQ$2:$AQ$44&$AR$2:$AR$44,0),MATCH(K$1,$AS$1:$AX$1,0))","v":7},{"$f":"INDEX(CHARGES,MATCH($D636&$F636,$AQ$2:$AQ$44&$AR$2:$AR$44,0),MATCH(L$1,$AS$1:$AX$1,0))","v":0}]
["Camooweal - Fully Serviced","Intensive horticulture","Intensive horticulture","High impact rural","NR_3","Gross Floor Area",10,{"$f":"INDEX(CHARGES,MATCH($D637&$F637,$AQ$2:$AQ$44&$AR$2:$AR$44,0),MATCH(H$1,$AS$1:$AX$1,0))","v":2},{"$f":"INDEX(CHARGES,MATCH($D637&$F637,$AQ$2:$AQ$44&$AR$2:$AR$44,0),MATCH(I$1,$AS$1:$AX$1,0))","v":1},{"$f":"INDEX(CHARGES,MATCH($D637&$F637,$AQ$2:$AQ$44&$AR$2:$AR$44,0),MATCH(J$1,$AS$1:$AX$1,0))","v":0},{"$f":"INDEX(CHARGES,MATCH($D637&$F637,$AQ$2:$AQ$44&$AR$2:$AR$44,0),MATCH(K$1,$AS$1:$AX$1,0))","v":7},{"$f":"INDEX(CHARGES,MATCH($D637&$F637,$AQ$2:$AQ$44&$AR$2:$AR$44,0),MATCH(L$1,$AS$1:$AX$1,0))","v":0}]
["Camooweal - Fully Serviced","Landing","Landing","Minor uses","NR_3","Gross Floor Area",0,{"$f":"INDEX(CHARGES,MATCH($D638&$F638,$AQ$2:$AQ$44&$AR$2:$AR$44,0),MATCH(H$1,$AS$1:$AX$1,0))","v":0},{"$f":"INDEX(CHARGES,MATCH($D638&$F638,$AQ$2:$AQ$44&$AR$2:$AR$44,0),MATCH(I$1,$AS$1:$AX$1,0))","v":0},{"$f":"INDEX(CHARGES,MATCH($D638&$F638,$AQ$2:$AQ$44&$AR$2:$AR$44,0),MATCH(J$1,$AS$1:$AX$1,0))","v":0},{"$f":"INDEX(CHARGES,MATCH($D638&$F638,$AQ$2:$AQ$44&$AR$2:$AR$44,0),MATCH(K$1,$AS$1:$AX$1,0))","v":0},{"$f":"INDEX(CHARGES,MATCH($D638&$F638,$AQ$2:$AQ$44&$AR$2:$AR$44,0),MATCH(L$1,$AS$1:$AX$1,0))","v":0}]
["Camooweal - Fully Serviced","Low impact industry","Low impact industry","Other industry","NR_1","Gross Floor Area",26,{"$f":"INDEX(CHARGES,MATCH($D639&$F639,$AQ$2:$AQ$44&$AR$2:$AR$44,0),MATCH(H$1,$AS$1:$AX$1,0))","v":5},{"$f":"INDEX(CHARGES,MATCH($D639&$F639,$AQ$2:$AQ$44&$AR$2:$AR$44,0),MATCH(I$1,$AS$1:$AX$1,0))","v":4},{"$f":"INDEX(CHARGES,MATCH($D639&$F639,$AQ$2:$AQ$44&$AR$2:$AR$44,0),MATCH(J$1,$AS$1:$AX$1,0))","v":0},{"$f":"INDEX(CHARGES,MATCH($D639&$F639,$AQ$2:$AQ$44&$AR$2:$AR$44,0),MATCH(K$1,$AS$1:$AX$1,0))","v":17},{"$f":"INDEX(CHARGES,MATCH($D639&$F639,$AQ$2:$AQ$44&$AR$2:$AR$44,0),MATCH(L$1,$AS$1:$AX$1,0))","v":0}]
["Camooweal - Fully Serviced","Low impact industry","Low impact industry","Other industry","NR_1","Impervious Area",5,{"$f":"INDEX(CHARGES,MATCH($D640&$F640,$AQ$2:$AQ$44&$AR$2:$AR$44,0),MATCH(H$1,$AS$1:$AX$1,0))","v":0},{"$f":"INDEX(CHARGES,MATCH($D640&$F640,$AQ$2:$AQ$44&$AR$2:$AR$44,0),MATCH(I$1,$AS$1:$AX$1,0))","v":0},{"$f":"INDEX(CHARGES,MATCH($D640&$F640,$AQ$2:$AQ$44&$AR$2:$AR$44,0),MATCH(J$1,$AS$1:$AX$1,0))","v":5},{"$f":"INDEX(CHARGES,MATCH($D640&$F640,$AQ$2:$AQ$44&$AR$2:$AR$44,0),MATCH(K$1,$AS$1:$AX$1,0))","v":0},{"$f":"INDEX(CHARGES,MATCH($D640&$F640,$AQ$2:$AQ$44&$AR$2:$AR$44,0),MATCH(L$1,$AS$1:$AX$1,0))","v":0}]
["Camooweal - Fully Serviced","Major electricity infrastructure","Utility installation","Other uses","NR_1","Gross Floor Area",0,{"$f":"INDEX(CHARGES,MATCH($D641&$F641,$AQ$2:$AQ$44&$AR$2:$AR$44,0),MATCH(H$1,$AS$1:$AX$1,0))","v":0},{"$f":"INDEX(CHARGES,MATCH($D641&$F641,$AQ$2:$AQ$44&$AR$2:$AR$44,0),MATCH(I$1,$AS$1:$AX$1,0))","v":0},{"$f":"INDEX(CHARGES,MATCH($D641&$F641,$AQ$2:$AQ$44&$AR$2:$AR$44,0),MATCH(J$1,$AS$1:$AX$1,0))","v":0},{"$f":"INDEX(CHARGES,MATCH($D641&$F641,$AQ$2:$AQ$44&$AR$2:$AR$44,0),MATCH(K$1,$AS$1:$AX$1,0))","v":0},{"$f":"INDEX(CHARGES,MATCH($D641&$F641,$AQ$2:$AQ$44&$AR$2:$AR$44,0),MATCH(L$1,$AS$1:$AX$1,0))","v":0}]
["Camooweal - Fully Serviced","Major electricity infrastructure","Utility installation","Other uses","NR_1","Impervious Area",0,{"$f":"INDEX(CHARGES,MATCH($D642&$F642,$AQ$2:$AQ$44&$AR$2:$AR$44,0),MATCH(H$1,$AS$1:$AX$1,0))","v":0},{"$f":"INDEX(CHARGES,MATCH($D642&$F642,$AQ$2:$AQ$44&$AR$2:$AR$44,0),MATCH(I$1,$AS$1:$AX$1,0))","v":0},{"$f":"INDEX(CHARGES,MATCH($D642&$F642,$AQ$2:$AQ$44&$AR$2:$AR$44,0),MATCH(J$1,$AS$1:$AX$1,0))","v":0},{"$f":"INDEX(CHARGES,MATCH($D642&$F642,$AQ$2:$AQ$44&$AR$2:$AR$44,0),MATCH(K$1,$AS$1:$AX$1,0))","v":0},{"$f":"INDEX(CHARGES,MATCH($D642&$F642,$AQ$2:$AQ$44&$AR$2:$AR$44,0),MATCH(L$1,$AS$1:$AX$1,0))","v":0}]
["Camooweal - Fully Serviced","Major sport, recreation and entertainment facility","Major sport, recreation and entertainment facility","Other uses","NR_1","Gross Floor Area",0,{"$f":"INDEX(CHARGES,MATCH($D643&$F643,$AQ$2:$AQ$44&$AR$2:$AR$44,0),MATCH(H$1,$AS$1:$AX$1,0))","v":0},{"$f":"INDEX(CHARGES,MATCH($D643&$F643,$AQ$2:$AQ$44&$AR$2:$AR$44,0),MATCH(I$1,$AS$1:$AX$1,0))","v":0},{"$f":"INDEX(CHARGES,MATCH($D643&$F643,$AQ$2:$AQ$44&$AR$2:$AR$44,0),MATCH(J$1,$AS$1:$AX$1,0))","v":0},{"$f":"INDEX(CHARGES,MATCH($D643&$F643,$AQ$2:$AQ$44&$AR$2:$AR$44,0),MATCH(K$1,$AS$1:$AX$1,0))","v":0},{"$f":"INDEX(CHARGES,MATCH($D643&$F643,$AQ$2:$AQ$44&$AR$2:$AR$44,0),MATCH(L$1,$AS$1:$AX$1,0))","v":0}]
["Camooweal - Fully Serviced","Major sport, recreation and entertainment facility","Major sport, recreation and entertainment facility","Other uses","NR_1","Impervious Area",0,{"$f":"INDEX(CHARGES,MATCH($D644&$F644,$AQ$2:$AQ$44&$AR$2:$AR$44,0),MATCH(H$1,$AS$1:$AX$1,0))","v":0},{"$f":"INDEX(CHARGES,MATCH($D644&$F644,$AQ$2:$AQ$44&$AR$2:$AR$44,0),MATCH(I$1,$AS$1:$AX$1,0))","v":0},{"$f":"INDEX(CHARGES,MATCH($D644&$F644,$AQ$2:$AQ$44&$AR$2:$AR$44,0),MATCH(J$1,$AS$1:$AX$1,0))","v":0},{"$f":"INDEX(CHARGES,MATCH($D644&$F644,$AQ$2:$AQ$44&$AR$2:$AR$44,0),MATCH(K$1,$AS$1:$AX$1,0))","v":0},{"$f":"INDEX(CHARGES,MATCH($D644&$F644,$AQ$2:$AQ$44&$AR$2:$AR$44,0),MATCH(L$1,$AS$1:$AX$1,0))","v":0}]
["Camooweal - Fully Serviced","Marine industry","Marine industry","Other industry","NR_1","Gross Floor Area",26,{"$f":"INDEX(CHARGES,MATCH($D645&$F645,$AQ$2:$AQ$44&$AR$2:$AR$44,0),MATCH(H$1,$AS$1:$AX$1,0))","v":5},{"$f":"INDEX(CHARGES,MATCH($D645&$F645,$AQ$2:$AQ$44&$AR$2:$AR$44,0),MATCH(I$1,$AS$1:$AX$1,0))","v":4},{"$f":"INDEX(CHARGES,MATCH($D645&$F645,$AQ$2:$AQ$44&$AR$2:$AR$44,0),MATCH(J$1,$AS$1:$AX$1,0))","v":0},{"$f":"INDEX(CHARGES,MATCH($D645&$F645,$AQ$2:$AQ$44&$AR$2:$AR$44,0),MATCH(K$1,$AS$1:$AX$1,0))","v":17},{"$f":"INDEX(CHARGES,MATCH($D645&$F645,$AQ$2:$AQ$44&$AR$2:$AR$44,0),MATCH(L$1,$AS$1:$AX$1,0))","v":0}]
["Camooweal - Fully Serviced","Marine industry","Marine industry","Other industry","NR_1","Impervious Area",5,{"$f":"INDEX(CHARGES,MATCH($D646&$F646,$AQ$2:$AQ$44&$AR$2:$AR$44,0),MATCH(H$1,$AS$1:$AX$1,0))","v":0},{"$f":"INDEX(CHARGES,MATCH($D646&$F646,$AQ$2:$AQ$44&$AR$2:$AR$44,0),MATCH(I$1,$AS$1:$AX$1,0))","v":0},{"$f":"INDEX(CHARGES,MATCH($D646&$F646,$AQ$2:$AQ$44&$AR$2:$AR$44,0),MATCH(J$1,$AS$1:$AX$1,0))","v":5},{"$f":"INDEX(CHARGES,MATCH($D646&$F646,$AQ$2:$AQ$44&$AR$2:$AR$44,0),MATCH(K$1,$AS$1:$AX$1,0))","v":0},{"$f":"INDEX(CHARGES,MATCH($D646&$F646,$AQ$2:$AQ$44&$AR$2:$AR$44,0),MATCH(L$1,$AS$1:$AX$1,0))","v":0}]
["Camooweal - Fully Serviced","Market","Market","Minor uses","NR_3","Gross Floor Area",0,{"$f":"INDEX(CHARGES,MATCH($D647&$F647,$AQ$2:$AQ$44&$AR$2:$AR$44,0),MATCH(H$1,$AS$1:$AX$1,0))","v":0},{"$f":"INDEX(CHARGES,MATCH($D647&$F647,$AQ$2:$AQ$44&$AR$2:$AR$44,0),MATCH(I$1,$AS$1:$AX$1,0))","v":0},{"$f":"INDEX(CHARGES,MATCH($D647&$F647,$AQ$2:$AQ$44&$AR$2:$AR$44,0),MATCH(J$1,$AS$1:$AX$1,0))","v":0},{"$f":"INDEX(CHARGES,MATCH($D647&$F647,$AQ$2:$AQ$44&$AR$2:$AR$44,0),MATCH(K$1,$AS$1:$AX$1,0))","v":0},{"$f":"INDEX(CHARGES,MATCH($D647&$F647,$AQ$2:$AQ$44&$AR$2:$AR$44,0),MATCH(L$1,$AS$1:$AX$1,0))","v":0}]
["Camooweal - Fully Serviced","Medium impact industry","Medium impact industry","Other industry","NR_1","Gross Floor Area",26,{"$f":"INDEX(CHARGES,MATCH($D648&$F648,$AQ$2:$AQ$44&$AR$2:$AR$44,0),MATCH(H$1,$AS$1:$AX$1,0))","v":5},{"$f":"INDEX(CHARGES,MATCH($D648&$F648,$AQ$2:$AQ$44&$AR$2:$AR$44,0),MATCH(I$1,$AS$1:$AX$1,0))","v":4},{"$f":"INDEX(CHARGES,MATCH($D648&$F648,$AQ$2:$AQ$44&$AR$2:$AR$44,0),MATCH(J$1,$AS$1:$AX$1,0))","v":0},{"$f":"INDEX(CHARGES,MATCH($D648&$F648,$AQ$2:$AQ$44&$AR$2:$AR$44,0),MATCH(K$1,$AS$1:$AX$1,0))","v":17},{"$f":"INDEX(CHARGES,MATCH($D648&$F648,$AQ$2:$AQ$44&$AR$2:$AR$44,0),MATCH(L$1,$AS$1:$AX$1,0))","v":0}]
["Camooweal - Fully Serviced","Medium impact industry","Medium impact industry","Other industry","NR_1","Impervious Area",5,{"$f":"INDEX(CHARGES,MATCH($D649&$F649,$AQ$2:$AQ$44&$AR$2:$AR$44,0),MATCH(H$1,$AS$1:$AX$1,0))","v":0},{"$f":"INDEX(CHARGES,MATCH($D649&$F649,$AQ$2:$AQ$44&$AR$2:$AR$44,0),MATCH(I$1,$AS$1:$AX$1,0))","v":0},{"$f":"INDEX(CHARGES,MATCH($D649&$F649,$AQ$2:$AQ$44&$AR$2:$AR$44,0),MATCH(J$1,$AS$1:$AX$1,0))","v":5},{"$f":"INDEX(CHARGES,MATCH($D649&$F649,$AQ$2:$AQ$44&$AR$2:$AR$44,0),MATCH(K$1,$AS$1:$AX$1,0))","v":0},{"$f":"INDEX(CHARGES,MATCH($D649&$F649,$AQ$2:$AQ$44&$AR$2:$AR$44,0),MATCH(L$1,$AS$1:$AX$1,0))","v":0}]
["Camooweal - Fully Serviced","Motor sport facility","Motor sport facility","Other uses","NR_1","Gross Floor Area",0,{"$f":"INDEX(CHARGES,MATCH($D650&$F650,$AQ$2:$AQ$44&$AR$2:$AR$44,0),MATCH(H$1,$AS$1:$AX$1,0))","v":0},{"$f":"INDEX(CHARGES,MATCH($D650&$F650,$AQ$2:$AQ$44&$AR$2:$AR$44,0),MATCH(I$1,$AS$1:$AX$1,0))","v":0},{"$f":"INDEX(CHARGES,MATCH($D650&$F650,$AQ$2:$AQ$44&$AR$2:$AR$44,0),MATCH(J$1,$AS$1:$AX$1,0))","v":0},{"$f":"INDEX(CHARGES,MATCH($D650&$F650,$AQ$2:$AQ$44&$AR$2:$AR$44,0),MATCH(K$1,$AS$1:$AX$1,0))","v":0},{"$f":"INDEX(CHARGES,MATCH($D650&$F650,$AQ$2:$AQ$44&$AR$2:$AR$44,0),MATCH(L$1,$AS$1:$AX$1,0))","v":0}]
["Camooweal - Fully Serviced","Motor sport facility","Motor sport facility","Other uses","NR_1","Impervious Area",0,{"$f":"INDEX(CHARGES,MATCH($D651&$F651,$AQ$2:$AQ$44&$AR$2:$AR$44,0),MATCH(H$1,$AS$1:$AX$1,0))","v":0},{"$f":"INDEX(CHARGES,MATCH($D651&$F651,$AQ$2:$AQ$44&$AR$2:$AR$44,0),MATCH(I$1,$AS$1:$AX$1,0))","v":0},{"$f":"INDEX(CHARGES,MATCH($D651&$F651,$AQ$2:$AQ$44&$AR$2:$AR$44,0),MATCH(J$1,$AS$1:$AX$1,0))","v":0},{"$f":"INDEX(CHARGES,MATCH($D651&$F651,$AQ$2:$AQ$44&$AR$2:$AR$44,0),MATCH(K$1,$AS$1:$AX$1,0))","v":0},{"$f":"INDEX(CHARGES,MATCH($D651&$F651,$AQ$2:$AQ$44&$AR$2:$AR$44,0),MATCH(L$1,$AS$1:$AX$1,0))","v":0}]
["Camooweal - Fully Serviced","Multiple dwelling","Multiple dwelling","Residential uses","RU_1","2 or less bedrooms",10478,{"$f":"INDEX(CHARGES,MATCH($D652&$F652,$AQ$2:$AQ$44&$AR$2:$AR$44,0),MATCH(H$1,$AS$1:$AX$1,0))","v":2934},{"$f":"INDEX(CHARGES,MATCH($D652&$F652,$AQ$2:$AQ$44&$AR$2:$AR$44,0),MATCH(I$1,$AS$1:$AX$1,0))","v":1886},{"$f":"INDEX(CHARGES,MATCH($D652&$F652,$AQ$2:$AQ$44&$AR$2:$AR$44,0),MATCH(J$1,$AS$1:$AX$1,0))","v":209},{"$f":"INDEX(CHARGES,MATCH($D652&$F652,$AQ$2:$AQ$44&$AR$2:$AR$44,0),MATCH(K$1,$AS$1:$AX$1,0))","v":5239},{"$f":"INDEX(CHARGES,MATCH($D652&$F652,$AQ$2:$AQ$44&$AR$2:$AR$44,0),MATCH(L$1,$AS$1:$AX$1,0))","v":210}]
["Camooweal - Fully Serviced","Multiple dwelling","Multiple dwelling","Residential uses","RU_1","3 or more bedrooms",14670,{"$f":"INDEX(CHARGES,MATCH($D653&$F653,$AQ$2:$AQ$44&$AR$2:$AR$44,0),MATCH(H$1,$AS$1:$AX$1,0))","v":4108},{"$f":"INDEX(CHARGES,MATCH($D653&$F653,$AQ$2:$AQ$44&$AR$2:$AR$44,0),MATCH(I$1,$AS$1:$AX$1,0))","v":2641},{"$f":"INDEX(CHARGES,MATCH($D653&$F653,$AQ$2:$AQ$44&$AR$2:$AR$44,0),MATCH(J$1,$AS$1:$AX$1,0))","v":293},{"$f":"INDEX(CHARGES,MATCH($D653&$F653,$AQ$2:$AQ$44&$AR$2:$AR$44,0),MATCH(K$1,$AS$1:$AX$1,0))","v":7335},{"$f":"INDEX(CHARGES,MATCH($D653&$F653,$AQ$2:$AQ$44&$AR$2:$AR$44,0),MATCH(L$1,$AS$1:$AX$1,0))","v":293}]
["Camooweal - Fully Serviced","Nature-based tourism",null,"Other uses","NR_1","Gross Floor Area",0,{"$f":"INDEX(CHARGES,MATCH($D654&$F654,$AQ$2:$AQ$44&$AR$2:$AR$44,0),MATCH(H$1,$AS$1:$AX$1,0))","v":0},{"$f":"INDEX(CHARGES,MATCH($D654&$F654,$AQ$2:$AQ$44&$AR$2:$AR$44,0),MATCH(I$1,$AS$1:$AX$1,0))","v":0},{"$f":"INDEX(CHARGES,MATCH($D654&$F654,$AQ$2:$AQ$44&$AR$2:$AR$44,0),MATCH(J$1,$AS$1:$AX$1,0))","v":0},{"$f":"INDEX(CHARGES,MATCH($D654&$F654,$AQ$2:$AQ$44&$AR$2:$AR$44,0),MATCH(K$1,$AS$1:$AX$1,0))","v":0},{"$f":"INDEX(CHARGES,MATCH($D654&$F654,$AQ$2:$AQ$44&$AR$2:$AR$44,0),MATCH(L$1,$AS$1:$AX$1,0))","v":0}]
["Camooweal - Fully Serviced","Nature-based tourism",null,"Other uses","NR_1","Impervious Area",0,{"$f":"INDEX(CHARGES,MATCH($D655&$F655,$AQ$2:$AQ$44&$AR$2:$AR$44,0),MATCH(H$1,$AS$1:$AX$1,0))","v":0},{"$f":"INDEX(CHARGES,MATCH($D655&$F655,$AQ$2:$AQ$44&$AR$2:$AR$44,0),MATCH(I$1,$AS$1:$AX$1,0))","v":0},{"$f":"INDEX(CHARGES,MATCH($D655&$F655,$AQ$2:$AQ$44&$AR$2:$AR$44,0),MATCH(J$1,$AS$1:$AX$1,0))","v":0},{"$f":"INDEX(CHARGES,MATCH($D655&$F655,$AQ$2:$AQ$44&$AR$2:$AR$44,0),MATCH(K$1,$AS$1:$AX$1,0))","v":0},{"$f":"INDEX(CHARGES,MATCH($D655&$F655,$AQ$2:$AQ$44&$AR$2:$AR$44,0),MATCH(L$1,$AS$1:$AX$1,0))","v":0}]
["Camooweal - Fully Serviced","Nightclub entertainment facility","Nightclub entertainment facility","Entertainment","NR_1","Gross Floor Area",105,{"$f":"INDEX(CHARGES,MATCH($D656&$F656,$AQ$2:$AQ$44&$AR$2:$AR$44,0),MATCH(H$1,$AS$1:$AX$1,0))","v":22},{"$f":"INDEX(CHARGES,MATCH($D656&$F656,$AQ$2:$AQ$44&$AR$2:$AR$44,0),MATCH(I$1,$AS$1:$AX$1,0))","v":15},{"$f":"INDEX(CHARGES,MATCH($D656&$F656,$AQ$2:$AQ$44&$AR$2:$AR$44,0),MATCH(J$1,$AS$1:$AX$1,0))","v":0},{"$f":"INDEX(CHARGES,MATCH($D656&$F656,$AQ$2:$AQ$44&$AR$2:$AR$44,0),MATCH(K$1,$AS$1:$AX$1,0))","v":68},{"$f":"INDEX(CHARGES,MATCH($D656&$F656,$AQ$2:$AQ$44&$AR$2:$AR$44,0),MATCH(L$1,$AS$1:$AX$1,0))","v":0}]
["Camooweal - Fully Serviced","Nightclub entertainment facility","Nightclub entertainment facility","Entertainment","NR_1","Impervious Area",5,{"$f":"INDEX(CHARGES,MATCH($D657&$F657,$AQ$2:$AQ$44&$AR$2:$AR$44,0),MATCH(H$1,$AS$1:$AX$1,0))","v":0},{"$f":"INDEX(CHARGES,MATCH($D657&$F657,$AQ$2:$AQ$44&$AR$2:$AR$44,0),MATCH(I$1,$AS$1:$AX$1,0))","v":0},{"$f":"INDEX(CHARGES,MATCH($D657&$F657,$AQ$2:$AQ$44&$AR$2:$AR$44,0),MATCH(J$1,$AS$1:$AX$1,0))","v":5},{"$f":"INDEX(CHARGES,MATCH($D657&$F657,$AQ$2:$AQ$44&$AR$2:$AR$44,0),MATCH(K$1,$AS$1:$AX$1,0))","v":0},{"$f":"INDEX(CHARGES,MATCH($D657&$F657,$AQ$2:$AQ$44&$AR$2:$AR$44,0),MATCH(L$1,$AS$1:$AX$1,0))","v":0}]
["Camooweal - Fully Serviced","Non-resident workforce accommodation","Short-term accommodation","Accommodation (short-term)","RU_2","bedroom that is not part of a suite",5239,{"$f":"INDEX(CHARGES,MATCH($D658&$F658,$AQ$2:$AQ$44&$AR$2:$AR$44,0),MATCH(H$1,$AS$1:$AX$1,0))","v":1467},{"$f":"INDEX(CHARGES,MATCH($D658&$F658,$AQ$2:$AQ$44&$AR$2:$AR$44,0),MATCH(I$1,$AS$1:$AX$1,0))","v":943},{"$f":"INDEX(CHARGES,MATCH($D658&$F658,$AQ$2:$AQ$44&$AR$2:$AR$44,0),MATCH(J$1,$AS$1:$AX$1,0))","v":104},{"$f":"INDEX(CHARGES,MATCH($D658&$F658,$AQ$2:$AQ$44&$AR$2:$AR$44,0),MATCH(K$1,$AS$1:$AX$1,0))","v":2620},{"$f":"INDEX(CHARGES,MATCH($D658&$F658,$AQ$2:$AQ$44&$AR$2:$AR$44,0),MATCH(L$1,$AS$1:$AX$1,0))","v":105}]
["Camooweal - Fully Serviced","Non-resident workforce accommodation","Short-term accommodation","Accommodation (short-term)","RU_2","2 or less bedrooms",5239,{"$f":"INDEX(CHARGES,MATCH($D659&$F659,$AQ$2:$AQ$44&$AR$2:$AR$44,0),MATCH(H$1,$AS$1:$AX$1,0))","v":1467},{"$f":"INDEX(CHARGES,MATCH($D659&$F659,$AQ$2:$AQ$44&$AR$2:$AR$44,0),MATCH(I$1,$AS$1:$AX$1,0))","v":943},{"$f":"INDEX(CHARGES,MATCH($D659&$F659,$AQ$2:$AQ$44&$AR$2:$AR$44,0),MATCH(J$1,$AS$1:$AX$1,0))","v":104},{"$f":"INDEX(CHARGES,MATCH($D659&$F659,$AQ$2:$AQ$44&$AR$2:$AR$44,0),MATCH(K$1,$AS$1:$AX$1,0))","v":2620},{"$f":"INDEX(CHARGES,MATCH($D659&$F659,$AQ$2:$AQ$44&$AR$2:$AR$44,0),MATCH(L$1,$AS$1:$AX$1,0))","v":105}]
["Camooweal - Fully Serviced","Non-resident workforce accommodation","Short-term accommodation","Accommodation (short-term)","RU_2","3 or more bedrooms",7335,{"$f":"INDEX(CHARGES,MATCH($D660&$F660,$AQ$2:$AQ$44&$AR$2:$AR$44,0),MATCH(H$1,$AS$1:$AX$1,0))","v":2054},{"$f":"INDEX(CHARGES,MATCH($D660&$F660,$AQ$2:$AQ$44&$AR$2:$AR$44,0),MATCH(I$1,$AS$1:$AX$1,0))","v":1320},{"$f":"INDEX(CHARGES,MATCH($D660&$F660,$AQ$2:$AQ$44&$AR$2:$AR$44,0),MATCH(J$1,$AS$1:$AX$1,0))","v":146},{"$f":"INDEX(CHARGES,MATCH($D660&$F660,$AQ$2:$AQ$44&$AR$2:$AR$44,0),MATCH(K$1,$AS$1:$AX$1,0))","v":3668},{"$f":"INDEX(CHARGES,MATCH($D660&$F660,$AQ$2:$AQ$44&$AR$2:$AR$44,0),MATCH(L$1,$AS$1:$AX$1,0))","v":147}]
["Camooweal - Fully Serviced","Place of worship","Place of worship","Places of assembly","NR_1","Gross Floor Area",37,{"$f":"INDEX(CHARGES,MATCH($D661&$F661,$AQ$2:$AQ$44&$AR$2:$AR$44,0),MATCH(H$1,$AS$1:$AX$1,0))","v":8},{"$f":"INDEX(CHARGES,MATCH($D661&$F661,$AQ$2:$AQ$44&$AR$2:$AR$44,0),MATCH(I$1,$AS$1:$AX$1,0))","v":5},{"$f":"INDEX(CHARGES,MATCH($D661&$F661,$AQ$2:$AQ$44&$AR$2:$AR$44,0),MATCH(J$1,$AS$1:$AX$1,0))","v":0},{"$f":"INDEX(CHARGES,MATCH($D661&$F661,$AQ$2:$AQ$44&$AR$2:$AR$44,0),MATCH(K$1,$AS$1:$AX$1,0))","v":24},{"$f":"INDEX(CHARGES,MATCH($D661&$F661,$AQ$2:$AQ$44&$AR$2:$AR$44,0),MATCH(L$1,$AS$1:$AX$1,0))","v":0}]
["Camooweal - Fully Serviced","Place of worship","Place of worship","Places of assembly","NR_1","Impervious Area",{"$f":"SUM(H662:L662)","v":5},{"$f":"INDEX(CHARGES,MATCH($D662&$F662,$AQ$2:$AQ$44&$AR$2:$AR$44,0),MATCH(H$1,$AS$1:$AX$1,0))","v":0},{"$f":"INDEX(CHARGES,MATCH($D662&$F662,$AQ$2:$AQ$44&$AR$2:$AR$44,0),MATCH(I$1,$AS$1:$AX$1,0))","v":0},{"$f":"INDEX(CHARGES,MATCH($D662&$F662,$AQ$2:$AQ$44&$AR$2:$AR$44,0),MATCH(J$1,$AS$1:$AX$1,0))","v":5},{"$f":"INDEX(CHARGES,MATCH($D662&$F662,$AQ$2:$AQ$44&$AR$2:$AR$44,0),MATCH(K$1,$AS$1:$AX$1,0))","v":0},{"$f":"INDEX(CHARGES,MATCH($D662&$F662,$AQ$2:$AQ$44&$AR$2:$AR$44,0),MATCH(L$1,$AS$1:$AX$1,0))","v":0}]
["Camooweal - Fully Serviced","Port services","Port service","Other uses","NR_1","Gross Floor Area",0,{"$f":"INDEX(CHARGES,MATCH($D663&$F663,$AQ$2:$AQ$44&$AR$2:$AR$44,0),MATCH(H$1,$AS$1:$AX$1,0))","v":0},{"$f":"INDEX(CHARGES,MATCH($D663&$F663,$AQ$2:$AQ$44&$AR$2:$AR$44,0),MATCH(I$1,$AS$1:$AX$1,0))","v":0},{"$f":"INDEX(CHARGES,MATCH($D663&$F663,$AQ$2:$AQ$44&$AR$2:$AR$44,0),MATCH(J$1,$AS$1:$AX$1,0))","v":0},{"$f":"INDEX(CHARGES,MATCH($D663&$F663,$AQ$2:$AQ$44&$AR$2:$AR$44,0),MATCH(K$1,$AS$1:$AX$1,0))","v":0},{"$f":"INDEX(CHARGES,MATCH($D663&$F663,$AQ$2:$AQ$44&$AR$2:$AR$44,0),MATCH(L$1,$AS$1:$AX$1,0))","v":0}]
["Camooweal - Fully Serviced","Port services","Port service","Other uses","NR_1","Impervious Area",0,{"$f":"INDEX(CHARGES,MATCH($D664&$F664,$AQ$2:$AQ$44&$AR$2:$AR$44,0),MATCH(H$1,$AS$1:$AX$1,0))","v":0},{"$f":"INDEX(CHARGES,MATCH($D664&$F664,$AQ$2:$AQ$44&$AR$2:$AR$44,0),MATCH(I$1,$AS$1:$AX$1,0))","v":0},{"$f":"INDEX(CHARGES,MATCH($D664&$F664,$AQ$2:$AQ$44&$AR$2:$AR$44,0),MATCH(J$1,$AS$1:$AX$1,0))","v":0},{"$f":"INDEX(CHARGES,MATCH($D664&$F664,$AQ$2:$AQ$44&$AR$2:$AR$44,0),MATCH(K$1,$AS$1:$AX$1,0))","v":0},{"$f":"INDEX(CHARGES,MATCH($D664&$F664,$AQ$2:$AQ$44&$AR$2:$AR$44,0),MATCH(L$1,$AS$1:$AX$1,0))","v":0}]
["Camooweal - Fully Serviced","Relocatable home park","Relocatable home park","Accommodation (long-term)","RU_1","2 or less bedrooms",10478,{"$f":"INDEX(CHARGES,MATCH($D665&$F665,$AQ$2:$AQ$44&$AR$2:$AR$44,0),MATCH(H$1,$AS$1:$AX$1,0))","v":2934},{"$f":"INDEX(CHARGES,MATCH($D665&$F665,$AQ$2:$AQ$44&$AR$2:$AR$44,0),MATCH(I$1,$AS$1:$AX$1,0))","v":1886},{"$f":"INDEX(CHARGES,MATCH($D665&$F665,$AQ$2:$AQ$44&$AR$2:$AR$44,0),MATCH(J$1,$AS$1:$AX$1,0))","v":209},{"$f":"INDEX(CHARGES,MATCH($D665&$F665,$AQ$2:$AQ$44&$AR$2:$AR$44,0),MATCH(K$1,$AS$1:$AX$1,0))","v":5239},{"$f":"INDEX(CHARGES,MATCH($D665&$F665,$AQ$2:$AQ$44&$AR$2:$AR$44,0),MATCH(L$1,$AS$1:$AX$1,0))","v":210}]
["Camooweal - Fully Serviced","Relocatable home park","Relocatable home park","Accommodation (long-term)","RU_1","3 or more bedrooms",14670,{"$f":"INDEX(CHARGES,MATCH($D666&$F666,$AQ$2:$AQ$44&$AR$2:$AR$44,0),MATCH(H$1,$AS$1:$AX$1,0))","v":4108},{"$f":"INDEX(CHARGES,MATCH($D666&$F666,$AQ$2:$AQ$44&$AR$2:$AR$44,0),MATCH(I$1,$AS$1:$AX$1,0))","v":2641},{"$f":"INDEX(CHARGES,MATCH($D666&$F666,$AQ$2:$AQ$44&$AR$2:$AR$44,0),MATCH(J$1,$AS$1:$AX$1,0))","v":293},{"$f":"INDEX(CHARGES,MATCH($D666&$F666,$AQ$2:$AQ$44&$AR$2:$AR$44,0),MATCH(K$1,$AS$1:$AX$1,0))","v":7335},{"$f":"INDEX(CHARGES,MATCH($D666&$F666,$AQ$2:$AQ$44&$AR$2:$AR$44,0),MATCH(L$1,$AS$1:$AX$1,0))","v":293}]
["Camooweal - Fully Serviced","Renewable energy facility",null,"Other uses","NR_1","Gross Floor Area",0,{"$f":"INDEX(CHARGES,MATCH($D667&$F667,$AQ$2:$AQ$44&$AR$2:$AR$44,0),MATCH(H$1,$AS$1:$AX$1,0))","v":0},{"$f":"INDEX(CHARGES,MATCH($D667&$F667,$AQ$2:$AQ$44&$AR$2:$AR$44,0),MATCH(I$1,$AS$1:$AX$1,0))","v":0},{"$f":"INDEX(CHARGES,MATCH($D667&$F667,$AQ$2:$AQ$44&$AR$2:$AR$44,0),MATCH(J$1,$AS$1:$AX$1,0))","v":0},{"$f":"INDEX(CHARGES,MATCH($D667&$F667,$AQ$2:$AQ$44&$AR$2:$AR$44,0),MATCH(K$1,$AS$1:$AX$1,0))","v":0},{"$f":"INDEX(CHARGES,MATCH($D667&$F667,$AQ$2:$AQ$44&$AR$2:$AR$44,0),MATCH(L$1,$AS$1:$AX$1,0))","v":0}]
["Camooweal - Fully Serviced","Renewable energy facility",null,"Other uses","NR_1","Impervious Area",0,{"$f":"INDEX(CHARGES,MATCH($D668&$F668,$AQ$2:$AQ$44&$AR$2:$AR$44,0),MATCH(H$1,$AS$1:$AX$1,0))","v":0},{"$f":"INDEX(CHARGES,MATCH($D668&$F668,$AQ$2:$AQ$44&$AR$2:$AR$44,0),MATCH(I$1,$AS$1:$AX$1,0))","v":0},{"$f":"INDEX(CHARGES,MATCH($D668&$F668,$AQ$2:$AQ$44&$AR$2:$AR$44,0),MATCH(J$1,$AS$1:$AX$1,0))","v":0},{"$f":"INDEX(CHARGES,MATCH($D668&$F668,$AQ$2:$AQ$44&$AR$2:$AR$44,0),MATCH(K$1,$AS$1:$AX$1,0))","v":0},{"$f":"INDEX(CHARGES,MATCH($D668&$F668,$AQ$2:$AQ$44&$AR$2:$AR$44,0),MATCH(L$1,$AS$1:$AX$1,0))","v":0}]
["Camooweal - Fully Serviced","Research and technology industry","Low impact industry","Other industry","NR_1","Gross Floor Area",26,{"$f":"INDEX(CHARGES,MATCH($D669&$F669,$AQ$2:$AQ$44&$AR$2:$AR$44,0),MATCH(H$1,$AS$1:$AX$1,0))","v":5},{"$f":"INDEX(CHARGES,MATCH($D669&$F669,$AQ$2:$AQ$44&$AR$2:$AR$44,0),MATCH(I$1,$AS$1:$AX$1,0))","v":4},{"$f":"INDEX(CHARGES,MATCH($D669&$F669,$AQ$2:$AQ$44&$AR$2:$AR$44,0),MATCH(J$1,$AS$1:$AX$1,0))","v":0},{"$f":"INDEX(CHARGES,MATCH($D669&$F669,$AQ$2:$AQ$44&$AR$2:$AR$44,0),MATCH(K$1,$AS$1:$AX$1,0))","v":17},{"$f":"INDEX(CHARGES,MATCH($D669&$F669,$AQ$2:$AQ$44&$AR$2:$AR$44,0),MATCH(L$1,$AS$1:$AX$1,0))","v":0}]
["Camooweal - Fully Serviced","Research and technology industry","Low impact industry","Other industry","NR_1","Impervious Area",5,{"$f":"INDEX(CHARGES,MATCH($D670&$F670,$AQ$2:$AQ$44&$AR$2:$AR$44,0),MATCH(H$1,$AS$1:$AX$1,0))","v":0},{"$f":"INDEX(CHARGES,MATCH($D670&$F670,$AQ$2:$AQ$44&$AR$2:$AR$44,0),MATCH(I$1,$AS$1:$AX$1,0))","v":0},{"$f":"INDEX(CHARGES,MATCH($D670&$F670,$AQ$2:$AQ$44&$AR$2:$AR$44,0),MATCH(J$1,$AS$1:$AX$1,0))","v":5},{"$f":"INDEX(CHARGES,MATCH($D670&$F670,$AQ$2:$AQ$44&$AR$2:$AR$44,0),MATCH(K$1,$AS$1:$AX$1,0))","v":0},{"$f":"INDEX(CHARGES,MATCH($D670&$F670,$AQ$2:$AQ$44&$AR$2:$AR$44,0),MATCH(L$1,$AS$1:$AX$1,0))","v":0}]
["Camooweal - Fully Serviced","Residential care facility","Short-term accommodation","Accommodation (short-term)","RU_2","bedroom that is not part of a suite",5239,{"$f":"INDEX(CHARGES,MATCH($D671&$F671,$AQ$2:$AQ$44&$AR$2:$AR$44,0),MATCH(H$1,$AS$1:$AX$1,0))","v":1467},{"$f":"INDEX(CHARGES,MATCH($D671&$F671,$AQ$2:$AQ$44&$AR$2:$AR$44,0),MATCH(I$1,$AS$1:$AX$1,0))","v":943},{"$f":"INDEX(CHARGES,MATCH($D671&$F671,$AQ$2:$AQ$44&$AR$2:$AR$44,0),MATCH(J$1,$AS$1:$AX$1,0))","v":104},{"$f":"INDEX(CHARGES,MATCH($D671&$F671,$AQ$2:$AQ$44&$AR$2:$AR$44,0),MATCH(K$1,$AS$1:$AX$1,0))","v":2620},{"$f":"INDEX(CHARGES,MATCH($D671&$F671,$AQ$2:$AQ$44&$AR$2:$AR$44,0),MATCH(L$1,$AS$1:$AX$1,0))","v":105}]
["Camooweal - Fully Serviced","Residential care facility","Short-term accommodation","Accommodation (short-term)","RU_2","2 or less bedrooms",5239,{"$f":"INDEX(CHARGES,MATCH($D672&$F672,$AQ$2:$AQ$44&$AR$2:$AR$44,0),MATCH(H$1,$AS$1:$AX$1,0))","v":1467},{"$f":"INDEX(CHARGES,MATCH($D672&$F672,$AQ$2:$AQ$44&$AR$2:$AR$44,0),MATCH(I$1,$AS$1:$AX$1,0))","v":943},{"$f":"INDEX(CHARGES,MATCH($D672&$F672,$AQ$2:$AQ$44&$AR$2:$AR$44,0),MATCH(J$1,$AS$1:$AX$1,0))","v":104},{"$f":"INDEX(CHARGES,MATCH($D672&$F672,$AQ$2:$AQ$44&$AR$2:$AR$44,0),MATCH(K$1,$AS$1:$AX$1,0))","v":2620},{"$f":"INDEX(CHARGES,MATCH($D672&$F672,$AQ$2:$AQ$44&$AR$2:$AR$44,0),MATCH(L$1,$AS$1:$AX$1,0))","v":105}]
["Camooweal - Fully Serviced","Residential care facility","Short-term accommodation","Accommodation (short-term)","RU_2","3 or more bedrooms",7335,{"$f":"INDEX(CHARGES,MATCH($D673&$F673,$AQ$2:$AQ$44&$AR$2:$AR$44,0),MATCH(H$1,$AS$1:$AX$1,0))","v":2054},{"$f":"INDEX(CHARGES,MATCH($D673&$F673,$AQ$2:$AQ$44&$AR$2:$AR$44,0),MATCH(I$1,$AS$1:$AX$1,0))","v":1320},{"$f":"INDEX(CHARGES,MATCH($D673&$F673,$AQ$2:$AQ$44&$AR$2:$AR$44,0),MATCH(J$1,$AS$1:$AX$1,0))","v":146},{"$f":"INDEX(CHARGES,MATCH($D673&$F673,$AQ$2:$AQ$44&$AR$2:$AR$44,0),MATCH(K$1,$AS$1:$AX$1,0))","v":3668},{"$f":"INDEX(CHARGES,MATCH($D673&$F673,$AQ$2:$AQ$44&$AR$2:$AR$44,0),MATCH(L$1,$AS$1:$AX$1,0))","v":147}]
["Camooweal - Fully Serviced","Resort complex - Accommodation component","Resort complex","Accommodation (short-term)","RU_2","bedroom that is not part of a suite",{"$f":"SUM(H674:L674)","v":5239},{"$f":"INDEX(CHARGES,MATCH($D674&$F674,$AQ$2:$AQ$44&$AR$2:$AR$44,0),MATCH(H$1,$AS$1:$AX$1,0))","v":1467},{"$f":"INDEX(CHARGES,MATCH($D674&$F674,$AQ$2:$AQ$44&$AR$2:$AR$44,0),MATCH(I$1,$AS$1:$AX$1,0))","v":943},{"$f":"INDEX(CHARGES,MATCH($D674&$F674,$AQ$2:$AQ$44&$AR$2:$AR$44,0),MATCH(J$1,$AS$1:$AX$1,0))","v":104},{"$f":"INDEX(CHARGES,MATCH($D674&$F674,$AQ$2:$AQ$44&$AR$2:$AR$44,0),MATCH(K$1,$AS$1:$AX$1,0))","v":2620},{"$f":"INDEX(CHARGES,MATCH($D674&$F674,$AQ$2:$AQ$44&$AR$2:$AR$44,0),MATCH(L$1,$AS$1:$AX$1,0))","v":105}]
["Camooweal - Fully Serviced","Resort complex - Accommodation component","Resort complex","Accommodation (short-term)","RU_2","2 or less bedrooms",{"$f":"SUM(H675:L675)","v":5239},{"$f":"INDEX(CHARGES,MATCH($D675&$F675,$AQ$2:$AQ$44&$AR$2:$AR$44,0),MATCH(H$1,$AS$1:$AX$1,0))","v":1467},{"$f":"INDEX(CHARGES,MATCH($D675&$F675,$AQ$2:$AQ$44&$AR$2:$AR$44,0),MATCH(I$1,$AS$1:$AX$1,0))","v":943},{"$f":"INDEX(CHARGES,MATCH($D675&$F675,$AQ$2:$AQ$44&$AR$2:$AR$44,0),MATCH(J$1,$AS$1:$AX$1,0))","v":104},{"$f":"INDEX(CHARGES,MATCH($D675&$F675,$AQ$2:$AQ$44&$AR$2:$AR$44,0),MATCH(K$1,$AS$1:$AX$1,0))","v":2620},{"$f":"INDEX(CHARGES,MATCH($D675&$F675,$AQ$2:$AQ$44&$AR$2:$AR$44,0),MATCH(L$1,$AS$1:$AX$1,0))","v":105}]
["Camooweal - Fully Serviced","Resort complex - Accommodation component","Resort complex","Accommodation (short-term)","RU_2","3 or more bedrooms",{"$f":"SUM(H676:L676)","v":7335},{"$f":"INDEX(CHARGES,MATCH($D676&$F676,$AQ$2:$AQ$44&$AR$2:$AR$44,0),MATCH(H$1,$AS$1:$AX$1,0))","v":2054},{"$f":"INDEX(CHARGES,MATCH($D676&$F676,$AQ$2:$AQ$44&$AR$2:$AR$44,0),MATCH(I$1,$AS$1:$AX$1,0))","v":1320},{"$f":"INDEX(CHARGES,MATCH($D676&$F676,$AQ$2:$AQ$44&$AR$2:$AR$44,0),MATCH(J$1,$AS$1:$AX$1,0))","v":146},{"$f":"INDEX(CHARGES,MATCH($D676&$F676,$AQ$2:$AQ$44&$AR$2:$AR$44,0),MATCH(K$1,$AS$1:$AX$1,0))","v":3668},{"$f":"INDEX(CHARGES,MATCH($D676&$F676,$AQ$2:$AQ$44&$AR$2:$AR$44,0),MATCH(L$1,$AS$1:$AX$1,0))","v":147}]
["Camooweal - Fully Serviced","Resort complex - Entertainment component","Resort complex","Entertainment","NR_1","Gross Floor Area",{"$f":"SUM(H677:L677)","v":105},{"$f":"INDEX(CHARGES,MATCH($D677&$F677,$AQ$2:$AQ$44&$AR$2:$AR$44,0),MATCH(H$1,$AS$1:$AX$1,0))","v":22},{"$f":"INDEX(CHARGES,MATCH($D677&$F677,$AQ$2:$AQ$44&$AR$2:$AR$44,0),MATCH(I$1,$AS$1:$AX$1,0))","v":15},{"$f":"INDEX(CHARGES,MATCH($D677&$F677,$AQ$2:$AQ$44&$AR$2:$AR$44,0),MATCH(J$1,$AS$1:$AX$1,0))","v":0},{"$f":"INDEX(CHARGES,MATCH($D677&$F677,$AQ$2:$AQ$44&$AR$2:$AR$44,0),MATCH(K$1,$AS$1:$AX$1,0))","v":68},{"$f":"INDEX(CHARGES,MATCH($D677&$F677,$AQ$2:$AQ$44&$AR$2:$AR$44,0),MATCH(L$1,$AS$1:$AX$1,0))","v":0}]
["Camooweal - Fully Serviced","Resort complex - Entertainment component","Resort complex","Entertainment","NR_1","Impervious Area",{"$f":"SUM(H678:L678)","v":5},{"$f":"INDEX(CHARGES,MATCH($D678&$F678,$AQ$2:$AQ$44&$AR$2:$AR$44,0),MATCH(H$1,$AS$1:$AX$1,0))","v":0},{"$f":"INDEX(CHARGES,MATCH($D678&$F678,$AQ$2:$AQ$44&$AR$2:$AR$44,0),MATCH(I$1,$AS$1:$AX$1,0))","v":0},{"$f":"INDEX(CHARGES,MATCH($D678&$F678,$AQ$2:$AQ$44&$AR$2:$AR$44,0),MATCH(J$1,$AS$1:$AX$1,0))","v":5},{"$f":"INDEX(CHARGES,MATCH($D678&$F678,$AQ$2:$AQ$44&$AR$2:$AR$44,0),MATCH(K$1,$AS$1:$AX$1,0))","v":0},{"$f":"INDEX(CHARGES,MATCH($D678&$F678,$AQ$2:$AQ$44&$AR$2:$AR$44,0),MATCH(L$1,$AS$1:$AX$1,0))","v":0}]
["Camooweal - Fully Serviced","Retirement facility","Retirement facility","Accommodation (long-term)","RU_2","bedroom that is not part of a suite",10478,{"$f":"INDEX(CHARGES,MATCH($D679&$F679,$AQ$2:$AQ$44&$AR$2:$AR$44,0),MATCH(H$1,$AS$1:$AX$1,0))","v":2934},{"$f":"INDEX(CHARGES,MATCH($D679&$F679,$AQ$2:$AQ$44&$AR$2:$AR$44,0),MATCH(I$1,$AS$1:$AX$1,0))","v":1886},{"$f":"INDEX(CHARGES,MATCH($D679&$F679,$AQ$2:$AQ$44&$AR$2:$AR$44,0),MATCH(J$1,$AS$1:$AX$1,0))","v":209},{"$f":"INDEX(CHARGES,MATCH($D679&$F679,$AQ$2:$AQ$44&$AR$2:$AR$44,0),MATCH(K$1,$AS$1:$AX$1,0))","v":5239},{"$f":"INDEX(CHARGES,MATCH($D679&$F679,$AQ$2:$AQ$44&$AR$2:$AR$44,0),MATCH(L$1,$AS$1:$AX$1,0))","v":210}]
["Camooweal - Fully Serviced","Retirement facility","Retirement facility","Accommodation (long-term)","RU_2","2 or less bedrooms",10478,{"$f":"INDEX(CHARGES,MATCH($D680&$F680,$AQ$2:$AQ$44&$AR$2:$AR$44,0),MATCH(H$1,$AS$1:$AX$1,0))","v":2934},{"$f":"INDEX(CHARGES,MATCH($D680&$F680,$AQ$2:$AQ$44&$AR$2:$AR$44,0),MATCH(I$1,$AS$1:$AX$1,0))","v":1886},{"$f":"INDEX(CHARGES,MATCH($D680&$F680,$AQ$2:$AQ$44&$AR$2:$AR$44,0),MATCH(J$1,$AS$1:$AX$1,0))","v":209},{"$f":"INDEX(CHARGES,MATCH($D680&$F680,$AQ$2:$AQ$44&$AR$2:$AR$44,0),MATCH(K$1,$AS$1:$AX$1,0))","v":5239},{"$f":"INDEX(CHARGES,MATCH($D680&$F680,$AQ$2:$AQ$44&$AR$2:$AR$44,0),MATCH(L$1,$AS$1:$AX$1,0))","v":210}]
["Camooweal - Fully Serviced","Retirement facility","Retirement facility","Accommodation (long-term)","RU_2","3 or more bedrooms",14670,{"$f":"INDEX(CHARGES,MATCH($D681&$F681,$AQ$2:$AQ$44&$AR$2:$AR$44,0),MATCH(H$1,$AS$1:$AX$1,0))","v":4108},{"$f":"INDEX(CHARGES,MATCH($D681&$F681,$AQ$2:$AQ$44&$AR$2:$AR$44,0),MATCH(I$1,$AS$1:$AX$1,0))","v":2641},{"$f":"INDEX(CHARGES,MATCH($D681&$F681,$AQ$2:$AQ$44&$AR$2:$AR$44,0),MATCH(J$1,$AS$1:$AX$1,0))","v":293},{"$f":"INDEX(CHARGES,MATCH($D681&$F681,$AQ$2:$AQ$44&$AR$2:$AR$44,0),MATCH(K$1,$AS$1:$AX$1,0))","v":7335},{"$f":"INDEX(CHARGES,MATCH($D681&$F681,$AQ$2:$AQ$44&$AR$2:$AR$44,0),MATCH(L$1,$AS$1:$AX$1,0))","v":293}]
["Camooweal - Fully Serviced","Roadside stall","Roadside stall","Minor uses","NR_3","Gross Floor Area",0,{"$f":"INDEX(CHARGES,MATCH($D682&$F682,$AQ$2:$AQ$44&$AR$2:$AR$44,0),MATCH(H$1,$AS$1:$AX$1,0))","v":0},{"$f":"INDEX(CHARGES,MATCH($D682&$F682,$AQ$2:$AQ$44&$AR$2:$AR$44,0),MATCH(I$1,$AS$1:$AX$1,0))","v":0},{"$f":"INDEX(CHARGES,MATCH($D682&$F682,$AQ$2:$AQ$44&$AR$2:$AR$44,0),MATCH(J$1,$AS$1:$AX$1,0))","v":0},{"$f":"INDEX(CHARGES,MATCH($D682&$F682,$AQ$2:$AQ$44&$AR$2:$AR$44,0),MATCH(K$1,$AS$1:$AX$1,0))","v":0},{"$f":"INDEX(CHARGES,MATCH($D682&$F682,$AQ$2:$AQ$44&$AR$2:$AR$44,0),MATCH(L$1,$AS$1:$AX$1,0))","v":0}]
["Camooweal - Fully Serviced","Rooming accommodation","Rooming accommodation","Accommodation (long-term)","RU_2","bedroom that is not part of a suite",10478,{"$f":"INDEX(CHARGES,MATCH($D683&$F683,$AQ$2:$AQ$44&$AR$2:$AR$44,0),MATCH(H$1,$AS$1:$AX$1,0))","v":2934},{"$f":"INDEX(CHARGES,MATCH($D683&$F683,$AQ$2:$AQ$44&$AR$2:$AR$44,0),MATCH(I$1,$AS$1:$AX$1,0))","v":1886},{"$f":"INDEX(CHARGES,MATCH($D683&$F683,$AQ$2:$AQ$44&$AR$2:$AR$44,0),MATCH(J$1,$AS$1:$AX$1,0))","v":209},{"$f":"INDEX(CHARGES,MATCH($D683&$F683,$AQ$2:$AQ$44&$AR$2:$AR$44,0),MATCH(K$1,$AS$1:$AX$1,0))","v":5239},{"$f":"INDEX(CHARGES,MATCH($D683&$F683,$AQ$2:$AQ$44&$AR$2:$AR$44,0),MATCH(L$1,$AS$1:$AX$1,0))","v":210}]
["Camooweal - Fully Serviced","Rooming accommodation","Rooming accommodation","Accommodation (long-term)","RU_2","2 or less bedrooms",10478,{"$f":"INDEX(CHARGES,MATCH($D684&$F684,$AQ$2:$AQ$44&$AR$2:$AR$44,0),MATCH(H$1,$AS$1:$AX$1,0))","v":2934},{"$f":"INDEX(CHARGES,MATCH($D684&$F684,$AQ$2:$AQ$44&$AR$2:$AR$44,0),MATCH(I$1,$AS$1:$AX$1,0))","v":1886},{"$f":"INDEX(CHARGES,MATCH($D684&$F684,$AQ$2:$AQ$44&$AR$2:$AR$44,0),MATCH(J$1,$AS$1:$AX$1,0))","v":209},{"$f":"INDEX(CHARGES,MATCH($D684&$F684,$AQ$2:$AQ$44&$AR$2:$AR$44,0),MATCH(K$1,$AS$1:$AX$1,0))","v":5239},{"$f":"INDEX(CHARGES,MATCH($D684&$F684,$AQ$2:$AQ$44&$AR$2:$AR$44,0),MATCH(L$1,$AS$1:$AX$1,0))","v":210}]
["Camooweal - Fully Serviced","Rooming accommodation","Rooming accommodation","Accommodation (long-term)","RU_2","3 or more bedrooms",14670,{"$f":"INDEX(CHARGES,MATCH($D685&$F685,$AQ$2:$AQ$44&$AR$2:$AR$44,0),MATCH(H$1,$AS$1:$AX$1,0))","v":4108},{"$f":"INDEX(CHARGES,MATCH($D685&$F685,$AQ$2:$AQ$44&$AR$2:$AR$44,0),MATCH(I$1,$AS$1:$AX$1,0))","v":2641},{"$f":"INDEX(CHARGES,MATCH($D685&$F685,$AQ$2:$AQ$44&$AR$2:$AR$44,0),MATCH(J$1,$AS$1:$AX$1,0))","v":293},{"$f":"INDEX(CHARGES,MATCH($D685&$F685,$AQ$2:$AQ$44&$AR$2:$AR$44,0),MATCH(K$1,$AS$1:$AX$1,0))","v":7335},{"$f":"INDEX(CHARGES,MATCH($D685&$F685,$AQ$2:$AQ$44&$AR$2:$AR$44,0),MATCH(L$1,$AS$1:$AX$1,0))","v":293}]
["Camooweal - Fully Serviced","Rural industry","Rural industry","Other industry","NR_1","Gross Floor Area",26,{"$f":"INDEX(CHARGES,MATCH($D686&$F686,$AQ$2:$AQ$44&$AR$2:$AR$44,0),MATCH(H$1,$AS$1:$AX$1,0))","v":5},{"$f":"INDEX(CHARGES,MATCH($D686&$F686,$AQ$2:$AQ$44&$AR$2:$AR$44,0),MATCH(I$1,$AS$1:$AX$1,0))","v":4},{"$f":"INDEX(CHARGES,MATCH($D686&$F686,$AQ$2:$AQ$44&$AR$2:$AR$44,0),MATCH(J$1,$AS$1:$AX$1,0))","v":0},{"$f":"INDEX(CHARGES,MATCH($D686&$F686,$AQ$2:$AQ$44&$AR$2:$AR$44,0),MATCH(K$1,$AS$1:$AX$1,0))","v":17},{"$f":"INDEX(CHARGES,MATCH($D686&$F686,$AQ$2:$AQ$44&$AR$2:$AR$44,0),MATCH(L$1,$AS$1:$AX$1,0))","v":0}]
["Camooweal - Fully Serviced","Rural industry","Rural industry","Other industry","NR_1","Impervious Area",5,{"$f":"INDEX(CHARGES,MATCH($D687&$F687,$AQ$2:$AQ$44&$AR$2:$AR$44,0),MATCH(H$1,$AS$1:$AX$1,0))","v":0},{"$f":"INDEX(CHARGES,MATCH($D687&$F687,$AQ$2:$AQ$44&$AR$2:$AR$44,0),MATCH(I$1,$AS$1:$AX$1,0))","v":0},{"$f":"INDEX(CHARGES,MATCH($D687&$F687,$AQ$2:$AQ$44&$AR$2:$AR$44,0),MATCH(J$1,$AS$1:$AX$1,0))","v":5},{"$f":"INDEX(CHARGES,MATCH($D687&$F687,$AQ$2:$AQ$44&$AR$2:$AR$44,0),MATCH(K$1,$AS$1:$AX$1,0))","v":0},{"$f":"INDEX(CHARGES,MATCH($D687&$F687,$AQ$2:$AQ$44&$AR$2:$AR$44,0),MATCH(L$1,$AS$1:$AX$1,0))","v":0}]
["Camooweal - Fully Serviced","Rural workers accommodation","Short-term accommodation","Accommodation (short-term)","RU_2","bedroom that is not part of a suite",5239,{"$f":"INDEX(CHARGES,MATCH($D688&$F688,$AQ$2:$AQ$44&$AR$2:$AR$44,0),MATCH(H$1,$AS$1:$AX$1,0))","v":1467},{"$f":"INDEX(CHARGES,MATCH($D688&$F688,$AQ$2:$AQ$44&$AR$2:$AR$44,0),MATCH(I$1,$AS$1:$AX$1,0))","v":943},{"$f":"INDEX(CHARGES,MATCH($D688&$F688,$AQ$2:$AQ$44&$AR$2:$AR$44,0),MATCH(J$1,$AS$1:$AX$1,0))","v":104},{"$f":"INDEX(CHARGES,MATCH($D688&$F688,$AQ$2:$AQ$44&$AR$2:$AR$44,0),MATCH(K$1,$AS$1:$AX$1,0))","v":2620},{"$f":"INDEX(CHARGES,MATCH($D688&$F688,$AQ$2:$AQ$44&$AR$2:$AR$44,0),MATCH(L$1,$AS$1:$AX$1,0))","v":105}]
["Camooweal - Fully Serviced","Rural workers accommodation","Short-term accommodation","Accommodation (short-term)","RU_2","2 or less bedrooms",5239,{"$f":"INDEX(CHARGES,MATCH($D689&$F689,$AQ$2:$AQ$44&$AR$2:$AR$44,0),MATCH(H$1,$AS$1:$AX$1,0))","v":1467},{"$f":"INDEX(CHARGES,MATCH($D689&$F689,$AQ$2:$AQ$44&$AR$2:$AR$44,0),MATCH(I$1,$AS$1:$AX$1,0))","v":943},{"$f":"INDEX(CHARGES,MATCH($D689&$F689,$AQ$2:$AQ$44&$AR$2:$AR$44,0),MATCH(J$1,$AS$1:$AX$1,0))","v":104},{"$f":"INDEX(CHARGES,MATCH($D689&$F689,$AQ$2:$AQ$44&$AR$2:$AR$44,0),MATCH(K$1,$AS$1:$AX$1,0))","v":2620},{"$f":"INDEX(CHARGES,MATCH($D689&$F689,$AQ$2:$AQ$44&$AR$2:$AR$44,0),MATCH(L$1,$AS$1:$AX$1,0))","v":105}]
["Camooweal - Fully Serviced","Rural workers accommodation","Short-term accommodation","Accommodation (short-term)","RU_2","3 or more bedrooms",7335,{"$f":"INDEX(CHARGES,MATCH($D690&$F690,$AQ$2:$AQ$44&$AR$2:$AR$44,0),MATCH(H$1,$AS$1:$AX$1,0))","v":2054},{"$f":"INDEX(CHARGES,MATCH($D690&$F690,$AQ$2:$AQ$44&$AR$2:$AR$44,0),MATCH(I$1,$AS$1:$AX$1,0))","v":1320},{"$f":"INDEX(CHARGES,MATCH($D690&$F690,$AQ$2:$AQ$44&$AR$2:$AR$44,0),MATCH(J$1,$AS$1:$AX$1,0))","v":146},{"$f":"INDEX(CHARGES,MATCH($D690&$F690,$AQ$2:$AQ$44&$AR$2:$AR$44,0),MATCH(K$1,$AS$1:$AX$1,0))","v":3668},{"$f":"INDEX(CHARGES,MATCH($D690&$F690,$AQ$2:$AQ$44&$AR$2:$AR$44,0),MATCH(L$1,$AS$1:$AX$1,0))","v":147}]
["Camooweal - Fully Serviced","Sales office","Sales office","Commercial (office)","NR_1","Gross Floor Area",73,{"$f":"INDEX(CHARGES,MATCH($D691&$F691,$AQ$2:$AQ$44&$AR$2:$AR$44,0),MATCH(H$1,$AS$1:$AX$1,0))","v":15},{"$f":"INDEX(CHARGES,MATCH($D691&$F691,$AQ$2:$AQ$44&$AR$2:$AR$44,0),MATCH(I$1,$AS$1:$AX$1,0))","v":10},{"$f":"INDEX(CHARGES,MATCH($D691&$F691,$AQ$2:$AQ$44&$AR$2:$AR$44,0),MATCH(J$1,$AS$1:$AX$1,0))","v":0},{"$f":"INDEX(CHARGES,MATCH($D691&$F691,$AQ$2:$AQ$44&$AR$2:$AR$44,0),MATCH(K$1,$AS$1:$AX$1,0))","v":48},{"$f":"INDEX(CHARGES,MATCH($D691&$F691,$AQ$2:$AQ$44&$AR$2:$AR$44,0),MATCH(L$1,$AS$1:$AX$1,0))","v":0}]
["Camooweal - Fully Serviced","Sales office","Sales office","Commercial (office)","NR_1","Impervious Area",5,{"$f":"INDEX(CHARGES,MATCH($D692&$F692,$AQ$2:$AQ$44&$AR$2:$AR$44,0),MATCH(H$1,$AS$1:$AX$1,0))","v":0},{"$f":"INDEX(CHARGES,MATCH($D692&$F692,$AQ$2:$AQ$44&$AR$2:$AR$44,0),MATCH(I$1,$AS$1:$AX$1,0))","v":0},{"$f":"INDEX(CHARGES,MATCH($D692&$F692,$AQ$2:$AQ$44&$AR$2:$AR$44,0),MATCH(J$1,$AS$1:$AX$1,0))","v":5},{"$f":"INDEX(CHARGES,MATCH($D692&$F692,$AQ$2:$AQ$44&$AR$2:$AR$44,0),MATCH(K$1,$AS$1:$AX$1,0))","v":0},{"$f":"INDEX(CHARGES,MATCH($D692&$F692,$AQ$2:$AQ$44&$AR$2:$AR$44,0),MATCH(L$1,$AS$1:$AX$1,0))","v":0}]
["Camooweal - Fully Serviced","Service industry","Service industry","Commercial (retail)","NR_1","Gross Floor Area",94,{"$f":"INDEX(CHARGES,MATCH($D693&$F693,$AQ$2:$AQ$44&$AR$2:$AR$44,0),MATCH(H$1,$AS$1:$AX$1,0))","v":20},{"$f":"INDEX(CHARGES,MATCH($D693&$F693,$AQ$2:$AQ$44&$AR$2:$AR$44,0),MATCH(I$1,$AS$1:$AX$1,0))","v":13},{"$f":"INDEX(CHARGES,MATCH($D693&$F693,$AQ$2:$AQ$44&$AR$2:$AR$44,0),MATCH(J$1,$AS$1:$AX$1,0))","v":0},{"$f":"INDEX(CHARGES,MATCH($D693&$F693,$AQ$2:$AQ$44&$AR$2:$AR$44,0),MATCH(K$1,$AS$1:$AX$1,0))","v":61},{"$f":"INDEX(CHARGES,MATCH($D693&$F693,$AQ$2:$AQ$44&$AR$2:$AR$44,0),MATCH(L$1,$AS$1:$AX$1,0))","v":0}]
["Camooweal - Fully Serviced","Service industry","Service industry","Commercial (retail)","NR_1","Impervious Area",5,{"$f":"INDEX(CHARGES,MATCH($D694&$F694,$AQ$2:$AQ$44&$AR$2:$AR$44,0),MATCH(H$1,$AS$1:$AX$1,0))","v":0},{"$f":"INDEX(CHARGES,MATCH($D694&$F694,$AQ$2:$AQ$44&$AR$2:$AR$44,0),MATCH(I$1,$AS$1:$AX$1,0))","v":0},{"$f":"INDEX(CHARGES,MATCH($D694&$F694,$AQ$2:$AQ$44&$AR$2:$AR$44,0),MATCH(J$1,$AS$1:$AX$1,0))","v":5},{"$f":"INDEX(CHARGES,MATCH($D694&$F694,$AQ$2:$AQ$44&$AR$2:$AR$44,0),MATCH(K$1,$AS$1:$AX$1,0))","v":0},{"$f":"INDEX(CHARGES,MATCH($D694&$F694,$AQ$2:$AQ$44&$AR$2:$AR$44,0),MATCH(L$1,$AS$1:$AX$1,0))","v":0}]
["Camooweal - Fully Serviced","Service station","Service station","Commercial (retail)","NR_1","Gross Floor Area",94,{"$f":"INDEX(CHARGES,MATCH($D695&$F695,$AQ$2:$AQ$44&$AR$2:$AR$44,0),MATCH(H$1,$AS$1:$AX$1,0))","v":20},{"$f":"INDEX(CHARGES,MATCH($D695&$F695,$AQ$2:$AQ$44&$AR$2:$AR$44,0),MATCH(I$1,$AS$1:$AX$1,0))","v":13},{"$f":"INDEX(CHARGES,MATCH($D695&$F695,$AQ$2:$AQ$44&$AR$2:$AR$44,0),MATCH(J$1,$AS$1:$AX$1,0))","v":0},{"$f":"INDEX(CHARGES,MATCH($D695&$F695,$AQ$2:$AQ$44&$AR$2:$AR$44,0),MATCH(K$1,$AS$1:$AX$1,0))","v":61},{"$f":"INDEX(CHARGES,MATCH($D695&$F695,$AQ$2:$AQ$44&$AR$2:$AR$44,0),MATCH(L$1,$AS$1:$AX$1,0))","v":0}]
["Camooweal - Fully Serviced","Service station","Service station","Commercial (retail)","NR_1","Impervious Area",5,{"$f":"INDEX(CHARGES,MATCH($D696&$F696,$AQ$2:$AQ$44&$AR$2:$AR$44,0),MATCH(H$1,$AS$1:$AX$1,0))","v":0},{"$f":"INDEX(CHARGES,MATCH($D696&$F696,$AQ$2:$AQ$44&$AR$2:$AR$44,0),MATCH(I$1,$AS$1:$AX$1,0))","v":0},{"$f":"INDEX(CHARGES,MATCH($D696&$F696,$AQ$2:$AQ$44&$AR$2:$AR$44,0),MATCH(J$1,$AS$1:$AX$1,0))","v":5},{"$f":"INDEX(CHARGES,MATCH($D696&$F696,$AQ$2:$AQ$44&$AR$2:$AR$44,0),MATCH(K$1,$AS$1:$AX$1,0))","v":0},{"$f":"INDEX(CHARGES,MATCH($D696&$F696,$AQ$2:$AQ$44&$AR$2:$AR$44,0),MATCH(L$1,$AS$1:$AX$1,0))","v":0}]
["Camooweal - Fully Serviced","Shop","Shop","Commercial (retail)","NR_1","Gross Floor Area",94,{"$f":"INDEX(CHARGES,MATCH($D697&$F697,$AQ$2:$AQ$44&$AR$2:$AR$44,0),MATCH(H$1,$AS$1:$AX$1,0))","v":20},{"$f":"INDEX(CHARGES,MATCH($D697&$F697,$AQ$2:$AQ$44&$AR$2:$AR$44,0),MATCH(I$1,$AS$1:$AX$1,0))","v":13},{"$f":"INDEX(CHARGES,MATCH($D697&$F697,$AQ$2:$AQ$44&$AR$2:$AR$44,0),MATCH(J$1,$AS$1:$AX$1,0))","v":0},{"$f":"INDEX(CHARGES,MATCH($D697&$F697,$AQ$2:$AQ$44&$AR$2:$AR$44,0),MATCH(K$1,$AS$1:$AX$1,0))","v":61},{"$f":"INDEX(CHARGES,MATCH($D697&$F697,$AQ$2:$AQ$44&$AR$2:$AR$44,0),MATCH(L$1,$AS$1:$AX$1,0))","v":0}]
["Camooweal - Fully Serviced","Shop","Shop","Commercial (retail)","NR_1","Impervious Area",5,{"$f":"INDEX(CHARGES,MATCH($D698&$F698,$AQ$2:$AQ$44&$AR$2:$AR$44,0),MATCH(H$1,$AS$1:$AX$1,0))","v":0},{"$f":"INDEX(CHARGES,MATCH($D698&$F698,$AQ$2:$AQ$44&$AR$2:$AR$44,0),MATCH(I$1,$AS$1:$AX$1,0))","v":0},{"$f":"INDEX(CHARGES,MATCH($D698&$F698,$AQ$2:$AQ$44&$AR$2:$AR$44,0),MATCH(J$1,$AS$1:$AX$1,0))","v":5},{"$f":"INDEX(CHARGES,MATCH($D698&$F698,$AQ$2:$AQ$44&$AR$2:$AR$44,0),MATCH(K$1,$AS$1:$AX$1,0))","v":0},{"$f":"INDEX(CHARGES,MATCH($D698&$F698,$AQ$2:$AQ$44&$AR$2:$AR$44,0),MATCH(L$1,$AS$1:$AX$1,0))","v":0}]
["Camooweal - Fully Serviced","Shopping centre","Shopping centre","Commercial (retail)","NR_1","Gross Floor Area",94,{"$f":"INDEX(CHARGES,MATCH($D699&$F699,$AQ$2:$AQ$44&$AR$2:$AR$44,0),MATCH(H$1,$AS$1:$AX$1,0))","v":20},{"$f":"INDEX(CHARGES,MATCH($D699&$F699,$AQ$2:$AQ$44&$AR$2:$AR$44,0),MATCH(I$1,$AS$1:$AX$1,0))","v":13},{"$f":"INDEX(CHARGES,MATCH($D699&$F699,$AQ$2:$AQ$44&$AR$2:$AR$44,0),MATCH(J$1,$AS$1:$AX$1,0))","v":0},{"$f":"INDEX(CHARGES,MATCH($D699&$F699,$AQ$2:$AQ$44&$AR$2:$AR$44,0),MATCH(K$1,$AS$1:$AX$1,0))","v":61},{"$f":"INDEX(CHARGES,MATCH($D699&$F699,$AQ$2:$AQ$44&$AR$2:$AR$44,0),MATCH(L$1,$AS$1:$AX$1,0))","v":0}]
["Camooweal - Fully Serviced","Shopping centre","Shopping centre","Commercial (retail)","NR_1","Impervious Area",5,{"$f":"INDEX(CHARGES,MATCH($D700&$F700,$AQ$2:$AQ$44&$AR$2:$AR$44,0),MATCH(H$1,$AS$1:$AX$1,0))","v":0},{"$f":"INDEX(CHARGES,MATCH($D700&$F700,$AQ$2:$AQ$44&$AR$2:$AR$44,0),MATCH(I$1,$AS$1:$AX$1,0))","v":0},{"$f":"INDEX(CHARGES,MATCH($D700&$F700,$AQ$2:$AQ$44&$AR$2:$AR$44,0),MATCH(J$1,$AS$1:$AX$1,0))","v":5},{"$f":"INDEX(CHARGES,MATCH($D700&$F700,$AQ$2:$AQ$44&$AR$2:$AR$44,0),MATCH(K$1,$AS$1:$AX$1,0))","v":0},{"$f":"INDEX(CHARGES,MATCH($D700&$F700,$AQ$2:$AQ$44&$AR$2:$AR$44,0),MATCH(L$1,$AS$1:$AX$1,0))","v":0}]
["Camooweal - Fully Serviced","Short-term accommodation","Short-term accommodation","Accommodation (short-term)","RU_2","bedroom that is not part of a suite",5239,{"$f":"INDEX(CHARGES,MATCH($D701&$F701,$AQ$2:$AQ$44&$AR$2:$AR$44,0),MATCH(H$1,$AS$1:$AX$1,0))","v":1467},{"$f":"INDEX(CHARGES,MATCH($D701&$F701,$AQ$2:$AQ$44&$AR$2:$AR$44,0),MATCH(I$1,$AS$1:$AX$1,0))","v":943},{"$f":"INDEX(CHARGES,MATCH($D701&$F701,$AQ$2:$AQ$44&$AR$2:$AR$44,0),MATCH(J$1,$AS$1:$AX$1,0))","v":104},{"$f":"INDEX(CHARGES,MATCH($D701&$F701,$AQ$2:$AQ$44&$AR$2:$AR$44,0),MATCH(K$1,$AS$1:$AX$1,0))","v":2620},{"$f":"INDEX(CHARGES,MATCH($D701&$F701,$AQ$2:$AQ$44&$AR$2:$AR$44,0),MATCH(L$1,$AS$1:$AX$1,0))","v":105}]
["Camooweal - Fully Serviced","Short-term accommodation","Short-term accommodation","Accommodation (short-term)","RU_2","2 or less bedrooms",5239,{"$f":"INDEX(CHARGES,MATCH($D702&$F702,$AQ$2:$AQ$44&$AR$2:$AR$44,0),MATCH(H$1,$AS$1:$AX$1,0))","v":1467},{"$f":"INDEX(CHARGES,MATCH($D702&$F702,$AQ$2:$AQ$44&$AR$2:$AR$44,0),MATCH(I$1,$AS$1:$AX$1,0))","v":943},{"$f":"INDEX(CHARGES,MATCH($D702&$F702,$AQ$2:$AQ$44&$AR$2:$AR$44,0),MATCH(J$1,$AS$1:$AX$1,0))","v":104},{"$f":"INDEX(CHARGES,MATCH($D702&$F702,$AQ$2:$AQ$44&$AR$2:$AR$44,0),MATCH(K$1,$AS$1:$AX$1,0))","v":2620},{"$f":"INDEX(CHARGES,MATCH($D702&$F702,$AQ$2:$AQ$44&$AR$2:$AR$44,0),MATCH(L$1,$AS$1:$AX$1,0))","v":105}]
["Camooweal - Fully Serviced","Short-term accommodation","Short-term accommodation","Accommodation (short-term)","RU_2","3 or more bedrooms",7335,{"$f":"INDEX(CHARGES,MATCH($D703&$F703,$AQ$2:$AQ$44&$AR$2:$AR$44,0),MATCH(H$1,$AS$1:$AX$1,0))","v":2054},{"$f":"INDEX(CHARGES,MATCH($D703&$F703,$AQ$2:$AQ$44&$AR$2:$AR$44,0),MATCH(I$1,$AS$1:$AX$1,0))","v":1320},{"$f":"INDEX(CHARGES,MATCH($D703&$F703,$AQ$2:$AQ$44&$AR$2:$AR$44,0),MATCH(J$1,$AS$1:$AX$1,0))","v":146},{"$f":"INDEX(CHARGES,MATCH($D703&$F703,$AQ$2:$AQ$44&$AR$2:$AR$44,0),MATCH(K$1,$AS$1:$AX$1,0))","v":3668},{"$f":"INDEX(CHARGES,MATCH($D703&$F703,$AQ$2:$AQ$44&$AR$2:$AR$44,0),MATCH(L$1,$AS$1:$AX$1,0))","v":147}]
["Camooweal - Fully Serviced","Showroom","Showroom","Commercial (bulk goods)","NR_1","Gross Floor Area",73,{"$f":"INDEX(CHARGES,MATCH($D704&$F704,$AQ$2:$AQ$44&$AR$2:$AR$44,0),MATCH(H$1,$AS$1:$AX$1,0))","v":15},{"$f":"INDEX(CHARGES,MATCH($D704&$F704,$AQ$2:$AQ$44&$AR$2:$AR$44,0),MATCH(I$1,$AS$1:$AX$1,0))","v":10},{"$f":"INDEX(CHARGES,MATCH($D704&$F704,$AQ$2:$AQ$44&$AR$2:$AR$44,0),MATCH(J$1,$AS$1:$AX$1,0))","v":0},{"$f":"INDEX(CHARGES,MATCH($D704&$F704,$AQ$2:$AQ$44&$AR$2:$AR$44,0),MATCH(K$1,$AS$1:$AX$1,0))","v":48},{"$f":"INDEX(CHARGES,MATCH($D704&$F704,$AQ$2:$AQ$44&$AR$2:$AR$44,0),MATCH(L$1,$AS$1:$AX$1,0))","v":0}]
["Camooweal - Fully Serviced","Showroom","Showroom","Commercial (bulk goods)","NR_1","Impervious Area",5,{"$f":"INDEX(CHARGES,MATCH($D705&$F705,$AQ$2:$AQ$44&$AR$2:$AR$44,0),MATCH(H$1,$AS$1:$AX$1,0))","v":0},{"$f":"INDEX(CHARGES,MATCH($D705&$F705,$AQ$2:$AQ$44&$AR$2:$AR$44,0),MATCH(I$1,$AS$1:$AX$1,0))","v":0},{"$f":"INDEX(CHARGES,MATCH($D705&$F705,$AQ$2:$AQ$44&$AR$2:$AR$44,0),MATCH(J$1,$AS$1:$AX$1,0))","v":5},{"$f":"INDEX(CHARGES,MATCH($D705&$F705,$AQ$2:$AQ$44&$AR$2:$AR$44,0),MATCH(K$1,$AS$1:$AX$1,0))","v":0},{"$f":"INDEX(CHARGES,MATCH($D705&$F705,$AQ$2:$AQ$44&$AR$2:$AR$44,0),MATCH(L$1,$AS$1:$AX$1,0))","v":0}]
["Camooweal - Fully Serviced","Special industry","Special industry","High impact industry or special industry","NR_1","Gross Floor Area",37,{"$f":"INDEX(CHARGES,MATCH($D706&$F706,$AQ$2:$AQ$44&$AR$2:$AR$44,0),MATCH(H$1,$AS$1:$AX$1,0))","v":8},{"$f":"INDEX(CHARGES,MATCH($D706&$F706,$AQ$2:$AQ$44&$AR$2:$AR$44,0),MATCH(I$1,$AS$1:$AX$1,0))","v":5},{"$f":"INDEX(CHARGES,MATCH($D706&$F706,$AQ$2:$AQ$44&$AR$2:$AR$44,0),MATCH(J$1,$AS$1:$AX$1,0))","v":0},{"$f":"INDEX(CHARGES,MATCH($D706&$F706,$AQ$2:$AQ$44&$AR$2:$AR$44,0),MATCH(K$1,$AS$1:$AX$1,0))","v":24},{"$f":"INDEX(CHARGES,MATCH($D706&$F706,$AQ$2:$AQ$44&$AR$2:$AR$44,0),MATCH(L$1,$AS$1:$AX$1,0))","v":0}]
["Camooweal - Fully Serviced","Special industry","Special industry","High impact industry or special industry","NR_1","Impervious Area",5,{"$f":"INDEX(CHARGES,MATCH($D707&$F707,$AQ$2:$AQ$44&$AR$2:$AR$44,0),MATCH(H$1,$AS$1:$AX$1,0))","v":0},{"$f":"INDEX(CHARGES,MATCH($D707&$F707,$AQ$2:$AQ$44&$AR$2:$AR$44,0),MATCH(I$1,$AS$1:$AX$1,0))","v":0},{"$f":"INDEX(CHARGES,MATCH($D707&$F707,$AQ$2:$AQ$44&$AR$2:$AR$44,0),MATCH(J$1,$AS$1:$AX$1,0))","v":5},{"$f":"INDEX(CHARGES,MATCH($D707&$F707,$AQ$2:$AQ$44&$AR$2:$AR$44,0),MATCH(K$1,$AS$1:$AX$1,0))","v":0},{"$f":"INDEX(CHARGES,MATCH($D707&$F707,$AQ$2:$AQ$44&$AR$2:$AR$44,0),MATCH(L$1,$AS$1:$AX$1,0))","v":0}]
["Camooweal - Fully Serviced","Substation","Utility installation","Other uses","NR_1","Gross Floor Area",0,{"$f":"INDEX(CHARGES,MATCH($D708&$F708,$AQ$2:$AQ$44&$AR$2:$AR$44,0),MATCH(H$1,$AS$1:$AX$1,0))","v":0},{"$f":"INDEX(CHARGES,MATCH($D708&$F708,$AQ$2:$AQ$44&$AR$2:$AR$44,0),MATCH(I$1,$AS$1:$AX$1,0))","v":0},{"$f":"INDEX(CHARGES,MATCH($D708&$F708,$AQ$2:$AQ$44&$AR$2:$AR$44,0),MATCH(J$1,$AS$1:$AX$1,0))","v":0},{"$f":"INDEX(CHARGES,MATCH($D708&$F708,$AQ$2:$AQ$44&$AR$2:$AR$44,0),MATCH(K$1,$AS$1:$AX$1,0))","v":0},{"$f":"INDEX(CHARGES,MATCH($D708&$F708,$AQ$2:$AQ$44&$AR$2:$AR$44,0),MATCH(L$1,$AS$1:$AX$1,0))","v":0}]
["Camooweal - Fully Serviced","Substation","Utility installation","Other uses","NR_1","Impervious Area",0,{"$f":"INDEX(CHARGES,MATCH($D709&$F709,$AQ$2:$AQ$44&$AR$2:$AR$44,0),MATCH(H$1,$AS$1:$AX$1,0))","v":0},{"$f":"INDEX(CHARGES,MATCH($D709&$F709,$AQ$2:$AQ$44&$AR$2:$AR$44,0),MATCH(I$1,$AS$1:$AX$1,0))","v":0},{"$f":"INDEX(CHARGES,MATCH($D709&$F709,$AQ$2:$AQ$44&$AR$2:$AR$44,0),MATCH(J$1,$AS$1:$AX$1,0))","v":0},{"$f":"INDEX(CHARGES,MATCH($D709&$F709,$AQ$2:$AQ$44&$AR$2:$AR$44,0),MATCH(K$1,$AS$1:$AX$1,0))","v":0},{"$f":"INDEX(CHARGES,MATCH($D709&$F709,$AQ$2:$AQ$44&$AR$2:$AR$44,0),MATCH(L$1,$AS$1:$AX$1,0))","v":0}]
["Camooweal - Fully Serviced","Telecommunications facility","Utility installation","Other uses","NR_1","Gross Floor Area",0,{"$f":"INDEX(CHARGES,MATCH($D710&$F710,$AQ$2:$AQ$44&$AR$2:$AR$44,0),MATCH(H$1,$AS$1:$AX$1,0))","v":0},{"$f":"INDEX(CHARGES,MATCH($D710&$F710,$AQ$2:$AQ$44&$AR$2:$AR$44,0),MATCH(I$1,$AS$1:$AX$1,0))","v":0},{"$f":"INDEX(CHARGES,MATCH($D710&$F710,$AQ$2:$AQ$44&$AR$2:$AR$44,0),MATCH(J$1,$AS$1:$AX$1,0))","v":0},{"$f":"INDEX(CHARGES,MATCH($D710&$F710,$AQ$2:$AQ$44&$AR$2:$AR$44,0),MATCH(K$1,$AS$1:$AX$1,0))","v":0},{"$f":"INDEX(CHARGES,MATCH($D710&$F710,$AQ$2:$AQ$44&$AR$2:$AR$44,0),MATCH(L$1,$AS$1:$AX$1,0))","v":0}]
["Camooweal - Fully Serviced","Telecommunications facility","Utility installation","Other uses","NR_1","Impervious Area",0,{"$f":"INDEX(CHARGES,MATCH($D711&$F711,$AQ$2:$AQ$44&$AR$2:$AR$44,0),MATCH(H$1,$AS$1:$AX$1,0))","v":0},{"$f":"INDEX(CHARGES,MATCH($D711&$F711,$AQ$2:$AQ$44&$AR$2:$AR$44,0),MATCH(I$1,$AS$1:$AX$1,0))","v":0},{"$f":"INDEX(CHARGES,MATCH($D711&$F711,$AQ$2:$AQ$44&$AR$2:$AR$44,0),MATCH(J$1,$AS$1:$AX$1,0))","v":0},{"$f":"INDEX(CHARGES,MATCH($D711&$F711,$AQ$2:$AQ$44&$AR$2:$AR$44,0),MATCH(K$1,$AS$1:$AX$1,0))","v":0},{"$f":"INDEX(CHARGES,MATCH($D711&$F711,$AQ$2:$AQ$44&$AR$2:$AR$44,0),MATCH(L$1,$AS$1:$AX$1,0))","v":0}]
["Camooweal - Fully Serviced","Theatre","Theatre","Entertainment","NR_1","Gross Floor Area",105,{"$f":"INDEX(CHARGES,MATCH($D712&$F712,$AQ$2:$AQ$44&$AR$2:$AR$44,0),MATCH(H$1,$AS$1:$AX$1,0))","v":22},{"$f":"INDEX(CHARGES,MATCH($D712&$F712,$AQ$2:$AQ$44&$AR$2:$AR$44,0),MATCH(I$1,$AS$1:$AX$1,0))","v":15},{"$f":"INDEX(CHARGES,MATCH($D712&$F712,$AQ$2:$AQ$44&$AR$2:$AR$44,0),MATCH(J$1,$AS$1:$AX$1,0))","v":0},{"$f":"INDEX(CHARGES,MATCH($D712&$F712,$AQ$2:$AQ$44&$AR$2:$AR$44,0),MATCH(K$1,$AS$1:$AX$1,0))","v":68},{"$f":"INDEX(CHARGES,MATCH($D712&$F712,$AQ$2:$AQ$44&$AR$2:$AR$44,0),MATCH(L$1,$AS$1:$AX$1,0))","v":0}]
["Camooweal - Fully Serviced","Theatre","Theatre","Entertainment","NR_1","Impervious Area",5,{"$f":"INDEX(CHARGES,MATCH($D713&$F713,$AQ$2:$AQ$44&$AR$2:$AR$44,0),MATCH(H$1,$AS$1:$AX$1,0))","v":0},{"$f":"INDEX(CHARGES,MATCH($D713&$F713,$AQ$2:$AQ$44&$AR$2:$AR$44,0),MATCH(I$1,$AS$1:$AX$1,0))","v":0},{"$f":"INDEX(CHARGES,MATCH($D713&$F713,$AQ$2:$AQ$44&$AR$2:$AR$44,0),MATCH(J$1,$AS$1:$AX$1,0))","v":5},{"$f":"INDEX(CHARGES,MATCH($D713&$F713,$AQ$2:$AQ$44&$AR$2:$AR$44,0),MATCH(K$1,$AS$1:$AX$1,0))","v":0},{"$f":"INDEX(CHARGES,MATCH($D713&$F713,$AQ$2:$AQ$44&$AR$2:$AR$44,0),MATCH(L$1,$AS$1:$AX$1,0))","v":0}]
["Camooweal - Fully Serviced","Tourist attraction","Tourist attraction","Other uses","NR_1","Gross Floor Area",0,{"$f":"INDEX(CHARGES,MATCH($D714&$F714,$AQ$2:$AQ$44&$AR$2:$AR$44,0),MATCH(H$1,$AS$1:$AX$1,0))","v":0},{"$f":"INDEX(CHARGES,MATCH($D714&$F714,$AQ$2:$AQ$44&$AR$2:$AR$44,0),MATCH(I$1,$AS$1:$AX$1,0))","v":0},{"$f":"INDEX(CHARGES,MATCH($D714&$F714,$AQ$2:$AQ$44&$AR$2:$AR$44,0),MATCH(J$1,$AS$1:$AX$1,0))","v":0},{"$f":"INDEX(CHARGES,MATCH($D714&$F714,$AQ$2:$AQ$44&$AR$2:$AR$44,0),MATCH(K$1,$AS$1:$AX$1,0))","v":0},{"$f":"INDEX(CHARGES,MATCH($D714&$F714,$AQ$2:$AQ$44&$AR$2:$AR$44,0),MATCH(L$1,$AS$1:$AX$1,0))","v":0}]
["Camooweal - Fully Serviced","Tourist attraction","Tourist attraction","Other uses","NR_1","Impervious Area",0,{"$f":"INDEX(CHARGES,MATCH($D715&$F715,$AQ$2:$AQ$44&$AR$2:$AR$44,0),MATCH(H$1,$AS$1:$AX$1,0))","v":0},{"$f":"INDEX(CHARGES,MATCH($D715&$F715,$AQ$2:$AQ$44&$AR$2:$AR$44,0),MATCH(I$1,$AS$1:$AX$1,0))","v":0},{"$f":"INDEX(CHARGES,MATCH($D715&$F715,$AQ$2:$AQ$44&$AR$2:$AR$44,0),MATCH(J$1,$AS$1:$AX$1,0))","v":0},{"$f":"INDEX(CHARGES,MATCH($D715&$F715,$AQ$2:$AQ$44&$AR$2:$AR$44,0),MATCH(K$1,$AS$1:$AX$1,0))","v":0},{"$f":"INDEX(CHARGES,MATCH($D715&$F715,$AQ$2:$AQ$44&$AR$2:$AR$44,0),MATCH(L$1,$AS$1:$AX$1,0))","v":0}]
["Camooweal - Fully Serviced","Tourist park","Tourist park","Accommodation (short-term)","RU_3","group of 2 sites/cabins or less",5239,{"$f":"INDEX(CHARGES,MATCH($D716&$F716,$AQ$2:$AQ$44&$AR$2:$AR$44,0),MATCH(H$1,$AS$1:$AX$1,0))","v":1467},{"$f":"INDEX(CHARGES,MATCH($D716&$F716,$AQ$2:$AQ$44&$AR$2:$AR$44,0),MATCH(I$1,$AS$1:$AX$1,0))","v":943},{"$f":"INDEX(CHARGES,MATCH($D716&$F716,$AQ$2:$AQ$44&$AR$2:$AR$44,0),MATCH(J$1,$AS$1:$AX$1,0))","v":104},{"$f":"INDEX(CHARGES,MATCH($D716&$F716,$AQ$2:$AQ$44&$AR$2:$AR$44,0),MATCH(K$1,$AS$1:$AX$1,0))","v":2620},{"$f":"INDEX(CHARGES,MATCH($D716&$F716,$AQ$2:$AQ$44&$AR$2:$AR$44,0),MATCH(L$1,$AS$1:$AX$1,0))","v":105}]
["Camooweal - Fully Serviced","Tourist park","Tourist park","Accommodation (short-term)","RU_3","group of 3 sites/cabins",7335,{"$f":"INDEX(CHARGES,MATCH($D717&$F717,$AQ$2:$AQ$44&$AR$2:$AR$44,0),MATCH(H$1,$AS$1:$AX$1,0))","v":2054},{"$f":"INDEX(CHARGES,MATCH($D717&$F717,$AQ$2:$AQ$44&$AR$2:$AR$44,0),MATCH(I$1,$AS$1:$AX$1,0))","v":1320},{"$f":"INDEX(CHARGES,MATCH($D717&$F717,$AQ$2:$AQ$44&$AR$2:$AR$44,0),MATCH(J$1,$AS$1:$AX$1,0))","v":146},{"$f":"INDEX(CHARGES,MATCH($D717&$F717,$AQ$2:$AQ$44&$AR$2:$AR$44,0),MATCH(K$1,$AS$1:$AX$1,0))","v":3668},{"$f":"INDEX(CHARGES,MATCH($D717&$F717,$AQ$2:$AQ$44&$AR$2:$AR$44,0),MATCH(L$1,$AS$1:$AX$1,0))","v":147}]
["Camooweal - Fully Serviced","Transport depot","Low impact industry","Other industry","NR_1","Gross Floor Area",26,{"$f":"INDEX(CHARGES,MATCH($D718&$F718,$AQ$2:$AQ$44&$AR$2:$AR$44,0),MATCH(H$1,$AS$1:$AX$1,0))","v":5},{"$f":"INDEX(CHARGES,MATCH($D718&$F718,$AQ$2:$AQ$44&$AR$2:$AR$44,0),MATCH(I$1,$AS$1:$AX$1,0))","v":4},{"$f":"INDEX(CHARGES,MATCH($D718&$F718,$AQ$2:$AQ$44&$AR$2:$AR$44,0),MATCH(J$1,$AS$1:$AX$1,0))","v":0},{"$f":"INDEX(CHARGES,MATCH($D718&$F718,$AQ$2:$AQ$44&$AR$2:$AR$44,0),MATCH(K$1,$AS$1:$AX$1,0))","v":17},{"$f":"INDEX(CHARGES,MATCH($D718&$F718,$AQ$2:$AQ$44&$AR$2:$AR$44,0),MATCH(L$1,$AS$1:$AX$1,0))","v":0}]
["Camooweal - Fully Serviced","Transport depot","Low impact industry","Other industry","NR_1","Impervious Area",5,{"$f":"INDEX(CHARGES,MATCH($D719&$F719,$AQ$2:$AQ$44&$AR$2:$AR$44,0),MATCH(H$1,$AS$1:$AX$1,0))","v":0},{"$f":"INDEX(CHARGES,MATCH($D719&$F719,$AQ$2:$AQ$44&$AR$2:$AR$44,0),MATCH(I$1,$AS$1:$AX$1,0))","v":0},{"$f":"INDEX(CHARGES,MATCH($D719&$F719,$AQ$2:$AQ$44&$AR$2:$AR$44,0),MATCH(J$1,$AS$1:$AX$1,0))","v":5},{"$f":"INDEX(CHARGES,MATCH($D719&$F719,$AQ$2:$AQ$44&$AR$2:$AR$44,0),MATCH(K$1,$AS$1:$AX$1,0))","v":0},{"$f":"INDEX(CHARGES,MATCH($D719&$F719,$AQ$2:$AQ$44&$AR$2:$AR$44,0),MATCH(L$1,$AS$1:$AX$1,0))","v":0}]
["Camooweal - Fully Serviced","Utility installation","Utility installation","Other uses","NR_1","Gross Floor Area",0,{"$f":"INDEX(CHARGES,MATCH($D720&$F720,$AQ$2:$AQ$44&$AR$2:$AR$44,0),MATCH(H$1,$AS$1:$AX$1,0))","v":0},{"$f":"INDEX(CHARGES,MATCH($D720&$F720,$AQ$2:$AQ$44&$AR$2:$AR$44,0),MATCH(I$1,$AS$1:$AX$1,0))","v":0},{"$f":"INDEX(CHARGES,MATCH($D720&$F720,$AQ$2:$AQ$44&$AR$2:$AR$44,0),MATCH(J$1,$AS$1:$AX$1,0))","v":0},{"$f":"INDEX(CHARGES,MATCH($D720&$F720,$AQ$2:$AQ$44&$AR$2:$AR$44,0),MATCH(K$1,$AS$1:$AX$1,0))","v":0},{"$f":"INDEX(CHARGES,MATCH($D720&$F720,$AQ$2:$AQ$44&$AR$2:$AR$44,0),MATCH(L$1,$AS$1:$AX$1,0))","v":0}]
["Camooweal - Fully Serviced","Utility installation","Utility installation","Other uses","NR_1","Impervious Area",0,{"$f":"INDEX(CHARGES,MATCH($D721&$F721,$AQ$2:$AQ$44&$AR$2:$AR$44,0),MATCH(H$1,$AS$1:$AX$1,0))","v":0},{"$f":"INDEX(CHARGES,MATCH($D721&$F721,$AQ$2:$AQ$44&$AR$2:$AR$44,0),MATCH(I$1,$AS$1:$AX$1,0))","v":0},{"$f":"INDEX(CHARGES,MATCH($D721&$F721,$AQ$2:$AQ$44&$AR$2:$AR$44,0),MATCH(J$1,$AS$1:$AX$1,0))","v":0},{"$f":"INDEX(CHARGES,MATCH($D721&$F721,$AQ$2:$AQ$44&$AR$2:$AR$44,0),MATCH(K$1,$AS$1:$AX$1,0))","v":0},{"$f":"INDEX(CHARGES,MATCH($D721&$F721,$AQ$2:$AQ$44&$AR$2:$AR$44,0),MATCH(L$1,$AS$1:$AX$1,0))","v":0}]
["Camooweal - Fully Serviced","Veterinary services","Veterinary services","Essential services","NR_1","Gross Floor Area",73,{"$f":"INDEX(CHARGES,MATCH($D722&$F722,$AQ$2:$AQ$44&$AR$2:$AR$44,0),MATCH(H$1,$AS$1:$AX$1,0))","v":15},{"$f":"INDEX(CHARGES,MATCH($D722&$F722,$AQ$2:$AQ$44&$AR$2:$AR$44,0),MATCH(I$1,$AS$1:$AX$1,0))","v":10},{"$f":"INDEX(CHARGES,MATCH($D722&$F722,$AQ$2:$AQ$44&$AR$2:$AR$44,0),MATCH(J$1,$AS$1:$AX$1,0))","v":0},{"$f":"INDEX(CHARGES,MATCH($D722&$F722,$AQ$2:$AQ$44&$AR$2:$AR$44,0),MATCH(K$1,$AS$1:$AX$1,0))","v":48},{"$f":"INDEX(CHARGES,MATCH($D722&$F722,$AQ$2:$AQ$44&$AR$2:$AR$44,0),MATCH(L$1,$AS$1:$AX$1,0))","v":0}]
["Camooweal - Fully Serviced","Veterinary services","Veterinary services","Essential services","NR_1","Impervious Area",5,{"$f":"INDEX(CHARGES,MATCH($D723&$F723,$AQ$2:$AQ$44&$AR$2:$AR$44,0),MATCH(H$1,$AS$1:$AX$1,0))","v":0},{"$f":"INDEX(CHARGES,MATCH($D723&$F723,$AQ$2:$AQ$44&$AR$2:$AR$44,0),MATCH(I$1,$AS$1:$AX$1,0))","v":0},{"$f":"INDEX(CHARGES,MATCH($D723&$F723,$AQ$2:$AQ$44&$AR$2:$AR$44,0),MATCH(J$1,$AS$1:$AX$1,0))","v":5},{"$f":"INDEX(CHARGES,MATCH($D723&$F723,$AQ$2:$AQ$44&$AR$2:$AR$44,0),MATCH(K$1,$AS$1:$AX$1,0))","v":0},{"$f":"INDEX(CHARGES,MATCH($D723&$F723,$AQ$2:$AQ$44&$AR$2:$AR$44,0),MATCH(L$1,$AS$1:$AX$1,0))","v":0}]
["Camooweal - Fully Serviced","Warehouse","Warehouse","Other industry","NR_1","Gross Floor Area",26,{"$f":"INDEX(CHARGES,MATCH($D724&$F724,$AQ$2:$AQ$44&$AR$2:$AR$44,0),MATCH(H$1,$AS$1:$AX$1,0))","v":5},{"$f":"INDEX(CHARGES,MATCH($D724&$F724,$AQ$2:$AQ$44&$AR$2:$AR$44,0),MATCH(I$1,$AS$1:$AX$1,0))","v":4},{"$f":"INDEX(CHARGES,MATCH($D724&$F724,$AQ$2:$AQ$44&$AR$2:$AR$44,0),MATCH(J$1,$AS$1:$AX$1,0))","v":0},{"$f":"INDEX(CHARGES,MATCH($D724&$F724,$AQ$2:$AQ$44&$AR$2:$AR$44,0),MATCH(K$1,$AS$1:$AX$1,0))","v":17},{"$f":"INDEX(CHARGES,MATCH($D724&$F724,$AQ$2:$AQ$44&$AR$2:$AR$44,0),MATCH(L$1,$AS$1:$AX$1,0))","v":0}]
["Camooweal - Fully Serviced","Warehouse","Warehouse","Other industry","NR_1","Impervious Area",5,{"$f":"INDEX(CHARGES,MATCH($D725&$F725,$AQ$2:$AQ$44&$AR$2:$AR$44,0),MATCH(H$1,$AS$1:$AX$1,0))","v":0},{"$f":"INDEX(CHARGES,MATCH($D725&$F725,$AQ$2:$AQ$44&$AR$2:$AR$44,0),MATCH(I$1,$AS$1:$AX$1,0))","v":0},{"$f":"INDEX(CHARGES,MATCH($D725&$F725,$AQ$2:$AQ$44&$AR$2:$AR$44,0),MATCH(J$1,$AS$1:$AX$1,0))","v":5},{"$f":"INDEX(CHARGES,MATCH($D725&$F725,$AQ$2:$AQ$44&$AR$2:$AR$44,0),MATCH(K$1,$AS$1:$AX$1,0))","v":0},{"$f":"INDEX(CHARGES,MATCH($D725&$F725,$AQ$2:$AQ$44&$AR$2:$AR$44,0),MATCH(L$1,$AS$1:$AX$1,0))","v":0}]
["Camooweal - Fully Serviced","Wholesale nursery","Wholesale nursery","High impact rural","NR_3","Gross Floor Area",10,{"$f":"INDEX(CHARGES,MATCH($D726&$F726,$AQ$2:$AQ$44&$AR$2:$AR$44,0),MATCH(H$1,$AS$1:$AX$1,0))","v":2},{"$f":"INDEX(CHARGES,MATCH($D726&$F726,$AQ$2:$AQ$44&$AR$2:$AR$44,0),MATCH(I$1,$AS$1:$AX$1,0))","v":1},{"$f":"INDEX(CHARGES,MATCH($D726&$F726,$AQ$2:$AQ$44&$AR$2:$AR$44,0),MATCH(J$1,$AS$1:$AX$1,0))","v":0},{"$f":"INDEX(CHARGES,MATCH($D726&$F726,$AQ$2:$AQ$44&$AR$2:$AR$44,0),MATCH(K$1,$AS$1:$AX$1,0))","v":7},{"$f":"INDEX(CHARGES,MATCH($D726&$F726,$AQ$2:$AQ$44&$AR$2:$AR$44,0),MATCH(L$1,$AS$1:$AX$1,0))","v":0}]
["Camooweal - Fully Serviced","Winery","Winery","High impact rural","NR_3","Gross Floor Area",10,{"$f":"INDEX(CHARGES,MATCH($D727&$F727,$AQ$2:$AQ$44&$AR$2:$AR$44,0),MATCH(H$1,$AS$1:$AX$1,0))","v":2},{"$f":"INDEX(CHARGES,MATCH($D727&$F727,$AQ$2:$AQ$44&$AR$2:$AR$44,0),MATCH(I$1,$AS$1:$AX$1,0))","v":1},{"$f":"INDEX(CHARGES,MATCH($D727&$F727,$AQ$2:$AQ$44&$AR$2:$AR$44,0),MATCH(J$1,$AS$1:$AX$1,0))","v":0},{"$f":"INDEX(CHARGES,MATCH($D727&$F727,$AQ$2:$AQ$44&$AR$2:$AR$44,0),MATCH(K$1,$AS$1:$AX$1,0))","v":7},{"$f":"INDEX(CHARGES,MATCH($D727&$F727,$AQ$2:$AQ$44&$AR$2:$AR$44,0),MATCH(L$1,$AS$1:$AX$1,0))","v":0}]
["Camooweal - Fully Serviced","Reconfiguring a lot - Residential","Reconfiguring a lot - Residential","Residential uses","ROL","Lots",{"$f":"SUM(H728:L728)","v":14670},{"$f":"INDEX(CHARGES,MATCH($D728&$F728,$AQ$2:$AQ$44&$AR$2:$AR$44,0),MATCH(H$1,$AS$1:$AX$1,0))","v":4108},{"$f":"INDEX(CHARGES,MATCH($D728&$F728,$AQ$2:$AQ$44&$AR$2:$AR$44,0),MATCH(I$1,$AS$1:$AX$1,0))","v":2641},{"$f":"INDEX(CHARGES,MATCH($D728&$F728,$AQ$2:$AQ$44&$AR$2:$AR$44,0),MATCH(J$1,$AS$1:$AX$1,0))","v":293},{"$f":"INDEX(CHARGES,MATCH($D728&$F728,$AQ$2:$AQ$44&$AR$2:$AR$44,0),MATCH(K$1,$AS$1:$AX$1,0))","v":7335},{"$f":"INDEX(CHARGES,MATCH($D728&$F728,$AQ$2:$AQ$44&$AR$2:$AR$44,0),MATCH(L$1,$AS$1:$AX$1,0))","v":293}]
["Camooweal - Fully Serviced","Reconfiguring a lot - Non residential","Reconfiguring a lot - Non residential","Non-residential uses","ROL","Lots",14670,{"$f":"INDEX(CHARGES,MATCH($D729&$F729,$AQ$2:$AQ$44&$AR$2:$AR$44,0),MATCH(H$1,$AS$1:$AX$1,0))","v":3081},{"$f":"INDEX(CHARGES,MATCH($D729&$F729,$AQ$2:$AQ$44&$AR$2:$AR$44,0),MATCH(I$1,$AS$1:$AX$1,0))","v":2054},{"$f":"INDEX(CHARGES,MATCH($D729&$F729,$AQ$2:$AQ$44&$AR$2:$AR$44,0),MATCH(J$1,$AS$1:$AX$1,0))","v":293},{"$f":"INDEX(CHARGES,MATCH($D729&$F729,$AQ$2:$AQ$44&$AR$2:$AR$44,0),MATCH(K$1,$AS$1:$AX$1,0))","v":9242},{"$f":"INDEX(CHARGES,MATCH($D729&$F729,$AQ$2:$AQ$44&$AR$2:$AR$44,0),MATCH(L$1,$AS$1:$AX$1,0))","v":0}]
["Camooweal - Water Supply Only","Adult store","Adult store","Commercial (retail)","NR_1","Gross Floor Area",81,{"$f":"INDEX(CHARGES,MATCH($D730&$F730,$AQ$2:$AQ$44&$AR$2:$AR$44,0),MATCH(H$1,$AS$1:$AX$1,0))","v":20},0,{"$f":"INDEX(CHARGES,MATCH($D730&$F730,$AQ$2:$AQ$44&$AR$2:$AR$44,0),MATCH(J$1,$AS$1:$AX$1,0))","v":0},{"$f":"INDEX(CHARGES,MATCH($D730&$F730,$AQ$2:$AQ$44&$AR$2:$AR$44,0),MATCH(K$1,$AS$1:$AX$1,0))","v":61},{"$f":"INDEX(CHARGES,MATCH($D730&$F730,$AQ$2:$AQ$44&$AR$2:$AR$44,0),MATCH(L$1,$AS$1:$AX$1,0))","v":0}]
["Camooweal - Water Supply Only","Adult store","Adult store","Commercial (retail)","NR_1","Impervious Area",5,{"$f":"INDEX(CHARGES,MATCH($D731&$F731,$AQ$2:$AQ$44&$AR$2:$AR$44,0),MATCH(H$1,$AS$1:$AX$1,0))","v":0},0,{"$f":"INDEX(CHARGES,MATCH($D731&$F731,$AQ$2:$AQ$44&$AR$2:$AR$44,0),MATCH(J$1,$AS$1:$AX$1,0))","v":5},{"$f":"INDEX(CHARGES,MATCH($D731&$F731,$AQ$2:$AQ$44&$AR$2:$AR$44,0),MATCH(K$1,$AS$1:$AX$1,0))","v":0},{"$f":"INDEX(CHARGES,MATCH($D731&$F731,$AQ$2:$AQ$44&$AR$2:$AR$44,0),MATCH(L$1,$AS$1:$AX$1,0))","v":0}]
["Camooweal - Water Supply Only","Agrigultural supplies store","Agrigultural supplies store","Commercial (bulk goods)","NR_1","Gross Floor Area",63,{"$f":"INDEX(CHARGES,MATCH($D732&$F732,$AQ$2:$AQ$44&$AR$2:$AR$44,0),MATCH(H$1,$AS$1:$AX$1,0))","v":15},0,{"$f":"INDEX(CHARGES,MATCH($D732&$F732,$AQ$2:$AQ$44&$AR$2:$AR$44,0),MATCH(J$1,$AS$1:$AX$1,0))","v":0},{"$f":"INDEX(CHARGES,MATCH($D732&$F732,$AQ$2:$AQ$44&$AR$2:$AR$44,0),MATCH(K$1,$AS$1:$AX$1,0))","v":48},{"$f":"INDEX(CHARGES,MATCH($D732&$F732,$AQ$2:$AQ$44&$AR$2:$AR$44,0),MATCH(L$1,$AS$1:$AX$1,0))","v":0}]
["Camooweal - Water Supply Only","Agrigultural supplies store","Agrigultural supplies store","Commercial (bulk goods)","NR_1","Impervious Area",5,{"$f":"INDEX(CHARGES,MATCH($D733&$F733,$AQ$2:$AQ$44&$AR$2:$AR$44,0),MATCH(H$1,$AS$1:$AX$1,0))","v":0},0,{"$f":"INDEX(CHARGES,MATCH($D733&$F733,$AQ$2:$AQ$44&$AR$2:$AR$44,0),MATCH(J$1,$AS$1:$AX$1,0))","v":5},{"$f":"INDEX(CHARGES,MATCH($D733&$F733,$AQ$2:$AQ$44&$AR$2:$AR$44,0),MATCH(K$1,$AS$1:$AX$1,0))","v":0},{"$f":"INDEX(CHARGES,MATCH($D733&$F733,$AQ$2:$AQ$44&$AR$2:$AR$44,0),MATCH(L$1,$AS$1:$AX$1,0))","v":0}]
["Camooweal - Water Supply Only","Air services","Air services","Other uses","NR_1","Gross Floor Area",0,{"$f":"INDEX(CHARGES,MATCH($D734&$F734,$AQ$2:$AQ$44&$AR$2:$AR$44,0),MATCH(H$1,$AS$1:$AX$1,0))","v":0},0,{"$f":"INDEX(CHARGES,MATCH($D734&$F734,$AQ$2:$AQ$44&$AR$2:$AR$44,0),MATCH(J$1,$AS$1:$AX$1,0))","v":0},{"$f":"INDEX(CHARGES,MATCH($D734&$F734,$AQ$2:$AQ$44&$AR$2:$AR$44,0),MATCH(K$1,$AS$1:$AX$1,0))","v":0},{"$f":"INDEX(CHARGES,MATCH($D734&$F734,$AQ$2:$AQ$44&$AR$2:$AR$44,0),MATCH(L$1,$AS$1:$AX$1,0))","v":0}]
["Camooweal - Water Supply Only","Air services","Air services","Other uses","NR_1","Impervious Area",0,{"$f":"INDEX(CHARGES,MATCH($D735&$F735,$AQ$2:$AQ$44&$AR$2:$AR$44,0),MATCH(H$1,$AS$1:$AX$1,0))","v":0},0,{"$f":"INDEX(CHARGES,MATCH($D735&$F735,$AQ$2:$AQ$44&$AR$2:$AR$44,0),MATCH(J$1,$AS$1:$AX$1,0))","v":0},{"$f":"INDEX(CHARGES,MATCH($D735&$F735,$AQ$2:$AQ$44&$AR$2:$AR$44,0),MATCH(K$1,$AS$1:$AX$1,0))","v":0},{"$f":"INDEX(CHARGES,MATCH($D735&$F735,$AQ$2:$AQ$44&$AR$2:$AR$44,0),MATCH(L$1,$AS$1:$AX$1,0))","v":0}]
["Camooweal - Water Supply Only","Animal husbandry","Animal husbandry","Low impact rural","NR_3","Gross Floor Area",0,{"$f":"INDEX(CHARGES,MATCH($D736&$F736,$AQ$2:$AQ$44&$AR$2:$AR$44,0),MATCH(H$1,$AS$1:$AX$1,0))","v":0},0,{"$f":"INDEX(CHARGES,MATCH($D736&$F736,$AQ$2:$AQ$44&$AR$2:$AR$44,0),MATCH(J$1,$AS$1:$AX$1,0))","v":0},{"$f":"INDEX(CHARGES,MATCH($D736&$F736,$AQ$2:$AQ$44&$AR$2:$AR$44,0),MATCH(K$1,$AS$1:$AX$1,0))","v":0},{"$f":"INDEX(CHARGES,MATCH($D736&$F736,$AQ$2:$AQ$44&$AR$2:$AR$44,0),MATCH(L$1,$AS$1:$AX$1,0))","v":0}]
["Camooweal - Water Supply Only","Animal keeping","Animal keeping","Other uses","NR_1","Gross Floor Area",0,{"$f":"INDEX(CHARGES,MATCH($D737&$F737,$AQ$2:$AQ$44&$AR$2:$AR$44,0),MATCH(H$1,$AS$1:$AX$1,0))","v":0},0,{"$f":"INDEX(CHARGES,MATCH($D737&$F737,$AQ$2:$AQ$44&$AR$2:$AR$44,0),MATCH(J$1,$AS$1:$AX$1,0))","v":0},{"$f":"INDEX(CHARGES,MATCH($D737&$F737,$AQ$2:$AQ$44&$AR$2:$AR$44,0),MATCH(K$1,$AS$1:$AX$1,0))","v":0},{"$f":"INDEX(CHARGES,MATCH($D737&$F737,$AQ$2:$AQ$44&$AR$2:$AR$44,0),MATCH(L$1,$AS$1:$AX$1,0))","v":0}]
["Camooweal - Water Supply Only","Animal keeping","Animal keeping","Other uses","NR_1","Impervious Area",0,{"$f":"INDEX(CHARGES,MATCH($D738&$F738,$AQ$2:$AQ$44&$AR$2:$AR$44,0),MATCH(H$1,$AS$1:$AX$1,0))","v":0},0,{"$f":"INDEX(CHARGES,MATCH($D738&$F738,$AQ$2:$AQ$44&$AR$2:$AR$44,0),MATCH(J$1,$AS$1:$AX$1,0))","v":0},{"$f":"INDEX(CHARGES,MATCH($D738&$F738,$AQ$2:$AQ$44&$AR$2:$AR$44,0),MATCH(K$1,$AS$1:$AX$1,0))","v":0},{"$f":"INDEX(CHARGES,MATCH($D738&$F738,$AQ$2:$AQ$44&$AR$2:$AR$44,0),MATCH(L$1,$AS$1:$AX$1,0))","v":0}]
["Camooweal - Water Supply Only","Aquaculture",null,"Other uses","NR_1","Gross Floor Area",0,{"$f":"INDEX(CHARGES,MATCH($D739&$F739,$AQ$2:$AQ$44&$AR$2:$AR$44,0),MATCH(H$1,$AS$1:$AX$1,0))","v":0},0,{"$f":"INDEX(CHARGES,MATCH($D739&$F739,$AQ$2:$AQ$44&$AR$2:$AR$44,0),MATCH(J$1,$AS$1:$AX$1,0))","v":0},{"$f":"INDEX(CHARGES,MATCH($D739&$F739,$AQ$2:$AQ$44&$AR$2:$AR$44,0),MATCH(K$1,$AS$1:$AX$1,0))","v":0},{"$f":"INDEX(CHARGES,MATCH($D739&$F739,$AQ$2:$AQ$44&$AR$2:$AR$44,0),MATCH(L$1,$AS$1:$AX$1,0))","v":0}]
["Camooweal - Water Supply Only","Aquaculture",null,"Other uses","NR_1","Impervious Area",0,{"$f":"INDEX(CHARGES,MATCH($D740&$F740,$AQ$2:$AQ$44&$AR$2:$AR$44,0),MATCH(H$1,$AS$1:$AX$1,0))","v":0},0,{"$f":"INDEX(CHARGES,MATCH($D740&$F740,$AQ$2:$AQ$44&$AR$2:$AR$44,0),MATCH(J$1,$AS$1:$AX$1,0))","v":0},{"$f":"INDEX(CHARGES,MATCH($D740&$F740,$AQ$2:$AQ$44&$AR$2:$AR$44,0),MATCH(K$1,$AS$1:$AX$1,0))","v":0},{"$f":"INDEX(CHARGES,MATCH($D740&$F740,$AQ$2:$AQ$44&$AR$2:$AR$44,0),MATCH(L$1,$AS$1:$AX$1,0))","v":0}]
["Camooweal - Water Supply Only","Bar","Hotel","Entertainment","NR_1","Gross Floor Area",90,{"$f":"INDEX(CHARGES,MATCH($D741&$F741,$AQ$2:$AQ$44&$AR$2:$AR$44,0),MATCH(H$1,$AS$1:$AX$1,0))","v":22},0,{"$f":"INDEX(CHARGES,MATCH($D741&$F741,$AQ$2:$AQ$44&$AR$2:$AR$44,0),MATCH(J$1,$AS$1:$AX$1,0))","v":0},{"$f":"INDEX(CHARGES,MATCH($D741&$F741,$AQ$2:$AQ$44&$AR$2:$AR$44,0),MATCH(K$1,$AS$1:$AX$1,0))","v":68},{"$f":"INDEX(CHARGES,MATCH($D741&$F741,$AQ$2:$AQ$44&$AR$2:$AR$44,0),MATCH(L$1,$AS$1:$AX$1,0))","v":0}]
["Camooweal - Water Supply Only","Bar","Hotel","Entertainment","NR_1","Impervious Area",5,{"$f":"INDEX(CHARGES,MATCH($D742&$F742,$AQ$2:$AQ$44&$AR$2:$AR$44,0),MATCH(H$1,$AS$1:$AX$1,0))","v":0},0,{"$f":"INDEX(CHARGES,MATCH($D742&$F742,$AQ$2:$AQ$44&$AR$2:$AR$44,0),MATCH(J$1,$AS$1:$AX$1,0))","v":5},{"$f":"INDEX(CHARGES,MATCH($D742&$F742,$AQ$2:$AQ$44&$AR$2:$AR$44,0),MATCH(K$1,$AS$1:$AX$1,0))","v":0},{"$f":"INDEX(CHARGES,MATCH($D742&$F742,$AQ$2:$AQ$44&$AR$2:$AR$44,0),MATCH(L$1,$AS$1:$AX$1,0))","v":0}]
["Camooweal - Water Supply Only","Brothel",null,"Entertainment","NR_1","Gross Floor Area",90,{"$f":"INDEX(CHARGES,MATCH($D743&$F743,$AQ$2:$AQ$44&$AR$2:$AR$44,0),MATCH(H$1,$AS$1:$AX$1,0))","v":22},0,{"$f":"INDEX(CHARGES,MATCH($D743&$F743,$AQ$2:$AQ$44&$AR$2:$AR$44,0),MATCH(J$1,$AS$1:$AX$1,0))","v":0},{"$f":"INDEX(CHARGES,MATCH($D743&$F743,$AQ$2:$AQ$44&$AR$2:$AR$44,0),MATCH(K$1,$AS$1:$AX$1,0))","v":68},{"$f":"INDEX(CHARGES,MATCH($D743&$F743,$AQ$2:$AQ$44&$AR$2:$AR$44,0),MATCH(L$1,$AS$1:$AX$1,0))","v":0}]
["Camooweal - Water Supply Only","Brothel",null,"Entertainment","NR_1","Impervious Area",5,{"$f":"INDEX(CHARGES,MATCH($D744&$F744,$AQ$2:$AQ$44&$AR$2:$AR$44,0),MATCH(H$1,$AS$1:$AX$1,0))","v":0},0,{"$f":"INDEX(CHARGES,MATCH($D744&$F744,$AQ$2:$AQ$44&$AR$2:$AR$44,0),MATCH(J$1,$AS$1:$AX$1,0))","v":5},{"$f":"INDEX(CHARGES,MATCH($D744&$F744,$AQ$2:$AQ$44&$AR$2:$AR$44,0),MATCH(K$1,$AS$1:$AX$1,0))","v":0},{"$f":"INDEX(CHARGES,MATCH($D744&$F744,$AQ$2:$AQ$44&$AR$2:$AR$44,0),MATCH(L$1,$AS$1:$AX$1,0))","v":0}]
["Camooweal - Water Supply Only","Bulk landscape supplies","Bulk landscape supplies","Commercial (bulk goods)","NR_1","Gross Floor Area",63,{"$f":"INDEX(CHARGES,MATCH($D745&$F745,$AQ$2:$AQ$44&$AR$2:$AR$44,0),MATCH(H$1,$AS$1:$AX$1,0))","v":15},0,{"$f":"INDEX(CHARGES,MATCH($D745&$F745,$AQ$2:$AQ$44&$AR$2:$AR$44,0),MATCH(J$1,$AS$1:$AX$1,0))","v":0},{"$f":"INDEX(CHARGES,MATCH($D745&$F745,$AQ$2:$AQ$44&$AR$2:$AR$44,0),MATCH(K$1,$AS$1:$AX$1,0))","v":48},{"$f":"INDEX(CHARGES,MATCH($D745&$F745,$AQ$2:$AQ$44&$AR$2:$AR$44,0),MATCH(L$1,$AS$1:$AX$1,0))","v":0}]
["Camooweal - Water Supply Only","Bulk landscape supplies","Bulk landscape supplies","Commercial (bulk goods)","NR_1","Impervious Area",5,{"$f":"INDEX(CHARGES,MATCH($D746&$F746,$AQ$2:$AQ$44&$AR$2:$AR$44,0),MATCH(H$1,$AS$1:$AX$1,0))","v":0},0,{"$f":"INDEX(CHARGES,MATCH($D746&$F746,$AQ$2:$AQ$44&$AR$2:$AR$44,0),MATCH(J$1,$AS$1:$AX$1,0))","v":5},{"$f":"INDEX(CHARGES,MATCH($D746&$F746,$AQ$2:$AQ$44&$AR$2:$AR$44,0),MATCH(K$1,$AS$1:$AX$1,0))","v":0},{"$f":"INDEX(CHARGES,MATCH($D746&$F746,$AQ$2:$AQ$44&$AR$2:$AR$44,0),MATCH(L$1,$AS$1:$AX$1,0))","v":0}]
["Camooweal - Water Supply Only","Caretaker's accommodation","Caretaker's accommodation","Residential uses","RU_1","2 or less bedrooms",8592,{"$f":"INDEX(CHARGES,MATCH($D747&$F747,$AQ$2:$AQ$44&$AR$2:$AR$44,0),MATCH(H$1,$AS$1:$AX$1,0))","v":2934},0,{"$f":"INDEX(CHARGES,MATCH($D747&$F747,$AQ$2:$AQ$44&$AR$2:$AR$44,0),MATCH(J$1,$AS$1:$AX$1,0))","v":209},{"$f":"INDEX(CHARGES,MATCH($D747&$F747,$AQ$2:$AQ$44&$AR$2:$AR$44,0),MATCH(K$1,$AS$1:$AX$1,0))","v":5239},{"$f":"INDEX(CHARGES,MATCH($D747&$F747,$AQ$2:$AQ$44&$AR$2:$AR$44,0),MATCH(L$1,$AS$1:$AX$1,0))","v":210}]
["Camooweal - Water Supply Only","Caretaker's accommodation","Caretaker's accommodation","Residential uses","RU_1","3 or more bedrooms",12029,{"$f":"INDEX(CHARGES,MATCH($D748&$F748,$AQ$2:$AQ$44&$AR$2:$AR$44,0),MATCH(H$1,$AS$1:$AX$1,0))","v":4108},0,{"$f":"INDEX(CHARGES,MATCH($D748&$F748,$AQ$2:$AQ$44&$AR$2:$AR$44,0),MATCH(J$1,$AS$1:$AX$1,0))","v":293},{"$f":"INDEX(CHARGES,MATCH($D748&$F748,$AQ$2:$AQ$44&$AR$2:$AR$44,0),MATCH(K$1,$AS$1:$AX$1,0))","v":7335},{"$f":"INDEX(CHARGES,MATCH($D748&$F748,$AQ$2:$AQ$44&$AR$2:$AR$44,0),MATCH(L$1,$AS$1:$AX$1,0))","v":293}]
["Camooweal - Water Supply Only","Car wash",null,"Other uses","NR_1","Gross Floor Area",0,{"$f":"INDEX(CHARGES,MATCH($D749&$F749,$AQ$2:$AQ$44&$AR$2:$AR$44,0),MATCH(H$1,$AS$1:$AX$1,0))","v":0},0,{"$f":"INDEX(CHARGES,MATCH($D749&$F749,$AQ$2:$AQ$44&$AR$2:$AR$44,0),MATCH(J$1,$AS$1:$AX$1,0))","v":0},{"$f":"INDEX(CHARGES,MATCH($D749&$F749,$AQ$2:$AQ$44&$AR$2:$AR$44,0),MATCH(K$1,$AS$1:$AX$1,0))","v":0},{"$f":"INDEX(CHARGES,MATCH($D749&$F749,$AQ$2:$AQ$44&$AR$2:$AR$44,0),MATCH(L$1,$AS$1:$AX$1,0))","v":0}]
["Camooweal - Water Supply Only","Car wash",null,"Other uses","NR_1","Impervious Area",0,{"$f":"INDEX(CHARGES,MATCH($D750&$F750,$AQ$2:$AQ$44&$AR$2:$AR$44,0),MATCH(H$1,$AS$1:$AX$1,0))","v":0},0,{"$f":"INDEX(CHARGES,MATCH($D750&$F750,$AQ$2:$AQ$44&$AR$2:$AR$44,0),MATCH(J$1,$AS$1:$AX$1,0))","v":0},{"$f":"INDEX(CHARGES,MATCH($D750&$F750,$AQ$2:$AQ$44&$AR$2:$AR$44,0),MATCH(K$1,$AS$1:$AX$1,0))","v":0},{"$f":"INDEX(CHARGES,MATCH($D750&$F750,$AQ$2:$AQ$44&$AR$2:$AR$44,0),MATCH(L$1,$AS$1:$AX$1,0))","v":0}]
["Camooweal - Water Supply Only","Cemetery","Cemetery","Minor uses","NR_3","Gross Floor Area",0,{"$f":"INDEX(CHARGES,MATCH($D751&$F751,$AQ$2:$AQ$44&$AR$2:$AR$44,0),MATCH(H$1,$AS$1:$AX$1,0))","v":0},0,{"$f":"INDEX(CHARGES,MATCH($D751&$F751,$AQ$2:$AQ$44&$AR$2:$AR$44,0),MATCH(J$1,$AS$1:$AX$1,0))","v":0},{"$f":"INDEX(CHARGES,MATCH($D751&$F751,$AQ$2:$AQ$44&$AR$2:$AR$44,0),MATCH(K$1,$AS$1:$AX$1,0))","v":0},{"$f":"INDEX(CHARGES,MATCH($D751&$F751,$AQ$2:$AQ$44&$AR$2:$AR$44,0),MATCH(L$1,$AS$1:$AX$1,0))","v":0}]
["Camooweal - Water Supply Only","Child care centre","Childcare centre","Educational Facility","NR_1","Gross Floor Area",63,{"$f":"INDEX(CHARGES,MATCH($D752&$F752,$AQ$2:$AQ$44&$AR$2:$AR$44,0),MATCH(H$1,$AS$1:$AX$1,0))","v":15},0,{"$f":"INDEX(CHARGES,MATCH($D752&$F752,$AQ$2:$AQ$44&$AR$2:$AR$44,0),MATCH(J$1,$AS$1:$AX$1,0))","v":0},{"$f":"INDEX(CHARGES,MATCH($D752&$F752,$AQ$2:$AQ$44&$AR$2:$AR$44,0),MATCH(K$1,$AS$1:$AX$1,0))","v":48},{"$f":"INDEX(CHARGES,MATCH($D752&$F752,$AQ$2:$AQ$44&$AR$2:$AR$44,0),MATCH(L$1,$AS$1:$AX$1,0))","v":0}]
["Camooweal - Water Supply Only","Child care centre","Childcare centre","Educational Facility","NR_1","Impervious Area",5,{"$f":"INDEX(CHARGES,MATCH($D753&$F753,$AQ$2:$AQ$44&$AR$2:$AR$44,0),MATCH(H$1,$AS$1:$AX$1,0))","v":0},0,{"$f":"INDEX(CHARGES,MATCH($D753&$F753,$AQ$2:$AQ$44&$AR$2:$AR$44,0),MATCH(J$1,$AS$1:$AX$1,0))","v":5},{"$f":"INDEX(CHARGES,MATCH($D753&$F753,$AQ$2:$AQ$44&$AR$2:$AR$44,0),MATCH(K$1,$AS$1:$AX$1,0))","v":0},{"$f":"INDEX(CHARGES,MATCH($D753&$F753,$AQ$2:$AQ$44&$AR$2:$AR$44,0),MATCH(L$1,$AS$1:$AX$1,0))","v":0}]
["Camooweal - Water Supply Only","Community residence","Community residence","Accommodation (long-term)","RU_2","bedroom that is not part of a suite",8592,{"$f":"INDEX(CHARGES,MATCH($D754&$F754,$AQ$2:$AQ$44&$AR$2:$AR$44,0),MATCH(H$1,$AS$1:$AX$1,0))","v":2934},0,{"$f":"INDEX(CHARGES,MATCH($D754&$F754,$AQ$2:$AQ$44&$AR$2:$AR$44,0),MATCH(J$1,$AS$1:$AX$1,0))","v":209},{"$f":"INDEX(CHARGES,MATCH($D754&$F754,$AQ$2:$AQ$44&$AR$2:$AR$44,0),MATCH(K$1,$AS$1:$AX$1,0))","v":5239},{"$f":"INDEX(CHARGES,MATCH($D754&$F754,$AQ$2:$AQ$44&$AR$2:$AR$44,0),MATCH(L$1,$AS$1:$AX$1,0))","v":210}]
["Camooweal - Water Supply Only","Community residence","Community residence","Accommodation (long-term)","RU_2","2 or less bedrooms",8592,{"$f":"INDEX(CHARGES,MATCH($D755&$F755,$AQ$2:$AQ$44&$AR$2:$AR$44,0),MATCH(H$1,$AS$1:$AX$1,0))","v":2934},0,{"$f":"INDEX(CHARGES,MATCH($D755&$F755,$AQ$2:$AQ$44&$AR$2:$AR$44,0),MATCH(J$1,$AS$1:$AX$1,0))","v":209},{"$f":"INDEX(CHARGES,MATCH($D755&$F755,$AQ$2:$AQ$44&$AR$2:$AR$44,0),MATCH(K$1,$AS$1:$AX$1,0))","v":5239},{"$f":"INDEX(CHARGES,MATCH($D755&$F755,$AQ$2:$AQ$44&$AR$2:$AR$44,0),MATCH(L$1,$AS$1:$AX$1,0))","v":210}]
["Camooweal - Water Supply Only","Community residence","Community residence","Accommodation (long-term)","RU_2","3 or more bedrooms",12029,{"$f":"INDEX(CHARGES,MATCH($D756&$F756,$AQ$2:$AQ$44&$AR$2:$AR$44,0),MATCH(H$1,$AS$1:$AX$1,0))","v":4108},0,{"$f":"INDEX(CHARGES,MATCH($D756&$F756,$AQ$2:$AQ$44&$AR$2:$AR$44,0),MATCH(J$1,$AS$1:$AX$1,0))","v":293},{"$f":"INDEX(CHARGES,MATCH($D756&$F756,$AQ$2:$AQ$44&$AR$2:$AR$44,0),MATCH(K$1,$AS$1:$AX$1,0))","v":7335},{"$f":"INDEX(CHARGES,MATCH($D756&$F756,$AQ$2:$AQ$44&$AR$2:$AR$44,0),MATCH(L$1,$AS$1:$AX$1,0))","v":293}]
["Camooweal - Water Supply Only","Community use","Community use","Places of assembly","NR_1","Gross Floor Area",32,{"$f":"INDEX(CHARGES,MATCH($D757&$F757,$AQ$2:$AQ$44&$AR$2:$AR$44,0),MATCH(H$1,$AS$1:$AX$1,0))","v":8},0,{"$f":"INDEX(CHARGES,MATCH($D757&$F757,$AQ$2:$AQ$44&$AR$2:$AR$44,0),MATCH(J$1,$AS$1:$AX$1,0))","v":0},{"$f":"INDEX(CHARGES,MATCH($D757&$F757,$AQ$2:$AQ$44&$AR$2:$AR$44,0),MATCH(K$1,$AS$1:$AX$1,0))","v":24},{"$f":"INDEX(CHARGES,MATCH($D757&$F757,$AQ$2:$AQ$44&$AR$2:$AR$44,0),MATCH(L$1,$AS$1:$AX$1,0))","v":0}]
["Camooweal - Water Supply Only","Community use","Community use","Places of assembly","NR_1","Impervious Area",5,{"$f":"INDEX(CHARGES,MATCH($D758&$F758,$AQ$2:$AQ$44&$AR$2:$AR$44,0),MATCH(H$1,$AS$1:$AX$1,0))","v":0},0,{"$f":"INDEX(CHARGES,MATCH($D758&$F758,$AQ$2:$AQ$44&$AR$2:$AR$44,0),MATCH(J$1,$AS$1:$AX$1,0))","v":5},{"$f":"INDEX(CHARGES,MATCH($D758&$F758,$AQ$2:$AQ$44&$AR$2:$AR$44,0),MATCH(K$1,$AS$1:$AX$1,0))","v":0},{"$f":"INDEX(CHARGES,MATCH($D758&$F758,$AQ$2:$AQ$44&$AR$2:$AR$44,0),MATCH(L$1,$AS$1:$AX$1,0))","v":0}]
["Camooweal - Water Supply Only","Crematorium","Crematorium","Other uses","NR_1","Gross Floor Area",0,{"$f":"INDEX(CHARGES,MATCH($D759&$F759,$AQ$2:$AQ$44&$AR$2:$AR$44,0),MATCH(H$1,$AS$1:$AX$1,0))","v":0},0,{"$f":"INDEX(CHARGES,MATCH($D759&$F759,$AQ$2:$AQ$44&$AR$2:$AR$44,0),MATCH(J$1,$AS$1:$AX$1,0))","v":0},{"$f":"INDEX(CHARGES,MATCH($D759&$F759,$AQ$2:$AQ$44&$AR$2:$AR$44,0),MATCH(K$1,$AS$1:$AX$1,0))","v":0},{"$f":"INDEX(CHARGES,MATCH($D759&$F759,$AQ$2:$AQ$44&$AR$2:$AR$44,0),MATCH(L$1,$AS$1:$AX$1,0))","v":0}]
["Camooweal - Water Supply Only","Crematorium","Crematorium","Other uses","NR_1","Impervious Area",0,{"$f":"INDEX(CHARGES,MATCH($D760&$F760,$AQ$2:$AQ$44&$AR$2:$AR$44,0),MATCH(H$1,$AS$1:$AX$1,0))","v":0},0,{"$f":"INDEX(CHARGES,MATCH($D760&$F760,$AQ$2:$AQ$44&$AR$2:$AR$44,0),MATCH(J$1,$AS$1:$AX$1,0))","v":0},{"$f":"INDEX(CHARGES,MATCH($D760&$F760,$AQ$2:$AQ$44&$AR$2:$AR$44,0),MATCH(K$1,$AS$1:$AX$1,0))","v":0},{"$f":"INDEX(CHARGES,MATCH($D760&$F760,$AQ$2:$AQ$44&$AR$2:$AR$44,0),MATCH(L$1,$AS$1:$AX$1,0))","v":0}]
["Camooweal - Water Supply Only","Cropping","Cropping","Low impact rural","NR_3","Gross Floor Area",0,{"$f":"INDEX(CHARGES,MATCH($D761&$F761,$AQ$2:$AQ$44&$AR$2:$AR$44,0),MATCH(H$1,$AS$1:$AX$1,0))","v":0},0,{"$f":"INDEX(CHARGES,MATCH($D761&$F761,$AQ$2:$AQ$44&$AR$2:$AR$44,0),MATCH(J$1,$AS$1:$AX$1,0))","v":0},{"$f":"INDEX(CHARGES,MATCH($D761&$F761,$AQ$2:$AQ$44&$AR$2:$AR$44,0),MATCH(K$1,$AS$1:$AX$1,0))","v":0},{"$f":"INDEX(CHARGES,MATCH($D761&$F761,$AQ$2:$AQ$44&$AR$2:$AR$44,0),MATCH(L$1,$AS$1:$AX$1,0))","v":0}]
["Camooweal - Water Supply Only","Detention facility","Correctional facility","Essential services","NR_1","Gross Floor Area",63,{"$f":"INDEX(CHARGES,MATCH($D762&$F762,$AQ$2:$AQ$44&$AR$2:$AR$44,0),MATCH(H$1,$AS$1:$AX$1,0))","v":15},0,{"$f":"INDEX(CHARGES,MATCH($D762&$F762,$AQ$2:$AQ$44&$AR$2:$AR$44,0),MATCH(J$1,$AS$1:$AX$1,0))","v":0},{"$f":"INDEX(CHARGES,MATCH($D762&$F762,$AQ$2:$AQ$44&$AR$2:$AR$44,0),MATCH(K$1,$AS$1:$AX$1,0))","v":48},{"$f":"INDEX(CHARGES,MATCH($D762&$F762,$AQ$2:$AQ$44&$AR$2:$AR$44,0),MATCH(L$1,$AS$1:$AX$1,0))","v":0}]
["Camooweal - Water Supply Only","Detention facility","Correctional facility","Essential services","NR_1","Impervious Area",5,{"$f":"INDEX(CHARGES,MATCH($D763&$F763,$AQ$2:$AQ$44&$AR$2:$AR$44,0),MATCH(H$1,$AS$1:$AX$1,0))","v":0},0,{"$f":"INDEX(CHARGES,MATCH($D763&$F763,$AQ$2:$AQ$44&$AR$2:$AR$44,0),MATCH(J$1,$AS$1:$AX$1,0))","v":5},{"$f":"INDEX(CHARGES,MATCH($D763&$F763,$AQ$2:$AQ$44&$AR$2:$AR$44,0),MATCH(K$1,$AS$1:$AX$1,0))","v":0},{"$f":"INDEX(CHARGES,MATCH($D763&$F763,$AQ$2:$AQ$44&$AR$2:$AR$44,0),MATCH(L$1,$AS$1:$AX$1,0))","v":0}]
["Camooweal - Water Supply Only","Dual occupancy","Dual occupancy","Residential uses","RU_1","2 or less bedrooms",8592,{"$f":"INDEX(CHARGES,MATCH($D764&$F764,$AQ$2:$AQ$44&$AR$2:$AR$44,0),MATCH(H$1,$AS$1:$AX$1,0))","v":2934},0,{"$f":"INDEX(CHARGES,MATCH($D764&$F764,$AQ$2:$AQ$44&$AR$2:$AR$44,0),MATCH(J$1,$AS$1:$AX$1,0))","v":209},{"$f":"INDEX(CHARGES,MATCH($D764&$F764,$AQ$2:$AQ$44&$AR$2:$AR$44,0),MATCH(K$1,$AS$1:$AX$1,0))","v":5239},{"$f":"INDEX(CHARGES,MATCH($D764&$F764,$AQ$2:$AQ$44&$AR$2:$AR$44,0),MATCH(L$1,$AS$1:$AX$1,0))","v":210}]
["Camooweal - Water Supply Only","Dual occupancy","Dual occupancy","Residential uses","RU_1","3 or more bedrooms",12029,{"$f":"INDEX(CHARGES,MATCH($D765&$F765,$AQ$2:$AQ$44&$AR$2:$AR$44,0),MATCH(H$1,$AS$1:$AX$1,0))","v":4108},0,{"$f":"INDEX(CHARGES,MATCH($D765&$F765,$AQ$2:$AQ$44&$AR$2:$AR$44,0),MATCH(J$1,$AS$1:$AX$1,0))","v":293},{"$f":"INDEX(CHARGES,MATCH($D765&$F765,$AQ$2:$AQ$44&$AR$2:$AR$44,0),MATCH(K$1,$AS$1:$AX$1,0))","v":7335},{"$f":"INDEX(CHARGES,MATCH($D765&$F765,$AQ$2:$AQ$44&$AR$2:$AR$44,0),MATCH(L$1,$AS$1:$AX$1,0))","v":293}]
["Camooweal - Water Supply Only","Dwelling house","Dwelling house","Residential uses","RU_1","2 or less bedrooms",8592,{"$f":"INDEX(CHARGES,MATCH($D766&$F766,$AQ$2:$AQ$44&$AR$2:$AR$44,0),MATCH(H$1,$AS$1:$AX$1,0))","v":2934},0,{"$f":"INDEX(CHARGES,MATCH($D766&$F766,$AQ$2:$AQ$44&$AR$2:$AR$44,0),MATCH(J$1,$AS$1:$AX$1,0))","v":209},{"$f":"INDEX(CHARGES,MATCH($D766&$F766,$AQ$2:$AQ$44&$AR$2:$AR$44,0),MATCH(K$1,$AS$1:$AX$1,0))","v":5239},{"$f":"INDEX(CHARGES,MATCH($D766&$F766,$AQ$2:$AQ$44&$AR$2:$AR$44,0),MATCH(L$1,$AS$1:$AX$1,0))","v":210}]
["Camooweal - Water Supply Only","Dwelling house","Dwelling house","Residential uses","RU_1","3 or more bedrooms",12029,{"$f":"INDEX(CHARGES,MATCH($D767&$F767,$AQ$2:$AQ$44&$AR$2:$AR$44,0),MATCH(H$1,$AS$1:$AX$1,0))","v":4108},0,{"$f":"INDEX(CHARGES,MATCH($D767&$F767,$AQ$2:$AQ$44&$AR$2:$AR$44,0),MATCH(J$1,$AS$1:$AX$1,0))","v":293},{"$f":"INDEX(CHARGES,MATCH($D767&$F767,$AQ$2:$AQ$44&$AR$2:$AR$44,0),MATCH(K$1,$AS$1:$AX$1,0))","v":7335},{"$f":"INDEX(CHARGES,MATCH($D767&$F767,$AQ$2:$AQ$44&$AR$2:$AR$44,0),MATCH(L$1,$AS$1:$AX$1,0))","v":293}]
["Camooweal - Water Supply Only","Dwelling unit","Multiple dwelling","Residential uses","RU_1","2 or less bedrooms",8592,{"$f":"INDEX(CHARGES,MATCH($D768&$F768,$AQ$2:$AQ$44&$AR$2:$AR$44,0),MATCH(H$1,$AS$1:$AX$1,0))","v":2934},0,{"$f":"INDEX(CHARGES,MATCH($D768&$F768,$AQ$2:$AQ$44&$AR$2:$AR$44,0),MATCH(J$1,$AS$1:$AX$1,0))","v":209},{"$f":"INDEX(CHARGES,MATCH($D768&$F768,$AQ$2:$AQ$44&$AR$2:$AR$44,0),MATCH(K$1,$AS$1:$AX$1,0))","v":5239},{"$f":"INDEX(CHARGES,MATCH($D768&$F768,$AQ$2:$AQ$44&$AR$2:$AR$44,0),MATCH(L$1,$AS$1:$AX$1,0))","v":210}]
["Camooweal - Water Supply Only","Dwelling unit","Multiple dwelling","Residential uses","RU_1","3 or more bedrooms",12029,{"$f":"INDEX(CHARGES,MATCH($D769&$F769,$AQ$2:$AQ$44&$AR$2:$AR$44,0),MATCH(H$1,$AS$1:$AX$1,0))","v":4108},0,{"$f":"INDEX(CHARGES,MATCH($D769&$F769,$AQ$2:$AQ$44&$AR$2:$AR$44,0),MATCH(J$1,$AS$1:$AX$1,0))","v":293},{"$f":"INDEX(CHARGES,MATCH($D769&$F769,$AQ$2:$AQ$44&$AR$2:$AR$44,0),MATCH(K$1,$AS$1:$AX$1,0))","v":7335},{"$f":"INDEX(CHARGES,MATCH($D769&$F769,$AQ$2:$AQ$44&$AR$2:$AR$44,0),MATCH(L$1,$AS$1:$AX$1,0))","v":293}]
["Camooweal - Water Supply Only","Educational establishment other than an educational establishment for the Flying Start for Queensland Children program","Educational establishment other than an educational establishment for the Flying Start for Queensland Children program","Educational Facility","NR_1","Gross Floor Area",63,{"$f":"INDEX(CHARGES,MATCH($D770&$F770,$AQ$2:$AQ$44&$AR$2:$AR$44,0),MATCH(H$1,$AS$1:$AX$1,0))","v":15},0,{"$f":"INDEX(CHARGES,MATCH($D770&$F770,$AQ$2:$AQ$44&$AR$2:$AR$44,0),MATCH(J$1,$AS$1:$AX$1,0))","v":0},{"$f":"INDEX(CHARGES,MATCH($D770&$F770,$AQ$2:$AQ$44&$AR$2:$AR$44,0),MATCH(K$1,$AS$1:$AX$1,0))","v":48},{"$f":"INDEX(CHARGES,MATCH($D770&$F770,$AQ$2:$AQ$44&$AR$2:$AR$44,0),MATCH(L$1,$AS$1:$AX$1,0))","v":0}]
["Camooweal - Water Supply Only","Educational establishment other than an educational establishment for the Flying Start for Queensland Children program","Educational establishment other than an educational establishment for the Flying Start for Queensland Children program","Educational Facility","NR_1","Impervious Area",5,{"$f":"INDEX(CHARGES,MATCH($D771&$F771,$AQ$2:$AQ$44&$AR$2:$AR$44,0),MATCH(H$1,$AS$1:$AX$1,0))","v":0},0,{"$f":"INDEX(CHARGES,MATCH($D771&$F771,$AQ$2:$AQ$44&$AR$2:$AR$44,0),MATCH(J$1,$AS$1:$AX$1,0))","v":5},{"$f":"INDEX(CHARGES,MATCH($D771&$F771,$AQ$2:$AQ$44&$AR$2:$AR$44,0),MATCH(K$1,$AS$1:$AX$1,0))","v":0},{"$f":"INDEX(CHARGES,MATCH($D771&$F771,$AQ$2:$AQ$44&$AR$2:$AR$44,0),MATCH(L$1,$AS$1:$AX$1,0))","v":0}]
["Camooweal - Water Supply Only","Educational establishment that is an educational establishment for the Flying Start for Queensland Children program","Educational establishment that is an educational establishment for the Flying Start for Queensland Children program","Educational Facility","NR_1","Gross Floor Area",63,{"$f":"INDEX(CHARGES,MATCH($D772&$F772,$AQ$2:$AQ$44&$AR$2:$AR$44,0),MATCH(H$1,$AS$1:$AX$1,0))","v":15},0,{"$f":"INDEX(CHARGES,MATCH($D772&$F772,$AQ$2:$AQ$44&$AR$2:$AR$44,0),MATCH(J$1,$AS$1:$AX$1,0))","v":0},{"$f":"INDEX(CHARGES,MATCH($D772&$F772,$AQ$2:$AQ$44&$AR$2:$AR$44,0),MATCH(K$1,$AS$1:$AX$1,0))","v":48},{"$f":"INDEX(CHARGES,MATCH($D772&$F772,$AQ$2:$AQ$44&$AR$2:$AR$44,0),MATCH(L$1,$AS$1:$AX$1,0))","v":0}]
["Camooweal - Water Supply Only","Educational establishment that is an educational establishment for the Flying Start for Queensland Children program","Educational establishment that is an educational establishment for the Flying Start for Queensland Children program","Educational Facility","NR_1","Impervious Area",5,{"$f":"INDEX(CHARGES,MATCH($D773&$F773,$AQ$2:$AQ$44&$AR$2:$AR$44,0),MATCH(H$1,$AS$1:$AX$1,0))","v":0},0,{"$f":"INDEX(CHARGES,MATCH($D773&$F773,$AQ$2:$AQ$44&$AR$2:$AR$44,0),MATCH(J$1,$AS$1:$AX$1,0))","v":5},{"$f":"INDEX(CHARGES,MATCH($D773&$F773,$AQ$2:$AQ$44&$AR$2:$AR$44,0),MATCH(K$1,$AS$1:$AX$1,0))","v":0},{"$f":"INDEX(CHARGES,MATCH($D773&$F773,$AQ$2:$AQ$44&$AR$2:$AR$44,0),MATCH(L$1,$AS$1:$AX$1,0))","v":0}]
["Camooweal - Water Supply Only","Emergency services","Emergency services","Essential services","NR_1","Gross Floor Area",63,{"$f":"INDEX(CHARGES,MATCH($D774&$F774,$AQ$2:$AQ$44&$AR$2:$AR$44,0),MATCH(H$1,$AS$1:$AX$1,0))","v":15},0,{"$f":"INDEX(CHARGES,MATCH($D774&$F774,$AQ$2:$AQ$44&$AR$2:$AR$44,0),MATCH(J$1,$AS$1:$AX$1,0))","v":0},{"$f":"INDEX(CHARGES,MATCH($D774&$F774,$AQ$2:$AQ$44&$AR$2:$AR$44,0),MATCH(K$1,$AS$1:$AX$1,0))","v":48},{"$f":"INDEX(CHARGES,MATCH($D774&$F774,$AQ$2:$AQ$44&$AR$2:$AR$44,0),MATCH(L$1,$AS$1:$AX$1,0))","v":0}]
["Camooweal - Water Supply Only","Emergency services","Emergency services","Essential services","NR_1","Impervious Area",5,{"$f":"INDEX(CHARGES,MATCH($D775&$F775,$AQ$2:$AQ$44&$AR$2:$AR$44,0),MATCH(H$1,$AS$1:$AX$1,0))","v":0},0,{"$f":"INDEX(CHARGES,MATCH($D775&$F775,$AQ$2:$AQ$44&$AR$2:$AR$44,0),MATCH(J$1,$AS$1:$AX$1,0))","v":5},{"$f":"INDEX(CHARGES,MATCH($D775&$F775,$AQ$2:$AQ$44&$AR$2:$AR$44,0),MATCH(K$1,$AS$1:$AX$1,0))","v":0},{"$f":"INDEX(CHARGES,MATCH($D775&$F775,$AQ$2:$AQ$44&$AR$2:$AR$44,0),MATCH(L$1,$AS$1:$AX$1,0))","v":0}]
["Camooweal - Water Supply Only","Environment facility",null,"Other uses","NR_1","Gross Floor Area",0,{"$f":"INDEX(CHARGES,MATCH($D776&$F776,$AQ$2:$AQ$44&$AR$2:$AR$44,0),MATCH(H$1,$AS$1:$AX$1,0))","v":0},0,{"$f":"INDEX(CHARGES,MATCH($D776&$F776,$AQ$2:$AQ$44&$AR$2:$AR$44,0),MATCH(J$1,$AS$1:$AX$1,0))","v":0},{"$f":"INDEX(CHARGES,MATCH($D776&$F776,$AQ$2:$AQ$44&$AR$2:$AR$44,0),MATCH(K$1,$AS$1:$AX$1,0))","v":0},{"$f":"INDEX(CHARGES,MATCH($D776&$F776,$AQ$2:$AQ$44&$AR$2:$AR$44,0),MATCH(L$1,$AS$1:$AX$1,0))","v":0}]
["Camooweal - Water Supply Only","Environment facility",null,"Other uses","NR_1","Impervious Area",0,{"$f":"INDEX(CHARGES,MATCH($D777&$F777,$AQ$2:$AQ$44&$AR$2:$AR$44,0),MATCH(H$1,$AS$1:$AX$1,0))","v":0},0,{"$f":"INDEX(CHARGES,MATCH($D777&$F777,$AQ$2:$AQ$44&$AR$2:$AR$44,0),MATCH(J$1,$AS$1:$AX$1,0))","v":0},{"$f":"INDEX(CHARGES,MATCH($D777&$F777,$AQ$2:$AQ$44&$AR$2:$AR$44,0),MATCH(K$1,$AS$1:$AX$1,0))","v":0},{"$f":"INDEX(CHARGES,MATCH($D777&$F777,$AQ$2:$AQ$44&$AR$2:$AR$44,0),MATCH(L$1,$AS$1:$AX$1,0))","v":0}]
["Camooweal - Water Supply Only","Extractive industry","Extractive industry","Other uses","NR_1","Gross Floor Area",0,{"$f":"INDEX(CHARGES,MATCH($D778&$F778,$AQ$2:$AQ$44&$AR$2:$AR$44,0),MATCH(H$1,$AS$1:$AX$1,0))","v":0},0,{"$f":"INDEX(CHARGES,MATCH($D778&$F778,$AQ$2:$AQ$44&$AR$2:$AR$44,0),MATCH(J$1,$AS$1:$AX$1,0))","v":0},{"$f":"INDEX(CHARGES,MATCH($D778&$F778,$AQ$2:$AQ$44&$AR$2:$AR$44,0),MATCH(K$1,$AS$1:$AX$1,0))","v":0},{"$f":"INDEX(CHARGES,MATCH($D778&$F778,$AQ$2:$AQ$44&$AR$2:$AR$44,0),MATCH(L$1,$AS$1:$AX$1,0))","v":0}]
["Camooweal - Water Supply Only","Extractive industry","Extractive industry","Other uses","NR_1","Impervious Area",0,{"$f":"INDEX(CHARGES,MATCH($D779&$F779,$AQ$2:$AQ$44&$AR$2:$AR$44,0),MATCH(H$1,$AS$1:$AX$1,0))","v":0},0,{"$f":"INDEX(CHARGES,MATCH($D779&$F779,$AQ$2:$AQ$44&$AR$2:$AR$44,0),MATCH(J$1,$AS$1:$AX$1,0))","v":0},{"$f":"INDEX(CHARGES,MATCH($D779&$F779,$AQ$2:$AQ$44&$AR$2:$AR$44,0),MATCH(K$1,$AS$1:$AX$1,0))","v":0},{"$f":"INDEX(CHARGES,MATCH($D779&$F779,$AQ$2:$AQ$44&$AR$2:$AR$44,0),MATCH(L$1,$AS$1:$AX$1,0))","v":0}]
["Camooweal - Water Supply Only","Food and drink outlet","Food and drink outlet","Commercial (retail)","NR_1","Gross Floor Area",81,{"$f":"INDEX(CHARGES,MATCH($D780&$F780,$AQ$2:$AQ$44&$AR$2:$AR$44,0),MATCH(H$1,$AS$1:$AX$1,0))","v":20},0,{"$f":"INDEX(CHARGES,MATCH($D780&$F780,$AQ$2:$AQ$44&$AR$2:$AR$44,0),MATCH(J$1,$AS$1:$AX$1,0))","v":0},{"$f":"INDEX(CHARGES,MATCH($D780&$F780,$AQ$2:$AQ$44&$AR$2:$AR$44,0),MATCH(K$1,$AS$1:$AX$1,0))","v":61},{"$f":"INDEX(CHARGES,MATCH($D780&$F780,$AQ$2:$AQ$44&$AR$2:$AR$44,0),MATCH(L$1,$AS$1:$AX$1,0))","v":0}]
["Camooweal - Water Supply Only","Food and drink outlet","Food and drink outlet","Commercial (retail)","NR_1","Impervious Area",5,{"$f":"INDEX(CHARGES,MATCH($D781&$F781,$AQ$2:$AQ$44&$AR$2:$AR$44,0),MATCH(H$1,$AS$1:$AX$1,0))","v":0},0,{"$f":"INDEX(CHARGES,MATCH($D781&$F781,$AQ$2:$AQ$44&$AR$2:$AR$44,0),MATCH(J$1,$AS$1:$AX$1,0))","v":5},{"$f":"INDEX(CHARGES,MATCH($D781&$F781,$AQ$2:$AQ$44&$AR$2:$AR$44,0),MATCH(K$1,$AS$1:$AX$1,0))","v":0},{"$f":"INDEX(CHARGES,MATCH($D781&$F781,$AQ$2:$AQ$44&$AR$2:$AR$44,0),MATCH(L$1,$AS$1:$AX$1,0))","v":0}]
["Camooweal - Water Supply Only","Office","Office","Commercial (office)","NR_1","Gross Floor Area",63,{"$f":"INDEX(CHARGES,MATCH($D782&$F782,$AQ$2:$AQ$44&$AR$2:$AR$44,0),MATCH(H$1,$AS$1:$AX$1,0))","v":15},0,{"$f":"INDEX(CHARGES,MATCH($D782&$F782,$AQ$2:$AQ$44&$AR$2:$AR$44,0),MATCH(J$1,$AS$1:$AX$1,0))","v":0},{"$f":"INDEX(CHARGES,MATCH($D782&$F782,$AQ$2:$AQ$44&$AR$2:$AR$44,0),MATCH(K$1,$AS$1:$AX$1,0))","v":48},{"$f":"INDEX(CHARGES,MATCH($D782&$F782,$AQ$2:$AQ$44&$AR$2:$AR$44,0),MATCH(L$1,$AS$1:$AX$1,0))","v":0}]
["Camooweal - Water Supply Only","Office","Office","Commercial (office)","NR_1","Impervious Area",5,{"$f":"INDEX(CHARGES,MATCH($D783&$F783,$AQ$2:$AQ$44&$AR$2:$AR$44,0),MATCH(H$1,$AS$1:$AX$1,0))","v":0},0,{"$f":"INDEX(CHARGES,MATCH($D783&$F783,$AQ$2:$AQ$44&$AR$2:$AR$44,0),MATCH(J$1,$AS$1:$AX$1,0))","v":5},{"$f":"INDEX(CHARGES,MATCH($D783&$F783,$AQ$2:$AQ$44&$AR$2:$AR$44,0),MATCH(K$1,$AS$1:$AX$1,0))","v":0},{"$f":"INDEX(CHARGES,MATCH($D783&$F783,$AQ$2:$AQ$44&$AR$2:$AR$44,0),MATCH(L$1,$AS$1:$AX$1,0))","v":0}]
["Camooweal - Water Supply Only","Outdoor sales","Outdoor sales","Commercial (retail)","NR_1","Gross Floor Area",81,{"$f":"INDEX(CHARGES,MATCH($D784&$F784,$AQ$2:$AQ$44&$AR$2:$AR$44,0),MATCH(H$1,$AS$1:$AX$1,0))","v":20},0,{"$f":"INDEX(CHARGES,MATCH($D784&$F784,$AQ$2:$AQ$44&$AR$2:$AR$44,0),MATCH(J$1,$AS$1:$AX$1,0))","v":0},{"$f":"INDEX(CHARGES,MATCH($D784&$F784,$AQ$2:$AQ$44&$AR$2:$AR$44,0),MATCH(K$1,$AS$1:$AX$1,0))","v":61},{"$f":"INDEX(CHARGES,MATCH($D784&$F784,$AQ$2:$AQ$44&$AR$2:$AR$44,0),MATCH(L$1,$AS$1:$AX$1,0))","v":0}]
["Camooweal - Water Supply Only","Outdoor sales","Outdoor sales","Commercial (retail)","NR_1","Impervious Area",5,{"$f":"INDEX(CHARGES,MATCH($D785&$F785,$AQ$2:$AQ$44&$AR$2:$AR$44,0),MATCH(H$1,$AS$1:$AX$1,0))","v":0},0,{"$f":"INDEX(CHARGES,MATCH($D785&$F785,$AQ$2:$AQ$44&$AR$2:$AR$44,0),MATCH(J$1,$AS$1:$AX$1,0))","v":5},{"$f":"INDEX(CHARGES,MATCH($D785&$F785,$AQ$2:$AQ$44&$AR$2:$AR$44,0),MATCH(K$1,$AS$1:$AX$1,0))","v":0},{"$f":"INDEX(CHARGES,MATCH($D785&$F785,$AQ$2:$AQ$44&$AR$2:$AR$44,0),MATCH(L$1,$AS$1:$AX$1,0))","v":0}]
["Camooweal - Water Supply Only","Outdoor sport and recreation","Outdoor sport and recreation","Other uses","NR_2","Gross Floor Area - not court area",0,{"$f":"INDEX(CHARGES,MATCH($D786&$F786,$AQ$2:$AQ$44&$AR$2:$AR$44,0),MATCH(H$1,$AS$1:$AX$1,0))","v":0},0,{"$f":"INDEX(CHARGES,MATCH($D786&$F786,$AQ$2:$AQ$44&$AR$2:$AR$44,0),MATCH(J$1,$AS$1:$AX$1,0))","v":0},{"$f":"INDEX(CHARGES,MATCH($D786&$F786,$AQ$2:$AQ$44&$AR$2:$AR$44,0),MATCH(K$1,$AS$1:$AX$1,0))","v":0},{"$f":"INDEX(CHARGES,MATCH($D786&$F786,$AQ$2:$AQ$44&$AR$2:$AR$44,0),MATCH(L$1,$AS$1:$AX$1,0))","v":0}]
["Camooweal - Water Supply Only","Outdoor sport and recreation","Outdoor sport and recreation","Other uses","NR_2","Gross Floor Area - court area",0,{"$f":"INDEX(CHARGES,MATCH($D787&$F787,$AQ$2:$AQ$44&$AR$2:$AR$44,0),MATCH(H$1,$AS$1:$AX$1,0))","v":0},0,{"$f":"INDEX(CHARGES,MATCH($D787&$F787,$AQ$2:$AQ$44&$AR$2:$AR$44,0),MATCH(J$1,$AS$1:$AX$1,0))","v":0},{"$f":"INDEX(CHARGES,MATCH($D787&$F787,$AQ$2:$AQ$44&$AR$2:$AR$44,0),MATCH(K$1,$AS$1:$AX$1,0))","v":0},{"$f":"INDEX(CHARGES,MATCH($D787&$F787,$AQ$2:$AQ$44&$AR$2:$AR$44,0),MATCH(L$1,$AS$1:$AX$1,0))","v":0}]
["Camooweal - Water Supply Only","Outdoor sport and recreation","Outdoor sport and recreation","Other uses","NR_2","Impervious Area",0,{"$f":"INDEX(CHARGES,MATCH($D788&$F788,$AQ$2:$AQ$44&$AR$2:$AR$44,0),MATCH(H$1,$AS$1:$AX$1,0))","v":0},0,{"$f":"INDEX(CHARGES,MATCH($D788&$F788,$AQ$2:$AQ$44&$AR$2:$AR$44,0),MATCH(J$1,$AS$1:$AX$1,0))","v":0},{"$f":"INDEX(CHARGES,MATCH($D788&$F788,$AQ$2:$AQ$44&$AR$2:$AR$44,0),MATCH(K$1,$AS$1:$AX$1,0))","v":0},{"$f":"INDEX(CHARGES,MATCH($D788&$F788,$AQ$2:$AQ$44&$AR$2:$AR$44,0),MATCH(L$1,$AS$1:$AX$1,0))","v":0}]
["Camooweal - Water Supply Only","Outstation",null,"Other uses","NR_1","Gross Floor Area",0,{"$f":"INDEX(CHARGES,MATCH($D789&$F789,$AQ$2:$AQ$44&$AR$2:$AR$44,0),MATCH(H$1,$AS$1:$AX$1,0))","v":0},0,{"$f":"INDEX(CHARGES,MATCH($D789&$F789,$AQ$2:$AQ$44&$AR$2:$AR$44,0),MATCH(J$1,$AS$1:$AX$1,0))","v":0},{"$f":"INDEX(CHARGES,MATCH($D789&$F789,$AQ$2:$AQ$44&$AR$2:$AR$44,0),MATCH(K$1,$AS$1:$AX$1,0))","v":0},{"$f":"INDEX(CHARGES,MATCH($D789&$F789,$AQ$2:$AQ$44&$AR$2:$AR$44,0),MATCH(L$1,$AS$1:$AX$1,0))","v":0}]
["Camooweal - Water Supply Only","Outstation",null,"Other uses","NR_1","Impervious Area",0,{"$f":"INDEX(CHARGES,MATCH($D790&$F790,$AQ$2:$AQ$44&$AR$2:$AR$44,0),MATCH(H$1,$AS$1:$AX$1,0))","v":0},0,{"$f":"INDEX(CHARGES,MATCH($D790&$F790,$AQ$2:$AQ$44&$AR$2:$AR$44,0),MATCH(J$1,$AS$1:$AX$1,0))","v":0},{"$f":"INDEX(CHARGES,MATCH($D790&$F790,$AQ$2:$AQ$44&$AR$2:$AR$44,0),MATCH(K$1,$AS$1:$AX$1,0))","v":0},{"$f":"INDEX(CHARGES,MATCH($D790&$F790,$AQ$2:$AQ$44&$AR$2:$AR$44,0),MATCH(L$1,$AS$1:$AX$1,0))","v":0}]
["Camooweal - Water Supply Only","Park","Park","Minor uses","NR_3","Gross Floor Area",0,{"$f":"INDEX(CHARGES,MATCH($D791&$F791,$AQ$2:$AQ$44&$AR$2:$AR$44,0),MATCH(H$1,$AS$1:$AX$1,0))","v":0},0,{"$f":"INDEX(CHARGES,MATCH($D791&$F791,$AQ$2:$AQ$44&$AR$2:$AR$44,0),MATCH(J$1,$AS$1:$AX$1,0))","v":0},{"$f":"INDEX(CHARGES,MATCH($D791&$F791,$AQ$2:$AQ$44&$AR$2:$AR$44,0),MATCH(K$1,$AS$1:$AX$1,0))","v":0},{"$f":"INDEX(CHARGES,MATCH($D791&$F791,$AQ$2:$AQ$44&$AR$2:$AR$44,0),MATCH(L$1,$AS$1:$AX$1,0))","v":0}]
["Camooweal - Water Supply Only","Parking station",null,"Other uses","NR_1","Gross Floor Area",0,{"$f":"INDEX(CHARGES,MATCH($D792&$F792,$AQ$2:$AQ$44&$AR$2:$AR$44,0),MATCH(H$1,$AS$1:$AX$1,0))","v":0},0,{"$f":"INDEX(CHARGES,MATCH($D792&$F792,$AQ$2:$AQ$44&$AR$2:$AR$44,0),MATCH(J$1,$AS$1:$AX$1,0))","v":0},{"$f":"INDEX(CHARGES,MATCH($D792&$F792,$AQ$2:$AQ$44&$AR$2:$AR$44,0),MATCH(K$1,$AS$1:$AX$1,0))","v":0},{"$f":"INDEX(CHARGES,MATCH($D792&$F792,$AQ$2:$AQ$44&$AR$2:$AR$44,0),MATCH(L$1,$AS$1:$AX$1,0))","v":0}]
["Camooweal - Water Supply Only","Parking station",null,"Other uses","NR_1","Impervious Area",{"$f":"SUM(H793:L793)","v":0},{"$f":"INDEX(CHARGES,MATCH($D793&$F793,$AQ$2:$AQ$44&$AR$2:$AR$44,0),MATCH(H$1,$AS$1:$AX$1,0))","v":0},0,{"$f":"INDEX(CHARGES,MATCH($D793&$F793,$AQ$2:$AQ$44&$AR$2:$AR$44,0),MATCH(J$1,$AS$1:$AX$1,0))","v":0},{"$f":"INDEX(CHARGES,MATCH($D793&$F793,$AQ$2:$AQ$44&$AR$2:$AR$44,0),MATCH(K$1,$AS$1:$AX$1,0))","v":0},{"$f":"INDEX(CHARGES,MATCH($D793&$F793,$AQ$2:$AQ$44&$AR$2:$AR$44,0),MATCH(L$1,$AS$1:$AX$1,0))","v":0}]
["Camooweal - Water Supply Only","Permanent plantation","Permanent plantation","Low impact rural","NR_3","Gross Floor Area",0,{"$f":"INDEX(CHARGES,MATCH($D794&$F794,$AQ$2:$AQ$44&$AR$2:$AR$44,0),MATCH(H$1,$AS$1:$AX$1,0))","v":0},0,{"$f":"INDEX(CHARGES,MATCH($D794&$F794,$AQ$2:$AQ$44&$AR$2:$AR$44,0),MATCH(J$1,$AS$1:$AX$1,0))","v":0},{"$f":"INDEX(CHARGES,MATCH($D794&$F794,$AQ$2:$AQ$44&$AR$2:$AR$44,0),MATCH(K$1,$AS$1:$AX$1,0))","v":0},{"$f":"INDEX(CHARGES,MATCH($D794&$F794,$AQ$2:$AQ$44&$AR$2:$AR$44,0),MATCH(L$1,$AS$1:$AX$1,0))","v":0}]
["Camooweal - Water Supply Only","Function facility","Function facility","Places of assembly","NR_1","Gross Floor Area",32,{"$f":"INDEX(CHARGES,MATCH($D795&$F795,$AQ$2:$AQ$44&$AR$2:$AR$44,0),MATCH(H$1,$AS$1:$AX$1,0))","v":8},0,{"$f":"INDEX(CHARGES,MATCH($D795&$F795,$AQ$2:$AQ$44&$AR$2:$AR$44,0),MATCH(J$1,$AS$1:$AX$1,0))","v":0},{"$f":"INDEX(CHARGES,MATCH($D795&$F795,$AQ$2:$AQ$44&$AR$2:$AR$44,0),MATCH(K$1,$AS$1:$AX$1,0))","v":24},{"$f":"INDEX(CHARGES,MATCH($D795&$F795,$AQ$2:$AQ$44&$AR$2:$AR$44,0),MATCH(L$1,$AS$1:$AX$1,0))","v":0}]
["Camooweal - Water Supply Only","Function facility","Function facility","Places of assembly","NR_1","Impervious Area",5,{"$f":"INDEX(CHARGES,MATCH($D796&$F796,$AQ$2:$AQ$44&$AR$2:$AR$44,0),MATCH(H$1,$AS$1:$AX$1,0))","v":0},0,{"$f":"INDEX(CHARGES,MATCH($D796&$F796,$AQ$2:$AQ$44&$AR$2:$AR$44,0),MATCH(J$1,$AS$1:$AX$1,0))","v":5},{"$f":"INDEX(CHARGES,MATCH($D796&$F796,$AQ$2:$AQ$44&$AR$2:$AR$44,0),MATCH(K$1,$AS$1:$AX$1,0))","v":0},{"$f":"INDEX(CHARGES,MATCH($D796&$F796,$AQ$2:$AQ$44&$AR$2:$AR$44,0),MATCH(L$1,$AS$1:$AX$1,0))","v":0}]
["Camooweal - Water Supply Only","Funeral parlour","Funeral parlour","Places of assembly","NR_1","Gross Floor Area",32,{"$f":"INDEX(CHARGES,MATCH($D797&$F797,$AQ$2:$AQ$44&$AR$2:$AR$44,0),MATCH(H$1,$AS$1:$AX$1,0))","v":8},0,{"$f":"INDEX(CHARGES,MATCH($D797&$F797,$AQ$2:$AQ$44&$AR$2:$AR$44,0),MATCH(J$1,$AS$1:$AX$1,0))","v":0},{"$f":"INDEX(CHARGES,MATCH($D797&$F797,$AQ$2:$AQ$44&$AR$2:$AR$44,0),MATCH(K$1,$AS$1:$AX$1,0))","v":24},{"$f":"INDEX(CHARGES,MATCH($D797&$F797,$AQ$2:$AQ$44&$AR$2:$AR$44,0),MATCH(L$1,$AS$1:$AX$1,0))","v":0}]
["Camooweal - Water Supply Only","Funeral parlour","Funeral parlour","Places of assembly","NR_1","Impervious Area",5,{"$f":"INDEX(CHARGES,MATCH($D798&$F798,$AQ$2:$AQ$44&$AR$2:$AR$44,0),MATCH(H$1,$AS$1:$AX$1,0))","v":0},0,{"$f":"INDEX(CHARGES,MATCH($D798&$F798,$AQ$2:$AQ$44&$AR$2:$AR$44,0),MATCH(J$1,$AS$1:$AX$1,0))","v":5},{"$f":"INDEX(CHARGES,MATCH($D798&$F798,$AQ$2:$AQ$44&$AR$2:$AR$44,0),MATCH(K$1,$AS$1:$AX$1,0))","v":0},{"$f":"INDEX(CHARGES,MATCH($D798&$F798,$AQ$2:$AQ$44&$AR$2:$AR$44,0),MATCH(L$1,$AS$1:$AX$1,0))","v":0}]
["Camooweal - Water Supply Only","Garden centre","Garden centre","Commercial (bulk goods)","NR_1","Gross Floor Area",63,{"$f":"INDEX(CHARGES,MATCH($D799&$F799,$AQ$2:$AQ$44&$AR$2:$AR$44,0),MATCH(H$1,$AS$1:$AX$1,0))","v":15},0,{"$f":"INDEX(CHARGES,MATCH($D799&$F799,$AQ$2:$AQ$44&$AR$2:$AR$44,0),MATCH(J$1,$AS$1:$AX$1,0))","v":0},{"$f":"INDEX(CHARGES,MATCH($D799&$F799,$AQ$2:$AQ$44&$AR$2:$AR$44,0),MATCH(K$1,$AS$1:$AX$1,0))","v":48},{"$f":"INDEX(CHARGES,MATCH($D799&$F799,$AQ$2:$AQ$44&$AR$2:$AR$44,0),MATCH(L$1,$AS$1:$AX$1,0))","v":0}]
["Camooweal - Water Supply Only","Garden centre","Garden centre","Commercial (bulk goods)","NR_1","Impervious Area",5,{"$f":"INDEX(CHARGES,MATCH($D800&$F800,$AQ$2:$AQ$44&$AR$2:$AR$44,0),MATCH(H$1,$AS$1:$AX$1,0))","v":0},0,{"$f":"INDEX(CHARGES,MATCH($D800&$F800,$AQ$2:$AQ$44&$AR$2:$AR$44,0),MATCH(J$1,$AS$1:$AX$1,0))","v":5},{"$f":"INDEX(CHARGES,MATCH($D800&$F800,$AQ$2:$AQ$44&$AR$2:$AR$44,0),MATCH(K$1,$AS$1:$AX$1,0))","v":0},{"$f":"INDEX(CHARGES,MATCH($D800&$F800,$AQ$2:$AQ$44&$AR$2:$AR$44,0),MATCH(L$1,$AS$1:$AX$1,0))","v":0}]
["Camooweal - Water Supply Only","Hardware and trade supplies","Hardware and trade supplies","Commercial (bulk goods)","NR_1","Gross Floor Area",63,{"$f":"INDEX(CHARGES,MATCH($D801&$F801,$AQ$2:$AQ$44&$AR$2:$AR$44,0),MATCH(H$1,$AS$1:$AX$1,0))","v":15},0,{"$f":"INDEX(CHARGES,MATCH($D801&$F801,$AQ$2:$AQ$44&$AR$2:$AR$44,0),MATCH(J$1,$AS$1:$AX$1,0))","v":0},{"$f":"INDEX(CHARGES,MATCH($D801&$F801,$AQ$2:$AQ$44&$AR$2:$AR$44,0),MATCH(K$1,$AS$1:$AX$1,0))","v":48},{"$f":"INDEX(CHARGES,MATCH($D801&$F801,$AQ$2:$AQ$44&$AR$2:$AR$44,0),MATCH(L$1,$AS$1:$AX$1,0))","v":0}]
["Camooweal - Water Supply Only","Hardware and trade supplies","Hardware and trade supplies","Commercial (bulk goods)","NR_1","Impervious Area",5,{"$f":"INDEX(CHARGES,MATCH($D802&$F802,$AQ$2:$AQ$44&$AR$2:$AR$44,0),MATCH(H$1,$AS$1:$AX$1,0))","v":0},0,{"$f":"INDEX(CHARGES,MATCH($D802&$F802,$AQ$2:$AQ$44&$AR$2:$AR$44,0),MATCH(J$1,$AS$1:$AX$1,0))","v":5},{"$f":"INDEX(CHARGES,MATCH($D802&$F802,$AQ$2:$AQ$44&$AR$2:$AR$44,0),MATCH(K$1,$AS$1:$AX$1,0))","v":0},{"$f":"INDEX(CHARGES,MATCH($D802&$F802,$AQ$2:$AQ$44&$AR$2:$AR$44,0),MATCH(L$1,$AS$1:$AX$1,0))","v":0}]
["Camooweal - Water Supply Only","Health care services","Health care service","Essential services","NR_1","Gross Floor Area",63,{"$f":"INDEX(CHARGES,MATCH($D803&$F803,$AQ$2:$AQ$44&$AR$2:$AR$44,0),MATCH(H$1,$AS$1:$AX$1,0))","v":15},0,{"$f":"INDEX(CHARGES,MATCH($D803&$F803,$AQ$2:$AQ$44&$AR$2:$AR$44,0),MATCH(J$1,$AS$1:$AX$1,0))","v":0},{"$f":"INDEX(CHARGES,MATCH($D803&$F803,$AQ$2:$AQ$44&$AR$2:$AR$44,0),MATCH(K$1,$AS$1:$AX$1,0))","v":48},{"$f":"INDEX(CHARGES,MATCH($D803&$F803,$AQ$2:$AQ$44&$AR$2:$AR$44,0),MATCH(L$1,$AS$1:$AX$1,0))","v":0}]
["Camooweal - Water Supply Only","Health care services","Health care service","Essential services","NR_1","Impervious Area",5,{"$f":"INDEX(CHARGES,MATCH($D804&$F804,$AQ$2:$AQ$44&$AR$2:$AR$44,0),MATCH(H$1,$AS$1:$AX$1,0))","v":0},0,{"$f":"INDEX(CHARGES,MATCH($D804&$F804,$AQ$2:$AQ$44&$AR$2:$AR$44,0),MATCH(J$1,$AS$1:$AX$1,0))","v":5},{"$f":"INDEX(CHARGES,MATCH($D804&$F804,$AQ$2:$AQ$44&$AR$2:$AR$44,0),MATCH(K$1,$AS$1:$AX$1,0))","v":0},{"$f":"INDEX(CHARGES,MATCH($D804&$F804,$AQ$2:$AQ$44&$AR$2:$AR$44,0),MATCH(L$1,$AS$1:$AX$1,0))","v":0}]
["Camooweal - Water Supply Only","High impact industry","High impact industry","High impact industry or special industry","NR_1","Gross Floor Area",32,{"$f":"INDEX(CHARGES,MATCH($D805&$F805,$AQ$2:$AQ$44&$AR$2:$AR$44,0),MATCH(H$1,$AS$1:$AX$1,0))","v":8},0,{"$f":"INDEX(CHARGES,MATCH($D805&$F805,$AQ$2:$AQ$44&$AR$2:$AR$44,0),MATCH(J$1,$AS$1:$AX$1,0))","v":0},{"$f":"INDEX(CHARGES,MATCH($D805&$F805,$AQ$2:$AQ$44&$AR$2:$AR$44,0),MATCH(K$1,$AS$1:$AX$1,0))","v":24},{"$f":"INDEX(CHARGES,MATCH($D805&$F805,$AQ$2:$AQ$44&$AR$2:$AR$44,0),MATCH(L$1,$AS$1:$AX$1,0))","v":0}]
["Camooweal - Water Supply Only","High impact industry","High impact industry","High impact industry or special industry","NR_1","Impervious Area",5,{"$f":"INDEX(CHARGES,MATCH($D806&$F806,$AQ$2:$AQ$44&$AR$2:$AR$44,0),MATCH(H$1,$AS$1:$AX$1,0))","v":0},0,{"$f":"INDEX(CHARGES,MATCH($D806&$F806,$AQ$2:$AQ$44&$AR$2:$AR$44,0),MATCH(J$1,$AS$1:$AX$1,0))","v":5},{"$f":"INDEX(CHARGES,MATCH($D806&$F806,$AQ$2:$AQ$44&$AR$2:$AR$44,0),MATCH(K$1,$AS$1:$AX$1,0))","v":0},{"$f":"INDEX(CHARGES,MATCH($D806&$F806,$AQ$2:$AQ$44&$AR$2:$AR$44,0),MATCH(L$1,$AS$1:$AX$1,0))","v":0}]
["Camooweal - Water Supply Only","Home based business","Home based business","Minor uses","NR_3","Gross Floor Area",0,{"$f":"INDEX(CHARGES,MATCH($D807&$F807,$AQ$2:$AQ$44&$AR$2:$AR$44,0),MATCH(H$1,$AS$1:$AX$1,0))","v":0},0,{"$f":"INDEX(CHARGES,MATCH($D807&$F807,$AQ$2:$AQ$44&$AR$2:$AR$44,0),MATCH(J$1,$AS$1:$AX$1,0))","v":0},{"$f":"INDEX(CHARGES,MATCH($D807&$F807,$AQ$2:$AQ$44&$AR$2:$AR$44,0),MATCH(K$1,$AS$1:$AX$1,0))","v":0},{"$f":"INDEX(CHARGES,MATCH($D807&$F807,$AQ$2:$AQ$44&$AR$2:$AR$44,0),MATCH(L$1,$AS$1:$AX$1,0))","v":0}]
["Camooweal - Water Supply Only","Hospital","Hospital","Essential services","NR_1","Gross Floor Area",63,{"$f":"INDEX(CHARGES,MATCH($D808&$F808,$AQ$2:$AQ$44&$AR$2:$AR$44,0),MATCH(H$1,$AS$1:$AX$1,0))","v":15},0,{"$f":"INDEX(CHARGES,MATCH($D808&$F808,$AQ$2:$AQ$44&$AR$2:$AR$44,0),MATCH(J$1,$AS$1:$AX$1,0))","v":0},{"$f":"INDEX(CHARGES,MATCH($D808&$F808,$AQ$2:$AQ$44&$AR$2:$AR$44,0),MATCH(K$1,$AS$1:$AX$1,0))","v":48},{"$f":"INDEX(CHARGES,MATCH($D808&$F808,$AQ$2:$AQ$44&$AR$2:$AR$44,0),MATCH(L$1,$AS$1:$AX$1,0))","v":0}]
["Camooweal - Water Supply Only","Hospital","Hospital","Essential services","NR_1","Impervious Area",5,{"$f":"INDEX(CHARGES,MATCH($D809&$F809,$AQ$2:$AQ$44&$AR$2:$AR$44,0),MATCH(H$1,$AS$1:$AX$1,0))","v":0},0,{"$f":"INDEX(CHARGES,MATCH($D809&$F809,$AQ$2:$AQ$44&$AR$2:$AR$44,0),MATCH(J$1,$AS$1:$AX$1,0))","v":5},{"$f":"INDEX(CHARGES,MATCH($D809&$F809,$AQ$2:$AQ$44&$AR$2:$AR$44,0),MATCH(K$1,$AS$1:$AX$1,0))","v":0},{"$f":"INDEX(CHARGES,MATCH($D809&$F809,$AQ$2:$AQ$44&$AR$2:$AR$44,0),MATCH(L$1,$AS$1:$AX$1,0))","v":0}]
["Camooweal - Water Supply Only","Hotel - Accommodation component","Hotel","Accommodation (short-term)","RU_2","bedroom that is not part of a suite",{"$f":"SUM(H810:L810)","v":4296},{"$f":"INDEX(CHARGES,MATCH($D810&$F810,$AQ$2:$AQ$44&$AR$2:$AR$44,0),MATCH(H$1,$AS$1:$AX$1,0))","v":1467},0,{"$f":"INDEX(CHARGES,MATCH($D810&$F810,$AQ$2:$AQ$44&$AR$2:$AR$44,0),MATCH(J$1,$AS$1:$AX$1,0))","v":104},{"$f":"INDEX(CHARGES,MATCH($D810&$F810,$AQ$2:$AQ$44&$AR$2:$AR$44,0),MATCH(K$1,$AS$1:$AX$1,0))","v":2620},{"$f":"INDEX(CHARGES,MATCH($D810&$F810,$AQ$2:$AQ$44&$AR$2:$AR$44,0),MATCH(L$1,$AS$1:$AX$1,0))","v":105}]
["Camooweal - Water Supply Only","Hotel - Accommodation component","Hotel","Accommodation (short-term)","RU_2","2 or less bedrooms",4296,{"$f":"INDEX(CHARGES,MATCH($D811&$F811,$AQ$2:$AQ$44&$AR$2:$AR$44,0),MATCH(H$1,$AS$1:$AX$1,0))","v":1467},0,{"$f":"INDEX(CHARGES,MATCH($D811&$F811,$AQ$2:$AQ$44&$AR$2:$AR$44,0),MATCH(J$1,$AS$1:$AX$1,0))","v":104},{"$f":"INDEX(CHARGES,MATCH($D811&$F811,$AQ$2:$AQ$44&$AR$2:$AR$44,0),MATCH(K$1,$AS$1:$AX$1,0))","v":2620},{"$f":"INDEX(CHARGES,MATCH($D811&$F811,$AQ$2:$AQ$44&$AR$2:$AR$44,0),MATCH(L$1,$AS$1:$AX$1,0))","v":105}]
["Camooweal - Water Supply Only","Hotel - Accommodation component","Hotel","Accommodation (short-term)","RU_2","3 or more bedrooms",6015,{"$f":"INDEX(CHARGES,MATCH($D812&$F812,$AQ$2:$AQ$44&$AR$2:$AR$44,0),MATCH(H$1,$AS$1:$AX$1,0))","v":2054},0,{"$f":"INDEX(CHARGES,MATCH($D812&$F812,$AQ$2:$AQ$44&$AR$2:$AR$44,0),MATCH(J$1,$AS$1:$AX$1,0))","v":146},{"$f":"INDEX(CHARGES,MATCH($D812&$F812,$AQ$2:$AQ$44&$AR$2:$AR$44,0),MATCH(K$1,$AS$1:$AX$1,0))","v":3668},{"$f":"INDEX(CHARGES,MATCH($D812&$F812,$AQ$2:$AQ$44&$AR$2:$AR$44,0),MATCH(L$1,$AS$1:$AX$1,0))","v":147}]
["Camooweal - Water Supply Only","Hotel - Entertainment component","Hotel","Entertainment","NR_1","Gross Floor Area",90,{"$f":"INDEX(CHARGES,MATCH($D813&$F813,$AQ$2:$AQ$44&$AR$2:$AR$44,0),MATCH(H$1,$AS$1:$AX$1,0))","v":22},0,{"$f":"INDEX(CHARGES,MATCH($D813&$F813,$AQ$2:$AQ$44&$AR$2:$AR$44,0),MATCH(J$1,$AS$1:$AX$1,0))","v":0},{"$f":"INDEX(CHARGES,MATCH($D813&$F813,$AQ$2:$AQ$44&$AR$2:$AR$44,0),MATCH(K$1,$AS$1:$AX$1,0))","v":68},{"$f":"INDEX(CHARGES,MATCH($D813&$F813,$AQ$2:$AQ$44&$AR$2:$AR$44,0),MATCH(L$1,$AS$1:$AX$1,0))","v":0}]
["Camooweal - Water Supply Only","Hotel - Entertainment component","Hotel","Entertainment","NR_1","Impervious Area",5,{"$f":"INDEX(CHARGES,MATCH($D814&$F814,$AQ$2:$AQ$44&$AR$2:$AR$44,0),MATCH(H$1,$AS$1:$AX$1,0))","v":0},0,{"$f":"INDEX(CHARGES,MATCH($D814&$F814,$AQ$2:$AQ$44&$AR$2:$AR$44,0),MATCH(J$1,$AS$1:$AX$1,0))","v":5},{"$f":"INDEX(CHARGES,MATCH($D814&$F814,$AQ$2:$AQ$44&$AR$2:$AR$44,0),MATCH(K$1,$AS$1:$AX$1,0))","v":0},{"$f":"INDEX(CHARGES,MATCH($D814&$F814,$AQ$2:$AQ$44&$AR$2:$AR$44,0),MATCH(L$1,$AS$1:$AX$1,0))","v":0}]
["Camooweal - Water Supply Only","Indoor sport and recreation","Indoor sport and recreation","Indoor sport and recreation","NR_2","Gross Floor Area - not court area",90,{"$f":"INDEX(CHARGES,MATCH($D815&$F815,$AQ$2:$AQ$44&$AR$2:$AR$44,0),MATCH(H$1,$AS$1:$AX$1,0))","v":22},0,{"$f":"INDEX(CHARGES,MATCH($D815&$F815,$AQ$2:$AQ$44&$AR$2:$AR$44,0),MATCH(J$1,$AS$1:$AX$1,0))","v":0},{"$f":"INDEX(CHARGES,MATCH($D815&$F815,$AQ$2:$AQ$44&$AR$2:$AR$44,0),MATCH(K$1,$AS$1:$AX$1,0))","v":68},{"$f":"INDEX(CHARGES,MATCH($D815&$F815,$AQ$2:$AQ$44&$AR$2:$AR$44,0),MATCH(L$1,$AS$1:$AX$1,0))","v":0}]
["Camooweal - Water Supply Only","Indoor sport and recreation","Indoor sport and recreation","Indoor sport and recreation","NR_2","Gross Floor Area - court area",9,{"$f":"INDEX(CHARGES,MATCH($D816&$F816,$AQ$2:$AQ$44&$AR$2:$AR$44,0),MATCH(H$1,$AS$1:$AX$1,0))","v":2},0,{"$f":"INDEX(CHARGES,MATCH($D816&$F816,$AQ$2:$AQ$44&$AR$2:$AR$44,0),MATCH(J$1,$AS$1:$AX$1,0))","v":0},{"$f":"INDEX(CHARGES,MATCH($D816&$F816,$AQ$2:$AQ$44&$AR$2:$AR$44,0),MATCH(K$1,$AS$1:$AX$1,0))","v":7},{"$f":"INDEX(CHARGES,MATCH($D816&$F816,$AQ$2:$AQ$44&$AR$2:$AR$44,0),MATCH(L$1,$AS$1:$AX$1,0))","v":0}]
["Camooweal - Water Supply Only","Indoor sport and recreation","Indoor sport and recreation","Indoor sport and recreation","NR_2","Impervious Area",5,{"$f":"INDEX(CHARGES,MATCH($D817&$F817,$AQ$2:$AQ$44&$AR$2:$AR$44,0),MATCH(H$1,$AS$1:$AX$1,0))","v":0},0,{"$f":"INDEX(CHARGES,MATCH($D817&$F817,$AQ$2:$AQ$44&$AR$2:$AR$44,0),MATCH(J$1,$AS$1:$AX$1,0))","v":5},{"$f":"INDEX(CHARGES,MATCH($D817&$F817,$AQ$2:$AQ$44&$AR$2:$AR$44,0),MATCH(K$1,$AS$1:$AX$1,0))","v":0},{"$f":"INDEX(CHARGES,MATCH($D817&$F817,$AQ$2:$AQ$44&$AR$2:$AR$44,0),MATCH(L$1,$AS$1:$AX$1,0))","v":0}]
["Camooweal - Water Supply Only","Intensive animal industry","Intensive animal industry","High impact rural","NR_3","Gross Floor Area",9,{"$f":"INDEX(CHARGES,MATCH($D818&$F818,$AQ$2:$AQ$44&$AR$2:$AR$44,0),MATCH(H$1,$AS$1:$AX$1,0))","v":2},0,{"$f":"INDEX(CHARGES,MATCH($D818&$F818,$AQ$2:$AQ$44&$AR$2:$AR$44,0),MATCH(J$1,$AS$1:$AX$1,0))","v":0},{"$f":"INDEX(CHARGES,MATCH($D818&$F818,$AQ$2:$AQ$44&$AR$2:$AR$44,0),MATCH(K$1,$AS$1:$AX$1,0))","v":7},{"$f":"INDEX(CHARGES,MATCH($D818&$F818,$AQ$2:$AQ$44&$AR$2:$AR$44,0),MATCH(L$1,$AS$1:$AX$1,0))","v":0}]
["Camooweal - Water Supply Only","Intensive horticulture","Intensive horticulture","High impact rural","NR_3","Gross Floor Area",9,{"$f":"INDEX(CHARGES,MATCH($D819&$F819,$AQ$2:$AQ$44&$AR$2:$AR$44,0),MATCH(H$1,$AS$1:$AX$1,0))","v":2},0,{"$f":"INDEX(CHARGES,MATCH($D819&$F819,$AQ$2:$AQ$44&$AR$2:$AR$44,0),MATCH(J$1,$AS$1:$AX$1,0))","v":0},{"$f":"INDEX(CHARGES,MATCH($D819&$F819,$AQ$2:$AQ$44&$AR$2:$AR$44,0),MATCH(K$1,$AS$1:$AX$1,0))","v":7},{"$f":"INDEX(CHARGES,MATCH($D819&$F819,$AQ$2:$AQ$44&$AR$2:$AR$44,0),MATCH(L$1,$AS$1:$AX$1,0))","v":0}]
["Camooweal - Water Supply Only","Landing","Landing","Minor uses","NR_3","Gross Floor Area",0,{"$f":"INDEX(CHARGES,MATCH($D820&$F820,$AQ$2:$AQ$44&$AR$2:$AR$44,0),MATCH(H$1,$AS$1:$AX$1,0))","v":0},0,{"$f":"INDEX(CHARGES,MATCH($D820&$F820,$AQ$2:$AQ$44&$AR$2:$AR$44,0),MATCH(J$1,$AS$1:$AX$1,0))","v":0},{"$f":"INDEX(CHARGES,MATCH($D820&$F820,$AQ$2:$AQ$44&$AR$2:$AR$44,0),MATCH(K$1,$AS$1:$AX$1,0))","v":0},{"$f":"INDEX(CHARGES,MATCH($D820&$F820,$AQ$2:$AQ$44&$AR$2:$AR$44,0),MATCH(L$1,$AS$1:$AX$1,0))","v":0}]
["Camooweal - Water Supply Only","Low impact industry","Low impact industry","Other industry","NR_1","Gross Floor Area",22,{"$f":"INDEX(CHARGES,MATCH($D821&$F821,$AQ$2:$AQ$44&$AR$2:$AR$44,0),MATCH(H$1,$AS$1:$AX$1,0))","v":5},0,{"$f":"INDEX(CHARGES,MATCH($D821&$F821,$AQ$2:$AQ$44&$AR$2:$AR$44,0),MATCH(J$1,$AS$1:$AX$1,0))","v":0},{"$f":"INDEX(CHARGES,MATCH($D821&$F821,$AQ$2:$AQ$44&$AR$2:$AR$44,0),MATCH(K$1,$AS$1:$AX$1,0))","v":17},{"$f":"INDEX(CHARGES,MATCH($D821&$F821,$AQ$2:$AQ$44&$AR$2:$AR$44,0),MATCH(L$1,$AS$1:$AX$1,0))","v":0}]
["Camooweal - Water Supply Only","Low impact industry","Low impact industry","Other industry","NR_1","Impervious Area",5,{"$f":"INDEX(CHARGES,MATCH($D822&$F822,$AQ$2:$AQ$44&$AR$2:$AR$44,0),MATCH(H$1,$AS$1:$AX$1,0))","v":0},0,{"$f":"INDEX(CHARGES,MATCH($D822&$F822,$AQ$2:$AQ$44&$AR$2:$AR$44,0),MATCH(J$1,$AS$1:$AX$1,0))","v":5},{"$f":"INDEX(CHARGES,MATCH($D822&$F822,$AQ$2:$AQ$44&$AR$2:$AR$44,0),MATCH(K$1,$AS$1:$AX$1,0))","v":0},{"$f":"INDEX(CHARGES,MATCH($D822&$F822,$AQ$2:$AQ$44&$AR$2:$AR$44,0),MATCH(L$1,$AS$1:$AX$1,0))","v":0}]
["Camooweal - Water Supply Only","Major electricity infrastructure","Utility installation","Other uses","NR_1","Gross Floor Area",0,{"$f":"INDEX(CHARGES,MATCH($D823&$F823,$AQ$2:$AQ$44&$AR$2:$AR$44,0),MATCH(H$1,$AS$1:$AX$1,0))","v":0},0,{"$f":"INDEX(CHARGES,MATCH($D823&$F823,$AQ$2:$AQ$44&$AR$2:$AR$44,0),MATCH(J$1,$AS$1:$AX$1,0))","v":0},{"$f":"INDEX(CHARGES,MATCH($D823&$F823,$AQ$2:$AQ$44&$AR$2:$AR$44,0),MATCH(K$1,$AS$1:$AX$1,0))","v":0},{"$f":"INDEX(CHARGES,MATCH($D823&$F823,$AQ$2:$AQ$44&$AR$2:$AR$44,0),MATCH(L$1,$AS$1:$AX$1,0))","v":0}]
["Camooweal - Water Supply Only","Major electricity infrastructure","Utility installation","Other uses","NR_1","Impervious Area",0,{"$f":"INDEX(CHARGES,MATCH($D824&$F824,$AQ$2:$AQ$44&$AR$2:$AR$44,0),MATCH(H$1,$AS$1:$AX$1,0))","v":0},0,{"$f":"INDEX(CHARGES,MATCH($D824&$F824,$AQ$2:$AQ$44&$AR$2:$AR$44,0),MATCH(J$1,$AS$1:$AX$1,0))","v":0},{"$f":"INDEX(CHARGES,MATCH($D824&$F824,$AQ$2:$AQ$44&$AR$2:$AR$44,0),MATCH(K$1,$AS$1:$AX$1,0))","v":0},{"$f":"INDEX(CHARGES,MATCH($D824&$F824,$AQ$2:$AQ$44&$AR$2:$AR$44,0),MATCH(L$1,$AS$1:$AX$1,0))","v":0}]
["Camooweal - Water Supply Only","Major sport, recreation and entertainment facility","Major sport, recreation and entertainment facility","Other uses","NR_1","Gross Floor Area",0,{"$f":"INDEX(CHARGES,MATCH($D825&$F825,$AQ$2:$AQ$44&$AR$2:$AR$44,0),MATCH(H$1,$AS$1:$AX$1,0))","v":0},0,{"$f":"INDEX(CHARGES,MATCH($D825&$F825,$AQ$2:$AQ$44&$AR$2:$AR$44,0),MATCH(J$1,$AS$1:$AX$1,0))","v":0},{"$f":"INDEX(CHARGES,MATCH($D825&$F825,$AQ$2:$AQ$44&$AR$2:$AR$44,0),MATCH(K$1,$AS$1:$AX$1,0))","v":0},{"$f":"INDEX(CHARGES,MATCH($D825&$F825,$AQ$2:$AQ$44&$AR$2:$AR$44,0),MATCH(L$1,$AS$1:$AX$1,0))","v":0}]
["Camooweal - Water Supply Only","Major sport, recreation and entertainment facility","Major sport, recreation and entertainment facility","Other uses","NR_1","Impervious Area",0,{"$f":"INDEX(CHARGES,MATCH($D826&$F826,$AQ$2:$AQ$44&$AR$2:$AR$44,0),MATCH(H$1,$AS$1:$AX$1,0))","v":0},0,{"$f":"INDEX(CHARGES,MATCH($D826&$F826,$AQ$2:$AQ$44&$AR$2:$AR$44,0),MATCH(J$1,$AS$1:$AX$1,0))","v":0},{"$f":"INDEX(CHARGES,MATCH($D826&$F826,$AQ$2:$AQ$44&$AR$2:$AR$44,0),MATCH(K$1,$AS$1:$AX$1,0))","v":0},{"$f":"INDEX(CHARGES,MATCH($D826&$F826,$AQ$2:$AQ$44&$AR$2:$AR$44,0),MATCH(L$1,$AS$1:$AX$1,0))","v":0}]
["Camooweal - Water Supply Only","Marine industry","Marine industry","Other industry","NR_1","Gross Floor Area",22,{"$f":"INDEX(CHARGES,MATCH($D827&$F827,$AQ$2:$AQ$44&$AR$2:$AR$44,0),MATCH(H$1,$AS$1:$AX$1,0))","v":5},0,{"$f":"INDEX(CHARGES,MATCH($D827&$F827,$AQ$2:$AQ$44&$AR$2:$AR$44,0),MATCH(J$1,$AS$1:$AX$1,0))","v":0},{"$f":"INDEX(CHARGES,MATCH($D827&$F827,$AQ$2:$AQ$44&$AR$2:$AR$44,0),MATCH(K$1,$AS$1:$AX$1,0))","v":17},{"$f":"INDEX(CHARGES,MATCH($D827&$F827,$AQ$2:$AQ$44&$AR$2:$AR$44,0),MATCH(L$1,$AS$1:$AX$1,0))","v":0}]
["Camooweal - Water Supply Only","Marine industry","Marine industry","Other industry","NR_1","Impervious Area",5,{"$f":"INDEX(CHARGES,MATCH($D828&$F828,$AQ$2:$AQ$44&$AR$2:$AR$44,0),MATCH(H$1,$AS$1:$AX$1,0))","v":0},0,{"$f":"INDEX(CHARGES,MATCH($D828&$F828,$AQ$2:$AQ$44&$AR$2:$AR$44,0),MATCH(J$1,$AS$1:$AX$1,0))","v":5},{"$f":"INDEX(CHARGES,MATCH($D828&$F828,$AQ$2:$AQ$44&$AR$2:$AR$44,0),MATCH(K$1,$AS$1:$AX$1,0))","v":0},{"$f":"INDEX(CHARGES,MATCH($D828&$F828,$AQ$2:$AQ$44&$AR$2:$AR$44,0),MATCH(L$1,$AS$1:$AX$1,0))","v":0}]
["Camooweal - Water Supply Only","Market","Market","Minor uses","NR_3","Gross Floor Area",0,{"$f":"INDEX(CHARGES,MATCH($D829&$F829,$AQ$2:$AQ$44&$AR$2:$AR$44,0),MATCH(H$1,$AS$1:$AX$1,0))","v":0},0,{"$f":"INDEX(CHARGES,MATCH($D829&$F829,$AQ$2:$AQ$44&$AR$2:$AR$44,0),MATCH(J$1,$AS$1:$AX$1,0))","v":0},{"$f":"INDEX(CHARGES,MATCH($D829&$F829,$AQ$2:$AQ$44&$AR$2:$AR$44,0),MATCH(K$1,$AS$1:$AX$1,0))","v":0},{"$f":"INDEX(CHARGES,MATCH($D829&$F829,$AQ$2:$AQ$44&$AR$2:$AR$44,0),MATCH(L$1,$AS$1:$AX$1,0))","v":0}]
["Camooweal - Water Supply Only","Medium impact industry","Medium impact industry","Other industry","NR_1","Gross Floor Area",22,{"$f":"INDEX(CHARGES,MATCH($D830&$F830,$AQ$2:$AQ$44&$AR$2:$AR$44,0),MATCH(H$1,$AS$1:$AX$1,0))","v":5},0,{"$f":"INDEX(CHARGES,MATCH($D830&$F830,$AQ$2:$AQ$44&$AR$2:$AR$44,0),MATCH(J$1,$AS$1:$AX$1,0))","v":0},{"$f":"INDEX(CHARGES,MATCH($D830&$F830,$AQ$2:$AQ$44&$AR$2:$AR$44,0),MATCH(K$1,$AS$1:$AX$1,0))","v":17},{"$f":"INDEX(CHARGES,MATCH($D830&$F830,$AQ$2:$AQ$44&$AR$2:$AR$44,0),MATCH(L$1,$AS$1:$AX$1,0))","v":0}]
["Camooweal - Water Supply Only","Medium impact industry","Medium impact industry","Other industry","NR_1","Impervious Area",5,{"$f":"INDEX(CHARGES,MATCH($D831&$F831,$AQ$2:$AQ$44&$AR$2:$AR$44,0),MATCH(H$1,$AS$1:$AX$1,0))","v":0},0,{"$f":"INDEX(CHARGES,MATCH($D831&$F831,$AQ$2:$AQ$44&$AR$2:$AR$44,0),MATCH(J$1,$AS$1:$AX$1,0))","v":5},{"$f":"INDEX(CHARGES,MATCH($D831&$F831,$AQ$2:$AQ$44&$AR$2:$AR$44,0),MATCH(K$1,$AS$1:$AX$1,0))","v":0},{"$f":"INDEX(CHARGES,MATCH($D831&$F831,$AQ$2:$AQ$44&$AR$2:$AR$44,0),MATCH(L$1,$AS$1:$AX$1,0))","v":0}]
["Camooweal - Water Supply Only","Motor sport facility","Motor sport facility","Other uses","NR_1","Gross Floor Area",0,{"$f":"INDEX(CHARGES,MATCH($D832&$F832,$AQ$2:$AQ$44&$AR$2:$AR$44,0),MATCH(H$1,$AS$1:$AX$1,0))","v":0},0,{"$f":"INDEX(CHARGES,MATCH($D832&$F832,$AQ$2:$AQ$44&$AR$2:$AR$44,0),MATCH(J$1,$AS$1:$AX$1,0))","v":0},{"$f":"INDEX(CHARGES,MATCH($D832&$F832,$AQ$2:$AQ$44&$AR$2:$AR$44,0),MATCH(K$1,$AS$1:$AX$1,0))","v":0},{"$f":"INDEX(CHARGES,MATCH($D832&$F832,$AQ$2:$AQ$44&$AR$2:$AR$44,0),MATCH(L$1,$AS$1:$AX$1,0))","v":0}]
["Camooweal - Water Supply Only","Motor sport facility","Motor sport facility","Other uses","NR_1","Impervious Area",0,{"$f":"INDEX(CHARGES,MATCH($D833&$F833,$AQ$2:$AQ$44&$AR$2:$AR$44,0),MATCH(H$1,$AS$1:$AX$1,0))","v":0},0,{"$f":"INDEX(CHARGES,MATCH($D833&$F833,$AQ$2:$AQ$44&$AR$2:$AR$44,0),MATCH(J$1,$AS$1:$AX$1,0))","v":0},{"$f":"INDEX(CHARGES,MATCH($D833&$F833,$AQ$2:$AQ$44&$AR$2:$AR$44,0),MATCH(K$1,$AS$1:$AX$1,0))","v":0},{"$f":"INDEX(CHARGES,MATCH($D833&$F833,$AQ$2:$AQ$44&$AR$2:$AR$44,0),MATCH(L$1,$AS$1:$AX$1,0))","v":0}]
["Camooweal - Water Supply Only","Multiple dwelling","Multiple dwelling","Residential uses","RU_1","2 or less bedrooms",8592,{"$f":"INDEX(CHARGES,MATCH($D834&$F834,$AQ$2:$AQ$44&$AR$2:$AR$44,0),MATCH(H$1,$AS$1:$AX$1,0))","v":2934},0,{"$f":"INDEX(CHARGES,MATCH($D834&$F834,$AQ$2:$AQ$44&$AR$2:$AR$44,0),MATCH(J$1,$AS$1:$AX$1,0))","v":209},{"$f":"INDEX(CHARGES,MATCH($D834&$F834,$AQ$2:$AQ$44&$AR$2:$AR$44,0),MATCH(K$1,$AS$1:$AX$1,0))","v":5239},{"$f":"INDEX(CHARGES,MATCH($D834&$F834,$AQ$2:$AQ$44&$AR$2:$AR$44,0),MATCH(L$1,$AS$1:$AX$1,0))","v":210}]
["Camooweal - Water Supply Only","Multiple dwelling","Multiple dwelling","Residential uses","RU_1","3 or more bedrooms",12029,{"$f":"INDEX(CHARGES,MATCH($D835&$F835,$AQ$2:$AQ$44&$AR$2:$AR$44,0),MATCH(H$1,$AS$1:$AX$1,0))","v":4108},0,{"$f":"INDEX(CHARGES,MATCH($D835&$F835,$AQ$2:$AQ$44&$AR$2:$AR$44,0),MATCH(J$1,$AS$1:$AX$1,0))","v":293},{"$f":"INDEX(CHARGES,MATCH($D835&$F835,$AQ$2:$AQ$44&$AR$2:$AR$44,0),MATCH(K$1,$AS$1:$AX$1,0))","v":7335},{"$f":"INDEX(CHARGES,MATCH($D835&$F835,$AQ$2:$AQ$44&$AR$2:$AR$44,0),MATCH(L$1,$AS$1:$AX$1,0))","v":293}]
["Camooweal - Water Supply Only","Nature-based tourism",null,"Other uses","NR_1","Gross Floor Area",0,{"$f":"INDEX(CHARGES,MATCH($D836&$F836,$AQ$2:$AQ$44&$AR$2:$AR$44,0),MATCH(H$1,$AS$1:$AX$1,0))","v":0},0,{"$f":"INDEX(CHARGES,MATCH($D836&$F836,$AQ$2:$AQ$44&$AR$2:$AR$44,0),MATCH(J$1,$AS$1:$AX$1,0))","v":0},{"$f":"INDEX(CHARGES,MATCH($D836&$F836,$AQ$2:$AQ$44&$AR$2:$AR$44,0),MATCH(K$1,$AS$1:$AX$1,0))","v":0},{"$f":"INDEX(CHARGES,MATCH($D836&$F836,$AQ$2:$AQ$44&$AR$2:$AR$44,0),MATCH(L$1,$AS$1:$AX$1,0))","v":0}]
["Camooweal - Water Supply Only","Nature-based tourism",null,"Other uses","NR_1","Impervious Area",0,{"$f":"INDEX(CHARGES,MATCH($D837&$F837,$AQ$2:$AQ$44&$AR$2:$AR$44,0),MATCH(H$1,$AS$1:$AX$1,0))","v":0},0,{"$f":"INDEX(CHARGES,MATCH($D837&$F837,$AQ$2:$AQ$44&$AR$2:$AR$44,0),MATCH(J$1,$AS$1:$AX$1,0))","v":0},{"$f":"INDEX(CHARGES,MATCH($D837&$F837,$AQ$2:$AQ$44&$AR$2:$AR$44,0),MATCH(K$1,$AS$1:$AX$1,0))","v":0},{"$f":"INDEX(CHARGES,MATCH($D837&$F837,$AQ$2:$AQ$44&$AR$2:$AR$44,0),MATCH(L$1,$AS$1:$AX$1,0))","v":0}]
["Camooweal - Water Supply Only","Nightclub entertainment facility","Nightclub entertainment facility","Entertainment","NR_1","Gross Floor Area",90,{"$f":"INDEX(CHARGES,MATCH($D838&$F838,$AQ$2:$AQ$44&$AR$2:$AR$44,0),MATCH(H$1,$AS$1:$AX$1,0))","v":22},0,{"$f":"INDEX(CHARGES,MATCH($D838&$F838,$AQ$2:$AQ$44&$AR$2:$AR$44,0),MATCH(J$1,$AS$1:$AX$1,0))","v":0},{"$f":"INDEX(CHARGES,MATCH($D838&$F838,$AQ$2:$AQ$44&$AR$2:$AR$44,0),MATCH(K$1,$AS$1:$AX$1,0))","v":68},{"$f":"INDEX(CHARGES,MATCH($D838&$F838,$AQ$2:$AQ$44&$AR$2:$AR$44,0),MATCH(L$1,$AS$1:$AX$1,0))","v":0}]
["Camooweal - Water Supply Only","Nightclub entertainment facility","Nightclub entertainment facility","Entertainment","NR_1","Impervious Area",5,{"$f":"INDEX(CHARGES,MATCH($D839&$F839,$AQ$2:$AQ$44&$AR$2:$AR$44,0),MATCH(H$1,$AS$1:$AX$1,0))","v":0},0,{"$f":"INDEX(CHARGES,MATCH($D839&$F839,$AQ$2:$AQ$44&$AR$2:$AR$44,0),MATCH(J$1,$AS$1:$AX$1,0))","v":5},{"$f":"INDEX(CHARGES,MATCH($D839&$F839,$AQ$2:$AQ$44&$AR$2:$AR$44,0),MATCH(K$1,$AS$1:$AX$1,0))","v":0},{"$f":"INDEX(CHARGES,MATCH($D839&$F839,$AQ$2:$AQ$44&$AR$2:$AR$44,0),MATCH(L$1,$AS$1:$AX$1,0))","v":0}]
["Camooweal - Water Supply Only","Non-resident workforce accommodation","Short-term accommodation","Accommodation (short-term)","RU_2","bedroom that is not part of a suite",4296,{"$f":"INDEX(CHARGES,MATCH($D840&$F840,$AQ$2:$AQ$44&$AR$2:$AR$44,0),MATCH(H$1,$AS$1:$AX$1,0))","v":1467},0,{"$f":"INDEX(CHARGES,MATCH($D840&$F840,$AQ$2:$AQ$44&$AR$2:$AR$44,0),MATCH(J$1,$AS$1:$AX$1,0))","v":104},{"$f":"INDEX(CHARGES,MATCH($D840&$F840,$AQ$2:$AQ$44&$AR$2:$AR$44,0),MATCH(K$1,$AS$1:$AX$1,0))","v":2620},{"$f":"INDEX(CHARGES,MATCH($D840&$F840,$AQ$2:$AQ$44&$AR$2:$AR$44,0),MATCH(L$1,$AS$1:$AX$1,0))","v":105}]
["Camooweal - Water Supply Only","Non-resident workforce accommodation","Short-term accommodation","Accommodation (short-term)","RU_2","2 or less bedrooms",4296,{"$f":"INDEX(CHARGES,MATCH($D841&$F841,$AQ$2:$AQ$44&$AR$2:$AR$44,0),MATCH(H$1,$AS$1:$AX$1,0))","v":1467},0,{"$f":"INDEX(CHARGES,MATCH($D841&$F841,$AQ$2:$AQ$44&$AR$2:$AR$44,0),MATCH(J$1,$AS$1:$AX$1,0))","v":104},{"$f":"INDEX(CHARGES,MATCH($D841&$F841,$AQ$2:$AQ$44&$AR$2:$AR$44,0),MATCH(K$1,$AS$1:$AX$1,0))","v":2620},{"$f":"INDEX(CHARGES,MATCH($D841&$F841,$AQ$2:$AQ$44&$AR$2:$AR$44,0),MATCH(L$1,$AS$1:$AX$1,0))","v":105}]
["Camooweal - Water Supply Only","Non-resident workforce accommodation","Short-term accommodation","Accommodation (short-term)","RU_2","3 or more bedrooms",6015,{"$f":"INDEX(CHARGES,MATCH($D842&$F842,$AQ$2:$AQ$44&$AR$2:$AR$44,0),MATCH(H$1,$AS$1:$AX$1,0))","v":2054},0,{"$f":"INDEX(CHARGES,MATCH($D842&$F842,$AQ$2:$AQ$44&$AR$2:$AR$44,0),MATCH(J$1,$AS$1:$AX$1,0))","v":146},{"$f":"INDEX(CHARGES,MATCH($D842&$F842,$AQ$2:$AQ$44&$AR$2:$AR$44,0),MATCH(K$1,$AS$1:$AX$1,0))","v":3668},{"$f":"INDEX(CHARGES,MATCH($D842&$F842,$AQ$2:$AQ$44&$AR$2:$AR$44,0),MATCH(L$1,$AS$1:$AX$1,0))","v":147}]
["Camooweal - Water Supply Only","Place of worship","Place of worship","Places of assembly","NR_1","Gross Floor Area",32,{"$f":"INDEX(CHARGES,MATCH($D843&$F843,$AQ$2:$AQ$44&$AR$2:$AR$44,0),MATCH(H$1,$AS$1:$AX$1,0))","v":8},0,{"$f":"INDEX(CHARGES,MATCH($D843&$F843,$AQ$2:$AQ$44&$AR$2:$AR$44,0),MATCH(J$1,$AS$1:$AX$1,0))","v":0},{"$f":"INDEX(CHARGES,MATCH($D843&$F843,$AQ$2:$AQ$44&$AR$2:$AR$44,0),MATCH(K$1,$AS$1:$AX$1,0))","v":24},{"$f":"INDEX(CHARGES,MATCH($D843&$F843,$AQ$2:$AQ$44&$AR$2:$AR$44,0),MATCH(L$1,$AS$1:$AX$1,0))","v":0}]
["Camooweal - Water Supply Only","Place of worship","Place of worship","Places of assembly","NR_1","Impervious Area",5,{"$f":"INDEX(CHARGES,MATCH($D844&$F844,$AQ$2:$AQ$44&$AR$2:$AR$44,0),MATCH(H$1,$AS$1:$AX$1,0))","v":0},0,{"$f":"INDEX(CHARGES,MATCH($D844&$F844,$AQ$2:$AQ$44&$AR$2:$AR$44,0),MATCH(J$1,$AS$1:$AX$1,0))","v":5},{"$f":"INDEX(CHARGES,MATCH($D844&$F844,$AQ$2:$AQ$44&$AR$2:$AR$44,0),MATCH(K$1,$AS$1:$AX$1,0))","v":0},{"$f":"INDEX(CHARGES,MATCH($D844&$F844,$AQ$2:$AQ$44&$AR$2:$AR$44,0),MATCH(L$1,$AS$1:$AX$1,0))","v":0}]
["Camooweal - Water Supply Only","Port services","Port service","Other uses","NR_1","Gross Floor Area",0,{"$f":"INDEX(CHARGES,MATCH($D845&$F845,$AQ$2:$AQ$44&$AR$2:$AR$44,0),MATCH(H$1,$AS$1:$AX$1,0))","v":0},0,{"$f":"INDEX(CHARGES,MATCH($D845&$F845,$AQ$2:$AQ$44&$AR$2:$AR$44,0),MATCH(J$1,$AS$1:$AX$1,0))","v":0},{"$f":"INDEX(CHARGES,MATCH($D845&$F845,$AQ$2:$AQ$44&$AR$2:$AR$44,0),MATCH(K$1,$AS$1:$AX$1,0))","v":0},{"$f":"INDEX(CHARGES,MATCH($D845&$F845,$AQ$2:$AQ$44&$AR$2:$AR$44,0),MATCH(L$1,$AS$1:$AX$1,0))","v":0}]
["Camooweal - Water Supply Only","Port services","Port service","Other uses","NR_1","Impervious Area",0,{"$f":"INDEX(CHARGES,MATCH($D846&$F846,$AQ$2:$AQ$44&$AR$2:$AR$44,0),MATCH(H$1,$AS$1:$AX$1,0))","v":0},0,{"$f":"INDEX(CHARGES,MATCH($D846&$F846,$AQ$2:$AQ$44&$AR$2:$AR$44,0),MATCH(J$1,$AS$1:$AX$1,0))","v":0},{"$f":"INDEX(CHARGES,MATCH($D846&$F846,$AQ$2:$AQ$44&$AR$2:$AR$44,0),MATCH(K$1,$AS$1:$AX$1,0))","v":0},{"$f":"INDEX(CHARGES,MATCH($D846&$F846,$AQ$2:$AQ$44&$AR$2:$AR$44,0),MATCH(L$1,$AS$1:$AX$1,0))","v":0}]
["Camooweal - Water Supply Only","Relocatable home park","Relocatable home park","Accommodation (long-term)","RU_1","2 or less bedrooms",8592,{"$f":"INDEX(CHARGES,MATCH($D847&$F847,$AQ$2:$AQ$44&$AR$2:$AR$44,0),MATCH(H$1,$AS$1:$AX$1,0))","v":2934},0,{"$f":"INDEX(CHARGES,MATCH($D847&$F847,$AQ$2:$AQ$44&$AR$2:$AR$44,0),MATCH(J$1,$AS$1:$AX$1,0))","v":209},{"$f":"INDEX(CHARGES,MATCH($D847&$F847,$AQ$2:$AQ$44&$AR$2:$AR$44,0),MATCH(K$1,$AS$1:$AX$1,0))","v":5239},{"$f":"INDEX(CHARGES,MATCH($D847&$F847,$AQ$2:$AQ$44&$AR$2:$AR$44,0),MATCH(L$1,$AS$1:$AX$1,0))","v":210}]
["Camooweal - Water Supply Only","Relocatable home park","Relocatable home park","Accommodation (long-term)","RU_1","3 or more bedrooms",12029,{"$f":"INDEX(CHARGES,MATCH($D848&$F848,$AQ$2:$AQ$44&$AR$2:$AR$44,0),MATCH(H$1,$AS$1:$AX$1,0))","v":4108},0,{"$f":"INDEX(CHARGES,MATCH($D848&$F848,$AQ$2:$AQ$44&$AR$2:$AR$44,0),MATCH(J$1,$AS$1:$AX$1,0))","v":293},{"$f":"INDEX(CHARGES,MATCH($D848&$F848,$AQ$2:$AQ$44&$AR$2:$AR$44,0),MATCH(K$1,$AS$1:$AX$1,0))","v":7335},{"$f":"INDEX(CHARGES,MATCH($D848&$F848,$AQ$2:$AQ$44&$AR$2:$AR$44,0),MATCH(L$1,$AS$1:$AX$1,0))","v":293}]
["Camooweal - Water Supply Only","Renewable energy facility",null,"Other uses","NR_1","Gross Floor Area",0,{"$f":"INDEX(CHARGES,MATCH($D849&$F849,$AQ$2:$AQ$44&$AR$2:$AR$44,0),MATCH(H$1,$AS$1:$AX$1,0))","v":0},0,{"$f":"INDEX(CHARGES,MATCH($D849&$F849,$AQ$2:$AQ$44&$AR$2:$AR$44,0),MATCH(J$1,$AS$1:$AX$1,0))","v":0},{"$f":"INDEX(CHARGES,MATCH($D849&$F849,$AQ$2:$AQ$44&$AR$2:$AR$44,0),MATCH(K$1,$AS$1:$AX$1,0))","v":0},{"$f":"INDEX(CHARGES,MATCH($D849&$F849,$AQ$2:$AQ$44&$AR$2:$AR$44,0),MATCH(L$1,$AS$1:$AX$1,0))","v":0}]
["Camooweal - Water Supply Only","Renewable energy facility",null,"Other uses","NR_1","Impervious Area",0,{"$f":"INDEX(CHARGES,MATCH($D850&$F850,$AQ$2:$AQ$44&$AR$2:$AR$44,0),MATCH(H$1,$AS$1:$AX$1,0))","v":0},0,{"$f":"INDEX(CHARGES,MATCH($D850&$F850,$AQ$2:$AQ$44&$AR$2:$AR$44,0),MATCH(J$1,$AS$1:$AX$1,0))","v":0},{"$f":"INDEX(CHARGES,MATCH($D850&$F850,$AQ$2:$AQ$44&$AR$2:$AR$44,0),MATCH(K$1,$AS$1:$AX$1,0))","v":0},{"$f":"INDEX(CHARGES,MATCH($D850&$F850,$AQ$2:$AQ$44&$AR$2:$AR$44,0),MATCH(L$1,$AS$1:$AX$1,0))","v":0}]
["Camooweal - Water Supply Only","Research and technology industry","Low impact industry","Other industry","NR_1","Gross Floor Area",22,{"$f":"INDEX(CHARGES,MATCH($D851&$F851,$AQ$2:$AQ$44&$AR$2:$AR$44,0),MATCH(H$1,$AS$1:$AX$1,0))","v":5},0,{"$f":"INDEX(CHARGES,MATCH($D851&$F851,$AQ$2:$AQ$44&$AR$2:$AR$44,0),MATCH(J$1,$AS$1:$AX$1,0))","v":0},{"$f":"INDEX(CHARGES,MATCH($D851&$F851,$AQ$2:$AQ$44&$AR$2:$AR$44,0),MATCH(K$1,$AS$1:$AX$1,0))","v":17},{"$f":"INDEX(CHARGES,MATCH($D851&$F851,$AQ$2:$AQ$44&$AR$2:$AR$44,0),MATCH(L$1,$AS$1:$AX$1,0))","v":0}]
["Camooweal - Water Supply Only","Research and technology industry","Low impact industry","Other industry","NR_1","Impervious Area",5,{"$f":"INDEX(CHARGES,MATCH($D852&$F852,$AQ$2:$AQ$44&$AR$2:$AR$44,0),MATCH(H$1,$AS$1:$AX$1,0))","v":0},0,{"$f":"INDEX(CHARGES,MATCH($D852&$F852,$AQ$2:$AQ$44&$AR$2:$AR$44,0),MATCH(J$1,$AS$1:$AX$1,0))","v":5},{"$f":"INDEX(CHARGES,MATCH($D852&$F852,$AQ$2:$AQ$44&$AR$2:$AR$44,0),MATCH(K$1,$AS$1:$AX$1,0))","v":0},{"$f":"INDEX(CHARGES,MATCH($D852&$F852,$AQ$2:$AQ$44&$AR$2:$AR$44,0),MATCH(L$1,$AS$1:$AX$1,0))","v":0}]
["Camooweal - Water Supply Only","Residential care facility","Short-term accommodation","Accommodation (short-term)","RU_2","bedroom that is not part of a suite",4296,{"$f":"INDEX(CHARGES,MATCH($D853&$F853,$AQ$2:$AQ$44&$AR$2:$AR$44,0),MATCH(H$1,$AS$1:$AX$1,0))","v":1467},0,{"$f":"INDEX(CHARGES,MATCH($D853&$F853,$AQ$2:$AQ$44&$AR$2:$AR$44,0),MATCH(J$1,$AS$1:$AX$1,0))","v":104},{"$f":"INDEX(CHARGES,MATCH($D853&$F853,$AQ$2:$AQ$44&$AR$2:$AR$44,0),MATCH(K$1,$AS$1:$AX$1,0))","v":2620},{"$f":"INDEX(CHARGES,MATCH($D853&$F853,$AQ$2:$AQ$44&$AR$2:$AR$44,0),MATCH(L$1,$AS$1:$AX$1,0))","v":105}]
["Camooweal - Water Supply Only","Residential care facility","Short-term accommodation","Accommodation (short-term)","RU_2","2 or less bedrooms",4296,{"$f":"INDEX(CHARGES,MATCH($D854&$F854,$AQ$2:$AQ$44&$AR$2:$AR$44,0),MATCH(H$1,$AS$1:$AX$1,0))","v":1467},0,{"$f":"INDEX(CHARGES,MATCH($D854&$F854,$AQ$2:$AQ$44&$AR$2:$AR$44,0),MATCH(J$1,$AS$1:$AX$1,0))","v":104},{"$f":"INDEX(CHARGES,MATCH($D854&$F854,$AQ$2:$AQ$44&$AR$2:$AR$44,0),MATCH(K$1,$AS$1:$AX$1,0))","v":2620},{"$f":"INDEX(CHARGES,MATCH($D854&$F854,$AQ$2:$AQ$44&$AR$2:$AR$44,0),MATCH(L$1,$AS$1:$AX$1,0))","v":105}]
["Camooweal - Water Supply Only","Residential care facility","Short-term accommodation","Accommodation (short-term)","RU_2","3 or more bedrooms",6015,{"$f":"INDEX(CHARGES,MATCH($D855&$F855,$AQ$2:$AQ$44&$AR$2:$AR$44,0),MATCH(H$1,$AS$1:$AX$1,0))","v":2054},0,{"$f":"INDEX(CHARGES,MATCH($D855&$F855,$AQ$2:$AQ$44&$AR$2:$AR$44,0),MATCH(J$1,$AS$1:$AX$1,0))","v":146},{"$f":"INDEX(CHARGES,MATCH($D855&$F855,$AQ$2:$AQ$44&$AR$2:$AR$44,0),MATCH(K$1,$AS$1:$AX$1,0))","v":3668},{"$f":"INDEX(CHARGES,MATCH($D855&$F855,$AQ$2:$AQ$44&$AR$2:$AR$44,0),MATCH(L$1,$AS$1:$AX$1,0))","v":147}]
["Camooweal - Water Supply Only","Resort complex - Accommodation component","Resort complex","Accommodation (short-term)","RU_2","bedroom that is not part of a suite",{"$f":"SUM(H856:L856)","v":4296},{"$f":"INDEX(CHARGES,MATCH($D856&$F856,$AQ$2:$AQ$44&$AR$2:$AR$44,0),MATCH(H$1,$AS$1:$AX$1,0))","v":1467},0,{"$f":"INDEX(CHARGES,MATCH($D856&$F856,$AQ$2:$AQ$44&$AR$2:$AR$44,0),MATCH(J$1,$AS$1:$AX$1,0))","v":104},{"$f":"INDEX(CHARGES,MATCH($D856&$F856,$AQ$2:$AQ$44&$AR$2:$AR$44,0),MATCH(K$1,$AS$1:$AX$1,0))","v":2620},{"$f":"INDEX(CHARGES,MATCH($D856&$F856,$AQ$2:$AQ$44&$AR$2:$AR$44,0),MATCH(L$1,$AS$1:$AX$1,0))","v":105}]
["Camooweal - Water Supply Only","Resort complex - Accommodation component","Resort complex","Accommodation (short-term)","RU_2","2 or less bedrooms",{"$f":"SUM(H857:L857)","v":4296},{"$f":"INDEX(CHARGES,MATCH($D857&$F857,$AQ$2:$AQ$44&$AR$2:$AR$44,0),MATCH(H$1,$AS$1:$AX$1,0))","v":1467},0,{"$f":"INDEX(CHARGES,MATCH($D857&$F857,$AQ$2:$AQ$44&$AR$2:$AR$44,0),MATCH(J$1,$AS$1:$AX$1,0))","v":104},{"$f":"INDEX(CHARGES,MATCH($D857&$F857,$AQ$2:$AQ$44&$AR$2:$AR$44,0),MATCH(K$1,$AS$1:$AX$1,0))","v":2620},{"$f":"INDEX(CHARGES,MATCH($D857&$F857,$AQ$2:$AQ$44&$AR$2:$AR$44,0),MATCH(L$1,$AS$1:$AX$1,0))","v":105}]
["Camooweal - Water Supply Only","Resort complex - Accommodation component","Resort complex","Accommodation (short-term)","RU_2","3 or more bedrooms",{"$f":"SUM(H858:L858)","v":6015},{"$f":"INDEX(CHARGES,MATCH($D858&$F858,$AQ$2:$AQ$44&$AR$2:$AR$44,0),MATCH(H$1,$AS$1:$AX$1,0))","v":2054},0,{"$f":"INDEX(CHARGES,MATCH($D858&$F858,$AQ$2:$AQ$44&$AR$2:$AR$44,0),MATCH(J$1,$AS$1:$AX$1,0))","v":146},{"$f":"INDEX(CHARGES,MATCH($D858&$F858,$AQ$2:$AQ$44&$AR$2:$AR$44,0),MATCH(K$1,$AS$1:$AX$1,0))","v":3668},{"$f":"INDEX(CHARGES,MATCH($D858&$F858,$AQ$2:$AQ$44&$AR$2:$AR$44,0),MATCH(L$1,$AS$1:$AX$1,0))","v":147}]
["Camooweal - Water Supply Only","Resort complex - Entertainment component","Resort complex","Entertainment","NR_1","Gross Floor Area",{"$f":"SUM(H859:L859)","v":90},{"$f":"INDEX(CHARGES,MATCH($D859&$F859,$AQ$2:$AQ$44&$AR$2:$AR$44,0),MATCH(H$1,$AS$1:$AX$1,0))","v":22},0,{"$f":"INDEX(CHARGES,MATCH($D859&$F859,$AQ$2:$AQ$44&$AR$2:$AR$44,0),MATCH(J$1,$AS$1:$AX$1,0))","v":0},{"$f":"INDEX(CHARGES,MATCH($D859&$F859,$AQ$2:$AQ$44&$AR$2:$AR$44,0),MATCH(K$1,$AS$1:$AX$1,0))","v":68},{"$f":"INDEX(CHARGES,MATCH($D859&$F859,$AQ$2:$AQ$44&$AR$2:$AR$44,0),MATCH(L$1,$AS$1:$AX$1,0))","v":0}]
["Camooweal - Water Supply Only","Resort complex - Entertainment component","Resort complex","Entertainment","NR_1","Impervious Area",{"$f":"SUM(H860:L860)","v":5},{"$f":"INDEX(CHARGES,MATCH($D860&$F860,$AQ$2:$AQ$44&$AR$2:$AR$44,0),MATCH(H$1,$AS$1:$AX$1,0))","v":0},0,{"$f":"INDEX(CHARGES,MATCH($D860&$F860,$AQ$2:$AQ$44&$AR$2:$AR$44,0),MATCH(J$1,$AS$1:$AX$1,0))","v":5},{"$f":"INDEX(CHARGES,MATCH($D860&$F860,$AQ$2:$AQ$44&$AR$2:$AR$44,0),MATCH(K$1,$AS$1:$AX$1,0))","v":0},{"$f":"INDEX(CHARGES,MATCH($D860&$F860,$AQ$2:$AQ$44&$AR$2:$AR$44,0),MATCH(L$1,$AS$1:$AX$1,0))","v":0}]
["Camooweal - Water Supply Only","Retirement facility","Retirement facility","Accommodation (long-term)","RU_2","bedroom that is not part of a suite",8592,{"$f":"INDEX(CHARGES,MATCH($D861&$F861,$AQ$2:$AQ$44&$AR$2:$AR$44,0),MATCH(H$1,$AS$1:$AX$1,0))","v":2934},0,{"$f":"INDEX(CHARGES,MATCH($D861&$F861,$AQ$2:$AQ$44&$AR$2:$AR$44,0),MATCH(J$1,$AS$1:$AX$1,0))","v":209},{"$f":"INDEX(CHARGES,MATCH($D861&$F861,$AQ$2:$AQ$44&$AR$2:$AR$44,0),MATCH(K$1,$AS$1:$AX$1,0))","v":5239},{"$f":"INDEX(CHARGES,MATCH($D861&$F861,$AQ$2:$AQ$44&$AR$2:$AR$44,0),MATCH(L$1,$AS$1:$AX$1,0))","v":210}]
["Camooweal - Water Supply Only","Retirement facility","Retirement facility","Accommodation (long-term)","RU_2","2 or less bedrooms",{"$f":"SUM(H862:L862)","v":8592},{"$f":"INDEX(CHARGES,MATCH($D862&$F862,$AQ$2:$AQ$44&$AR$2:$AR$44,0),MATCH(H$1,$AS$1:$AX$1,0))","v":2934},0,{"$f":"INDEX(CHARGES,MATCH($D862&$F862,$AQ$2:$AQ$44&$AR$2:$AR$44,0),MATCH(J$1,$AS$1:$AX$1,0))","v":209},{"$f":"INDEX(CHARGES,MATCH($D862&$F862,$AQ$2:$AQ$44&$AR$2:$AR$44,0),MATCH(K$1,$AS$1:$AX$1,0))","v":5239},{"$f":"INDEX(CHARGES,MATCH($D862&$F862,$AQ$2:$AQ$44&$AR$2:$AR$44,0),MATCH(L$1,$AS$1:$AX$1,0))","v":210}]
["Camooweal - Water Supply Only","Retirement facility","Retirement facility","Accommodation (long-term)","RU_2","3 or more bedrooms",12029,{"$f":"INDEX(CHARGES,MATCH($D863&$F863,$AQ$2:$AQ$44&$AR$2:$AR$44,0),MATCH(H$1,$AS$1:$AX$1,0))","v":4108},0,{"$f":"INDEX(CHARGES,MATCH($D863&$F863,$AQ$2:$AQ$44&$AR$2:$AR$44,0),MATCH(J$1,$AS$1:$AX$1,0))","v":293},{"$f":"INDEX(CHARGES,MATCH($D863&$F863,$AQ$2:$AQ$44&$AR$2:$AR$44,0),MATCH(K$1,$AS$1:$AX$1,0))","v":7335},{"$f":"INDEX(CHARGES,MATCH($D863&$F863,$AQ$2:$AQ$44&$AR$2:$AR$44,0),MATCH(L$1,$AS$1:$AX$1,0))","v":293}]
["Camooweal - Water Supply Only","Roadside stall","Roadside stall","Minor uses","NR_3","Gross Floor Area",0,{"$f":"INDEX(CHARGES,MATCH($D864&$F864,$AQ$2:$AQ$44&$AR$2:$AR$44,0),MATCH(H$1,$AS$1:$AX$1,0))","v":0},0,{"$f":"INDEX(CHARGES,MATCH($D864&$F864,$AQ$2:$AQ$44&$AR$2:$AR$44,0),MATCH(J$1,$AS$1:$AX$1,0))","v":0},{"$f":"INDEX(CHARGES,MATCH($D864&$F864,$AQ$2:$AQ$44&$AR$2:$AR$44,0),MATCH(K$1,$AS$1:$AX$1,0))","v":0},{"$f":"INDEX(CHARGES,MATCH($D864&$F864,$AQ$2:$AQ$44&$AR$2:$AR$44,0),MATCH(L$1,$AS$1:$AX$1,0))","v":0}]
["Camooweal - Water Supply Only","Rooming accommodation","Rooming accommodation","Accommodation (long-term)","RU_2","bedroom that is not part of a suite",8592,{"$f":"INDEX(CHARGES,MATCH($D865&$F865,$AQ$2:$AQ$44&$AR$2:$AR$44,0),MATCH(H$1,$AS$1:$AX$1,0))","v":2934},0,{"$f":"INDEX(CHARGES,MATCH($D865&$F865,$AQ$2:$AQ$44&$AR$2:$AR$44,0),MATCH(J$1,$AS$1:$AX$1,0))","v":209},{"$f":"INDEX(CHARGES,MATCH($D865&$F865,$AQ$2:$AQ$44&$AR$2:$AR$44,0),MATCH(K$1,$AS$1:$AX$1,0))","v":5239},{"$f":"INDEX(CHARGES,MATCH($D865&$F865,$AQ$2:$AQ$44&$AR$2:$AR$44,0),MATCH(L$1,$AS$1:$AX$1,0))","v":210}]
["Camooweal - Water Supply Only","Rooming accommodation","Rooming accommodation","Accommodation (long-term)","RU_2","2 or less bedrooms",8592,{"$f":"INDEX(CHARGES,MATCH($D866&$F866,$AQ$2:$AQ$44&$AR$2:$AR$44,0),MATCH(H$1,$AS$1:$AX$1,0))","v":2934},0,{"$f":"INDEX(CHARGES,MATCH($D866&$F866,$AQ$2:$AQ$44&$AR$2:$AR$44,0),MATCH(J$1,$AS$1:$AX$1,0))","v":209},{"$f":"INDEX(CHARGES,MATCH($D866&$F866,$AQ$2:$AQ$44&$AR$2:$AR$44,0),MATCH(K$1,$AS$1:$AX$1,0))","v":5239},{"$f":"INDEX(CHARGES,MATCH($D866&$F866,$AQ$2:$AQ$44&$AR$2:$AR$44,0),MATCH(L$1,$AS$1:$AX$1,0))","v":210}]
["Camooweal - Water Supply Only","Rooming accommodation","Rooming accommodation","Accommodation (long-term)","RU_2","3 or more bedrooms",12029,{"$f":"INDEX(CHARGES,MATCH($D867&$F867,$AQ$2:$AQ$44&$AR$2:$AR$44,0),MATCH(H$1,$AS$1:$AX$1,0))","v":4108},0,{"$f":"INDEX(CHARGES,MATCH($D867&$F867,$AQ$2:$AQ$44&$AR$2:$AR$44,0),MATCH(J$1,$AS$1:$AX$1,0))","v":293},{"$f":"INDEX(CHARGES,MATCH($D867&$F867,$AQ$2:$AQ$44&$AR$2:$AR$44,0),MATCH(K$1,$AS$1:$AX$1,0))","v":7335},{"$f":"INDEX(CHARGES,MATCH($D867&$F867,$AQ$2:$AQ$44&$AR$2:$AR$44,0),MATCH(L$1,$AS$1:$AX$1,0))","v":293}]
["Camooweal - Water Supply Only","Rural industry","Rural industry","Other industry","NR_1","Gross Floor Area",22,{"$f":"INDEX(CHARGES,MATCH($D868&$F868,$AQ$2:$AQ$44&$AR$2:$AR$44,0),MATCH(H$1,$AS$1:$AX$1,0))","v":5},0,{"$f":"INDEX(CHARGES,MATCH($D868&$F868,$AQ$2:$AQ$44&$AR$2:$AR$44,0),MATCH(J$1,$AS$1:$AX$1,0))","v":0},{"$f":"INDEX(CHARGES,MATCH($D868&$F868,$AQ$2:$AQ$44&$AR$2:$AR$44,0),MATCH(K$1,$AS$1:$AX$1,0))","v":17},{"$f":"INDEX(CHARGES,MATCH($D868&$F868,$AQ$2:$AQ$44&$AR$2:$AR$44,0),MATCH(L$1,$AS$1:$AX$1,0))","v":0}]
["Camooweal - Water Supply Only","Rural industry","Rural industry","Other industry","NR_1","Impervious Area",5,{"$f":"INDEX(CHARGES,MATCH($D869&$F869,$AQ$2:$AQ$44&$AR$2:$AR$44,0),MATCH(H$1,$AS$1:$AX$1,0))","v":0},0,{"$f":"INDEX(CHARGES,MATCH($D869&$F869,$AQ$2:$AQ$44&$AR$2:$AR$44,0),MATCH(J$1,$AS$1:$AX$1,0))","v":5},{"$f":"INDEX(CHARGES,MATCH($D869&$F869,$AQ$2:$AQ$44&$AR$2:$AR$44,0),MATCH(K$1,$AS$1:$AX$1,0))","v":0},{"$f":"INDEX(CHARGES,MATCH($D869&$F869,$AQ$2:$AQ$44&$AR$2:$AR$44,0),MATCH(L$1,$AS$1:$AX$1,0))","v":0}]
["Camooweal - Water Supply Only","Rural workers accommodation","Short-term accommodation","Accommodation (short-term)","RU_2","bedroom that is not part of a suite",4296,{"$f":"INDEX(CHARGES,MATCH($D870&$F870,$AQ$2:$AQ$44&$AR$2:$AR$44,0),MATCH(H$1,$AS$1:$AX$1,0))","v":1467},0,{"$f":"INDEX(CHARGES,MATCH($D870&$F870,$AQ$2:$AQ$44&$AR$2:$AR$44,0),MATCH(J$1,$AS$1:$AX$1,0))","v":104},{"$f":"INDEX(CHARGES,MATCH($D870&$F870,$AQ$2:$AQ$44&$AR$2:$AR$44,0),MATCH(K$1,$AS$1:$AX$1,0))","v":2620},{"$f":"INDEX(CHARGES,MATCH($D870&$F870,$AQ$2:$AQ$44&$AR$2:$AR$44,0),MATCH(L$1,$AS$1:$AX$1,0))","v":105}]
["Camooweal - Water Supply Only","Rural workers accommodation","Short-term accommodation","Accommodation (short-term)","RU_2","2 or less bedrooms",4296,{"$f":"INDEX(CHARGES,MATCH($D871&$F871,$AQ$2:$AQ$44&$AR$2:$AR$44,0),MATCH(H$1,$AS$1:$AX$1,0))","v":1467},0,{"$f":"INDEX(CHARGES,MATCH($D871&$F871,$AQ$2:$AQ$44&$AR$2:$AR$44,0),MATCH(J$1,$AS$1:$AX$1,0))","v":104},{"$f":"INDEX(CHARGES,MATCH($D871&$F871,$AQ$2:$AQ$44&$AR$2:$AR$44,0),MATCH(K$1,$AS$1:$AX$1,0))","v":2620},{"$f":"INDEX(CHARGES,MATCH($D871&$F871,$AQ$2:$AQ$44&$AR$2:$AR$44,0),MATCH(L$1,$AS$1:$AX$1,0))","v":105}]
["Camooweal - Water Supply Only","Rural workers accommodation","Short-term accommodation","Accommodation (short-term)","RU_2","3 or more bedrooms",6015,{"$f":"INDEX(CHARGES,MATCH($D872&$F872,$AQ$2:$AQ$44&$AR$2:$AR$44,0),MATCH(H$1,$AS$1:$AX$1,0))","v":2054},0,{"$f":"INDEX(CHARGES,MATCH($D872&$F872,$AQ$2:$AQ$44&$AR$2:$AR$44,0),MATCH(J$1,$AS$1:$AX$1,0))","v":146},{"$f":"INDEX(CHARGES,MATCH($D872&$F872,$AQ$2:$AQ$44&$AR$2:$AR$44,0),MATCH(K$1,$AS$1:$AX$1,0))","v":3668},{"$f":"INDEX(CHARGES,MATCH($D872&$F872,$AQ$2:$AQ$44&$AR$2:$AR$44,0),MATCH(L$1,$AS$1:$AX$1,0))","v":147}]
["Camooweal - Water Supply Only","Sales office","Sales office","Commercial (office)","NR_1","Gross Floor Area",63,{"$f":"INDEX(CHARGES,MATCH($D873&$F873,$AQ$2:$AQ$44&$AR$2:$AR$44,0),MATCH(H$1,$AS$1:$AX$1,0))","v":15},0,{"$f":"INDEX(CHARGES,MATCH($D873&$F873,$AQ$2:$AQ$44&$AR$2:$AR$44,0),MATCH(J$1,$AS$1:$AX$1,0))","v":0},{"$f":"INDEX(CHARGES,MATCH($D873&$F873,$AQ$2:$AQ$44&$AR$2:$AR$44,0),MATCH(K$1,$AS$1:$AX$1,0))","v":48},{"$f":"INDEX(CHARGES,MATCH($D873&$F873,$AQ$2:$AQ$44&$AR$2:$AR$44,0),MATCH(L$1,$AS$1:$AX$1,0))","v":0}]
["Camooweal - Water Supply Only","Sales office","Sales office","Commercial (office)","NR_1","Impervious Area",5,{"$f":"INDEX(CHARGES,MATCH($D874&$F874,$AQ$2:$AQ$44&$AR$2:$AR$44,0),MATCH(H$1,$AS$1:$AX$1,0))","v":0},0,{"$f":"INDEX(CHARGES,MATCH($D874&$F874,$AQ$2:$AQ$44&$AR$2:$AR$44,0),MATCH(J$1,$AS$1:$AX$1,0))","v":5},{"$f":"INDEX(CHARGES,MATCH($D874&$F874,$AQ$2:$AQ$44&$AR$2:$AR$44,0),MATCH(K$1,$AS$1:$AX$1,0))","v":0},{"$f":"INDEX(CHARGES,MATCH($D874&$F874,$AQ$2:$AQ$44&$AR$2:$AR$44,0),MATCH(L$1,$AS$1:$AX$1,0))","v":0}]
["Camooweal - Water Supply Only","Service industry","Service industry","Commercial (retail)","NR_1","Gross Floor Area",81,{"$f":"INDEX(CHARGES,MATCH($D875&$F875,$AQ$2:$AQ$44&$AR$2:$AR$44,0),MATCH(H$1,$AS$1:$AX$1,0))","v":20},0,{"$f":"INDEX(CHARGES,MATCH($D875&$F875,$AQ$2:$AQ$44&$AR$2:$AR$44,0),MATCH(J$1,$AS$1:$AX$1,0))","v":0},{"$f":"INDEX(CHARGES,MATCH($D875&$F875,$AQ$2:$AQ$44&$AR$2:$AR$44,0),MATCH(K$1,$AS$1:$AX$1,0))","v":61},{"$f":"INDEX(CHARGES,MATCH($D875&$F875,$AQ$2:$AQ$44&$AR$2:$AR$44,0),MATCH(L$1,$AS$1:$AX$1,0))","v":0}]
["Camooweal - Water Supply Only","Service industry","Service industry","Commercial (retail)","NR_1","Impervious Area",5,{"$f":"INDEX(CHARGES,MATCH($D876&$F876,$AQ$2:$AQ$44&$AR$2:$AR$44,0),MATCH(H$1,$AS$1:$AX$1,0))","v":0},0,{"$f":"INDEX(CHARGES,MATCH($D876&$F876,$AQ$2:$AQ$44&$AR$2:$AR$44,0),MATCH(J$1,$AS$1:$AX$1,0))","v":5},{"$f":"INDEX(CHARGES,MATCH($D876&$F876,$AQ$2:$AQ$44&$AR$2:$AR$44,0),MATCH(K$1,$AS$1:$AX$1,0))","v":0},{"$f":"INDEX(CHARGES,MATCH($D876&$F876,$AQ$2:$AQ$44&$AR$2:$AR$44,0),MATCH(L$1,$AS$1:$AX$1,0))","v":0}]
["Camooweal - Water Supply Only","Service station","Service station","Commercial (retail)","NR_1","Gross Floor Area",81,{"$f":"INDEX(CHARGES,MATCH($D877&$F877,$AQ$2:$AQ$44&$AR$2:$AR$44,0),MATCH(H$1,$AS$1:$AX$1,0))","v":20},0,{"$f":"INDEX(CHARGES,MATCH($D877&$F877,$AQ$2:$AQ$44&$AR$2:$AR$44,0),MATCH(J$1,$AS$1:$AX$1,0))","v":0},{"$f":"INDEX(CHARGES,MATCH($D877&$F877,$AQ$2:$AQ$44&$AR$2:$AR$44,0),MATCH(K$1,$AS$1:$AX$1,0))","v":61},{"$f":"INDEX(CHARGES,MATCH($D877&$F877,$AQ$2:$AQ$44&$AR$2:$AR$44,0),MATCH(L$1,$AS$1:$AX$1,0))","v":0}]
["Camooweal - Water Supply Only","Service station","Service station","Commercial (retail)","NR_1","Impervious Area",5,{"$f":"INDEX(CHARGES,MATCH($D878&$F878,$AQ$2:$AQ$44&$AR$2:$AR$44,0),MATCH(H$1,$AS$1:$AX$1,0))","v":0},0,{"$f":"INDEX(CHARGES,MATCH($D878&$F878,$AQ$2:$AQ$44&$AR$2:$AR$44,0),MATCH(J$1,$AS$1:$AX$1,0))","v":5},{"$f":"INDEX(CHARGES,MATCH($D878&$F878,$AQ$2:$AQ$44&$AR$2:$AR$44,0),MATCH(K$1,$AS$1:$AX$1,0))","v":0},{"$f":"INDEX(CHARGES,MATCH($D878&$F878,$AQ$2:$AQ$44&$AR$2:$AR$44,0),MATCH(L$1,$AS$1:$AX$1,0))","v":0}]
["Camooweal - Water Supply Only","Shop","Shop","Commercial (retail)","NR_1","Gross Floor Area",81,{"$f":"INDEX(CHARGES,MATCH($D879&$F879,$AQ$2:$AQ$44&$AR$2:$AR$44,0),MATCH(H$1,$AS$1:$AX$1,0))","v":20},0,{"$f":"INDEX(CHARGES,MATCH($D879&$F879,$AQ$2:$AQ$44&$AR$2:$AR$44,0),MATCH(J$1,$AS$1:$AX$1,0))","v":0},{"$f":"INDEX(CHARGES,MATCH($D879&$F879,$AQ$2:$AQ$44&$AR$2:$AR$44,0),MATCH(K$1,$AS$1:$AX$1,0))","v":61},{"$f":"INDEX(CHARGES,MATCH($D879&$F879,$AQ$2:$AQ$44&$AR$2:$AR$44,0),MATCH(L$1,$AS$1:$AX$1,0))","v":0}]
["Camooweal - Water Supply Only","Shop","Shop","Commercial (retail)","NR_1","Impervious Area",5,{"$f":"INDEX(CHARGES,MATCH($D880&$F880,$AQ$2:$AQ$44&$AR$2:$AR$44,0),MATCH(H$1,$AS$1:$AX$1,0))","v":0},0,{"$f":"INDEX(CHARGES,MATCH($D880&$F880,$AQ$2:$AQ$44&$AR$2:$AR$44,0),MATCH(J$1,$AS$1:$AX$1,0))","v":5},{"$f":"INDEX(CHARGES,MATCH($D880&$F880,$AQ$2:$AQ$44&$AR$2:$AR$44,0),MATCH(K$1,$AS$1:$AX$1,0))","v":0},{"$f":"INDEX(CHARGES,MATCH($D880&$F880,$AQ$2:$AQ$44&$AR$2:$AR$44,0),MATCH(L$1,$AS$1:$AX$1,0))","v":0}]
["Camooweal - Water Supply Only","Shopping centre","Shopping centre","Commercial (retail)","NR_1","Gross Floor Area",81,{"$f":"INDEX(CHARGES,MATCH($D881&$F881,$AQ$2:$AQ$44&$AR$2:$AR$44,0),MATCH(H$1,$AS$1:$AX$1,0))","v":20},0,{"$f":"INDEX(CHARGES,MATCH($D881&$F881,$AQ$2:$AQ$44&$AR$2:$AR$44,0),MATCH(J$1,$AS$1:$AX$1,0))","v":0},{"$f":"INDEX(CHARGES,MATCH($D881&$F881,$AQ$2:$AQ$44&$AR$2:$AR$44,0),MATCH(K$1,$AS$1:$AX$1,0))","v":61},{"$f":"INDEX(CHARGES,MATCH($D881&$F881,$AQ$2:$AQ$44&$AR$2:$AR$44,0),MATCH(L$1,$AS$1:$AX$1,0))","v":0}]
["Camooweal - Water Supply Only","Shopping centre","Shopping centre","Commercial (retail)","NR_1","Impervious Area",5,{"$f":"INDEX(CHARGES,MATCH($D882&$F882,$AQ$2:$AQ$44&$AR$2:$AR$44,0),MATCH(H$1,$AS$1:$AX$1,0))","v":0},0,{"$f":"INDEX(CHARGES,MATCH($D882&$F882,$AQ$2:$AQ$44&$AR$2:$AR$44,0),MATCH(J$1,$AS$1:$AX$1,0))","v":5},{"$f":"INDEX(CHARGES,MATCH($D882&$F882,$AQ$2:$AQ$44&$AR$2:$AR$44,0),MATCH(K$1,$AS$1:$AX$1,0))","v":0},{"$f":"INDEX(CHARGES,MATCH($D882&$F882,$AQ$2:$AQ$44&$AR$2:$AR$44,0),MATCH(L$1,$AS$1:$AX$1,0))","v":0}]
["Camooweal - Water Supply Only","Short-term accommodation","Short-term accommodation","Accommodation (short-term)","RU_2","bedroom that is not part of a suite",4296,{"$f":"INDEX(CHARGES,MATCH($D883&$F883,$AQ$2:$AQ$44&$AR$2:$AR$44,0),MATCH(H$1,$AS$1:$AX$1,0))","v":1467},0,{"$f":"INDEX(CHARGES,MATCH($D883&$F883,$AQ$2:$AQ$44&$AR$2:$AR$44,0),MATCH(J$1,$AS$1:$AX$1,0))","v":104},{"$f":"INDEX(CHARGES,MATCH($D883&$F883,$AQ$2:$AQ$44&$AR$2:$AR$44,0),MATCH(K$1,$AS$1:$AX$1,0))","v":2620},{"$f":"INDEX(CHARGES,MATCH($D883&$F883,$AQ$2:$AQ$44&$AR$2:$AR$44,0),MATCH(L$1,$AS$1:$AX$1,0))","v":105}]
["Camooweal - Water Supply Only","Short-term accommodation","Short-term accommodation","Accommodation (short-term)","RU_2","2 or less bedrooms",4296,{"$f":"INDEX(CHARGES,MATCH($D884&$F884,$AQ$2:$AQ$44&$AR$2:$AR$44,0),MATCH(H$1,$AS$1:$AX$1,0))","v":1467},0,{"$f":"INDEX(CHARGES,MATCH($D884&$F884,$AQ$2:$AQ$44&$AR$2:$AR$44,0),MATCH(J$1,$AS$1:$AX$1,0))","v":104},{"$f":"INDEX(CHARGES,MATCH($D884&$F884,$AQ$2:$AQ$44&$AR$2:$AR$44,0),MATCH(K$1,$AS$1:$AX$1,0))","v":2620},{"$f":"INDEX(CHARGES,MATCH($D884&$F884,$AQ$2:$AQ$44&$AR$2:$AR$44,0),MATCH(L$1,$AS$1:$AX$1,0))","v":105}]
["Camooweal - Water Supply Only","Short-term accommodation","Short-term accommodation","Accommodation (short-term)","RU_2","3 or more bedrooms",6015,{"$f":"INDEX(CHARGES,MATCH($D885&$F885,$AQ$2:$AQ$44&$AR$2:$AR$44,0),MATCH(H$1,$AS$1:$AX$1,0))","v":2054},0,{"$f":"INDEX(CHARGES,MATCH($D885&$F885,$AQ$2:$AQ$44&$AR$2:$AR$44,0),MATCH(J$1,$AS$1:$AX$1,0))","v":146},{"$f":"INDEX(CHARGES,MATCH($D885&$F885,$AQ$2:$AQ$44&$AR$2:$AR$44,0),MATCH(K$1,$AS$1:$AX$1,0))","v":3668},{"$f":"INDEX(CHARGES,MATCH($D885&$F885,$AQ$2:$AQ$44&$AR$2:$AR$44,0),MATCH(L$1,$AS$1:$AX$1,0))","v":147}]
["Camooweal - Water Supply Only","Showroom","Showroom","Commercial (bulk goods)","NR_1","Gross Floor Area",63,{"$f":"INDEX(CHARGES,MATCH($D886&$F886,$AQ$2:$AQ$44&$AR$2:$AR$44,0),MATCH(H$1,$AS$1:$AX$1,0))","v":15},0,{"$f":"INDEX(CHARGES,MATCH($D886&$F886,$AQ$2:$AQ$44&$AR$2:$AR$44,0),MATCH(J$1,$AS$1:$AX$1,0))","v":0},{"$f":"INDEX(CHARGES,MATCH($D886&$F886,$AQ$2:$AQ$44&$AR$2:$AR$44,0),MATCH(K$1,$AS$1:$AX$1,0))","v":48},{"$f":"INDEX(CHARGES,MATCH($D886&$F886,$AQ$2:$AQ$44&$AR$2:$AR$44,0),MATCH(L$1,$AS$1:$AX$1,0))","v":0}]
["Camooweal - Water Supply Only","Showroom","Showroom","Commercial (bulk goods)","NR_1","Impervious Area",5,{"$f":"INDEX(CHARGES,MATCH($D887&$F887,$AQ$2:$AQ$44&$AR$2:$AR$44,0),MATCH(H$1,$AS$1:$AX$1,0))","v":0},0,{"$f":"INDEX(CHARGES,MATCH($D887&$F887,$AQ$2:$AQ$44&$AR$2:$AR$44,0),MATCH(J$1,$AS$1:$AX$1,0))","v":5},{"$f":"INDEX(CHARGES,MATCH($D887&$F887,$AQ$2:$AQ$44&$AR$2:$AR$44,0),MATCH(K$1,$AS$1:$AX$1,0))","v":0},{"$f":"INDEX(CHARGES,MATCH($D887&$F887,$AQ$2:$AQ$44&$AR$2:$AR$44,0),MATCH(L$1,$AS$1:$AX$1,0))","v":0}]
["Camooweal - Water Supply Only","Special industry","Special industry","High impact industry or special industry","NR_1","Gross Floor Area",32,{"$f":"INDEX(CHARGES,MATCH($D888&$F888,$AQ$2:$AQ$44&$AR$2:$AR$44,0),MATCH(H$1,$AS$1:$AX$1,0))","v":8},0,{"$f":"INDEX(CHARGES,MATCH($D888&$F888,$AQ$2:$AQ$44&$AR$2:$AR$44,0),MATCH(J$1,$AS$1:$AX$1,0))","v":0},{"$f":"INDEX(CHARGES,MATCH($D888&$F888,$AQ$2:$AQ$44&$AR$2:$AR$44,0),MATCH(K$1,$AS$1:$AX$1,0))","v":24},{"$f":"INDEX(CHARGES,MATCH($D888&$F888,$AQ$2:$AQ$44&$AR$2:$AR$44,0),MATCH(L$1,$AS$1:$AX$1,0))","v":0}]
["Camooweal - Water Supply Only","Special industry","Special industry","High impact industry or special industry","NR_1","Impervious Area",5,{"$f":"INDEX(CHARGES,MATCH($D889&$F889,$AQ$2:$AQ$44&$AR$2:$AR$44,0),MATCH(H$1,$AS$1:$AX$1,0))","v":0},0,{"$f":"INDEX(CHARGES,MATCH($D889&$F889,$AQ$2:$AQ$44&$AR$2:$AR$44,0),MATCH(J$1,$AS$1:$AX$1,0))","v":5},{"$f":"INDEX(CHARGES,MATCH($D889&$F889,$AQ$2:$AQ$44&$AR$2:$AR$44,0),MATCH(K$1,$AS$1:$AX$1,0))","v":0},{"$f":"INDEX(CHARGES,MATCH($D889&$F889,$AQ$2:$AQ$44&$AR$2:$AR$44,0),MATCH(L$1,$AS$1:$AX$1,0))","v":0}]
["Camooweal - Water Supply Only","Substation","Utility installation","Other uses","NR_1","Gross Floor Area",0,{"$f":"INDEX(CHARGES,MATCH($D890&$F890,$AQ$2:$AQ$44&$AR$2:$AR$44,0),MATCH(H$1,$AS$1:$AX$1,0))","v":0},0,{"$f":"INDEX(CHARGES,MATCH($D890&$F890,$AQ$2:$AQ$44&$AR$2:$AR$44,0),MATCH(J$1,$AS$1:$AX$1,0))","v":0},{"$f":"INDEX(CHARGES,MATCH($D890&$F890,$AQ$2:$AQ$44&$AR$2:$AR$44,0),MATCH(K$1,$AS$1:$AX$1,0))","v":0},{"$f":"INDEX(CHARGES,MATCH($D890&$F890,$AQ$2:$AQ$44&$AR$2:$AR$44,0),MATCH(L$1,$AS$1:$AX$1,0))","v":0}]
["Camooweal - Water Supply Only","Substation","Utility installation","Other uses","NR_1","Impervious Area",0,{"$f":"INDEX(CHARGES,MATCH($D891&$F891,$AQ$2:$AQ$44&$AR$2:$AR$44,0),MATCH(H$1,$AS$1:$AX$1,0))","v":0},0,{"$f":"INDEX(CHARGES,MATCH($D891&$F891,$AQ$2:$AQ$44&$AR$2:$AR$44,0),MATCH(J$1,$AS$1:$AX$1,0))","v":0},{"$f":"INDEX(CHARGES,MATCH($D891&$F891,$AQ$2:$AQ$44&$AR$2:$AR$44,0),MATCH(K$1,$AS$1:$AX$1,0))","v":0},{"$f":"INDEX(CHARGES,MATCH($D891&$F891,$AQ$2:$AQ$44&$AR$2:$AR$44,0),MATCH(L$1,$AS$1:$AX$1,0))","v":0}]
["Camooweal - Water Supply Only","Telecommunications facility","Utility installation","Other uses","NR_1","Gross Floor Area",0,{"$f":"INDEX(CHARGES,MATCH($D892&$F892,$AQ$2:$AQ$44&$AR$2:$AR$44,0),MATCH(H$1,$AS$1:$AX$1,0))","v":0},0,{"$f":"INDEX(CHARGES,MATCH($D892&$F892,$AQ$2:$AQ$44&$AR$2:$AR$44,0),MATCH(J$1,$AS$1:$AX$1,0))","v":0},{"$f":"INDEX(CHARGES,MATCH($D892&$F892,$AQ$2:$AQ$44&$AR$2:$AR$44,0),MATCH(K$1,$AS$1:$AX$1,0))","v":0},{"$f":"INDEX(CHARGES,MATCH($D892&$F892,$AQ$2:$AQ$44&$AR$2:$AR$44,0),MATCH(L$1,$AS$1:$AX$1,0))","v":0}]
["Camooweal - Water Supply Only","Telecommunications facility","Utility installation","Other uses","NR_1","Impervious Area",0,{"$f":"INDEX(CHARGES,MATCH($D893&$F893,$AQ$2:$AQ$44&$AR$2:$AR$44,0),MATCH(H$1,$AS$1:$AX$1,0))","v":0},0,{"$f":"INDEX(CHARGES,MATCH($D893&$F893,$AQ$2:$AQ$44&$AR$2:$AR$44,0),MATCH(J$1,$AS$1:$AX$1,0))","v":0},{"$f":"INDEX(CHARGES,MATCH($D893&$F893,$AQ$2:$AQ$44&$AR$2:$AR$44,0),MATCH(K$1,$AS$1:$AX$1,0))","v":0},{"$f":"INDEX(CHARGES,MATCH($D893&$F893,$AQ$2:$AQ$44&$AR$2:$AR$44,0),MATCH(L$1,$AS$1:$AX$1,0))","v":0}]
["Camooweal - Water Supply Only","Theatre","Theatre","Entertainment","NR_1","Gross Floor Area",90,{"$f":"INDEX(CHARGES,MATCH($D894&$F894,$AQ$2:$AQ$44&$AR$2:$AR$44,0),MATCH(H$1,$AS$1:$AX$1,0))","v":22},0,{"$f":"INDEX(CHARGES,MATCH($D894&$F894,$AQ$2:$AQ$44&$AR$2:$AR$44,0),MATCH(J$1,$AS$1:$AX$1,0))","v":0},{"$f":"INDEX(CHARGES,MATCH($D894&$F894,$AQ$2:$AQ$44&$AR$2:$AR$44,0),MATCH(K$1,$AS$1:$AX$1,0))","v":68},{"$f":"INDEX(CHARGES,MATCH($D894&$F894,$AQ$2:$AQ$44&$AR$2:$AR$44,0),MATCH(L$1,$AS$1:$AX$1,0))","v":0}]
["Camooweal - Water Supply Only","Theatre","Theatre","Entertainment","NR_1","Impervious Area",5,{"$f":"INDEX(CHARGES,MATCH($D895&$F895,$AQ$2:$AQ$44&$AR$2:$AR$44,0),MATCH(H$1,$AS$1:$AX$1,0))","v":0},0,{"$f":"INDEX(CHARGES,MATCH($D895&$F895,$AQ$2:$AQ$44&$AR$2:$AR$44,0),MATCH(J$1,$AS$1:$AX$1,0))","v":5},{"$f":"INDEX(CHARGES,MATCH($D895&$F895,$AQ$2:$AQ$44&$AR$2:$AR$44,0),MATCH(K$1,$AS$1:$AX$1,0))","v":0},{"$f":"INDEX(CHARGES,MATCH($D895&$F895,$AQ$2:$AQ$44&$AR$2:$AR$44,0),MATCH(L$1,$AS$1:$AX$1,0))","v":0}]
["Camooweal - Water Supply Only","Tourist attraction","Tourist attraction","Other uses","NR_1","Gross Floor Area",0,{"$f":"INDEX(CHARGES,MATCH($D896&$F896,$AQ$2:$AQ$44&$AR$2:$AR$44,0),MATCH(H$1,$AS$1:$AX$1,0))","v":0},0,{"$f":"INDEX(CHARGES,MATCH($D896&$F896,$AQ$2:$AQ$44&$AR$2:$AR$44,0),MATCH(J$1,$AS$1:$AX$1,0))","v":0},{"$f":"INDEX(CHARGES,MATCH($D896&$F896,$AQ$2:$AQ$44&$AR$2:$AR$44,0),MATCH(K$1,$AS$1:$AX$1,0))","v":0},{"$f":"INDEX(CHARGES,MATCH($D896&$F896,$AQ$2:$AQ$44&$AR$2:$AR$44,0),MATCH(L$1,$AS$1:$AX$1,0))","v":0}]
["Camooweal - Water Supply Only","Tourist attraction","Tourist attraction","Other uses","NR_1","Impervious Area",0,{"$f":"INDEX(CHARGES,MATCH($D897&$F897,$AQ$2:$AQ$44&$AR$2:$AR$44,0),MATCH(H$1,$AS$1:$AX$1,0))","v":0},0,{"$f":"INDEX(CHARGES,MATCH($D897&$F897,$AQ$2:$AQ$44&$AR$2:$AR$44,0),MATCH(J$1,$AS$1:$AX$1,0))","v":0},{"$f":"INDEX(CHARGES,MATCH($D897&$F897,$AQ$2:$AQ$44&$AR$2:$AR$44,0),MATCH(K$1,$AS$1:$AX$1,0))","v":0},{"$f":"INDEX(CHARGES,MATCH($D897&$F897,$AQ$2:$AQ$44&$AR$2:$AR$44,0),MATCH(L$1,$AS$1:$AX$1,0))","v":0}]
["Camooweal - Water Supply Only","Tourist park","Tourist park","Accommodation (short-term)","RU_3","group of 2 sites/cabins or less",4296,{"$f":"INDEX(CHARGES,MATCH($D898&$F898,$AQ$2:$AQ$44&$AR$2:$AR$44,0),MATCH(H$1,$AS$1:$AX$1,0))","v":1467},0,{"$f":"INDEX(CHARGES,MATCH($D898&$F898,$AQ$2:$AQ$44&$AR$2:$AR$44,0),MATCH(J$1,$AS$1:$AX$1,0))","v":104},{"$f":"INDEX(CHARGES,MATCH($D898&$F898,$AQ$2:$AQ$44&$AR$2:$AR$44,0),MATCH(K$1,$AS$1:$AX$1,0))","v":2620},{"$f":"INDEX(CHARGES,MATCH($D898&$F898,$AQ$2:$AQ$44&$AR$2:$AR$44,0),MATCH(L$1,$AS$1:$AX$1,0))","v":105}]
["Camooweal - Water Supply Only","Tourist park","Tourist park","Accommodation (short-term)","RU_3","group of 3 sites/cabins",6015,{"$f":"INDEX(CHARGES,MATCH($D899&$F899,$AQ$2:$AQ$44&$AR$2:$AR$44,0),MATCH(H$1,$AS$1:$AX$1,0))","v":2054},0,{"$f":"INDEX(CHARGES,MATCH($D899&$F899,$AQ$2:$AQ$44&$AR$2:$AR$44,0),MATCH(J$1,$AS$1:$AX$1,0))","v":146},{"$f":"INDEX(CHARGES,MATCH($D899&$F899,$AQ$2:$AQ$44&$AR$2:$AR$44,0),MATCH(K$1,$AS$1:$AX$1,0))","v":3668},{"$f":"INDEX(CHARGES,MATCH($D899&$F899,$AQ$2:$AQ$44&$AR$2:$AR$44,0),MATCH(L$1,$AS$1:$AX$1,0))","v":147}]
["Camooweal - Water Supply Only","Transport depot","Low impact industry","Other industry","NR_1","Gross Floor Area",22,{"$f":"INDEX(CHARGES,MATCH($D900&$F900,$AQ$2:$AQ$44&$AR$2:$AR$44,0),MATCH(H$1,$AS$1:$AX$1,0))","v":5},0,{"$f":"INDEX(CHARGES,MATCH($D900&$F900,$AQ$2:$AQ$44&$AR$2:$AR$44,0),MATCH(J$1,$AS$1:$AX$1,0))","v":0},{"$f":"INDEX(CHARGES,MATCH($D900&$F900,$AQ$2:$AQ$44&$AR$2:$AR$44,0),MATCH(K$1,$AS$1:$AX$1,0))","v":17},{"$f":"INDEX(CHARGES,MATCH($D900&$F900,$AQ$2:$AQ$44&$AR$2:$AR$44,0),MATCH(L$1,$AS$1:$AX$1,0))","v":0}]
["Camooweal - Water Supply Only","Transport depot","Low impact industry","Other industry","NR_1","Impervious Area",5,{"$f":"INDEX(CHARGES,MATCH($D901&$F901,$AQ$2:$AQ$44&$AR$2:$AR$44,0),MATCH(H$1,$AS$1:$AX$1,0))","v":0},0,{"$f":"INDEX(CHARGES,MATCH($D901&$F901,$AQ$2:$AQ$44&$AR$2:$AR$44,0),MATCH(J$1,$AS$1:$AX$1,0))","v":5},{"$f":"INDEX(CHARGES,MATCH($D901&$F901,$AQ$2:$AQ$44&$AR$2:$AR$44,0),MATCH(K$1,$AS$1:$AX$1,0))","v":0},{"$f":"INDEX(CHARGES,MATCH($D901&$F901,$AQ$2:$AQ$44&$AR$2:$AR$44,0),MATCH(L$1,$AS$1:$AX$1,0))","v":0}]
["Camooweal - Water Supply Only","Utility installation","Utility installation","Other uses","NR_1","Gross Floor Area",0,{"$f":"INDEX(CHARGES,MATCH($D902&$F902,$AQ$2:$AQ$44&$AR$2:$AR$44,0),MATCH(H$1,$AS$1:$AX$1,0))","v":0},0,{"$f":"INDEX(CHARGES,MATCH($D902&$F902,$AQ$2:$AQ$44&$AR$2:$AR$44,0),MATCH(J$1,$AS$1:$AX$1,0))","v":0},{"$f":"INDEX(CHARGES,MATCH($D902&$F902,$AQ$2:$AQ$44&$AR$2:$AR$44,0),MATCH(K$1,$AS$1:$AX$1,0))","v":0},{"$f":"INDEX(CHARGES,MATCH($D902&$F902,$AQ$2:$AQ$44&$AR$2:$AR$44,0),MATCH(L$1,$AS$1:$AX$1,0))","v":0}]
["Camooweal - Water Supply Only","Utility installation","Utility installation","Other uses","NR_1","Impervious Area",0,{"$f":"INDEX(CHARGES,MATCH($D903&$F903,$AQ$2:$AQ$44&$AR$2:$AR$44,0),MATCH(H$1,$AS$1:$AX$1,0))","v":0},0,{"$f":"INDEX(CHARGES,MATCH($D903&$F903,$AQ$2:$AQ$44&$AR$2:$AR$44,0),MATCH(J$1,$AS$1:$AX$1,0))","v":0},{"$f":"INDEX(CHARGES,MATCH($D903&$F903,$AQ$2:$AQ$44&$AR$2:$AR$44,0),MATCH(K$1,$AS$1:$AX$1,0))","v":0},{"$f":"INDEX(CHARGES,MATCH($D903&$F903,$AQ$2:$AQ$44&$AR$2:$AR$44,0),MATCH(L$1,$AS$1:$AX$1,0))","v":0}]
["Camooweal - Water Supply Only","Veterinary services","Veterinary services","Essential services","NR_1","Gross Floor Area",63,{"$f":"INDEX(CHARGES,MATCH($D904&$F904,$AQ$2:$AQ$44&$AR$2:$AR$44,0),MATCH(H$1,$AS$1:$AX$1,0))","v":15},0,{"$f":"INDEX(CHARGES,MATCH($D904&$F904,$AQ$2:$AQ$44&$AR$2:$AR$44,0),MATCH(J$1,$AS$1:$AX$1,0))","v":0},{"$f":"INDEX(CHARGES,MATCH($D904&$F904,$AQ$2:$AQ$44&$AR$2:$AR$44,0),MATCH(K$1,$AS$1:$AX$1,0))","v":48},{"$f":"INDEX(CHARGES,MATCH($D904&$F904,$AQ$2:$AQ$44&$AR$2:$AR$44,0),MATCH(L$1,$AS$1:$AX$1,0))","v":0}]
["Camooweal - Water Supply Only","Veterinary services","Veterinary services","Essential services","NR_1","Impervious Area",5,{"$f":"INDEX(CHARGES,MATCH($D905&$F905,$AQ$2:$AQ$44&$AR$2:$AR$44,0),MATCH(H$1,$AS$1:$AX$1,0))","v":0},0,{"$f":"INDEX(CHARGES,MATCH($D905&$F905,$AQ$2:$AQ$44&$AR$2:$AR$44,0),MATCH(J$1,$AS$1:$AX$1,0))","v":5},{"$f":"INDEX(CHARGES,MATCH($D905&$F905,$AQ$2:$AQ$44&$AR$2:$AR$44,0),MATCH(K$1,$AS$1:$AX$1,0))","v":0},{"$f":"INDEX(CHARGES,MATCH($D905&$F905,$AQ$2:$AQ$44&$AR$2:$AR$44,0),MATCH(L$1,$AS$1:$AX$1,0))","v":0}]
["Camooweal - Water Supply Only","Warehouse","Warehouse","Other industry","NR_1","Gross Floor Area",22,{"$f":"INDEX(CHARGES,MATCH($D906&$F906,$AQ$2:$AQ$44&$AR$2:$AR$44,0),MATCH(H$1,$AS$1:$AX$1,0))","v":5},0,{"$f":"INDEX(CHARGES,MATCH($D906&$F906,$AQ$2:$AQ$44&$AR$2:$AR$44,0),MATCH(J$1,$AS$1:$AX$1,0))","v":0},{"$f":"INDEX(CHARGES,MATCH($D906&$F906,$AQ$2:$AQ$44&$AR$2:$AR$44,0),MATCH(K$1,$AS$1:$AX$1,0))","v":17},{"$f":"INDEX(CHARGES,MATCH($D906&$F906,$AQ$2:$AQ$44&$AR$2:$AR$44,0),MATCH(L$1,$AS$1:$AX$1,0))","v":0}]
["Camooweal - Water Supply Only","Warehouse","Warehouse","Other industry","NR_1","Impervious Area",5,{"$f":"INDEX(CHARGES,MATCH($D907&$F907,$AQ$2:$AQ$44&$AR$2:$AR$44,0),MATCH(H$1,$AS$1:$AX$1,0))","v":0},0,{"$f":"INDEX(CHARGES,MATCH($D907&$F907,$AQ$2:$AQ$44&$AR$2:$AR$44,0),MATCH(J$1,$AS$1:$AX$1,0))","v":5},{"$f":"INDEX(CHARGES,MATCH($D907&$F907,$AQ$2:$AQ$44&$AR$2:$AR$44,0),MATCH(K$1,$AS$1:$AX$1,0))","v":0},{"$f":"INDEX(CHARGES,MATCH($D907&$F907,$AQ$2:$AQ$44&$AR$2:$AR$44,0),MATCH(L$1,$AS$1:$AX$1,0))","v":0}]
["Camooweal - Water Supply Only","Wholesale nursery","Wholesale nursery","High impact rural","NR_3","Gross Floor Area",9,{"$f":"INDEX(CHARGES,MATCH($D908&$F908,$AQ$2:$AQ$44&$AR$2:$AR$44,0),MATCH(H$1,$AS$1:$AX$1,0))","v":2},0,{"$f":"INDEX(CHARGES,MATCH($D908&$F908,$AQ$2:$AQ$44&$AR$2:$AR$44,0),MATCH(J$1,$AS$1:$AX$1,0))","v":0},{"$f":"INDEX(CHARGES,MATCH($D908&$F908,$AQ$2:$AQ$44&$AR$2:$AR$44,0),MATCH(K$1,$AS$1:$AX$1,0))","v":7},{"$f":"INDEX(CHARGES,MATCH($D908&$F908,$AQ$2:$AQ$44&$AR$2:$AR$44,0),MATCH(L$1,$AS$1:$AX$1,0))","v":0}]
["Camooweal - Water Supply Only","Winery","Winery","High impact rural","NR_3","Gross Floor Area",9,{"$f":"INDEX(CHARGES,MATCH($D909&$F909,$AQ$2:$AQ$44&$AR$2:$AR$44,0),MATCH(H$1,$AS$1:$AX$1,0))","v":2},0,{"$f":"INDEX(CHARGES,MATCH($D909&$F909,$AQ$2:$AQ$44&$AR$2:$AR$44,0),MATCH(J$1,$AS$1:$AX$1,0))","v":0},{"$f":"INDEX(CHARGES,MATCH($D909&$F909,$AQ$2:$AQ$44&$AR$2:$AR$44,0),MATCH(K$1,$AS$1:$AX$1,0))","v":7},{"$f":"INDEX(CHARGES,MATCH($D909&$F909,$AQ$2:$AQ$44&$AR$2:$AR$44,0),MATCH(L$1,$AS$1:$AX$1,0))","v":0}]
["Camooweal - Water Supply Only","Reconfiguring a lot - Residential","Reconfiguring a lot - Residential","Residential uses","ROL","Lots",12029,{"$f":"INDEX(CHARGES,MATCH($D910&$F910,$AQ$2:$AQ$44&$AR$2:$AR$44,0),MATCH(H$1,$AS$1:$AX$1,0))","v":4108},0,{"$f":"INDEX(CHARGES,MATCH($D910&$F910,$AQ$2:$AQ$44&$AR$2:$AR$44,0),MATCH(J$1,$AS$1:$AX$1,0))","v":293},{"$f":"INDEX(CHARGES,MATCH($D910&$F910,$AQ$2:$AQ$44&$AR$2:$AR$44,0),MATCH(K$1,$AS$1:$AX$1,0))","v":7335},{"$f":"INDEX(CHARGES,MATCH($D910&$F910,$AQ$2:$AQ$44&$AR$2:$AR$44,0),MATCH(L$1,$AS$1:$AX$1,0))","v":293}]
["Camooweal - Water Supply Only","Reconfiguring a lot - Non residential","Reconfiguring a lot - Non residential","Non-residential uses","ROL","Lots",12616,{"$f":"INDEX(CHARGES,MATCH($D911&$F911,$AQ$2:$AQ$44&$AR$2:$AR$44,0),MATCH(H$1,$AS$1:$AX$1,0))","v":3081},0,{"$f":"INDEX(CHARGES,MATCH($D911&$F911,$AQ$2:$AQ$44&$AR$2:$AR$44,0),MATCH(J$1,$AS$1:$AX$1,0))","v":293},{"$f":"INDEX(CHARGES,MATCH($D911&$F911,$AQ$2:$AQ$44&$AR$2:$AR$44,0),MATCH(K$1,$AS$1:$AX$1,0))","v":9242},{"$f":"INDEX(CHARGES,MATCH($D911&$F911,$AQ$2:$AQ$44&$AR$2:$AR$44,0),MATCH(L$1,$AS$1:$AX$1,0))","v":0}]
["Camooweal - No Water or Sewer","Adult store","Adult store","Commercial (retail)","NR_1","Gross Floor Area",61,0,0,{"$f":"INDEX(CHARGES,MATCH($D912&$F912,$AQ$2:$AQ$44&$AR$2:$AR$44,0),MATCH(J$1,$AS$1:$AX$1,0))","v":0},{"$f":"INDEX(CHARGES,MATCH($D912&$F912,$AQ$2:$AQ$44&$AR$2:$AR$44,0),MATCH(K$1,$AS$1:$AX$1,0))","v":61},{"$f":"INDEX(CHARGES,MATCH($D912&$F912,$AQ$2:$AQ$44&$AR$2:$AR$44,0),MATCH(L$1,$AS$1:$AX$1,0))","v":0}]
["Camooweal - No Water or Sewer","Adult store","Adult store","Commercial (retail)","NR_1","Impervious Area",5,0,0,{"$f":"INDEX(CHARGES,MATCH($D913&$F913,$AQ$2:$AQ$44&$AR$2:$AR$44,0),MATCH(J$1,$AS$1:$AX$1,0))","v":5},{"$f":"INDEX(CHARGES,MATCH($D913&$F913,$AQ$2:$AQ$44&$AR$2:$AR$44,0),MATCH(K$1,$AS$1:$AX$1,0))","v":0},{"$f":"INDEX(CHARGES,MATCH($D913&$F913,$AQ$2:$AQ$44&$AR$2:$AR$44,0),MATCH(L$1,$AS$1:$AX$1,0))","v":0}]
["Camooweal - No Water or Sewer","Agrigultural supplies store","Agrigultural supplies store","Commercial (bulk goods)","NR_1","Gross Floor Area",48,0,0,{"$f":"INDEX(CHARGES,MATCH($D914&$F914,$AQ$2:$AQ$44&$AR$2:$AR$44,0),MATCH(J$1,$AS$1:$AX$1,0))","v":0},{"$f":"INDEX(CHARGES,MATCH($D914&$F914,$AQ$2:$AQ$44&$AR$2:$AR$44,0),MATCH(K$1,$AS$1:$AX$1,0))","v":48},{"$f":"INDEX(CHARGES,MATCH($D914&$F914,$AQ$2:$AQ$44&$AR$2:$AR$44,0),MATCH(L$1,$AS$1:$AX$1,0))","v":0}]
["Camooweal - No Water or Sewer","Agrigultural supplies store","Agrigultural supplies store","Commercial (bulk goods)","NR_1","Impervious Area",5,0,0,{"$f":"INDEX(CHARGES,MATCH($D915&$F915,$AQ$2:$AQ$44&$AR$2:$AR$44,0),MATCH(J$1,$AS$1:$AX$1,0))","v":5},{"$f":"INDEX(CHARGES,MATCH($D915&$F915,$AQ$2:$AQ$44&$AR$2:$AR$44,0),MATCH(K$1,$AS$1:$AX$1,0))","v":0},{"$f":"INDEX(CHARGES,MATCH($D915&$F915,$AQ$2:$AQ$44&$AR$2:$AR$44,0),MATCH(L$1,$AS$1:$AX$1,0))","v":0}]
["Camooweal - No Water or Sewer","Air services","Air services","Other uses","NR_1","Gross Floor Area",0,0,0,{"$f":"INDEX(CHARGES,MATCH($D916&$F916,$AQ$2:$AQ$44&$AR$2:$AR$44,0),MATCH(J$1,$AS$1:$AX$1,0))","v":0},{"$f":"INDEX(CHARGES,MATCH($D916&$F916,$AQ$2:$AQ$44&$AR$2:$AR$44,0),MATCH(K$1,$AS$1:$AX$1,0))","v":0},{"$f":"INDEX(CHARGES,MATCH($D916&$F916,$AQ$2:$AQ$44&$AR$2:$AR$44,0),MATCH(L$1,$AS$1:$AX$1,0))","v":0}]
["Camooweal - No Water or Sewer","Air services","Air services","Other uses","NR_1","Impervious Area",0,0,0,{"$f":"INDEX(CHARGES,MATCH($D917&$F917,$AQ$2:$AQ$44&$AR$2:$AR$44,0),MATCH(J$1,$AS$1:$AX$1,0))","v":0},{"$f":"INDEX(CHARGES,MATCH($D917&$F917,$AQ$2:$AQ$44&$AR$2:$AR$44,0),MATCH(K$1,$AS$1:$AX$1,0))","v":0},{"$f":"INDEX(CHARGES,MATCH($D917&$F917,$AQ$2:$AQ$44&$AR$2:$AR$44,0),MATCH(L$1,$AS$1:$AX$1,0))","v":0}]
["Camooweal - No Water or Sewer","Animal husbandry","Animal husbandry","Low impact rural","NR_3","Gross Floor Area",0,0,0,{"$f":"INDEX(CHARGES,MATCH($D918&$F918,$AQ$2:$AQ$44&$AR$2:$AR$44,0),MATCH(J$1,$AS$1:$AX$1,0))","v":0},{"$f":"INDEX(CHARGES,MATCH($D918&$F918,$AQ$2:$AQ$44&$AR$2:$AR$44,0),MATCH(K$1,$AS$1:$AX$1,0))","v":0},{"$f":"INDEX(CHARGES,MATCH($D918&$F918,$AQ$2:$AQ$44&$AR$2:$AR$44,0),MATCH(L$1,$AS$1:$AX$1,0))","v":0}]
["Camooweal - No Water or Sewer","Animal keeping","Animal keeping","Other uses","NR_1","Gross Floor Area",0,0,0,{"$f":"INDEX(CHARGES,MATCH($D919&$F919,$AQ$2:$AQ$44&$AR$2:$AR$44,0),MATCH(J$1,$AS$1:$AX$1,0))","v":0},{"$f":"INDEX(CHARGES,MATCH($D919&$F919,$AQ$2:$AQ$44&$AR$2:$AR$44,0),MATCH(K$1,$AS$1:$AX$1,0))","v":0},{"$f":"INDEX(CHARGES,MATCH($D919&$F919,$AQ$2:$AQ$44&$AR$2:$AR$44,0),MATCH(L$1,$AS$1:$AX$1,0))","v":0}]
["Camooweal - No Water or Sewer","Animal keeping","Animal keeping","Other uses","NR_1","Impervious Area",0,0,0,{"$f":"INDEX(CHARGES,MATCH($D920&$F920,$AQ$2:$AQ$44&$AR$2:$AR$44,0),MATCH(J$1,$AS$1:$AX$1,0))","v":0},{"$f":"INDEX(CHARGES,MATCH($D920&$F920,$AQ$2:$AQ$44&$AR$2:$AR$44,0),MATCH(K$1,$AS$1:$AX$1,0))","v":0},{"$f":"INDEX(CHARGES,MATCH($D920&$F920,$AQ$2:$AQ$44&$AR$2:$AR$44,0),MATCH(L$1,$AS$1:$AX$1,0))","v":0}]
["Camooweal - No Water or Sewer","Aquaculture",null,"Other uses","NR_1","Gross Floor Area",0,0,0,{"$f":"INDEX(CHARGES,MATCH($D921&$F921,$AQ$2:$AQ$44&$AR$2:$AR$44,0),MATCH(J$1,$AS$1:$AX$1,0))","v":0},{"$f":"INDEX(CHARGES,MATCH($D921&$F921,$AQ$2:$AQ$44&$AR$2:$AR$44,0),MATCH(K$1,$AS$1:$AX$1,0))","v":0},{"$f":"INDEX(CHARGES,MATCH($D921&$F921,$AQ$2:$AQ$44&$AR$2:$AR$44,0),MATCH(L$1,$AS$1:$AX$1,0))","v":0}]
["Camooweal - No Water or Sewer","Aquaculture",null,"Other uses","NR_1","Impervious Area",0,0,0,{"$f":"INDEX(CHARGES,MATCH($D922&$F922,$AQ$2:$AQ$44&$AR$2:$AR$44,0),MATCH(J$1,$AS$1:$AX$1,0))","v":0},{"$f":"INDEX(CHARGES,MATCH($D922&$F922,$AQ$2:$AQ$44&$AR$2:$AR$44,0),MATCH(K$1,$AS$1:$AX$1,0))","v":0},{"$f":"INDEX(CHARGES,MATCH($D922&$F922,$AQ$2:$AQ$44&$AR$2:$AR$44,0),MATCH(L$1,$AS$1:$AX$1,0))","v":0}]
["Camooweal - No Water or Sewer","Bar","Hotel","Entertainment","NR_1","Gross Floor Area",68,0,0,{"$f":"INDEX(CHARGES,MATCH($D923&$F923,$AQ$2:$AQ$44&$AR$2:$AR$44,0),MATCH(J$1,$AS$1:$AX$1,0))","v":0},{"$f":"INDEX(CHARGES,MATCH($D923&$F923,$AQ$2:$AQ$44&$AR$2:$AR$44,0),MATCH(K$1,$AS$1:$AX$1,0))","v":68},{"$f":"INDEX(CHARGES,MATCH($D923&$F923,$AQ$2:$AQ$44&$AR$2:$AR$44,0),MATCH(L$1,$AS$1:$AX$1,0))","v":0}]
["Camooweal - No Water or Sewer","Bar","Hotel","Entertainment","NR_1","Impervious Area",5,0,0,{"$f":"INDEX(CHARGES,MATCH($D924&$F924,$AQ$2:$AQ$44&$AR$2:$AR$44,0),MATCH(J$1,$AS$1:$AX$1,0))","v":5},{"$f":"INDEX(CHARGES,MATCH($D924&$F924,$AQ$2:$AQ$44&$AR$2:$AR$44,0),MATCH(K$1,$AS$1:$AX$1,0))","v":0},{"$f":"INDEX(CHARGES,MATCH($D924&$F924,$AQ$2:$AQ$44&$AR$2:$AR$44,0),MATCH(L$1,$AS$1:$AX$1,0))","v":0}]
["Camooweal - No Water or Sewer","Brothel",null,"Entertainment","NR_1","Gross Floor Area",68,0,0,{"$f":"INDEX(CHARGES,MATCH($D925&$F925,$AQ$2:$AQ$44&$AR$2:$AR$44,0),MATCH(J$1,$AS$1:$AX$1,0))","v":0},{"$f":"INDEX(CHARGES,MATCH($D925&$F925,$AQ$2:$AQ$44&$AR$2:$AR$44,0),MATCH(K$1,$AS$1:$AX$1,0))","v":68},{"$f":"INDEX(CHARGES,MATCH($D925&$F925,$AQ$2:$AQ$44&$AR$2:$AR$44,0),MATCH(L$1,$AS$1:$AX$1,0))","v":0}]
["Camooweal - No Water or Sewer","Brothel",null,"Entertainment","NR_1","Impervious Area",5,0,0,{"$f":"INDEX(CHARGES,MATCH($D926&$F926,$AQ$2:$AQ$44&$AR$2:$AR$44,0),MATCH(J$1,$AS$1:$AX$1,0))","v":5},{"$f":"INDEX(CHARGES,MATCH($D926&$F926,$AQ$2:$AQ$44&$AR$2:$AR$44,0),MATCH(K$1,$AS$1:$AX$1,0))","v":0},{"$f":"INDEX(CHARGES,MATCH($D926&$F926,$AQ$2:$AQ$44&$AR$2:$AR$44,0),MATCH(L$1,$AS$1:$AX$1,0))","v":0}]
["Camooweal - No Water or Sewer","Bulk landscape supplies","Bulk landscape supplies","Commercial (bulk goods)","NR_1","Gross Floor Area",48,0,0,{"$f":"INDEX(CHARGES,MATCH($D927&$F927,$AQ$2:$AQ$44&$AR$2:$AR$44,0),MATCH(J$1,$AS$1:$AX$1,0))","v":0},{"$f":"INDEX(CHARGES,MATCH($D927&$F927,$AQ$2:$AQ$44&$AR$2:$AR$44,0),MATCH(K$1,$AS$1:$AX$1,0))","v":48},{"$f":"INDEX(CHARGES,MATCH($D927&$F927,$AQ$2:$AQ$44&$AR$2:$AR$44,0),MATCH(L$1,$AS$1:$AX$1,0))","v":0}]
["Camooweal - No Water or Sewer","Bulk landscape supplies","Bulk landscape supplies","Commercial (bulk goods)","NR_1","Impervious Area",{"$f":"SUM(H928:L928)","v":5},0,0,{"$f":"INDEX(CHARGES,MATCH($D928&$F928,$AQ$2:$AQ$44&$AR$2:$AR$44,0),MATCH(J$1,$AS$1:$AX$1,0))","v":5},{"$f":"INDEX(CHARGES,MATCH($D928&$F928,$AQ$2:$AQ$44&$AR$2:$AR$44,0),MATCH(K$1,$AS$1:$AX$1,0))","v":0},{"$f":"INDEX(CHARGES,MATCH($D928&$F928,$AQ$2:$AQ$44&$AR$2:$AR$44,0),MATCH(L$1,$AS$1:$AX$1,0))","v":0}]
["Camooweal - No Water or Sewer","Caretaker's accommodation","Caretaker's accommodation","Residential uses","RU_1","2 or less bedrooms",5658,0,0,{"$f":"INDEX(CHARGES,MATCH($D929&$F929,$AQ$2:$AQ$44&$AR$2:$AR$44,0),MATCH(J$1,$AS$1:$AX$1,0))","v":209},{"$f":"INDEX(CHARGES,MATCH($D929&$F929,$AQ$2:$AQ$44&$AR$2:$AR$44,0),MATCH(K$1,$AS$1:$AX$1,0))","v":5239},{"$f":"INDEX(CHARGES,MATCH($D929&$F929,$AQ$2:$AQ$44&$AR$2:$AR$44,0),MATCH(L$1,$AS$1:$AX$1,0))","v":210}]
["Camooweal - No Water or Sewer","Caretaker's accommodation","Caretaker's accommodation","Residential uses","RU_1","3 or more bedrooms",7921,0,0,{"$f":"INDEX(CHARGES,MATCH($D930&$F930,$AQ$2:$AQ$44&$AR$2:$AR$44,0),MATCH(J$1,$AS$1:$AX$1,0))","v":293},{"$f":"INDEX(CHARGES,MATCH($D930&$F930,$AQ$2:$AQ$44&$AR$2:$AR$44,0),MATCH(K$1,$AS$1:$AX$1,0))","v":7335},{"$f":"INDEX(CHARGES,MATCH($D930&$F930,$AQ$2:$AQ$44&$AR$2:$AR$44,0),MATCH(L$1,$AS$1:$AX$1,0))","v":293}]
["Camooweal - No Water or Sewer","Car wash",null,"Other uses","NR_1","Gross Floor Area",0,0,0,{"$f":"INDEX(CHARGES,MATCH($D931&$F931,$AQ$2:$AQ$44&$AR$2:$AR$44,0),MATCH(J$1,$AS$1:$AX$1,0))","v":0},{"$f":"INDEX(CHARGES,MATCH($D931&$F931,$AQ$2:$AQ$44&$AR$2:$AR$44,0),MATCH(K$1,$AS$1:$AX$1,0))","v":0},{"$f":"INDEX(CHARGES,MATCH($D931&$F931,$AQ$2:$AQ$44&$AR$2:$AR$44,0),MATCH(L$1,$AS$1:$AX$1,0))","v":0}]
["Camooweal - No Water or Sewer","Car wash",null,"Other uses","NR_1","Impervious Area",0,0,0,{"$f":"INDEX(CHARGES,MATCH($D932&$F932,$AQ$2:$AQ$44&$AR$2:$AR$44,0),MATCH(J$1,$AS$1:$AX$1,0))","v":0},{"$f":"INDEX(CHARGES,MATCH($D932&$F932,$AQ$2:$AQ$44&$AR$2:$AR$44,0),MATCH(K$1,$AS$1:$AX$1,0))","v":0},{"$f":"INDEX(CHARGES,MATCH($D932&$F932,$AQ$2:$AQ$44&$AR$2:$AR$44,0),MATCH(L$1,$AS$1:$AX$1,0))","v":0}]
["Camooweal - No Water or Sewer","Cemetery","Cemetery","Minor uses","NR_3","Gross Floor Area",0,0,0,{"$f":"INDEX(CHARGES,MATCH($D933&$F933,$AQ$2:$AQ$44&$AR$2:$AR$44,0),MATCH(J$1,$AS$1:$AX$1,0))","v":0},{"$f":"INDEX(CHARGES,MATCH($D933&$F933,$AQ$2:$AQ$44&$AR$2:$AR$44,0),MATCH(K$1,$AS$1:$AX$1,0))","v":0},{"$f":"INDEX(CHARGES,MATCH($D933&$F933,$AQ$2:$AQ$44&$AR$2:$AR$44,0),MATCH(L$1,$AS$1:$AX$1,0))","v":0}]
["Camooweal - No Water or Sewer","Child care centre","Childcare centre","Educational Facility","NR_1","Gross Floor Area",{"$f":"SUM(H934:L934)","v":48},0,0,{"$f":"INDEX(CHARGES,MATCH($D934&$F934,$AQ$2:$AQ$44&$AR$2:$AR$44,0),MATCH(J$1,$AS$1:$AX$1,0))","v":0},{"$f":"INDEX(CHARGES,MATCH($D934&$F934,$AQ$2:$AQ$44&$AR$2:$AR$44,0),MATCH(K$1,$AS$1:$AX$1,0))","v":48},{"$f":"INDEX(CHARGES,MATCH($D934&$F934,$AQ$2:$AQ$44&$AR$2:$AR$44,0),MATCH(L$1,$AS$1:$AX$1,0))","v":0}]
["Camooweal - No Water or Sewer","Child care centre","Childcare centre","Educational Facility","NR_1","Impervious Area",5,0,0,{"$f":"INDEX(CHARGES,MATCH($D935&$F935,$AQ$2:$AQ$44&$AR$2:$AR$44,0),MATCH(J$1,$AS$1:$AX$1,0))","v":5},{"$f":"INDEX(CHARGES,MATCH($D935&$F935,$AQ$2:$AQ$44&$AR$2:$AR$44,0),MATCH(K$1,$AS$1:$AX$1,0))","v":0},{"$f":"INDEX(CHARGES,MATCH($D935&$F935,$AQ$2:$AQ$44&$AR$2:$AR$44,0),MATCH(L$1,$AS$1:$AX$1,0))","v":0}]
["Camooweal - No Water or Sewer","Community residence","Community residence","Accommodation (long-term)","RU_2","bedroom that is not part of a suite",5658,0,0,{"$f":"INDEX(CHARGES,MATCH($D936&$F936,$AQ$2:$AQ$44&$AR$2:$AR$44,0),MATCH(J$1,$AS$1:$AX$1,0))","v":209},{"$f":"INDEX(CHARGES,MATCH($D936&$F936,$AQ$2:$AQ$44&$AR$2:$AR$44,0),MATCH(K$1,$AS$1:$AX$1,0))","v":5239},{"$f":"INDEX(CHARGES,MATCH($D936&$F936,$AQ$2:$AQ$44&$AR$2:$AR$44,0),MATCH(L$1,$AS$1:$AX$1,0))","v":210}]
["Camooweal - No Water or Sewer","Community residence","Community residence","Accommodation (long-term)","RU_2","2 or less bedrooms",5658,0,0,{"$f":"INDEX(CHARGES,MATCH($D937&$F937,$AQ$2:$AQ$44&$AR$2:$AR$44,0),MATCH(J$1,$AS$1:$AX$1,0))","v":209},{"$f":"INDEX(CHARGES,MATCH($D937&$F937,$AQ$2:$AQ$44&$AR$2:$AR$44,0),MATCH(K$1,$AS$1:$AX$1,0))","v":5239},{"$f":"INDEX(CHARGES,MATCH($D937&$F937,$AQ$2:$AQ$44&$AR$2:$AR$44,0),MATCH(L$1,$AS$1:$AX$1,0))","v":210}]
["Camooweal - No Water or Sewer","Community residence","Community residence","Accommodation (long-term)","RU_2","3 or more bedrooms",7921,0,0,{"$f":"INDEX(CHARGES,MATCH($D938&$F938,$AQ$2:$AQ$44&$AR$2:$AR$44,0),MATCH(J$1,$AS$1:$AX$1,0))","v":293},{"$f":"INDEX(CHARGES,MATCH($D938&$F938,$AQ$2:$AQ$44&$AR$2:$AR$44,0),MATCH(K$1,$AS$1:$AX$1,0))","v":7335},{"$f":"INDEX(CHARGES,MATCH($D938&$F938,$AQ$2:$AQ$44&$AR$2:$AR$44,0),MATCH(L$1,$AS$1:$AX$1,0))","v":293}]
["Camooweal - No Water or Sewer","Community use","Community use","Places of assembly","NR_1","Gross Floor Area",24,0,0,{"$f":"INDEX(CHARGES,MATCH($D939&$F939,$AQ$2:$AQ$44&$AR$2:$AR$44,0),MATCH(J$1,$AS$1:$AX$1,0))","v":0},{"$f":"INDEX(CHARGES,MATCH($D939&$F939,$AQ$2:$AQ$44&$AR$2:$AR$44,0),MATCH(K$1,$AS$1:$AX$1,0))","v":24},{"$f":"INDEX(CHARGES,MATCH($D939&$F939,$AQ$2:$AQ$44&$AR$2:$AR$44,0),MATCH(L$1,$AS$1:$AX$1,0))","v":0}]
["Camooweal - No Water or Sewer","Community use","Community use","Places of assembly","NR_1","Impervious Area",5,0,0,{"$f":"INDEX(CHARGES,MATCH($D940&$F940,$AQ$2:$AQ$44&$AR$2:$AR$44,0),MATCH(J$1,$AS$1:$AX$1,0))","v":5},{"$f":"INDEX(CHARGES,MATCH($D940&$F940,$AQ$2:$AQ$44&$AR$2:$AR$44,0),MATCH(K$1,$AS$1:$AX$1,0))","v":0},{"$f":"INDEX(CHARGES,MATCH($D940&$F940,$AQ$2:$AQ$44&$AR$2:$AR$44,0),MATCH(L$1,$AS$1:$AX$1,0))","v":0}]
["Camooweal - No Water or Sewer","Crematorium","Crematorium","Other uses","NR_1","Gross Floor Area",0,0,0,{"$f":"INDEX(CHARGES,MATCH($D941&$F941,$AQ$2:$AQ$44&$AR$2:$AR$44,0),MATCH(J$1,$AS$1:$AX$1,0))","v":0},{"$f":"INDEX(CHARGES,MATCH($D941&$F941,$AQ$2:$AQ$44&$AR$2:$AR$44,0),MATCH(K$1,$AS$1:$AX$1,0))","v":0},{"$f":"INDEX(CHARGES,MATCH($D941&$F941,$AQ$2:$AQ$44&$AR$2:$AR$44,0),MATCH(L$1,$AS$1:$AX$1,0))","v":0}]
["Camooweal - No Water or Sewer","Crematorium","Crematorium","Other uses","NR_1","Impervious Area",0,0,0,{"$f":"INDEX(CHARGES,MATCH($D942&$F942,$AQ$2:$AQ$44&$AR$2:$AR$44,0),MATCH(J$1,$AS$1:$AX$1,0))","v":0},{"$f":"INDEX(CHARGES,MATCH($D942&$F942,$AQ$2:$AQ$44&$AR$2:$AR$44,0),MATCH(K$1,$AS$1:$AX$1,0))","v":0},{"$f":"INDEX(CHARGES,MATCH($D942&$F942,$AQ$2:$AQ$44&$AR$2:$AR$44,0),MATCH(L$1,$AS$1:$AX$1,0))","v":0}]
["Camooweal - No Water or Sewer","Cropping","Cropping","Low impact rural","NR_3","Gross Floor Area",0,0,0,{"$f":"INDEX(CHARGES,MATCH($D943&$F943,$AQ$2:$AQ$44&$AR$2:$AR$44,0),MATCH(J$1,$AS$1:$AX$1,0))","v":0},{"$f":"INDEX(CHARGES,MATCH($D943&$F943,$AQ$2:$AQ$44&$AR$2:$AR$44,0),MATCH(K$1,$AS$1:$AX$1,0))","v":0},{"$f":"INDEX(CHARGES,MATCH($D943&$F943,$AQ$2:$AQ$44&$AR$2:$AR$44,0),MATCH(L$1,$AS$1:$AX$1,0))","v":0}]
["Camooweal - No Water or Sewer","Detention facility","Correctional facility","Essential services","NR_1","Gross Floor Area",48,0,0,{"$f":"INDEX(CHARGES,MATCH($D944&$F944,$AQ$2:$AQ$44&$AR$2:$AR$44,0),MATCH(J$1,$AS$1:$AX$1,0))","v":0},{"$f":"INDEX(CHARGES,MATCH($D944&$F944,$AQ$2:$AQ$44&$AR$2:$AR$44,0),MATCH(K$1,$AS$1:$AX$1,0))","v":48},{"$f":"INDEX(CHARGES,MATCH($D944&$F944,$AQ$2:$AQ$44&$AR$2:$AR$44,0),MATCH(L$1,$AS$1:$AX$1,0))","v":0}]
["Camooweal - No Water or Sewer","Detention facility","Correctional facility","Essential services","NR_1","Impervious Area",5,0,0,{"$f":"INDEX(CHARGES,MATCH($D945&$F945,$AQ$2:$AQ$44&$AR$2:$AR$44,0),MATCH(J$1,$AS$1:$AX$1,0))","v":5},{"$f":"INDEX(CHARGES,MATCH($D945&$F945,$AQ$2:$AQ$44&$AR$2:$AR$44,0),MATCH(K$1,$AS$1:$AX$1,0))","v":0},{"$f":"INDEX(CHARGES,MATCH($D945&$F945,$AQ$2:$AQ$44&$AR$2:$AR$44,0),MATCH(L$1,$AS$1:$AX$1,0))","v":0}]
["Camooweal - No Water or Sewer","Dual occupancy","Dual occupancy","Residential uses","RU_1","2 or less bedrooms",5658,0,0,{"$f":"INDEX(CHARGES,MATCH($D946&$F946,$AQ$2:$AQ$44&$AR$2:$AR$44,0),MATCH(J$1,$AS$1:$AX$1,0))","v":209},{"$f":"INDEX(CHARGES,MATCH($D946&$F946,$AQ$2:$AQ$44&$AR$2:$AR$44,0),MATCH(K$1,$AS$1:$AX$1,0))","v":5239},{"$f":"INDEX(CHARGES,MATCH($D946&$F946,$AQ$2:$AQ$44&$AR$2:$AR$44,0),MATCH(L$1,$AS$1:$AX$1,0))","v":210}]
["Camooweal - No Water or Sewer","Dual occupancy","Dual occupancy","Residential uses","RU_1","3 or more bedrooms",7921,0,0,{"$f":"INDEX(CHARGES,MATCH($D947&$F947,$AQ$2:$AQ$44&$AR$2:$AR$44,0),MATCH(J$1,$AS$1:$AX$1,0))","v":293},{"$f":"INDEX(CHARGES,MATCH($D947&$F947,$AQ$2:$AQ$44&$AR$2:$AR$44,0),MATCH(K$1,$AS$1:$AX$1,0))","v":7335},{"$f":"INDEX(CHARGES,MATCH($D947&$F947,$AQ$2:$AQ$44&$AR$2:$AR$44,0),MATCH(L$1,$AS$1:$AX$1,0))","v":293}]
["Camooweal - No Water or Sewer","Dwelling house","Dwelling house","Residential uses","RU_1","2 or less bedrooms",5658,0,0,{"$f":"INDEX(CHARGES,MATCH($D948&$F948,$AQ$2:$AQ$44&$AR$2:$AR$44,0),MATCH(J$1,$AS$1:$AX$1,0))","v":209},{"$f":"INDEX(CHARGES,MATCH($D948&$F948,$AQ$2:$AQ$44&$AR$2:$AR$44,0),MATCH(K$1,$AS$1:$AX$1,0))","v":5239},{"$f":"INDEX(CHARGES,MATCH($D948&$F948,$AQ$2:$AQ$44&$AR$2:$AR$44,0),MATCH(L$1,$AS$1:$AX$1,0))","v":210}]
["Camooweal - No Water or Sewer","Dwelling house","Dwelling house","Residential uses","RU_1","3 or more bedrooms",7921,0,0,{"$f":"INDEX(CHARGES,MATCH($D949&$F949,$AQ$2:$AQ$44&$AR$2:$AR$44,0),MATCH(J$1,$AS$1:$AX$1,0))","v":293},{"$f":"INDEX(CHARGES,MATCH($D949&$F949,$AQ$2:$AQ$44&$AR$2:$AR$44,0),MATCH(K$1,$AS$1:$AX$1,0))","v":7335},{"$f":"INDEX(CHARGES,MATCH($D949&$F949,$AQ$2:$AQ$44&$AR$2:$AR$44,0),MATCH(L$1,$AS$1:$AX$1,0))","v":293}]
["Camooweal - No Water or Sewer","Dwelling unit","Multiple dwelling","Residential uses","RU_1","2 or less bedrooms",5658,0,0,{"$f":"INDEX(CHARGES,MATCH($D950&$F950,$AQ$2:$AQ$44&$AR$2:$AR$44,0),MATCH(J$1,$AS$1:$AX$1,0))","v":209},{"$f":"INDEX(CHARGES,MATCH($D950&$F950,$AQ$2:$AQ$44&$AR$2:$AR$44,0),MATCH(K$1,$AS$1:$AX$1,0))","v":5239},{"$f":"INDEX(CHARGES,MATCH($D950&$F950,$AQ$2:$AQ$44&$AR$2:$AR$44,0),MATCH(L$1,$AS$1:$AX$1,0))","v":210}]
["Camooweal - No Water or Sewer","Dwelling unit","Multiple dwelling","Residential uses","RU_1","3 or more bedrooms",7921,0,0,{"$f":"INDEX(CHARGES,MATCH($D951&$F951,$AQ$2:$AQ$44&$AR$2:$AR$44,0),MATCH(J$1,$AS$1:$AX$1,0))","v":293},{"$f":"INDEX(CHARGES,MATCH($D951&$F951,$AQ$2:$AQ$44&$AR$2:$AR$44,0),MATCH(K$1,$AS$1:$AX$1,0))","v":7335},{"$f":"INDEX(CHARGES,MATCH($D951&$F951,$AQ$2:$AQ$44&$AR$2:$AR$44,0),MATCH(L$1,$AS$1:$AX$1,0))","v":293}]
["Camooweal - No Water or Sewer","Educational establishment other than an educational establishment for the Flying Start for Queensland Children program","Educational establishment other than an educational establishment for the Flying Start for Queensland Children program","Educational Facility","NR_1","Gross Floor Area",48,0,0,{"$f":"INDEX(CHARGES,MATCH($D952&$F952,$AQ$2:$AQ$44&$AR$2:$AR$44,0),MATCH(J$1,$AS$1:$AX$1,0))","v":0},{"$f":"INDEX(CHARGES,MATCH($D952&$F952,$AQ$2:$AQ$44&$AR$2:$AR$44,0),MATCH(K$1,$AS$1:$AX$1,0))","v":48},{"$f":"INDEX(CHARGES,MATCH($D952&$F952,$AQ$2:$AQ$44&$AR$2:$AR$44,0),MATCH(L$1,$AS$1:$AX$1,0))","v":0}]
["Camooweal - No Water or Sewer","Educational establishment other than an educational establishment for the Flying Start for Queensland Children program","Educational establishment other than an educational establishment for the Flying Start for Queensland Children program","Educational Facility","NR_1","Impervious Area",5,0,0,{"$f":"INDEX(CHARGES,MATCH($D953&$F953,$AQ$2:$AQ$44&$AR$2:$AR$44,0),MATCH(J$1,$AS$1:$AX$1,0))","v":5},{"$f":"INDEX(CHARGES,MATCH($D953&$F953,$AQ$2:$AQ$44&$AR$2:$AR$44,0),MATCH(K$1,$AS$1:$AX$1,0))","v":0},{"$f":"INDEX(CHARGES,MATCH($D953&$F953,$AQ$2:$AQ$44&$AR$2:$AR$44,0),MATCH(L$1,$AS$1:$AX$1,0))","v":0}]
["Camooweal - No Water or Sewer","Educational establishment that is an educational establishment for the Flying Start for Queensland Children program","Educational establishment that is an educational establishment for the Flying Start for Queensland Children program","Educational Facility","NR_1","Gross Floor Area",48,0,0,{"$f":"INDEX(CHARGES,MATCH($D954&$F954,$AQ$2:$AQ$44&$AR$2:$AR$44,0),MATCH(J$1,$AS$1:$AX$1,0))","v":0},{"$f":"INDEX(CHARGES,MATCH($D954&$F954,$AQ$2:$AQ$44&$AR$2:$AR$44,0),MATCH(K$1,$AS$1:$AX$1,0))","v":48},{"$f":"INDEX(CHARGES,MATCH($D954&$F954,$AQ$2:$AQ$44&$AR$2:$AR$44,0),MATCH(L$1,$AS$1:$AX$1,0))","v":0}]
["Camooweal - No Water or Sewer","Educational establishment that is an educational establishment for the Flying Start for Queensland Children program","Educational establishment that is an educational establishment for the Flying Start for Queensland Children program","Educational Facility","NR_1","Impervious Area",5,0,0,{"$f":"INDEX(CHARGES,MATCH($D955&$F955,$AQ$2:$AQ$44&$AR$2:$AR$44,0),MATCH(J$1,$AS$1:$AX$1,0))","v":5},{"$f":"INDEX(CHARGES,MATCH($D955&$F955,$AQ$2:$AQ$44&$AR$2:$AR$44,0),MATCH(K$1,$AS$1:$AX$1,0))","v":0},{"$f":"INDEX(CHARGES,MATCH($D955&$F955,$AQ$2:$AQ$44&$AR$2:$AR$44,0),MATCH(L$1,$AS$1:$AX$1,0))","v":0}]
["Camooweal - No Water or Sewer","Emergency services","Emergency services","Essential services","NR_1","Gross Floor Area",48,0,0,{"$f":"INDEX(CHARGES,MATCH($D956&$F956,$AQ$2:$AQ$44&$AR$2:$AR$44,0),MATCH(J$1,$AS$1:$AX$1,0))","v":0},{"$f":"INDEX(CHARGES,MATCH($D956&$F956,$AQ$2:$AQ$44&$AR$2:$AR$44,0),MATCH(K$1,$AS$1:$AX$1,0))","v":48},{"$f":"INDEX(CHARGES,MATCH($D956&$F956,$AQ$2:$AQ$44&$AR$2:$AR$44,0),MATCH(L$1,$AS$1:$AX$1,0))","v":0}]
["Camooweal - No Water or Sewer","Emergency services","Emergency services","Essential services","NR_1","Impervious Area",5,0,0,{"$f":"INDEX(CHARGES,MATCH($D957&$F957,$AQ$2:$AQ$44&$AR$2:$AR$44,0),MATCH(J$1,$AS$1:$AX$1,0))","v":5},{"$f":"INDEX(CHARGES,MATCH($D957&$F957,$AQ$2:$AQ$44&$AR$2:$AR$44,0),MATCH(K$1,$AS$1:$AX$1,0))","v":0},{"$f":"INDEX(CHARGES,MATCH($D957&$F957,$AQ$2:$AQ$44&$AR$2:$AR$44,0),MATCH(L$1,$AS$1:$AX$1,0))","v":0}]
["Camooweal - No Water or Sewer","Environment facility",null,"Other uses","NR_1","Gross Floor Area",0,0,0,{"$f":"INDEX(CHARGES,MATCH($D958&$F958,$AQ$2:$AQ$44&$AR$2:$AR$44,0),MATCH(J$1,$AS$1:$AX$1,0))","v":0},{"$f":"INDEX(CHARGES,MATCH($D958&$F958,$AQ$2:$AQ$44&$AR$2:$AR$44,0),MATCH(K$1,$AS$1:$AX$1,0))","v":0},{"$f":"INDEX(CHARGES,MATCH($D958&$F958,$AQ$2:$AQ$44&$AR$2:$AR$44,0),MATCH(L$1,$AS$1:$AX$1,0))","v":0}]
["Camooweal - No Water or Sewer","Environment facility",null,"Other uses","NR_1","Impervious Area",0,0,0,{"$f":"INDEX(CHARGES,MATCH($D959&$F959,$AQ$2:$AQ$44&$AR$2:$AR$44,0),MATCH(J$1,$AS$1:$AX$1,0))","v":0},{"$f":"INDEX(CHARGES,MATCH($D959&$F959,$AQ$2:$AQ$44&$AR$2:$AR$44,0),MATCH(K$1,$AS$1:$AX$1,0))","v":0},{"$f":"INDEX(CHARGES,MATCH($D959&$F959,$AQ$2:$AQ$44&$AR$2:$AR$44,0),MATCH(L$1,$AS$1:$AX$1,0))","v":0}]
["Camooweal - No Water or Sewer","Extractive industry","Extractive industry","Other uses","NR_1","Gross Floor Area",0,0,0,{"$f":"INDEX(CHARGES,MATCH($D960&$F960,$AQ$2:$AQ$44&$AR$2:$AR$44,0),MATCH(J$1,$AS$1:$AX$1,0))","v":0},{"$f":"INDEX(CHARGES,MATCH($D960&$F960,$AQ$2:$AQ$44&$AR$2:$AR$44,0),MATCH(K$1,$AS$1:$AX$1,0))","v":0},{"$f":"INDEX(CHARGES,MATCH($D960&$F960,$AQ$2:$AQ$44&$AR$2:$AR$44,0),MATCH(L$1,$AS$1:$AX$1,0))","v":0}]
["Camooweal - No Water or Sewer","Extractive industry","Extractive industry","Other uses","NR_1","Impervious Area",0,0,0,{"$f":"INDEX(CHARGES,MATCH($D961&$F961,$AQ$2:$AQ$44&$AR$2:$AR$44,0),MATCH(J$1,$AS$1:$AX$1,0))","v":0},{"$f":"INDEX(CHARGES,MATCH($D961&$F961,$AQ$2:$AQ$44&$AR$2:$AR$44,0),MATCH(K$1,$AS$1:$AX$1,0))","v":0},{"$f":"INDEX(CHARGES,MATCH($D961&$F961,$AQ$2:$AQ$44&$AR$2:$AR$44,0),MATCH(L$1,$AS$1:$AX$1,0))","v":0}]
["Camooweal - No Water or Sewer","Food and drink outlet","Food and drink outlet","Commercial (retail)","NR_1","Gross Floor Area",61,0,0,{"$f":"INDEX(CHARGES,MATCH($D962&$F962,$AQ$2:$AQ$44&$AR$2:$AR$44,0),MATCH(J$1,$AS$1:$AX$1,0))","v":0},{"$f":"INDEX(CHARGES,MATCH($D962&$F962,$AQ$2:$AQ$44&$AR$2:$AR$44,0),MATCH(K$1,$AS$1:$AX$1,0))","v":61},{"$f":"INDEX(CHARGES,MATCH($D962&$F962,$AQ$2:$AQ$44&$AR$2:$AR$44,0),MATCH(L$1,$AS$1:$AX$1,0))","v":0}]
["Camooweal - No Water or Sewer","Food and drink outlet","Food and drink outlet","Commercial (retail)","NR_1","Impervious Area",5,0,0,{"$f":"INDEX(CHARGES,MATCH($D963&$F963,$AQ$2:$AQ$44&$AR$2:$AR$44,0),MATCH(J$1,$AS$1:$AX$1,0))","v":5},{"$f":"INDEX(CHARGES,MATCH($D963&$F963,$AQ$2:$AQ$44&$AR$2:$AR$44,0),MATCH(K$1,$AS$1:$AX$1,0))","v":0},{"$f":"INDEX(CHARGES,MATCH($D963&$F963,$AQ$2:$AQ$44&$AR$2:$AR$44,0),MATCH(L$1,$AS$1:$AX$1,0))","v":0}]
["Camooweal - No Water or Sewer","Office","Office","Commercial (office)","NR_1","Gross Floor Area",48,0,0,{"$f":"INDEX(CHARGES,MATCH($D964&$F964,$AQ$2:$AQ$44&$AR$2:$AR$44,0),MATCH(J$1,$AS$1:$AX$1,0))","v":0},{"$f":"INDEX(CHARGES,MATCH($D964&$F964,$AQ$2:$AQ$44&$AR$2:$AR$44,0),MATCH(K$1,$AS$1:$AX$1,0))","v":48},{"$f":"INDEX(CHARGES,MATCH($D964&$F964,$AQ$2:$AQ$44&$AR$2:$AR$44,0),MATCH(L$1,$AS$1:$AX$1,0))","v":0}]
["Camooweal - No Water or Sewer","Office","Office","Commercial (office)","NR_1","Impervious Area",5,0,0,{"$f":"INDEX(CHARGES,MATCH($D965&$F965,$AQ$2:$AQ$44&$AR$2:$AR$44,0),MATCH(J$1,$AS$1:$AX$1,0))","v":5},{"$f":"INDEX(CHARGES,MATCH($D965&$F965,$AQ$2:$AQ$44&$AR$2:$AR$44,0),MATCH(K$1,$AS$1:$AX$1,0))","v":0},{"$f":"INDEX(CHARGES,MATCH($D965&$F965,$AQ$2:$AQ$44&$AR$2:$AR$44,0),MATCH(L$1,$AS$1:$AX$1,0))","v":0}]
["Camooweal - No Water or Sewer","Outdoor sales","Outdoor sales","Commercial (retail)","NR_1","Gross Floor Area",61,0,0,{"$f":"INDEX(CHARGES,MATCH($D966&$F966,$AQ$2:$AQ$44&$AR$2:$AR$44,0),MATCH(J$1,$AS$1:$AX$1,0))","v":0},{"$f":"INDEX(CHARGES,MATCH($D966&$F966,$AQ$2:$AQ$44&$AR$2:$AR$44,0),MATCH(K$1,$AS$1:$AX$1,0))","v":61},{"$f":"INDEX(CHARGES,MATCH($D966&$F966,$AQ$2:$AQ$44&$AR$2:$AR$44,0),MATCH(L$1,$AS$1:$AX$1,0))","v":0}]
["Camooweal - No Water or Sewer","Outdoor sales","Outdoor sales","Commercial (retail)","NR_1","Impervious Area",5,0,0,{"$f":"INDEX(CHARGES,MATCH($D967&$F967,$AQ$2:$AQ$44&$AR$2:$AR$44,0),MATCH(J$1,$AS$1:$AX$1,0))","v":5},{"$f":"INDEX(CHARGES,MATCH($D967&$F967,$AQ$2:$AQ$44&$AR$2:$AR$44,0),MATCH(K$1,$AS$1:$AX$1,0))","v":0},{"$f":"INDEX(CHARGES,MATCH($D967&$F967,$AQ$2:$AQ$44&$AR$2:$AR$44,0),MATCH(L$1,$AS$1:$AX$1,0))","v":0}]
["Camooweal - No Water or Sewer","Outdoor sport and recreation","Outdoor sport and recreation","Other uses","NR_2","Gross Floor Area - not court area",0,0,0,{"$f":"INDEX(CHARGES,MATCH($D968&$F968,$AQ$2:$AQ$44&$AR$2:$AR$44,0),MATCH(J$1,$AS$1:$AX$1,0))","v":0},{"$f":"INDEX(CHARGES,MATCH($D968&$F968,$AQ$2:$AQ$44&$AR$2:$AR$44,0),MATCH(K$1,$AS$1:$AX$1,0))","v":0},{"$f":"INDEX(CHARGES,MATCH($D968&$F968,$AQ$2:$AQ$44&$AR$2:$AR$44,0),MATCH(L$1,$AS$1:$AX$1,0))","v":0}]
["Camooweal - No Water or Sewer","Outdoor sport and recreation","Outdoor sport and recreation","Other uses","NR_2","Gross Floor Area - court area",0,0,0,{"$f":"INDEX(CHARGES,MATCH($D969&$F969,$AQ$2:$AQ$44&$AR$2:$AR$44,0),MATCH(J$1,$AS$1:$AX$1,0))","v":0},{"$f":"INDEX(CHARGES,MATCH($D969&$F969,$AQ$2:$AQ$44&$AR$2:$AR$44,0),MATCH(K$1,$AS$1:$AX$1,0))","v":0},{"$f":"INDEX(CHARGES,MATCH($D969&$F969,$AQ$2:$AQ$44&$AR$2:$AR$44,0),MATCH(L$1,$AS$1:$AX$1,0))","v":0}]
["Camooweal - No Water or Sewer","Outdoor sport and recreation","Outdoor sport and recreation","Other uses","NR_2","Impervious Area",0,0,0,{"$f":"INDEX(CHARGES,MATCH($D970&$F970,$AQ$2:$AQ$44&$AR$2:$AR$44,0),MATCH(J$1,$AS$1:$AX$1,0))","v":0},{"$f":"INDEX(CHARGES,MATCH($D970&$F970,$AQ$2:$AQ$44&$AR$2:$AR$44,0),MATCH(K$1,$AS$1:$AX$1,0))","v":0},{"$f":"INDEX(CHARGES,MATCH($D970&$F970,$AQ$2:$AQ$44&$AR$2:$AR$44,0),MATCH(L$1,$AS$1:$AX$1,0))","v":0}]
["Camooweal - No Water or Sewer","Outstation",null,"Other uses","NR_1","Gross Floor Area",0,0,0,{"$f":"INDEX(CHARGES,MATCH($D971&$F971,$AQ$2:$AQ$44&$AR$2:$AR$44,0),MATCH(J$1,$AS$1:$AX$1,0))","v":0},{"$f":"INDEX(CHARGES,MATCH($D971&$F971,$AQ$2:$AQ$44&$AR$2:$AR$44,0),MATCH(K$1,$AS$1:$AX$1,0))","v":0},{"$f":"INDEX(CHARGES,MATCH($D971&$F971,$AQ$2:$AQ$44&$AR$2:$AR$44,0),MATCH(L$1,$AS$1:$AX$1,0))","v":0}]
["Camooweal - No Water or Sewer","Outstation",null,"Other uses","NR_1","Impervious Area",0,0,0,{"$f":"INDEX(CHARGES,MATCH($D972&$F972,$AQ$2:$AQ$44&$AR$2:$AR$44,0),MATCH(J$1,$AS$1:$AX$1,0))","v":0},{"$f":"INDEX(CHARGES,MATCH($D972&$F972,$AQ$2:$AQ$44&$AR$2:$AR$44,0),MATCH(K$1,$AS$1:$AX$1,0))","v":0},{"$f":"INDEX(CHARGES,MATCH($D972&$F972,$AQ$2:$AQ$44&$AR$2:$AR$44,0),MATCH(L$1,$AS$1:$AX$1,0))","v":0}]
["Camooweal - No Water or Sewer","Park","Park","Minor uses","NR_3","Gross Floor Area",0,0,0,{"$f":"INDEX(CHARGES,MATCH($D973&$F973,$AQ$2:$AQ$44&$AR$2:$AR$44,0),MATCH(J$1,$AS$1:$AX$1,0))","v":0},{"$f":"INDEX(CHARGES,MATCH($D973&$F973,$AQ$2:$AQ$44&$AR$2:$AR$44,0),MATCH(K$1,$AS$1:$AX$1,0))","v":0},{"$f":"INDEX(CHARGES,MATCH($D973&$F973,$AQ$2:$AQ$44&$AR$2:$AR$44,0),MATCH(L$1,$AS$1:$AX$1,0))","v":0}]
["Camooweal - No Water or Sewer","Parking station",null,"Other uses","NR_1","Gross Floor Area",0,0,0,{"$f":"INDEX(CHARGES,MATCH($D974&$F974,$AQ$2:$AQ$44&$AR$2:$AR$44,0),MATCH(J$1,$AS$1:$AX$1,0))","v":0},{"$f":"INDEX(CHARGES,MATCH($D974&$F974,$AQ$2:$AQ$44&$AR$2:$AR$44,0),MATCH(K$1,$AS$1:$AX$1,0))","v":0},{"$f":"INDEX(CHARGES,MATCH($D974&$F974,$AQ$2:$AQ$44&$AR$2:$AR$44,0),MATCH(L$1,$AS$1:$AX$1,0))","v":0}]
["Camooweal - No Water or Sewer","Parking station",null,"Other uses","NR_1","Impervious Area",0,0,0,{"$f":"INDEX(CHARGES,MATCH($D975&$F975,$AQ$2:$AQ$44&$AR$2:$AR$44,0),MATCH(J$1,$AS$1:$AX$1,0))","v":0},{"$f":"INDEX(CHARGES,MATCH($D975&$F975,$AQ$2:$AQ$44&$AR$2:$AR$44,0),MATCH(K$1,$AS$1:$AX$1,0))","v":0},{"$f":"INDEX(CHARGES,MATCH($D975&$F975,$AQ$2:$AQ$44&$AR$2:$AR$44,0),MATCH(L$1,$AS$1:$AX$1,0))","v":0}]
["Camooweal - No Water or Sewer","Permanent plantation","Permanent plantation","Low impact rural","NR_3","Gross Floor Area",0,0,0,{"$f":"INDEX(CHARGES,MATCH($D976&$F976,$AQ$2:$AQ$44&$AR$2:$AR$44,0),MATCH(J$1,$AS$1:$AX$1,0))","v":0},{"$f":"INDEX(CHARGES,MATCH($D976&$F976,$AQ$2:$AQ$44&$AR$2:$AR$44,0),MATCH(K$1,$AS$1:$AX$1,0))","v":0},{"$f":"INDEX(CHARGES,MATCH($D976&$F976,$AQ$2:$AQ$44&$AR$2:$AR$44,0),MATCH(L$1,$AS$1:$AX$1,0))","v":0}]
["Camooweal - No Water or Sewer","Function facility","Function facility","Places of assembly","NR_1","Gross Floor Area",24,0,0,{"$f":"INDEX(CHARGES,MATCH($D977&$F977,$AQ$2:$AQ$44&$AR$2:$AR$44,0),MATCH(J$1,$AS$1:$AX$1,0))","v":0},{"$f":"INDEX(CHARGES,MATCH($D977&$F977,$AQ$2:$AQ$44&$AR$2:$AR$44,0),MATCH(K$1,$AS$1:$AX$1,0))","v":24},{"$f":"INDEX(CHARGES,MATCH($D977&$F977,$AQ$2:$AQ$44&$AR$2:$AR$44,0),MATCH(L$1,$AS$1:$AX$1,0))","v":0}]
["Camooweal - No Water or Sewer","Function facility","Function facility","Places of assembly","NR_1","Impervious Area",5,0,0,{"$f":"INDEX(CHARGES,MATCH($D978&$F978,$AQ$2:$AQ$44&$AR$2:$AR$44,0),MATCH(J$1,$AS$1:$AX$1,0))","v":5},{"$f":"INDEX(CHARGES,MATCH($D978&$F978,$AQ$2:$AQ$44&$AR$2:$AR$44,0),MATCH(K$1,$AS$1:$AX$1,0))","v":0},{"$f":"INDEX(CHARGES,MATCH($D978&$F978,$AQ$2:$AQ$44&$AR$2:$AR$44,0),MATCH(L$1,$AS$1:$AX$1,0))","v":0}]
["Camooweal - No Water or Sewer","Funeral parlour","Funeral parlour","Places of assembly","NR_1","Gross Floor Area",24,0,0,{"$f":"INDEX(CHARGES,MATCH($D979&$F979,$AQ$2:$AQ$44&$AR$2:$AR$44,0),MATCH(J$1,$AS$1:$AX$1,0))","v":0},{"$f":"INDEX(CHARGES,MATCH($D979&$F979,$AQ$2:$AQ$44&$AR$2:$AR$44,0),MATCH(K$1,$AS$1:$AX$1,0))","v":24},{"$f":"INDEX(CHARGES,MATCH($D979&$F979,$AQ$2:$AQ$44&$AR$2:$AR$44,0),MATCH(L$1,$AS$1:$AX$1,0))","v":0}]
["Camooweal - No Water or Sewer","Funeral parlour","Funeral parlour","Places of assembly","NR_1","Impervious Area",5,0,0,{"$f":"INDEX(CHARGES,MATCH($D980&$F980,$AQ$2:$AQ$44&$AR$2:$AR$44,0),MATCH(J$1,$AS$1:$AX$1,0))","v":5},{"$f":"INDEX(CHARGES,MATCH($D980&$F980,$AQ$2:$AQ$44&$AR$2:$AR$44,0),MATCH(K$1,$AS$1:$AX$1,0))","v":0},{"$f":"INDEX(CHARGES,MATCH($D980&$F980,$AQ$2:$AQ$44&$AR$2:$AR$44,0),MATCH(L$1,$AS$1:$AX$1,0))","v":0}]
["Camooweal - No Water or Sewer","Garden centre","Garden centre","Commercial (bulk goods)","NR_1","Gross Floor Area",48,0,0,{"$f":"INDEX(CHARGES,MATCH($D981&$F981,$AQ$2:$AQ$44&$AR$2:$AR$44,0),MATCH(J$1,$AS$1:$AX$1,0))","v":0},{"$f":"INDEX(CHARGES,MATCH($D981&$F981,$AQ$2:$AQ$44&$AR$2:$AR$44,0),MATCH(K$1,$AS$1:$AX$1,0))","v":48},{"$f":"INDEX(CHARGES,MATCH($D981&$F981,$AQ$2:$AQ$44&$AR$2:$AR$44,0),MATCH(L$1,$AS$1:$AX$1,0))","v":0}]
["Camooweal - No Water or Sewer","Garden centre","Garden centre","Commercial (bulk goods)","NR_1","Impervious Area",5,0,0,{"$f":"INDEX(CHARGES,MATCH($D982&$F982,$AQ$2:$AQ$44&$AR$2:$AR$44,0),MATCH(J$1,$AS$1:$AX$1,0))","v":5},{"$f":"INDEX(CHARGES,MATCH($D982&$F982,$AQ$2:$AQ$44&$AR$2:$AR$44,0),MATCH(K$1,$AS$1:$AX$1,0))","v":0},{"$f":"INDEX(CHARGES,MATCH($D982&$F982,$AQ$2:$AQ$44&$AR$2:$AR$44,0),MATCH(L$1,$AS$1:$AX$1,0))","v":0}]
["Camooweal - No Water or Sewer","Hardware and trade supplies","Hardware and trade supplies","Commercial (bulk goods)","NR_1","Gross Floor Area",48,0,0,{"$f":"INDEX(CHARGES,MATCH($D983&$F983,$AQ$2:$AQ$44&$AR$2:$AR$44,0),MATCH(J$1,$AS$1:$AX$1,0))","v":0},{"$f":"INDEX(CHARGES,MATCH($D983&$F983,$AQ$2:$AQ$44&$AR$2:$AR$44,0),MATCH(K$1,$AS$1:$AX$1,0))","v":48},{"$f":"INDEX(CHARGES,MATCH($D983&$F983,$AQ$2:$AQ$44&$AR$2:$AR$44,0),MATCH(L$1,$AS$1:$AX$1,0))","v":0}]
["Camooweal - No Water or Sewer","Hardware and trade supplies","Hardware and trade supplies","Commercial (bulk goods)","NR_1","Impervious Area",5,0,0,{"$f":"INDEX(CHARGES,MATCH($D984&$F984,$AQ$2:$AQ$44&$AR$2:$AR$44,0),MATCH(J$1,$AS$1:$AX$1,0))","v":5},{"$f":"INDEX(CHARGES,MATCH($D984&$F984,$AQ$2:$AQ$44&$AR$2:$AR$44,0),MATCH(K$1,$AS$1:$AX$1,0))","v":0},{"$f":"INDEX(CHARGES,MATCH($D984&$F984,$AQ$2:$AQ$44&$AR$2:$AR$44,0),MATCH(L$1,$AS$1:$AX$1,0))","v":0}]
["Camooweal - No Water or Sewer","Health care services","Health care service","Essential services","NR_1","Gross Floor Area",48,0,0,{"$f":"INDEX(CHARGES,MATCH($D985&$F985,$AQ$2:$AQ$44&$AR$2:$AR$44,0),MATCH(J$1,$AS$1:$AX$1,0))","v":0},{"$f":"INDEX(CHARGES,MATCH($D985&$F985,$AQ$2:$AQ$44&$AR$2:$AR$44,0),MATCH(K$1,$AS$1:$AX$1,0))","v":48},{"$f":"INDEX(CHARGES,MATCH($D985&$F985,$AQ$2:$AQ$44&$AR$2:$AR$44,0),MATCH(L$1,$AS$1:$AX$1,0))","v":0}]
["Camooweal - No Water or Sewer","Health care services","Health care service","Essential services","NR_1","Impervious Area",5,0,0,{"$f":"INDEX(CHARGES,MATCH($D986&$F986,$AQ$2:$AQ$44&$AR$2:$AR$44,0),MATCH(J$1,$AS$1:$AX$1,0))","v":5},{"$f":"INDEX(CHARGES,MATCH($D986&$F986,$AQ$2:$AQ$44&$AR$2:$AR$44,0),MATCH(K$1,$AS$1:$AX$1,0))","v":0},{"$f":"INDEX(CHARGES,MATCH($D986&$F986,$AQ$2:$AQ$44&$AR$2:$AR$44,0),MATCH(L$1,$AS$1:$AX$1,0))","v":0}]
["Camooweal - No Water or Sewer","High impact industry","High impact industry","High impact industry or special industry","NR_1","Gross Floor Area",24,0,0,{"$f":"INDEX(CHARGES,MATCH($D987&$F987,$AQ$2:$AQ$44&$AR$2:$AR$44,0),MATCH(J$1,$AS$1:$AX$1,0))","v":0},{"$f":"INDEX(CHARGES,MATCH($D987&$F987,$AQ$2:$AQ$44&$AR$2:$AR$44,0),MATCH(K$1,$AS$1:$AX$1,0))","v":24},{"$f":"INDEX(CHARGES,MATCH($D987&$F987,$AQ$2:$AQ$44&$AR$2:$AR$44,0),MATCH(L$1,$AS$1:$AX$1,0))","v":0}]
["Camooweal - No Water or Sewer","High impact industry","High impact industry","High impact industry or special industry","NR_1","Impervious Area",5,0,0,{"$f":"INDEX(CHARGES,MATCH($D988&$F988,$AQ$2:$AQ$44&$AR$2:$AR$44,0),MATCH(J$1,$AS$1:$AX$1,0))","v":5},{"$f":"INDEX(CHARGES,MATCH($D988&$F988,$AQ$2:$AQ$44&$AR$2:$AR$44,0),MATCH(K$1,$AS$1:$AX$1,0))","v":0},{"$f":"INDEX(CHARGES,MATCH($D988&$F988,$AQ$2:$AQ$44&$AR$2:$AR$44,0),MATCH(L$1,$AS$1:$AX$1,0))","v":0}]
["Camooweal - No Water or Sewer","Home based business","Home based business","Minor uses","NR_3","Gross Floor Area",0,0,0,{"$f":"INDEX(CHARGES,MATCH($D989&$F989,$AQ$2:$AQ$44&$AR$2:$AR$44,0),MATCH(J$1,$AS$1:$AX$1,0))","v":0},{"$f":"INDEX(CHARGES,MATCH($D989&$F989,$AQ$2:$AQ$44&$AR$2:$AR$44,0),MATCH(K$1,$AS$1:$AX$1,0))","v":0},{"$f":"INDEX(CHARGES,MATCH($D989&$F989,$AQ$2:$AQ$44&$AR$2:$AR$44,0),MATCH(L$1,$AS$1:$AX$1,0))","v":0}]
["Camooweal - No Water or Sewer","Hospital","Hospital","Essential services","NR_1","Gross Floor Area",48,0,0,{"$f":"INDEX(CHARGES,MATCH($D990&$F990,$AQ$2:$AQ$44&$AR$2:$AR$44,0),MATCH(J$1,$AS$1:$AX$1,0))","v":0},{"$f":"INDEX(CHARGES,MATCH($D990&$F990,$AQ$2:$AQ$44&$AR$2:$AR$44,0),MATCH(K$1,$AS$1:$AX$1,0))","v":48},{"$f":"INDEX(CHARGES,MATCH($D990&$F990,$AQ$2:$AQ$44&$AR$2:$AR$44,0),MATCH(L$1,$AS$1:$AX$1,0))","v":0}]
["Camooweal - No Water or Sewer","Hospital","Hospital","Essential services","NR_1","Impervious Area",5,0,0,{"$f":"INDEX(CHARGES,MATCH($D991&$F991,$AQ$2:$AQ$44&$AR$2:$AR$44,0),MATCH(J$1,$AS$1:$AX$1,0))","v":5},{"$f":"INDEX(CHARGES,MATCH($D991&$F991,$AQ$2:$AQ$44&$AR$2:$AR$44,0),MATCH(K$1,$AS$1:$AX$1,0))","v":0},{"$f":"INDEX(CHARGES,MATCH($D991&$F991,$AQ$2:$AQ$44&$AR$2:$AR$44,0),MATCH(L$1,$AS$1:$AX$1,0))","v":0}]
["Camooweal - No Water or Sewer","Hotel - Accommodation component","Hotel","Accommodation (short-term)","RU_2","bedroom that is not part of a suite",{"$f":"SUM(H992:L992)","v":2829},0,0,{"$f":"INDEX(CHARGES,MATCH($D992&$F992,$AQ$2:$AQ$44&$AR$2:$AR$44,0),MATCH(J$1,$AS$1:$AX$1,0))","v":104},{"$f":"INDEX(CHARGES,MATCH($D992&$F992,$AQ$2:$AQ$44&$AR$2:$AR$44,0),MATCH(K$1,$AS$1:$AX$1,0))","v":2620},{"$f":"INDEX(CHARGES,MATCH($D992&$F992,$AQ$2:$AQ$44&$AR$2:$AR$44,0),MATCH(L$1,$AS$1:$AX$1,0))","v":105}]
["Camooweal - No Water or Sewer","Hotel - Accommodation component","Hotel","Accommodation (short-term)","RU_2","2 or less bedrooms",2829,0,0,{"$f":"INDEX(CHARGES,MATCH($D993&$F993,$AQ$2:$AQ$44&$AR$2:$AR$44,0),MATCH(J$1,$AS$1:$AX$1,0))","v":104},{"$f":"INDEX(CHARGES,MATCH($D993&$F993,$AQ$2:$AQ$44&$AR$2:$AR$44,0),MATCH(K$1,$AS$1:$AX$1,0))","v":2620},{"$f":"INDEX(CHARGES,MATCH($D993&$F993,$AQ$2:$AQ$44&$AR$2:$AR$44,0),MATCH(L$1,$AS$1:$AX$1,0))","v":105}]
["Camooweal - No Water or Sewer","Hotel - Accommodation component","Hotel","Accommodation (short-term)","RU_2","3 or more bedrooms",3961,0,0,{"$f":"INDEX(CHARGES,MATCH($D994&$F994,$AQ$2:$AQ$44&$AR$2:$AR$44,0),MATCH(J$1,$AS$1:$AX$1,0))","v":146},{"$f":"INDEX(CHARGES,MATCH($D994&$F994,$AQ$2:$AQ$44&$AR$2:$AR$44,0),MATCH(K$1,$AS$1:$AX$1,0))","v":3668},{"$f":"INDEX(CHARGES,MATCH($D994&$F994,$AQ$2:$AQ$44&$AR$2:$AR$44,0),MATCH(L$1,$AS$1:$AX$1,0))","v":147}]
["Camooweal - No Water or Sewer","Hotel - Entertainment component","Hotel","Entertainment","NR_1","Gross Floor Area",68,0,0,{"$f":"INDEX(CHARGES,MATCH($D995&$F995,$AQ$2:$AQ$44&$AR$2:$AR$44,0),MATCH(J$1,$AS$1:$AX$1,0))","v":0},{"$f":"INDEX(CHARGES,MATCH($D995&$F995,$AQ$2:$AQ$44&$AR$2:$AR$44,0),MATCH(K$1,$AS$1:$AX$1,0))","v":68},{"$f":"INDEX(CHARGES,MATCH($D995&$F995,$AQ$2:$AQ$44&$AR$2:$AR$44,0),MATCH(L$1,$AS$1:$AX$1,0))","v":0}]
["Camooweal - No Water or Sewer","Hotel - Entertainment component","Hotel","Entertainment","NR_1","Impervious Area",5,0,0,{"$f":"INDEX(CHARGES,MATCH($D996&$F996,$AQ$2:$AQ$44&$AR$2:$AR$44,0),MATCH(J$1,$AS$1:$AX$1,0))","v":5},{"$f":"INDEX(CHARGES,MATCH($D996&$F996,$AQ$2:$AQ$44&$AR$2:$AR$44,0),MATCH(K$1,$AS$1:$AX$1,0))","v":0},{"$f":"INDEX(CHARGES,MATCH($D996&$F996,$AQ$2:$AQ$44&$AR$2:$AR$44,0),MATCH(L$1,$AS$1:$AX$1,0))","v":0}]
["Camooweal - No Water or Sewer","Indoor sport and recreation","Indoor sport and recreation","Indoor sport and recreation","NR_2","Gross Floor Area - not court area",68,0,0,{"$f":"INDEX(CHARGES,MATCH($D997&$F997,$AQ$2:$AQ$44&$AR$2:$AR$44,0),MATCH(J$1,$AS$1:$AX$1,0))","v":0},{"$f":"INDEX(CHARGES,MATCH($D997&$F997,$AQ$2:$AQ$44&$AR$2:$AR$44,0),MATCH(K$1,$AS$1:$AX$1,0))","v":68},{"$f":"INDEX(CHARGES,MATCH($D997&$F997,$AQ$2:$AQ$44&$AR$2:$AR$44,0),MATCH(L$1,$AS$1:$AX$1,0))","v":0}]
["Camooweal - No Water or Sewer","Indoor sport and recreation","Indoor sport and recreation","Indoor sport and recreation","NR_2","Gross Floor Area - court area",7,0,0,{"$f":"INDEX(CHARGES,MATCH($D998&$F998,$AQ$2:$AQ$44&$AR$2:$AR$44,0),MATCH(J$1,$AS$1:$AX$1,0))","v":0},{"$f":"INDEX(CHARGES,MATCH($D998&$F998,$AQ$2:$AQ$44&$AR$2:$AR$44,0),MATCH(K$1,$AS$1:$AX$1,0))","v":7},{"$f":"INDEX(CHARGES,MATCH($D998&$F998,$AQ$2:$AQ$44&$AR$2:$AR$44,0),MATCH(L$1,$AS$1:$AX$1,0))","v":0}]
["Camooweal - No Water or Sewer","Indoor sport and recreation","Indoor sport and recreation","Indoor sport and recreation","NR_2","Impervious Area",{"$f":"SUM(H999:L999)","v":5},0,0,{"$f":"INDEX(CHARGES,MATCH($D999&$F999,$AQ$2:$AQ$44&$AR$2:$AR$44,0),MATCH(J$1,$AS$1:$AX$1,0))","v":5},{"$f":"INDEX(CHARGES,MATCH($D999&$F999,$AQ$2:$AQ$44&$AR$2:$AR$44,0),MATCH(K$1,$AS$1:$AX$1,0))","v":0},{"$f":"INDEX(CHARGES,MATCH($D999&$F999,$AQ$2:$AQ$44&$AR$2:$AR$44,0),MATCH(L$1,$AS$1:$AX$1,0))","v":0}]
["Camooweal - No Water or Sewer","Intensive animal industry","Intensive animal industry","High impact rural","NR_3","Gross Floor Area",7,0,0,{"$f":"INDEX(CHARGES,MATCH($D1000&$F1000,$AQ$2:$AQ$44&$AR$2:$AR$44,0),MATCH(J$1,$AS$1:$AX$1,0))","v":0},{"$f":"INDEX(CHARGES,MATCH($D1000&$F1000,$AQ$2:$AQ$44&$AR$2:$AR$44,0),MATCH(K$1,$AS$1:$AX$1,0))","v":7},{"$f":"INDEX(CHARGES,MATCH($D1000&$F1000,$AQ$2:$AQ$44&$AR$2:$AR$44,0),MATCH(L$1,$AS$1:$AX$1,0))","v":0}]
["Camooweal - No Water or Sewer","Intensive horticulture","Intensive horticulture","High impact rural","NR_3","Gross Floor Area",7,0,0,{"$f":"INDEX(CHARGES,MATCH($D1001&$F1001,$AQ$2:$AQ$44&$AR$2:$AR$44,0),MATCH(J$1,$AS$1:$AX$1,0))","v":0},{"$f":"INDEX(CHARGES,MATCH($D1001&$F1001,$AQ$2:$AQ$44&$AR$2:$AR$44,0),MATCH(K$1,$AS$1:$AX$1,0))","v":7},{"$f":"INDEX(CHARGES,MATCH($D1001&$F1001,$AQ$2:$AQ$44&$AR$2:$AR$44,0),MATCH(L$1,$AS$1:$AX$1,0))","v":0}]
["Camooweal - No Water or Sewer","Landing","Landing","Minor uses","NR_3","Gross Floor Area",0,0,0,{"$f":"INDEX(CHARGES,MATCH($D1002&$F1002,$AQ$2:$AQ$44&$AR$2:$AR$44,0),MATCH(J$1,$AS$1:$AX$1,0))","v":0},{"$f":"INDEX(CHARGES,MATCH($D1002&$F1002,$AQ$2:$AQ$44&$AR$2:$AR$44,0),MATCH(K$1,$AS$1:$AX$1,0))","v":0},{"$f":"INDEX(CHARGES,MATCH($D1002&$F1002,$AQ$2:$AQ$44&$AR$2:$AR$44,0),MATCH(L$1,$AS$1:$AX$1,0))","v":0}]
["Camooweal - No Water or Sewer","Low impact industry","Low impact industry","Other industry","NR_1","Gross Floor Area",17,0,0,{"$f":"INDEX(CHARGES,MATCH($D1003&$F1003,$AQ$2:$AQ$44&$AR$2:$AR$44,0),MATCH(J$1,$AS$1:$AX$1,0))","v":0},{"$f":"INDEX(CHARGES,MATCH($D1003&$F1003,$AQ$2:$AQ$44&$AR$2:$AR$44,0),MATCH(K$1,$AS$1:$AX$1,0))","v":17},{"$f":"INDEX(CHARGES,MATCH($D1003&$F1003,$AQ$2:$AQ$44&$AR$2:$AR$44,0),MATCH(L$1,$AS$1:$AX$1,0))","v":0}]
["Camooweal - No Water or Sewer","Low impact industry","Low impact industry","Other industry","NR_1","Impervious Area",5,0,0,{"$f":"INDEX(CHARGES,MATCH($D1004&$F1004,$AQ$2:$AQ$44&$AR$2:$AR$44,0),MATCH(J$1,$AS$1:$AX$1,0))","v":5},{"$f":"INDEX(CHARGES,MATCH($D1004&$F1004,$AQ$2:$AQ$44&$AR$2:$AR$44,0),MATCH(K$1,$AS$1:$AX$1,0))","v":0},{"$f":"INDEX(CHARGES,MATCH($D1004&$F1004,$AQ$2:$AQ$44&$AR$2:$AR$44,0),MATCH(L$1,$AS$1:$AX$1,0))","v":0}]
["Camooweal - No Water or Sewer","Major electricity infrastructure","Utility installation","Other uses","NR_1","Gross Floor Area",0,0,0,{"$f":"INDEX(CHARGES,MATCH($D1005&$F1005,$AQ$2:$AQ$44&$AR$2:$AR$44,0),MATCH(J$1,$AS$1:$AX$1,0))","v":0},{"$f":"INDEX(CHARGES,MATCH($D1005&$F1005,$AQ$2:$AQ$44&$AR$2:$AR$44,0),MATCH(K$1,$AS$1:$AX$1,0))","v":0},{"$f":"INDEX(CHARGES,MATCH($D1005&$F1005,$AQ$2:$AQ$44&$AR$2:$AR$44,0),MATCH(L$1,$AS$1:$AX$1,0))","v":0}]
["Camooweal - No Water or Sewer","Major electricity infrastructure","Utility installation","Other uses","NR_1","Impervious Area",0,0,0,{"$f":"INDEX(CHARGES,MATCH($D1006&$F1006,$AQ$2:$AQ$44&$AR$2:$AR$44,0),MATCH(J$1,$AS$1:$AX$1,0))","v":0},{"$f":"INDEX(CHARGES,MATCH($D1006&$F1006,$AQ$2:$AQ$44&$AR$2:$AR$44,0),MATCH(K$1,$AS$1:$AX$1,0))","v":0},{"$f":"INDEX(CHARGES,MATCH($D1006&$F1006,$AQ$2:$AQ$44&$AR$2:$AR$44,0),MATCH(L$1,$AS$1:$AX$1,0))","v":0}]
["Camooweal - No Water or Sewer","Major sport, recreation and entertainment facility","Major sport, recreation and entertainment facility","Other uses","NR_1","Gross Floor Area",0,0,0,{"$f":"INDEX(CHARGES,MATCH($D1007&$F1007,$AQ$2:$AQ$44&$AR$2:$AR$44,0),MATCH(J$1,$AS$1:$AX$1,0))","v":0},{"$f":"INDEX(CHARGES,MATCH($D1007&$F1007,$AQ$2:$AQ$44&$AR$2:$AR$44,0),MATCH(K$1,$AS$1:$AX$1,0))","v":0},{"$f":"INDEX(CHARGES,MATCH($D1007&$F1007,$AQ$2:$AQ$44&$AR$2:$AR$44,0),MATCH(L$1,$AS$1:$AX$1,0))","v":0}]
["Camooweal - No Water or Sewer","Major sport, recreation and entertainment facility","Major sport, recreation and entertainment facility","Other uses","NR_1","Impervious Area",0,0,0,{"$f":"INDEX(CHARGES,MATCH($D1008&$F1008,$AQ$2:$AQ$44&$AR$2:$AR$44,0),MATCH(J$1,$AS$1:$AX$1,0))","v":0},{"$f":"INDEX(CHARGES,MATCH($D1008&$F1008,$AQ$2:$AQ$44&$AR$2:$AR$44,0),MATCH(K$1,$AS$1:$AX$1,0))","v":0},{"$f":"INDEX(CHARGES,MATCH($D1008&$F1008,$AQ$2:$AQ$44&$AR$2:$AR$44,0),MATCH(L$1,$AS$1:$AX$1,0))","v":0}]
["Camooweal - No Water or Sewer","Marine industry","Marine industry","Other industry","NR_1","Gross Floor Area",17,0,0,{"$f":"INDEX(CHARGES,MATCH($D1009&$F1009,$AQ$2:$AQ$44&$AR$2:$AR$44,0),MATCH(J$1,$AS$1:$AX$1,0))","v":0},{"$f":"INDEX(CHARGES,MATCH($D1009&$F1009,$AQ$2:$AQ$44&$AR$2:$AR$44,0),MATCH(K$1,$AS$1:$AX$1,0))","v":17},{"$f":"INDEX(CHARGES,MATCH($D1009&$F1009,$AQ$2:$AQ$44&$AR$2:$AR$44,0),MATCH(L$1,$AS$1:$AX$1,0))","v":0}]
["Camooweal - No Water or Sewer","Marine industry","Marine industry","Other industry","NR_1","Impervious Area",5,0,0,{"$f":"INDEX(CHARGES,MATCH($D1010&$F1010,$AQ$2:$AQ$44&$AR$2:$AR$44,0),MATCH(J$1,$AS$1:$AX$1,0))","v":5},{"$f":"INDEX(CHARGES,MATCH($D1010&$F1010,$AQ$2:$AQ$44&$AR$2:$AR$44,0),MATCH(K$1,$AS$1:$AX$1,0))","v":0},{"$f":"INDEX(CHARGES,MATCH($D1010&$F1010,$AQ$2:$AQ$44&$AR$2:$AR$44,0),MATCH(L$1,$AS$1:$AX$1,0))","v":0}]
["Camooweal - No Water or Sewer","Market","Market","Minor uses","NR_3","Gross Floor Area",0,0,0,{"$f":"INDEX(CHARGES,MATCH($D1011&$F1011,$AQ$2:$AQ$44&$AR$2:$AR$44,0),MATCH(J$1,$AS$1:$AX$1,0))","v":0},{"$f":"INDEX(CHARGES,MATCH($D1011&$F1011,$AQ$2:$AQ$44&$AR$2:$AR$44,0),MATCH(K$1,$AS$1:$AX$1,0))","v":0},{"$f":"INDEX(CHARGES,MATCH($D1011&$F1011,$AQ$2:$AQ$44&$AR$2:$AR$44,0),MATCH(L$1,$AS$1:$AX$1,0))","v":0}]
["Camooweal - No Water or Sewer","Medium impact industry","Medium impact industry","Other industry","NR_1","Gross Floor Area",17,0,0,{"$f":"INDEX(CHARGES,MATCH($D1012&$F1012,$AQ$2:$AQ$44&$AR$2:$AR$44,0),MATCH(J$1,$AS$1:$AX$1,0))","v":0},{"$f":"INDEX(CHARGES,MATCH($D1012&$F1012,$AQ$2:$AQ$44&$AR$2:$AR$44,0),MATCH(K$1,$AS$1:$AX$1,0))","v":17},{"$f":"INDEX(CHARGES,MATCH($D1012&$F1012,$AQ$2:$AQ$44&$AR$2:$AR$44,0),MATCH(L$1,$AS$1:$AX$1,0))","v":0}]
["Camooweal - No Water or Sewer","Medium impact industry","Medium impact industry","Other industry","NR_1","Impervious Area",5,0,0,{"$f":"INDEX(CHARGES,MATCH($D1013&$F1013,$AQ$2:$AQ$44&$AR$2:$AR$44,0),MATCH(J$1,$AS$1:$AX$1,0))","v":5},{"$f":"INDEX(CHARGES,MATCH($D1013&$F1013,$AQ$2:$AQ$44&$AR$2:$AR$44,0),MATCH(K$1,$AS$1:$AX$1,0))","v":0},{"$f":"INDEX(CHARGES,MATCH($D1013&$F1013,$AQ$2:$AQ$44&$AR$2:$AR$44,0),MATCH(L$1,$AS$1:$AX$1,0))","v":0}]
["Camooweal - No Water or Sewer","Motor sport facility","Motor sport facility","Other uses","NR_1","Gross Floor Area",0,0,0,{"$f":"INDEX(CHARGES,MATCH($D1014&$F1014,$AQ$2:$AQ$44&$AR$2:$AR$44,0),MATCH(J$1,$AS$1:$AX$1,0))","v":0},{"$f":"INDEX(CHARGES,MATCH($D1014&$F1014,$AQ$2:$AQ$44&$AR$2:$AR$44,0),MATCH(K$1,$AS$1:$AX$1,0))","v":0},{"$f":"INDEX(CHARGES,MATCH($D1014&$F1014,$AQ$2:$AQ$44&$AR$2:$AR$44,0),MATCH(L$1,$AS$1:$AX$1,0))","v":0}]
["Camooweal - No Water or Sewer","Motor sport facility","Motor sport facility","Other uses","NR_1","Impervious Area",0,0,0,{"$f":"INDEX(CHARGES,MATCH($D1015&$F1015,$AQ$2:$AQ$44&$AR$2:$AR$44,0),MATCH(J$1,$AS$1:$AX$1,0))","v":0},{"$f":"INDEX(CHARGES,MATCH($D1015&$F1015,$AQ$2:$AQ$44&$AR$2:$AR$44,0),MATCH(K$1,$AS$1:$AX$1,0))","v":0},{"$f":"INDEX(CHARGES,MATCH($D1015&$F1015,$AQ$2:$AQ$44&$AR$2:$AR$44,0),MATCH(L$1,$AS$1:$AX$1,0))","v":0}]
["Camooweal - No Water or Sewer","Multiple dwelling","Multiple dwelling","Residential uses","RU_1","2 or less bedrooms",5658,0,0,{"$f":"INDEX(CHARGES,MATCH($D1016&$F1016,$AQ$2:$AQ$44&$AR$2:$AR$44,0),MATCH(J$1,$AS$1:$AX$1,0))","v":209},{"$f":"INDEX(CHARGES,MATCH($D1016&$F1016,$AQ$2:$AQ$44&$AR$2:$AR$44,0),MATCH(K$1,$AS$1:$AX$1,0))","v":5239},{"$f":"INDEX(CHARGES,MATCH($D1016&$F1016,$AQ$2:$AQ$44&$AR$2:$AR$44,0),MATCH(L$1,$AS$1:$AX$1,0))","v":210}]
["Camooweal - No Water or Sewer","Multiple dwelling","Multiple dwelling","Residential uses","RU_1","3 or more bedrooms",7921,0,0,{"$f":"INDEX(CHARGES,MATCH($D1017&$F1017,$AQ$2:$AQ$44&$AR$2:$AR$44,0),MATCH(J$1,$AS$1:$AX$1,0))","v":293},{"$f":"INDEX(CHARGES,MATCH($D1017&$F1017,$AQ$2:$AQ$44&$AR$2:$AR$44,0),MATCH(K$1,$AS$1:$AX$1,0))","v":7335},{"$f":"INDEX(CHARGES,MATCH($D1017&$F1017,$AQ$2:$AQ$44&$AR$2:$AR$44,0),MATCH(L$1,$AS$1:$AX$1,0))","v":293}]
["Camooweal - No Water or Sewer","Nature-based tourism",null,"Other uses","NR_1","Gross Floor Area",0,0,0,{"$f":"INDEX(CHARGES,MATCH($D1018&$F1018,$AQ$2:$AQ$44&$AR$2:$AR$44,0),MATCH(J$1,$AS$1:$AX$1,0))","v":0},{"$f":"INDEX(CHARGES,MATCH($D1018&$F1018,$AQ$2:$AQ$44&$AR$2:$AR$44,0),MATCH(K$1,$AS$1:$AX$1,0))","v":0},{"$f":"INDEX(CHARGES,MATCH($D1018&$F1018,$AQ$2:$AQ$44&$AR$2:$AR$44,0),MATCH(L$1,$AS$1:$AX$1,0))","v":0}]
["Camooweal - No Water or Sewer","Nature-based tourism",null,"Other uses","NR_1","Impervious Area",0,0,0,{"$f":"INDEX(CHARGES,MATCH($D1019&$F1019,$AQ$2:$AQ$44&$AR$2:$AR$44,0),MATCH(J$1,$AS$1:$AX$1,0))","v":0},{"$f":"INDEX(CHARGES,MATCH($D1019&$F1019,$AQ$2:$AQ$44&$AR$2:$AR$44,0),MATCH(K$1,$AS$1:$AX$1,0))","v":0},{"$f":"INDEX(CHARGES,MATCH($D1019&$F1019,$AQ$2:$AQ$44&$AR$2:$AR$44,0),MATCH(L$1,$AS$1:$AX$1,0))","v":0}]
["Camooweal - No Water or Sewer","Nightclub entertainment facility","Nightclub entertainment facility","Entertainment","NR_1","Gross Floor Area",68,0,0,{"$f":"INDEX(CHARGES,MATCH($D1020&$F1020,$AQ$2:$AQ$44&$AR$2:$AR$44,0),MATCH(J$1,$AS$1:$AX$1,0))","v":0},{"$f":"INDEX(CHARGES,MATCH($D1020&$F1020,$AQ$2:$AQ$44&$AR$2:$AR$44,0),MATCH(K$1,$AS$1:$AX$1,0))","v":68},{"$f":"INDEX(CHARGES,MATCH($D1020&$F1020,$AQ$2:$AQ$44&$AR$2:$AR$44,0),MATCH(L$1,$AS$1:$AX$1,0))","v":0}]
["Camooweal - No Water or Sewer","Nightclub entertainment facility","Nightclub entertainment facility","Entertainment","NR_1","Impervious Area",5,0,0,{"$f":"INDEX(CHARGES,MATCH($D1021&$F1021,$AQ$2:$AQ$44&$AR$2:$AR$44,0),MATCH(J$1,$AS$1:$AX$1,0))","v":5},{"$f":"INDEX(CHARGES,MATCH($D1021&$F1021,$AQ$2:$AQ$44&$AR$2:$AR$44,0),MATCH(K$1,$AS$1:$AX$1,0))","v":0},{"$f":"INDEX(CHARGES,MATCH($D1021&$F1021,$AQ$2:$AQ$44&$AR$2:$AR$44,0),MATCH(L$1,$AS$1:$AX$1,0))","v":0}]
["Camooweal - No Water or Sewer","Non-resident workforce accommodation","Short-term accommodation","Accommodation (short-term)","RU_2","bedroom that is not part of a suite",2829,0,0,{"$f":"INDEX(CHARGES,MATCH($D1022&$F1022,$AQ$2:$AQ$44&$AR$2:$AR$44,0),MATCH(J$1,$AS$1:$AX$1,0))","v":104},{"$f":"INDEX(CHARGES,MATCH($D1022&$F1022,$AQ$2:$AQ$44&$AR$2:$AR$44,0),MATCH(K$1,$AS$1:$AX$1,0))","v":2620},{"$f":"INDEX(CHARGES,MATCH($D1022&$F1022,$AQ$2:$AQ$44&$AR$2:$AR$44,0),MATCH(L$1,$AS$1:$AX$1,0))","v":105}]
["Camooweal - No Water or Sewer","Non-resident workforce accommodation","Short-term accommodation","Accommodation (short-term)","RU_2","2 or less bedrooms",2829,0,0,{"$f":"INDEX(CHARGES,MATCH($D1023&$F1023,$AQ$2:$AQ$44&$AR$2:$AR$44,0),MATCH(J$1,$AS$1:$AX$1,0))","v":104},{"$f":"INDEX(CHARGES,MATCH($D1023&$F1023,$AQ$2:$AQ$44&$AR$2:$AR$44,0),MATCH(K$1,$AS$1:$AX$1,0))","v":2620},{"$f":"INDEX(CHARGES,MATCH($D1023&$F1023,$AQ$2:$AQ$44&$AR$2:$AR$44,0),MATCH(L$1,$AS$1:$AX$1,0))","v":105}]
["Camooweal - No Water or Sewer","Non-resident workforce accommodation","Short-term accommodation","Accommodation (short-term)","RU_2","3 or more bedrooms",3961,0,0,{"$f":"INDEX(CHARGES,MATCH($D1024&$F1024,$AQ$2:$AQ$44&$AR$2:$AR$44,0),MATCH(J$1,$AS$1:$AX$1,0))","v":146},{"$f":"INDEX(CHARGES,MATCH($D1024&$F1024,$AQ$2:$AQ$44&$AR$2:$AR$44,0),MATCH(K$1,$AS$1:$AX$1,0))","v":3668},{"$f":"INDEX(CHARGES,MATCH($D1024&$F1024,$AQ$2:$AQ$44&$AR$2:$AR$44,0),MATCH(L$1,$AS$1:$AX$1,0))","v":147}]
["Camooweal - No Water or Sewer","Place of worship","Place of worship","Places of assembly","NR_1","Gross Floor Area",24,0,0,{"$f":"INDEX(CHARGES,MATCH($D1025&$F1025,$AQ$2:$AQ$44&$AR$2:$AR$44,0),MATCH(J$1,$AS$1:$AX$1,0))","v":0},{"$f":"INDEX(CHARGES,MATCH($D1025&$F1025,$AQ$2:$AQ$44&$AR$2:$AR$44,0),MATCH(K$1,$AS$1:$AX$1,0))","v":24},{"$f":"INDEX(CHARGES,MATCH($D1025&$F1025,$AQ$2:$AQ$44&$AR$2:$AR$44,0),MATCH(L$1,$AS$1:$AX$1,0))","v":0}]
["Camooweal - No Water or Sewer","Place of worship","Place of worship","Places of assembly","NR_1","Impervious Area",5,0,0,{"$f":"INDEX(CHARGES,MATCH($D1026&$F1026,$AQ$2:$AQ$44&$AR$2:$AR$44,0),MATCH(J$1,$AS$1:$AX$1,0))","v":5},{"$f":"INDEX(CHARGES,MATCH($D1026&$F1026,$AQ$2:$AQ$44&$AR$2:$AR$44,0),MATCH(K$1,$AS$1:$AX$1,0))","v":0},{"$f":"INDEX(CHARGES,MATCH($D1026&$F1026,$AQ$2:$AQ$44&$AR$2:$AR$44,0),MATCH(L$1,$AS$1:$AX$1,0))","v":0}]
["Camooweal - No Water or Sewer","Port services","Port service","Other uses","NR_1","Gross Floor Area",0,0,0,{"$f":"INDEX(CHARGES,MATCH($D1027&$F1027,$AQ$2:$AQ$44&$AR$2:$AR$44,0),MATCH(J$1,$AS$1:$AX$1,0))","v":0},{"$f":"INDEX(CHARGES,MATCH($D1027&$F1027,$AQ$2:$AQ$44&$AR$2:$AR$44,0),MATCH(K$1,$AS$1:$AX$1,0))","v":0},{"$f":"INDEX(CHARGES,MATCH($D1027&$F1027,$AQ$2:$AQ$44&$AR$2:$AR$44,0),MATCH(L$1,$AS$1:$AX$1,0))","v":0}]
["Camooweal - No Water or Sewer","Port services","Port service","Other uses","NR_1","Impervious Area",0,0,0,{"$f":"INDEX(CHARGES,MATCH($D1028&$F1028,$AQ$2:$AQ$44&$AR$2:$AR$44,0),MATCH(J$1,$AS$1:$AX$1,0))","v":0},{"$f":"INDEX(CHARGES,MATCH($D1028&$F1028,$AQ$2:$AQ$44&$AR$2:$AR$44,0),MATCH(K$1,$AS$1:$AX$1,0))","v":0},{"$f":"INDEX(CHARGES,MATCH($D1028&$F1028,$AQ$2:$AQ$44&$AR$2:$AR$44,0),MATCH(L$1,$AS$1:$AX$1,0))","v":0}]
["Camooweal - No Water or Sewer","Relocatable home park","Relocatable home park","Accommodation (long-term)","RU_1","2 or less bedrooms",5658,0,0,{"$f":"INDEX(CHARGES,MATCH($D1029&$F1029,$AQ$2:$AQ$44&$AR$2:$AR$44,0),MATCH(J$1,$AS$1:$AX$1,0))","v":209},{"$f":"INDEX(CHARGES,MATCH($D1029&$F1029,$AQ$2:$AQ$44&$AR$2:$AR$44,0),MATCH(K$1,$AS$1:$AX$1,0))","v":5239},{"$f":"INDEX(CHARGES,MATCH($D1029&$F1029,$AQ$2:$AQ$44&$AR$2:$AR$44,0),MATCH(L$1,$AS$1:$AX$1,0))","v":210}]
["Camooweal - No Water or Sewer","Relocatable home park","Relocatable home park","Accommodation (long-term)","RU_1","3 or more bedrooms",7921,0,0,{"$f":"INDEX(CHARGES,MATCH($D1030&$F1030,$AQ$2:$AQ$44&$AR$2:$AR$44,0),MATCH(J$1,$AS$1:$AX$1,0))","v":293},{"$f":"INDEX(CHARGES,MATCH($D1030&$F1030,$AQ$2:$AQ$44&$AR$2:$AR$44,0),MATCH(K$1,$AS$1:$AX$1,0))","v":7335},{"$f":"INDEX(CHARGES,MATCH($D1030&$F1030,$AQ$2:$AQ$44&$AR$2:$AR$44,0),MATCH(L$1,$AS$1:$AX$1,0))","v":293}]
["Camooweal - No Water or Sewer","Renewable energy facility",null,"Other uses","NR_1","Gross Floor Area",0,0,0,{"$f":"INDEX(CHARGES,MATCH($D1031&$F1031,$AQ$2:$AQ$44&$AR$2:$AR$44,0),MATCH(J$1,$AS$1:$AX$1,0))","v":0},{"$f":"INDEX(CHARGES,MATCH($D1031&$F1031,$AQ$2:$AQ$44&$AR$2:$AR$44,0),MATCH(K$1,$AS$1:$AX$1,0))","v":0},{"$f":"INDEX(CHARGES,MATCH($D1031&$F1031,$AQ$2:$AQ$44&$AR$2:$AR$44,0),MATCH(L$1,$AS$1:$AX$1,0))","v":0}]
["Camooweal - No Water or Sewer","Renewable energy facility",null,"Other uses","NR_1","Impervious Area",0,0,0,{"$f":"INDEX(CHARGES,MATCH($D1032&$F1032,$AQ$2:$AQ$44&$AR$2:$AR$44,0),MATCH(J$1,$AS$1:$AX$1,0))","v":0},{"$f":"INDEX(CHARGES,MATCH($D1032&$F1032,$AQ$2:$AQ$44&$AR$2:$AR$44,0),MATCH(K$1,$AS$1:$AX$1,0))","v":0},{"$f":"INDEX(CHARGES,MATCH($D1032&$F1032,$AQ$2:$AQ$44&$AR$2:$AR$44,0),MATCH(L$1,$AS$1:$AX$1,0))","v":0}]
["Camooweal - No Water or Sewer","Research and technology industry","Low impact industry","Other industry","NR_1","Gross Floor Area",17,0,0,{"$f":"INDEX(CHARGES,MATCH($D1033&$F1033,$AQ$2:$AQ$44&$AR$2:$AR$44,0),MATCH(J$1,$AS$1:$AX$1,0))","v":0},{"$f":"INDEX(CHARGES,MATCH($D1033&$F1033,$AQ$2:$AQ$44&$AR$2:$AR$44,0),MATCH(K$1,$AS$1:$AX$1,0))","v":17},{"$f":"INDEX(CHARGES,MATCH($D1033&$F1033,$AQ$2:$AQ$44&$AR$2:$AR$44,0),MATCH(L$1,$AS$1:$AX$1,0))","v":0}]
["Camooweal - No Water or Sewer","Research and technology industry","Low impact industry","Other industry","NR_1","Impervious Area",5,0,0,{"$f":"INDEX(CHARGES,MATCH($D1034&$F1034,$AQ$2:$AQ$44&$AR$2:$AR$44,0),MATCH(J$1,$AS$1:$AX$1,0))","v":5},{"$f":"INDEX(CHARGES,MATCH($D1034&$F1034,$AQ$2:$AQ$44&$AR$2:$AR$44,0),MATCH(K$1,$AS$1:$AX$1,0))","v":0},{"$f":"INDEX(CHARGES,MATCH($D1034&$F1034,$AQ$2:$AQ$44&$AR$2:$AR$44,0),MATCH(L$1,$AS$1:$AX$1,0))","v":0}]
["Camooweal - No Water or Sewer","Residential care facility","Short-term accommodation","Accommodation (short-term)","RU_2","bedroom that is not part of a suite",2829,0,0,{"$f":"INDEX(CHARGES,MATCH($D1035&$F1035,$AQ$2:$AQ$44&$AR$2:$AR$44,0),MATCH(J$1,$AS$1:$AX$1,0))","v":104},{"$f":"INDEX(CHARGES,MATCH($D1035&$F1035,$AQ$2:$AQ$44&$AR$2:$AR$44,0),MATCH(K$1,$AS$1:$AX$1,0))","v":2620},{"$f":"INDEX(CHARGES,MATCH($D1035&$F1035,$AQ$2:$AQ$44&$AR$2:$AR$44,0),MATCH(L$1,$AS$1:$AX$1,0))","v":105}]
["Camooweal - No Water or Sewer","Residential care facility","Short-term accommodation","Accommodation (short-term)","RU_2","2 or less bedrooms",2829,0,0,{"$f":"INDEX(CHARGES,MATCH($D1036&$F1036,$AQ$2:$AQ$44&$AR$2:$AR$44,0),MATCH(J$1,$AS$1:$AX$1,0))","v":104},{"$f":"INDEX(CHARGES,MATCH($D1036&$F1036,$AQ$2:$AQ$44&$AR$2:$AR$44,0),MATCH(K$1,$AS$1:$AX$1,0))","v":2620},{"$f":"INDEX(CHARGES,MATCH($D1036&$F1036,$AQ$2:$AQ$44&$AR$2:$AR$44,0),MATCH(L$1,$AS$1:$AX$1,0))","v":105}]
["Camooweal - No Water or Sewer","Residential care facility","Short-term accommodation","Accommodation (short-term)","RU_2","3 or more bedrooms",3961,0,0,{"$f":"INDEX(CHARGES,MATCH($D1037&$F1037,$AQ$2:$AQ$44&$AR$2:$AR$44,0),MATCH(J$1,$AS$1:$AX$1,0))","v":146},{"$f":"INDEX(CHARGES,MATCH($D1037&$F1037,$AQ$2:$AQ$44&$AR$2:$AR$44,0),MATCH(K$1,$AS$1:$AX$1,0))","v":3668},{"$f":"INDEX(CHARGES,MATCH($D1037&$F1037,$AQ$2:$AQ$44&$AR$2:$AR$44,0),MATCH(L$1,$AS$1:$AX$1,0))","v":147}]
["Camooweal - No Water or Sewer","Resort complex - Accommodation component","Resort complex","Accommodation (short-term)","RU_2","bedroom that is not part of a suite",{"$f":"SUM(H1038:L1038)","v":2829},0,0,{"$f":"INDEX(CHARGES,MATCH($D1038&$F1038,$AQ$2:$AQ$44&$AR$2:$AR$44,0),MATCH(J$1,$AS$1:$AX$1,0))","v":104},{"$f":"INDEX(CHARGES,MATCH($D1038&$F1038,$AQ$2:$AQ$44&$AR$2:$AR$44,0),MATCH(K$1,$AS$1:$AX$1,0))","v":2620},{"$f":"INDEX(CHARGES,MATCH($D1038&$F1038,$AQ$2:$AQ$44&$AR$2:$AR$44,0),MATCH(L$1,$AS$1:$AX$1,0))","v":105}]
["Camooweal - No Water or Sewer","Resort complex - Accommodation component","Resort complex","Accommodation (short-term)","RU_2","2 or less bedrooms",{"$f":"SUM(H1039:L1039)","v":2829},0,0,{"$f":"INDEX(CHARGES,MATCH($D1039&$F1039,$AQ$2:$AQ$44&$AR$2:$AR$44,0),MATCH(J$1,$AS$1:$AX$1,0))","v":104},{"$f":"INDEX(CHARGES,MATCH($D1039&$F1039,$AQ$2:$AQ$44&$AR$2:$AR$44,0),MATCH(K$1,$AS$1:$AX$1,0))","v":2620},{"$f":"INDEX(CHARGES,MATCH($D1039&$F1039,$AQ$2:$AQ$44&$AR$2:$AR$44,0),MATCH(L$1,$AS$1:$AX$1,0))","v":105}]
["Camooweal - No Water or Sewer","Resort complex - Accommodation component","Resort complex","Accommodation (short-term)","RU_2","3 or more bedrooms",{"$f":"SUM(H1040:L1040)","v":3961},0,0,{"$f":"INDEX(CHARGES,MATCH($D1040&$F1040,$AQ$2:$AQ$44&$AR$2:$AR$44,0),MATCH(J$1,$AS$1:$AX$1,0))","v":146},{"$f":"INDEX(CHARGES,MATCH($D1040&$F1040,$AQ$2:$AQ$44&$AR$2:$AR$44,0),MATCH(K$1,$AS$1:$AX$1,0))","v":3668},{"$f":"INDEX(CHARGES,MATCH($D1040&$F1040,$AQ$2:$AQ$44&$AR$2:$AR$44,0),MATCH(L$1,$AS$1:$AX$1,0))","v":147}]
["Camooweal - No Water or Sewer","Resort complex - Entertainment component","Resort complex","Entertainment","NR_1","Gross Floor Area",{"$f":"SUM(H1041:L1041)","v":68},0,0,{"$f":"INDEX(CHARGES,MATCH($D1041&$F1041,$AQ$2:$AQ$44&$AR$2:$AR$44,0),MATCH(J$1,$AS$1:$AX$1,0))","v":0},{"$f":"INDEX(CHARGES,MATCH($D1041&$F1041,$AQ$2:$AQ$44&$AR$2:$AR$44,0),MATCH(K$1,$AS$1:$AX$1,0))","v":68},{"$f":"INDEX(CHARGES,MATCH($D1041&$F1041,$AQ$2:$AQ$44&$AR$2:$AR$44,0),MATCH(L$1,$AS$1:$AX$1,0))","v":0}]
["Camooweal - No Water or Sewer","Resort complex - Entertainment component","Resort complex","Entertainment","NR_1","Impervious Area",{"$f":"SUM(H1042:L1042)","v":5},0,0,{"$f":"INDEX(CHARGES,MATCH($D1042&$F1042,$AQ$2:$AQ$44&$AR$2:$AR$44,0),MATCH(J$1,$AS$1:$AX$1,0))","v":5},{"$f":"INDEX(CHARGES,MATCH($D1042&$F1042,$AQ$2:$AQ$44&$AR$2:$AR$44,0),MATCH(K$1,$AS$1:$AX$1,0))","v":0},{"$f":"INDEX(CHARGES,MATCH($D1042&$F1042,$AQ$2:$AQ$44&$AR$2:$AR$44,0),MATCH(L$1,$AS$1:$AX$1,0))","v":0}]
["Camooweal - No Water or Sewer","Retirement facility","Retirement facility","Accommodation (long-term)","RU_2","bedroom that is not part of a suite",5658,0,0,{"$f":"INDEX(CHARGES,MATCH($D1043&$F1043,$AQ$2:$AQ$44&$AR$2:$AR$44,0),MATCH(J$1,$AS$1:$AX$1,0))","v":209},{"$f":"INDEX(CHARGES,MATCH($D1043&$F1043,$AQ$2:$AQ$44&$AR$2:$AR$44,0),MATCH(K$1,$AS$1:$AX$1,0))","v":5239},{"$f":"INDEX(CHARGES,MATCH($D1043&$F1043,$AQ$2:$AQ$44&$AR$2:$AR$44,0),MATCH(L$1,$AS$1:$AX$1,0))","v":210}]
["Camooweal - No Water or Sewer","Retirement facility","Retirement facility","Accommodation (long-term)","RU_2","2 or less bedrooms",5658,0,0,{"$f":"INDEX(CHARGES,MATCH($D1044&$F1044,$AQ$2:$AQ$44&$AR$2:$AR$44,0),MATCH(J$1,$AS$1:$AX$1,0))","v":209},{"$f":"INDEX(CHARGES,MATCH($D1044&$F1044,$AQ$2:$AQ$44&$AR$2:$AR$44,0),MATCH(K$1,$AS$1:$AX$1,0))","v":5239},{"$f":"INDEX(CHARGES,MATCH($D1044&$F1044,$AQ$2:$AQ$44&$AR$2:$AR$44,0),MATCH(L$1,$AS$1:$AX$1,0))","v":210}]
["Camooweal - No Water or Sewer","Retirement facility","Retirement facility","Accommodation (long-term)","RU_2","3 or more bedrooms",7921,0,0,{"$f":"INDEX(CHARGES,MATCH($D1045&$F1045,$AQ$2:$AQ$44&$AR$2:$AR$44,0),MATCH(J$1,$AS$1:$AX$1,0))","v":293},{"$f":"INDEX(CHARGES,MATCH($D1045&$F1045,$AQ$2:$AQ$44&$AR$2:$AR$44,0),MATCH(K$1,$AS$1:$AX$1,0))","v":7335},{"$f":"INDEX(CHARGES,MATCH($D1045&$F1045,$AQ$2:$AQ$44&$AR$2:$AR$44,0),MATCH(L$1,$AS$1:$AX$1,0))","v":293}]
["Camooweal - No Water or Sewer","Roadside stall","Roadside stall","Minor uses","NR_3","Gross Floor Area",0,0,0,{"$f":"INDEX(CHARGES,MATCH($D1046&$F1046,$AQ$2:$AQ$44&$AR$2:$AR$44,0),MATCH(J$1,$AS$1:$AX$1,0))","v":0},{"$f":"INDEX(CHARGES,MATCH($D1046&$F1046,$AQ$2:$AQ$44&$AR$2:$AR$44,0),MATCH(K$1,$AS$1:$AX$1,0))","v":0},{"$f":"INDEX(CHARGES,MATCH($D1046&$F1046,$AQ$2:$AQ$44&$AR$2:$AR$44,0),MATCH(L$1,$AS$1:$AX$1,0))","v":0}]
["Camooweal - No Water or Sewer","Rooming accommodation","Rooming accommodation","Accommodation (long-term)","RU_2","bedroom that is not part of a suite",5658,0,0,{"$f":"INDEX(CHARGES,MATCH($D1047&$F1047,$AQ$2:$AQ$44&$AR$2:$AR$44,0),MATCH(J$1,$AS$1:$AX$1,0))","v":209},{"$f":"INDEX(CHARGES,MATCH($D1047&$F1047,$AQ$2:$AQ$44&$AR$2:$AR$44,0),MATCH(K$1,$AS$1:$AX$1,0))","v":5239},{"$f":"INDEX(CHARGES,MATCH($D1047&$F1047,$AQ$2:$AQ$44&$AR$2:$AR$44,0),MATCH(L$1,$AS$1:$AX$1,0))","v":210}]
["Camooweal - No Water or Sewer","Rooming accommodation","Rooming accommodation","Accommodation (long-term)","RU_2","2 or less bedrooms",5658,0,0,{"$f":"INDEX(CHARGES,MATCH($D1048&$F1048,$AQ$2:$AQ$44&$AR$2:$AR$44,0),MATCH(J$1,$AS$1:$AX$1,0))","v":209},{"$f":"INDEX(CHARGES,MATCH($D1048&$F1048,$AQ$2:$AQ$44&$AR$2:$AR$44,0),MATCH(K$1,$AS$1:$AX$1,0))","v":5239},{"$f":"INDEX(CHARGES,MATCH($D1048&$F1048,$AQ$2:$AQ$44&$AR$2:$AR$44,0),MATCH(L$1,$AS$1:$AX$1,0))","v":210}]
["Camooweal - No Water or Sewer","Rooming accommodation","Rooming accommodation","Accommodation (long-term)","RU_2","3 or more bedrooms",7921,0,0,{"$f":"INDEX(CHARGES,MATCH($D1049&$F1049,$AQ$2:$AQ$44&$AR$2:$AR$44,0),MATCH(J$1,$AS$1:$AX$1,0))","v":293},{"$f":"INDEX(CHARGES,MATCH($D1049&$F1049,$AQ$2:$AQ$44&$AR$2:$AR$44,0),MATCH(K$1,$AS$1:$AX$1,0))","v":7335},{"$f":"INDEX(CHARGES,MATCH($D1049&$F1049,$AQ$2:$AQ$44&$AR$2:$AR$44,0),MATCH(L$1,$AS$1:$AX$1,0))","v":293}]
["Camooweal - No Water or Sewer","Rural industry","Rural industry","Other industry","NR_1","Gross Floor Area",17,0,0,{"$f":"INDEX(CHARGES,MATCH($D1050&$F1050,$AQ$2:$AQ$44&$AR$2:$AR$44,0),MATCH(J$1,$AS$1:$AX$1,0))","v":0},{"$f":"INDEX(CHARGES,MATCH($D1050&$F1050,$AQ$2:$AQ$44&$AR$2:$AR$44,0),MATCH(K$1,$AS$1:$AX$1,0))","v":17},{"$f":"INDEX(CHARGES,MATCH($D1050&$F1050,$AQ$2:$AQ$44&$AR$2:$AR$44,0),MATCH(L$1,$AS$1:$AX$1,0))","v":0}]
["Camooweal - No Water or Sewer","Rural industry","Rural industry","Other industry","NR_1","Impervious Area",5,0,0,{"$f":"INDEX(CHARGES,MATCH($D1051&$F1051,$AQ$2:$AQ$44&$AR$2:$AR$44,0),MATCH(J$1,$AS$1:$AX$1,0))","v":5},{"$f":"INDEX(CHARGES,MATCH($D1051&$F1051,$AQ$2:$AQ$44&$AR$2:$AR$44,0),MATCH(K$1,$AS$1:$AX$1,0))","v":0},{"$f":"INDEX(CHARGES,MATCH($D1051&$F1051,$AQ$2:$AQ$44&$AR$2:$AR$44,0),MATCH(L$1,$AS$1:$AX$1,0))","v":0}]
["Camooweal - No Water or Sewer","Rural workers accommodation","Short-term accommodation","Accommodation (short-term)","RU_2","bedroom that is not part of a suite",2829,0,0,{"$f":"INDEX(CHARGES,MATCH($D1052&$F1052,$AQ$2:$AQ$44&$AR$2:$AR$44,0),MATCH(J$1,$AS$1:$AX$1,0))","v":104},{"$f":"INDEX(CHARGES,MATCH($D1052&$F1052,$AQ$2:$AQ$44&$AR$2:$AR$44,0),MATCH(K$1,$AS$1:$AX$1,0))","v":2620},{"$f":"INDEX(CHARGES,MATCH($D1052&$F1052,$AQ$2:$AQ$44&$AR$2:$AR$44,0),MATCH(L$1,$AS$1:$AX$1,0))","v":105}]
["Camooweal - No Water or Sewer","Rural workers accommodation","Short-term accommodation","Accommodation (short-term)","RU_2","2 or less bedrooms",2829,0,0,{"$f":"INDEX(CHARGES,MATCH($D1053&$F1053,$AQ$2:$AQ$44&$AR$2:$AR$44,0),MATCH(J$1,$AS$1:$AX$1,0))","v":104},{"$f":"INDEX(CHARGES,MATCH($D1053&$F1053,$AQ$2:$AQ$44&$AR$2:$AR$44,0),MATCH(K$1,$AS$1:$AX$1,0))","v":2620},{"$f":"INDEX(CHARGES,MATCH($D1053&$F1053,$AQ$2:$AQ$44&$AR$2:$AR$44,0),MATCH(L$1,$AS$1:$AX$1,0))","v":105}]
["Camooweal - No Water or Sewer","Rural workers accommodation","Short-term accommodation","Accommodation (short-term)","RU_2","3 or more bedrooms",3961,0,0,{"$f":"INDEX(CHARGES,MATCH($D1054&$F1054,$AQ$2:$AQ$44&$AR$2:$AR$44,0),MATCH(J$1,$AS$1:$AX$1,0))","v":146},{"$f":"INDEX(CHARGES,MATCH($D1054&$F1054,$AQ$2:$AQ$44&$AR$2:$AR$44,0),MATCH(K$1,$AS$1:$AX$1,0))","v":3668},{"$f":"INDEX(CHARGES,MATCH($D1054&$F1054,$AQ$2:$AQ$44&$AR$2:$AR$44,0),MATCH(L$1,$AS$1:$AX$1,0))","v":147}]
["Camooweal - No Water or Sewer","Sales office","Sales office","Commercial (office)","NR_1","Gross Floor Area",48,0,0,{"$f":"INDEX(CHARGES,MATCH($D1055&$F1055,$AQ$2:$AQ$44&$AR$2:$AR$44,0),MATCH(J$1,$AS$1:$AX$1,0))","v":0},{"$f":"INDEX(CHARGES,MATCH($D1055&$F1055,$AQ$2:$AQ$44&$AR$2:$AR$44,0),MATCH(K$1,$AS$1:$AX$1,0))","v":48},{"$f":"INDEX(CHARGES,MATCH($D1055&$F1055,$AQ$2:$AQ$44&$AR$2:$AR$44,0),MATCH(L$1,$AS$1:$AX$1,0))","v":0}]
["Camooweal - No Water or Sewer","Sales office","Sales office","Commercial (office)","NR_1","Impervious Area",5,0,0,{"$f":"INDEX(CHARGES,MATCH($D1056&$F1056,$AQ$2:$AQ$44&$AR$2:$AR$44,0),MATCH(J$1,$AS$1:$AX$1,0))","v":5},{"$f":"INDEX(CHARGES,MATCH($D1056&$F1056,$AQ$2:$AQ$44&$AR$2:$AR$44,0),MATCH(K$1,$AS$1:$AX$1,0))","v":0},{"$f":"INDEX(CHARGES,MATCH($D1056&$F1056,$AQ$2:$AQ$44&$AR$2:$AR$44,0),MATCH(L$1,$AS$1:$AX$1,0))","v":0}]
["Camooweal - No Water or Sewer","Service industry","Service industry","Commercial (retail)","NR_1","Gross Floor Area",61,0,0,{"$f":"INDEX(CHARGES,MATCH($D1057&$F1057,$AQ$2:$AQ$44&$AR$2:$AR$44,0),MATCH(J$1,$AS$1:$AX$1,0))","v":0},{"$f":"INDEX(CHARGES,MATCH($D1057&$F1057,$AQ$2:$AQ$44&$AR$2:$AR$44,0),MATCH(K$1,$AS$1:$AX$1,0))","v":61},{"$f":"INDEX(CHARGES,MATCH($D1057&$F1057,$AQ$2:$AQ$44&$AR$2:$AR$44,0),MATCH(L$1,$AS$1:$AX$1,0))","v":0}]
["Camooweal - No Water or Sewer","Service industry","Service industry","Commercial (retail)","NR_1","Impervious Area",5,0,0,{"$f":"INDEX(CHARGES,MATCH($D1058&$F1058,$AQ$2:$AQ$44&$AR$2:$AR$44,0),MATCH(J$1,$AS$1:$AX$1,0))","v":5},{"$f":"INDEX(CHARGES,MATCH($D1058&$F1058,$AQ$2:$AQ$44&$AR$2:$AR$44,0),MATCH(K$1,$AS$1:$AX$1,0))","v":0},{"$f":"INDEX(CHARGES,MATCH($D1058&$F1058,$AQ$2:$AQ$44&$AR$2:$AR$44,0),MATCH(L$1,$AS$1:$AX$1,0))","v":0}]
["Camooweal - No Water or Sewer","Service station","Service station","Commercial (retail)","NR_1","Gross Floor Area",61,0,0,{"$f":"INDEX(CHARGES,MATCH($D1059&$F1059,$AQ$2:$AQ$44&$AR$2:$AR$44,0),MATCH(J$1,$AS$1:$AX$1,0))","v":0},{"$f":"INDEX(CHARGES,MATCH($D1059&$F1059,$AQ$2:$AQ$44&$AR$2:$AR$44,0),MATCH(K$1,$AS$1:$AX$1,0))","v":61},{"$f":"INDEX(CHARGES,MATCH($D1059&$F1059,$AQ$2:$AQ$44&$AR$2:$AR$44,0),MATCH(L$1,$AS$1:$AX$1,0))","v":0}]
["Camooweal - No Water or Sewer","Service station","Service station","Commercial (retail)","NR_1","Impervious Area",5,0,0,{"$f":"INDEX(CHARGES,MATCH($D1060&$F1060,$AQ$2:$AQ$44&$AR$2:$AR$44,0),MATCH(J$1,$AS$1:$AX$1,0))","v":5},{"$f":"INDEX(CHARGES,MATCH($D1060&$F1060,$AQ$2:$AQ$44&$AR$2:$AR$44,0),MATCH(K$1,$AS$1:$AX$1,0))","v":0},{"$f":"INDEX(CHARGES,MATCH($D1060&$F1060,$AQ$2:$AQ$44&$AR$2:$AR$44,0),MATCH(L$1,$AS$1:$AX$1,0))","v":0}]
["Camooweal - No Water or Sewer","Shop","Shop","Commercial (retail)","NR_1","Gross Floor Area",61,0,0,{"$f":"INDEX(CHARGES,MATCH($D1061&$F1061,$AQ$2:$AQ$44&$AR$2:$AR$44,0),MATCH(J$1,$AS$1:$AX$1,0))","v":0},{"$f":"INDEX(CHARGES,MATCH($D1061&$F1061,$AQ$2:$AQ$44&$AR$2:$AR$44,0),MATCH(K$1,$AS$1:$AX$1,0))","v":61},{"$f":"INDEX(CHARGES,MATCH($D1061&$F1061,$AQ$2:$AQ$44&$AR$2:$AR$44,0),MATCH(L$1,$AS$1:$AX$1,0))","v":0}]
["Camooweal - No Water or Sewer","Shop","Shop","Commercial (retail)","NR_1","Impervious Area",5,0,0,{"$f":"INDEX(CHARGES,MATCH($D1062&$F1062,$AQ$2:$AQ$44&$AR$2:$AR$44,0),MATCH(J$1,$AS$1:$AX$1,0))","v":5},{"$f":"INDEX(CHARGES,MATCH($D1062&$F1062,$AQ$2:$AQ$44&$AR$2:$AR$44,0),MATCH(K$1,$AS$1:$AX$1,0))","v":0},{"$f":"INDEX(CHARGES,MATCH($D1062&$F1062,$AQ$2:$AQ$44&$AR$2:$AR$44,0),MATCH(L$1,$AS$1:$AX$1,0))","v":0}]
["Camooweal - No Water or Sewer","Shopping centre","Shopping centre","Commercial (retail)","NR_1","Gross Floor Area",61,0,0,{"$f":"INDEX(CHARGES,MATCH($D1063&$F1063,$AQ$2:$AQ$44&$AR$2:$AR$44,0),MATCH(J$1,$AS$1:$AX$1,0))","v":0},{"$f":"INDEX(CHARGES,MATCH($D1063&$F1063,$AQ$2:$AQ$44&$AR$2:$AR$44,0),MATCH(K$1,$AS$1:$AX$1,0))","v":61},{"$f":"INDEX(CHARGES,MATCH($D1063&$F1063,$AQ$2:$AQ$44&$AR$2:$AR$44,0),MATCH(L$1,$AS$1:$AX$1,0))","v":0}]
["Camooweal - No Water or Sewer","Shopping centre","Shopping centre","Commercial (retail)","NR_1","Impervious Area",{"$f":"SUM(H1064:L1064)","v":5},0,0,{"$f":"INDEX(CHARGES,MATCH($D1064&$F1064,$AQ$2:$AQ$44&$AR$2:$AR$44,0),MATCH(J$1,$AS$1:$AX$1,0))","v":5},{"$f":"INDEX(CHARGES,MATCH($D1064&$F1064,$AQ$2:$AQ$44&$AR$2:$AR$44,0),MATCH(K$1,$AS$1:$AX$1,0))","v":0},{"$f":"INDEX(CHARGES,MATCH($D1064&$F1064,$AQ$2:$AQ$44&$AR$2:$AR$44,0),MATCH(L$1,$AS$1:$AX$1,0))","v":0}]
["Camooweal - No Water or Sewer","Short-term accommodation","Short-term accommodation","Accommodation (short-term)","RU_2","bedroom that is not part of a suite",2829,0,0,{"$f":"INDEX(CHARGES,MATCH($D1065&$F1065,$AQ$2:$AQ$44&$AR$2:$AR$44,0),MATCH(J$1,$AS$1:$AX$1,0))","v":104},{"$f":"INDEX(CHARGES,MATCH($D1065&$F1065,$AQ$2:$AQ$44&$AR$2:$AR$44,0),MATCH(K$1,$AS$1:$AX$1,0))","v":2620},{"$f":"INDEX(CHARGES,MATCH($D1065&$F1065,$AQ$2:$AQ$44&$AR$2:$AR$44,0),MATCH(L$1,$AS$1:$AX$1,0))","v":105}]
["Camooweal - No Water or Sewer","Short-term accommodation","Short-term accommodation","Accommodation (short-term)","RU_2","2 or less bedrooms",2829,0,0,{"$f":"INDEX(CHARGES,MATCH($D1066&$F1066,$AQ$2:$AQ$44&$AR$2:$AR$44,0),MATCH(J$1,$AS$1:$AX$1,0))","v":104},{"$f":"INDEX(CHARGES,MATCH($D1066&$F1066,$AQ$2:$AQ$44&$AR$2:$AR$44,0),MATCH(K$1,$AS$1:$AX$1,0))","v":2620},{"$f":"INDEX(CHARGES,MATCH($D1066&$F1066,$AQ$2:$AQ$44&$AR$2:$AR$44,0),MATCH(L$1,$AS$1:$AX$1,0))","v":105}]
["Camooweal - No Water or Sewer","Short-term accommodation","Short-term accommodation","Accommodation (short-term)","RU_2","3 or more bedrooms",3961,0,0,{"$f":"INDEX(CHARGES,MATCH($D1067&$F1067,$AQ$2:$AQ$44&$AR$2:$AR$44,0),MATCH(J$1,$AS$1:$AX$1,0))","v":146},{"$f":"INDEX(CHARGES,MATCH($D1067&$F1067,$AQ$2:$AQ$44&$AR$2:$AR$44,0),MATCH(K$1,$AS$1:$AX$1,0))","v":3668},{"$f":"INDEX(CHARGES,MATCH($D1067&$F1067,$AQ$2:$AQ$44&$AR$2:$AR$44,0),MATCH(L$1,$AS$1:$AX$1,0))","v":147}]
["Camooweal - No Water or Sewer","Showroom","Showroom","Commercial (bulk goods)","NR_1","Gross Floor Area",48,0,0,{"$f":"INDEX(CHARGES,MATCH($D1068&$F1068,$AQ$2:$AQ$44&$AR$2:$AR$44,0),MATCH(J$1,$AS$1:$AX$1,0))","v":0},{"$f":"INDEX(CHARGES,MATCH($D1068&$F1068,$AQ$2:$AQ$44&$AR$2:$AR$44,0),MATCH(K$1,$AS$1:$AX$1,0))","v":48},{"$f":"INDEX(CHARGES,MATCH($D1068&$F1068,$AQ$2:$AQ$44&$AR$2:$AR$44,0),MATCH(L$1,$AS$1:$AX$1,0))","v":0}]
["Camooweal - No Water or Sewer","Showroom","Showroom","Commercial (bulk goods)","NR_1","Impervious Area",5,0,0,{"$f":"INDEX(CHARGES,MATCH($D1069&$F1069,$AQ$2:$AQ$44&$AR$2:$AR$44,0),MATCH(J$1,$AS$1:$AX$1,0))","v":5},{"$f":"INDEX(CHARGES,MATCH($D1069&$F1069,$AQ$2:$AQ$44&$AR$2:$AR$44,0),MATCH(K$1,$AS$1:$AX$1,0))","v":0},{"$f":"INDEX(CHARGES,MATCH($D1069&$F1069,$AQ$2:$AQ$44&$AR$2:$AR$44,0),MATCH(L$1,$AS$1:$AX$1,0))","v":0}]
["Camooweal - No Water or Sewer","Special industry","Special industry","High impact industry or special industry","NR_1","Gross Floor Area",24,0,0,{"$f":"INDEX(CHARGES,MATCH($D1070&$F1070,$AQ$2:$AQ$44&$AR$2:$AR$44,0),MATCH(J$1,$AS$1:$AX$1,0))","v":0},{"$f":"INDEX(CHARGES,MATCH($D1070&$F1070,$AQ$2:$AQ$44&$AR$2:$AR$44,0),MATCH(K$1,$AS$1:$AX$1,0))","v":24},{"$f":"INDEX(CHARGES,MATCH($D1070&$F1070,$AQ$2:$AQ$44&$AR$2:$AR$44,0),MATCH(L$1,$AS$1:$AX$1,0))","v":0}]
["Camooweal - No Water or Sewer","Special industry","Special industry","High impact industry or special industry","NR_1","Impervious Area",5,0,0,{"$f":"INDEX(CHARGES,MATCH($D1071&$F1071,$AQ$2:$AQ$44&$AR$2:$AR$44,0),MATCH(J$1,$AS$1:$AX$1,0))","v":5},{"$f":"INDEX(CHARGES,MATCH($D1071&$F1071,$AQ$2:$AQ$44&$AR$2:$AR$44,0),MATCH(K$1,$AS$1:$AX$1,0))","v":0},{"$f":"INDEX(CHARGES,MATCH($D1071&$F1071,$AQ$2:$AQ$44&$AR$2:$AR$44,0),MATCH(L$1,$AS$1:$AX$1,0))","v":0}]
["Camooweal - No Water or Sewer","Substation","Utility installation","Other uses","NR_1","Gross Floor Area",0,0,0,{"$f":"INDEX(CHARGES,MATCH($D1072&$F1072,$AQ$2:$AQ$44&$AR$2:$AR$44,0),MATCH(J$1,$AS$1:$AX$1,0))","v":0},{"$f":"INDEX(CHARGES,MATCH($D1072&$F1072,$AQ$2:$AQ$44&$AR$2:$AR$44,0),MATCH(K$1,$AS$1:$AX$1,0))","v":0},{"$f":"INDEX(CHARGES,MATCH($D1072&$F1072,$AQ$2:$AQ$44&$AR$2:$AR$44,0),MATCH(L$1,$AS$1:$AX$1,0))","v":0}]
["Camooweal - No Water or Sewer","Substation","Utility installation","Other uses","NR_1","Impervious Area",0,0,0,{"$f":"INDEX(CHARGES,MATCH($D1073&$F1073,$AQ$2:$AQ$44&$AR$2:$AR$44,0),MATCH(J$1,$AS$1:$AX$1,0))","v":0},{"$f":"INDEX(CHARGES,MATCH($D1073&$F1073,$AQ$2:$AQ$44&$AR$2:$AR$44,0),MATCH(K$1,$AS$1:$AX$1,0))","v":0},{"$f":"INDEX(CHARGES,MATCH($D1073&$F1073,$AQ$2:$AQ$44&$AR$2:$AR$44,0),MATCH(L$1,$AS$1:$AX$1,0))","v":0}]
["Camooweal - No Water or Sewer","Telecommunications facility","Utility installation","Other uses","NR_1","Gross Floor Area",0,0,0,{"$f":"INDEX(CHARGES,MATCH($D1074&$F1074,$AQ$2:$AQ$44&$AR$2:$AR$44,0),MATCH(J$1,$AS$1:$AX$1,0))","v":0},{"$f":"INDEX(CHARGES,MATCH($D1074&$F1074,$AQ$2:$AQ$44&$AR$2:$AR$44,0),MATCH(K$1,$AS$1:$AX$1,0))","v":0},{"$f":"INDEX(CHARGES,MATCH($D1074&$F1074,$AQ$2:$AQ$44&$AR$2:$AR$44,0),MATCH(L$1,$AS$1:$AX$1,0))","v":0}]
["Camooweal - No Water or Sewer","Telecommunications facility","Utility installation","Other uses","NR_1","Impervious Area",0,0,0,{"$f":"INDEX(CHARGES,MATCH($D1075&$F1075,$AQ$2:$AQ$44&$AR$2:$AR$44,0),MATCH(J$1,$AS$1:$AX$1,0))","v":0},{"$f":"INDEX(CHARGES,MATCH($D1075&$F1075,$AQ$2:$AQ$44&$AR$2:$AR$44,0),MATCH(K$1,$AS$1:$AX$1,0))","v":0},{"$f":"INDEX(CHARGES,MATCH($D1075&$F1075,$AQ$2:$AQ$44&$AR$2:$AR$44,0),MATCH(L$1,$AS$1:$AX$1,0))","v":0}]
["Camooweal - No Water or Sewer","Theatre","Theatre","Entertainment","NR_1","Gross Floor Area",68,0,0,{"$f":"INDEX(CHARGES,MATCH($D1076&$F1076,$AQ$2:$AQ$44&$AR$2:$AR$44,0),MATCH(J$1,$AS$1:$AX$1,0))","v":0},{"$f":"INDEX(CHARGES,MATCH($D1076&$F1076,$AQ$2:$AQ$44&$AR$2:$AR$44,0),MATCH(K$1,$AS$1:$AX$1,0))","v":68},{"$f":"INDEX(CHARGES,MATCH($D1076&$F1076,$AQ$2:$AQ$44&$AR$2:$AR$44,0),MATCH(L$1,$AS$1:$AX$1,0))","v":0}]
["Camooweal - No Water or Sewer","Theatre","Theatre","Entertainment","NR_1","Impervious Area",5,0,0,{"$f":"INDEX(CHARGES,MATCH($D1077&$F1077,$AQ$2:$AQ$44&$AR$2:$AR$44,0),MATCH(J$1,$AS$1:$AX$1,0))","v":5},{"$f":"INDEX(CHARGES,MATCH($D1077&$F1077,$AQ$2:$AQ$44&$AR$2:$AR$44,0),MATCH(K$1,$AS$1:$AX$1,0))","v":0},{"$f":"INDEX(CHARGES,MATCH($D1077&$F1077,$AQ$2:$AQ$44&$AR$2:$AR$44,0),MATCH(L$1,$AS$1:$AX$1,0))","v":0}]
["Camooweal - No Water or Sewer","Tourist attraction","Tourist attraction","Other uses","NR_1","Gross Floor Area",0,0,0,{"$f":"INDEX(CHARGES,MATCH($D1078&$F1078,$AQ$2:$AQ$44&$AR$2:$AR$44,0),MATCH(J$1,$AS$1:$AX$1,0))","v":0},{"$f":"INDEX(CHARGES,MATCH($D1078&$F1078,$AQ$2:$AQ$44&$AR$2:$AR$44,0),MATCH(K$1,$AS$1:$AX$1,0))","v":0},{"$f":"INDEX(CHARGES,MATCH($D1078&$F1078,$AQ$2:$AQ$44&$AR$2:$AR$44,0),MATCH(L$1,$AS$1:$AX$1,0))","v":0}]
["Camooweal - No Water or Sewer","Tourist attraction","Tourist attraction","Other uses","NR_1","Impervious Area",0,0,0,{"$f":"INDEX(CHARGES,MATCH($D1079&$F1079,$AQ$2:$AQ$44&$AR$2:$AR$44,0),MATCH(J$1,$AS$1:$AX$1,0))","v":0},{"$f":"INDEX(CHARGES,MATCH($D1079&$F1079,$AQ$2:$AQ$44&$AR$2:$AR$44,0),MATCH(K$1,$AS$1:$AX$1,0))","v":0},{"$f":"INDEX(CHARGES,MATCH($D1079&$F1079,$AQ$2:$AQ$44&$AR$2:$AR$44,0),MATCH(L$1,$AS$1:$AX$1,0))","v":0}]
["Camooweal - No Water or Sewer","Tourist park","Tourist park","Accommodation (short-term)","RU_3","group of 2 sites/cabins or less",2829,0,0,{"$f":"INDEX(CHARGES,MATCH($D1080&$F1080,$AQ$2:$AQ$44&$AR$2:$AR$44,0),MATCH(J$1,$AS$1:$AX$1,0))","v":104},{"$f":"INDEX(CHARGES,MATCH($D1080&$F1080,$AQ$2:$AQ$44&$AR$2:$AR$44,0),MATCH(K$1,$AS$1:$AX$1,0))","v":2620},{"$f":"INDEX(CHARGES,MATCH($D1080&$F1080,$AQ$2:$AQ$44&$AR$2:$AR$44,0),MATCH(L$1,$AS$1:$AX$1,0))","v":105}]
["Camooweal - No Water or Sewer","Tourist park","Tourist park","Accommodation (short-term)","RU_3","group of 3 sites/cabins",3961,0,0,{"$f":"INDEX(CHARGES,MATCH($D1081&$F1081,$AQ$2:$AQ$44&$AR$2:$AR$44,0),MATCH(J$1,$AS$1:$AX$1,0))","v":146},{"$f":"INDEX(CHARGES,MATCH($D1081&$F1081,$AQ$2:$AQ$44&$AR$2:$AR$44,0),MATCH(K$1,$AS$1:$AX$1,0))","v":3668},{"$f":"INDEX(CHARGES,MATCH($D1081&$F1081,$AQ$2:$AQ$44&$AR$2:$AR$44,0),MATCH(L$1,$AS$1:$AX$1,0))","v":147}]
["Camooweal - No Water or Sewer","Transport depot","Low impact industry","Other industry","NR_1","Gross Floor Area",17,0,0,{"$f":"INDEX(CHARGES,MATCH($D1082&$F1082,$AQ$2:$AQ$44&$AR$2:$AR$44,0),MATCH(J$1,$AS$1:$AX$1,0))","v":0},{"$f":"INDEX(CHARGES,MATCH($D1082&$F1082,$AQ$2:$AQ$44&$AR$2:$AR$44,0),MATCH(K$1,$AS$1:$AX$1,0))","v":17},{"$f":"INDEX(CHARGES,MATCH($D1082&$F1082,$AQ$2:$AQ$44&$AR$2:$AR$44,0),MATCH(L$1,$AS$1:$AX$1,0))","v":0}]
["Camooweal - No Water or Sewer","Transport depot","Low impact industry","Other industry","NR_1","Impervious Area",5,0,0,{"$f":"INDEX(CHARGES,MATCH($D1083&$F1083,$AQ$2:$AQ$44&$AR$2:$AR$44,0),MATCH(J$1,$AS$1:$AX$1,0))","v":5},{"$f":"INDEX(CHARGES,MATCH($D1083&$F1083,$AQ$2:$AQ$44&$AR$2:$AR$44,0),MATCH(K$1,$AS$1:$AX$1,0))","v":0},{"$f":"INDEX(CHARGES,MATCH($D1083&$F1083,$AQ$2:$AQ$44&$AR$2:$AR$44,0),MATCH(L$1,$AS$1:$AX$1,0))","v":0}]
["Camooweal - No Water or Sewer","Utility installation","Utility installation","Other uses","NR_1","Gross Floor Area",0,0,0,{"$f":"INDEX(CHARGES,MATCH($D1084&$F1084,$AQ$2:$AQ$44&$AR$2:$AR$44,0),MATCH(J$1,$AS$1:$AX$1,0))","v":0},{"$f":"INDEX(CHARGES,MATCH($D1084&$F1084,$AQ$2:$AQ$44&$AR$2:$AR$44,0),MATCH(K$1,$AS$1:$AX$1,0))","v":0},{"$f":"INDEX(CHARGES,MATCH($D1084&$F1084,$AQ$2:$AQ$44&$AR$2:$AR$44,0),MATCH(L$1,$AS$1:$AX$1,0))","v":0}]
["Camooweal - No Water or Sewer","Utility installation","Utility installation","Other uses","NR_1","Impervious Area",0,0,0,{"$f":"INDEX(CHARGES,MATCH($D1085&$F1085,$AQ$2:$AQ$44&$AR$2:$AR$44,0),MATCH(J$1,$AS$1:$AX$1,0))","v":0},{"$f":"INDEX(CHARGES,MATCH($D1085&$F1085,$AQ$2:$AQ$44&$AR$2:$AR$44,0),MATCH(K$1,$AS$1:$AX$1,0))","v":0},{"$f":"INDEX(CHARGES,MATCH($D1085&$F1085,$AQ$2:$AQ$44&$AR$2:$AR$44,0),MATCH(L$1,$AS$1:$AX$1,0))","v":0}]
["Camooweal - No Water or Sewer","Veterinary services","Veterinary services","Essential services","NR_1","Gross Floor Area",48,0,0,{"$f":"INDEX(CHARGES,MATCH($D1086&$F1086,$AQ$2:$AQ$44&$AR$2:$AR$44,0),MATCH(J$1,$AS$1:$AX$1,0))","v":0},{"$f":"INDEX(CHARGES,MATCH($D1086&$F1086,$AQ$2:$AQ$44&$AR$2:$AR$44,0),MATCH(K$1,$AS$1:$AX$1,0))","v":48},{"$f":"INDEX(CHARGES,MATCH($D1086&$F1086,$AQ$2:$AQ$44&$AR$2:$AR$44,0),MATCH(L$1,$AS$1:$AX$1,0))","v":0}]
["Camooweal - No Water or Sewer","Veterinary services","Veterinary services","Essential services","NR_1","Impervious Area",5,0,0,{"$f":"INDEX(CHARGES,MATCH($D1087&$F1087,$AQ$2:$AQ$44&$AR$2:$AR$44,0),MATCH(J$1,$AS$1:$AX$1,0))","v":5},{"$f":"INDEX(CHARGES,MATCH($D1087&$F1087,$AQ$2:$AQ$44&$AR$2:$AR$44,0),MATCH(K$1,$AS$1:$AX$1,0))","v":0},{"$f":"INDEX(CHARGES,MATCH($D1087&$F1087,$AQ$2:$AQ$44&$AR$2:$AR$44,0),MATCH(L$1,$AS$1:$AX$1,0))","v":0}]
["Camooweal - No Water or Sewer","Warehouse","Warehouse","Other industry","NR_1","Gross Floor Area",17,0,0,{"$f":"INDEX(CHARGES,MATCH($D1088&$F1088,$AQ$2:$AQ$44&$AR$2:$AR$44,0),MATCH(J$1,$AS$1:$AX$1,0))","v":0},{"$f":"INDEX(CHARGES,MATCH($D1088&$F1088,$AQ$2:$AQ$44&$AR$2:$AR$44,0),MATCH(K$1,$AS$1:$AX$1,0))","v":17},{"$f":"INDEX(CHARGES,MATCH($D1088&$F1088,$AQ$2:$AQ$44&$AR$2:$AR$44,0),MATCH(L$1,$AS$1:$AX$1,0))","v":0}]
["Camooweal - No Water or Sewer","Warehouse","Warehouse","Other industry","NR_1","Impervious Area",5,0,0,{"$f":"INDEX(CHARGES,MATCH($D1089&$F1089,$AQ$2:$AQ$44&$AR$2:$AR$44,0),MATCH(J$1,$AS$1:$AX$1,0))","v":5},{"$f":"INDEX(CHARGES,MATCH($D1089&$F1089,$AQ$2:$AQ$44&$AR$2:$AR$44,0),MATCH(K$1,$AS$1:$AX$1,0))","v":0},{"$f":"INDEX(CHARGES,MATCH($D1089&$F1089,$AQ$2:$AQ$44&$AR$2:$AR$44,0),MATCH(L$1,$AS$1:$AX$1,0))","v":0}]
["Camooweal - No Water or Sewer","Wholesale nursery","Wholesale nursery","High impact rural","NR_3","Gross Floor Area",7,0,0,{"$f":"INDEX(CHARGES,MATCH($D1090&$F1090,$AQ$2:$AQ$44&$AR$2:$AR$44,0),MATCH(J$1,$AS$1:$AX$1,0))","v":0},{"$f":"INDEX(CHARGES,MATCH($D1090&$F1090,$AQ$2:$AQ$44&$AR$2:$AR$44,0),MATCH(K$1,$AS$1:$AX$1,0))","v":7},{"$f":"INDEX(CHARGES,MATCH($D1090&$F1090,$AQ$2:$AQ$44&$AR$2:$AR$44,0),MATCH(L$1,$AS$1:$AX$1,0))","v":0}]
["Camooweal - No Water or Sewer","Winery","Winery","High impact rural","NR_3","Gross Floor Area",7,0,0,{"$f":"INDEX(CHARGES,MATCH($D1091&$F1091,$AQ$2:$AQ$44&$AR$2:$AR$44,0),MATCH(J$1,$AS$1:$AX$1,0))","v":0},{"$f":"INDEX(CHARGES,MATCH($D1091&$F1091,$AQ$2:$AQ$44&$AR$2:$AR$44,0),MATCH(K$1,$AS$1:$AX$1,0))","v":7},{"$f":"INDEX(CHARGES,MATCH($D1091&$F1091,$AQ$2:$AQ$44&$AR$2:$AR$44,0),MATCH(L$1,$AS$1:$AX$1,0))","v":0}]
["Camooweal - No Water or Sewer","Reconfiguring a lot - Residential","Reconfiguring a lot - Residential","Residential uses","ROL","Lots",7921,0,0,{"$f":"INDEX(CHARGES,MATCH($D1092&$F1092,$AQ$2:$AQ$44&$AR$2:$AR$44,0),MATCH(J$1,$AS$1:$AX$1,0))","v":293},{"$f":"INDEX(CHARGES,MATCH($D1092&$F1092,$AQ$2:$AQ$44&$AR$2:$AR$44,0),MATCH(K$1,$AS$1:$AX$1,0))","v":7335},{"$f":"INDEX(CHARGES,MATCH($D1092&$F1092,$AQ$2:$AQ$44&$AR$2:$AR$44,0),MATCH(L$1,$AS$1:$AX$1,0))","v":293}]
["Camooweal - No Water or Sewer","Reconfiguring a lot - Non residential","Reconfiguring a lot - Non residential","Non-residential uses","ROL","Lots",9535,0,0,{"$f":"INDEX(CHARGES,MATCH($D1093&$F1093,$AQ$2:$AQ$44&$AR$2:$AR$44,0),MATCH(J$1,$AS$1:$AX$1,0))","v":293},{"$f":"INDEX(CHARGES,MATCH($D1093&$F1093,$AQ$2:$AQ$44&$AR$2:$AR$44,0),MATCH(K$1,$AS$1:$AX$1,0))","v":9242},{"$f":"INDEX(CHARGES,MATCH($D1093&$F1093,$AQ$2:$AQ$44&$AR$2:$AR$44,0),MATCH(L$1,$AS$1:$AX$1,0))","v":0}]
["Other Areas - No Water or Sewer","Adult store","Adult store","Commercial (retail)","NR_1","Gross Floor Area",{"$f":"SUM(H1094:L1094)","v":61},0,0,{"$f":"INDEX(CHARGES,MATCH($D1094&$F1094,$AQ$2:$AQ$44&$AR$2:$AR$44,0),MATCH(J$1,$AS$1:$AX$1,0))","v":0},{"$f":"INDEX(CHARGES,MATCH($D1094&$F1094,$AQ$2:$AQ$44&$AR$2:$AR$44,0),MATCH(K$1,$AS$1:$AX$1,0))","v":61},{"$f":"INDEX(CHARGES,MATCH($D1094&$F1094,$AQ$2:$AQ$44&$AR$2:$AR$44,0),MATCH(L$1,$AS$1:$AX$1,0))","v":0}]
["Other Areas - No Water or Sewer","Adult store","Adult store","Commercial (retail)","NR_1","Impervious Area",5,0,0,{"$f":"INDEX(CHARGES,MATCH($D1095&$F1095,$AQ$2:$AQ$44&$AR$2:$AR$44,0),MATCH(J$1,$AS$1:$AX$1,0))","v":5},{"$f":"INDEX(CHARGES,MATCH($D1095&$F1095,$AQ$2:$AQ$44&$AR$2:$AR$44,0),MATCH(K$1,$AS$1:$AX$1,0))","v":0},{"$f":"INDEX(CHARGES,MATCH($D1095&$F1095,$AQ$2:$AQ$44&$AR$2:$AR$44,0),MATCH(L$1,$AS$1:$AX$1,0))","v":0}]
["Other Areas - No Water or Sewer","Agrigultural supplies store","Agrigultural supplies store","Commercial (bulk goods)","NR_1","Gross Floor Area",48,0,0,{"$f":"INDEX(CHARGES,MATCH($D1096&$F1096,$AQ$2:$AQ$44&$AR$2:$AR$44,0),MATCH(J$1,$AS$1:$AX$1,0))","v":0},{"$f":"INDEX(CHARGES,MATCH($D1096&$F1096,$AQ$2:$AQ$44&$AR$2:$AR$44,0),MATCH(K$1,$AS$1:$AX$1,0))","v":48},{"$f":"INDEX(CHARGES,MATCH($D1096&$F1096,$AQ$2:$AQ$44&$AR$2:$AR$44,0),MATCH(L$1,$AS$1:$AX$1,0))","v":0}]
["Other Areas - No Water or Sewer","Agrigultural supplies store","Agrigultural supplies store","Commercial (bulk goods)","NR_1","Impervious Area",5,0,0,{"$f":"INDEX(CHARGES,MATCH($D1097&$F1097,$AQ$2:$AQ$44&$AR$2:$AR$44,0),MATCH(J$1,$AS$1:$AX$1,0))","v":5},{"$f":"INDEX(CHARGES,MATCH($D1097&$F1097,$AQ$2:$AQ$44&$AR$2:$AR$44,0),MATCH(K$1,$AS$1:$AX$1,0))","v":0},{"$f":"INDEX(CHARGES,MATCH($D1097&$F1097,$AQ$2:$AQ$44&$AR$2:$AR$44,0),MATCH(L$1,$AS$1:$AX$1,0))","v":0}]
["Other Areas - No Water or Sewer","Air services","Air services","Other uses","NR_1","Gross Floor Area",0,0,0,{"$f":"INDEX(CHARGES,MATCH($D1098&$F1098,$AQ$2:$AQ$44&$AR$2:$AR$44,0),MATCH(J$1,$AS$1:$AX$1,0))","v":0},{"$f":"INDEX(CHARGES,MATCH($D1098&$F1098,$AQ$2:$AQ$44&$AR$2:$AR$44,0),MATCH(K$1,$AS$1:$AX$1,0))","v":0},{"$f":"INDEX(CHARGES,MATCH($D1098&$F1098,$AQ$2:$AQ$44&$AR$2:$AR$44,0),MATCH(L$1,$AS$1:$AX$1,0))","v":0}]
["Other Areas - No Water or Sewer","Air services","Air services","Other uses","NR_1","Impervious Area",0,0,0,{"$f":"INDEX(CHARGES,MATCH($D1099&$F1099,$AQ$2:$AQ$44&$AR$2:$AR$44,0),MATCH(J$1,$AS$1:$AX$1,0))","v":0},{"$f":"INDEX(CHARGES,MATCH($D1099&$F1099,$AQ$2:$AQ$44&$AR$2:$AR$44,0),MATCH(K$1,$AS$1:$AX$1,0))","v":0},{"$f":"INDEX(CHARGES,MATCH($D1099&$F1099,$AQ$2:$AQ$44&$AR$2:$AR$44,0),MATCH(L$1,$AS$1:$AX$1,0))","v":0}]
["Other Areas - No Water or Sewer","Animal husbandry","Animal husbandry","Low impact rural","NR_3","Gross Floor Area",0,0,0,{"$f":"INDEX(CHARGES,MATCH($D1100&$F1100,$AQ$2:$AQ$44&$AR$2:$AR$44,0),MATCH(J$1,$AS$1:$AX$1,0))","v":0},{"$f":"INDEX(CHARGES,MATCH($D1100&$F1100,$AQ$2:$AQ$44&$AR$2:$AR$44,0),MATCH(K$1,$AS$1:$AX$1,0))","v":0},{"$f":"INDEX(CHARGES,MATCH($D1100&$F1100,$AQ$2:$AQ$44&$AR$2:$AR$44,0),MATCH(L$1,$AS$1:$AX$1,0))","v":0}]
["Other Areas - No Water or Sewer","Animal keeping","Animal keeping","Other uses","NR_1","Gross Floor Area",0,0,0,{"$f":"INDEX(CHARGES,MATCH($D1101&$F1101,$AQ$2:$AQ$44&$AR$2:$AR$44,0),MATCH(J$1,$AS$1:$AX$1,0))","v":0},{"$f":"INDEX(CHARGES,MATCH($D1101&$F1101,$AQ$2:$AQ$44&$AR$2:$AR$44,0),MATCH(K$1,$AS$1:$AX$1,0))","v":0},{"$f":"INDEX(CHARGES,MATCH($D1101&$F1101,$AQ$2:$AQ$44&$AR$2:$AR$44,0),MATCH(L$1,$AS$1:$AX$1,0))","v":0}]
["Other Areas - No Water or Sewer","Animal keeping","Animal keeping","Other uses","NR_1","Impervious Area",0,0,0,{"$f":"INDEX(CHARGES,MATCH($D1102&$F1102,$AQ$2:$AQ$44&$AR$2:$AR$44,0),MATCH(J$1,$AS$1:$AX$1,0))","v":0},{"$f":"INDEX(CHARGES,MATCH($D1102&$F1102,$AQ$2:$AQ$44&$AR$2:$AR$44,0),MATCH(K$1,$AS$1:$AX$1,0))","v":0},{"$f":"INDEX(CHARGES,MATCH($D1102&$F1102,$AQ$2:$AQ$44&$AR$2:$AR$44,0),MATCH(L$1,$AS$1:$AX$1,0))","v":0}]
["Other Areas - No Water or Sewer","Aquaculture",null,"Other uses","NR_1","Gross Floor Area",0,0,0,{"$f":"INDEX(CHARGES,MATCH($D1103&$F1103,$AQ$2:$AQ$44&$AR$2:$AR$44,0),MATCH(J$1,$AS$1:$AX$1,0))","v":0},{"$f":"INDEX(CHARGES,MATCH($D1103&$F1103,$AQ$2:$AQ$44&$AR$2:$AR$44,0),MATCH(K$1,$AS$1:$AX$1,0))","v":0},{"$f":"INDEX(CHARGES,MATCH($D1103&$F1103,$AQ$2:$AQ$44&$AR$2:$AR$44,0),MATCH(L$1,$AS$1:$AX$1,0))","v":0}]
["Other Areas - No Water or Sewer","Aquaculture",null,"Other uses","NR_1","Impervious Area",0,0,0,{"$f":"INDEX(CHARGES,MATCH($D1104&$F1104,$AQ$2:$AQ$44&$AR$2:$AR$44,0),MATCH(J$1,$AS$1:$AX$1,0))","v":0},{"$f":"INDEX(CHARGES,MATCH($D1104&$F1104,$AQ$2:$AQ$44&$AR$2:$AR$44,0),MATCH(K$1,$AS$1:$AX$1,0))","v":0},{"$f":"INDEX(CHARGES,MATCH($D1104&$F1104,$AQ$2:$AQ$44&$AR$2:$AR$44,0),MATCH(L$1,$AS$1:$AX$1,0))","v":0}]
["Other Areas - No Water or Sewer","Bar","Hotel","Entertainment","NR_1","Gross Floor Area",68,0,0,{"$f":"INDEX(CHARGES,MATCH($D1105&$F1105,$AQ$2:$AQ$44&$AR$2:$AR$44,0),MATCH(J$1,$AS$1:$AX$1,0))","v":0},{"$f":"INDEX(CHARGES,MATCH($D1105&$F1105,$AQ$2:$AQ$44&$AR$2:$AR$44,0),MATCH(K$1,$AS$1:$AX$1,0))","v":68},{"$f":"INDEX(CHARGES,MATCH($D1105&$F1105,$AQ$2:$AQ$44&$AR$2:$AR$44,0),MATCH(L$1,$AS$1:$AX$1,0))","v":0}]
["Other Areas - No Water or Sewer","Bar","Hotel","Entertainment","NR_1","Impervious Area",5,0,0,{"$f":"INDEX(CHARGES,MATCH($D1106&$F1106,$AQ$2:$AQ$44&$AR$2:$AR$44,0),MATCH(J$1,$AS$1:$AX$1,0))","v":5},{"$f":"INDEX(CHARGES,MATCH($D1106&$F1106,$AQ$2:$AQ$44&$AR$2:$AR$44,0),MATCH(K$1,$AS$1:$AX$1,0))","v":0},{"$f":"INDEX(CHARGES,MATCH($D1106&$F1106,$AQ$2:$AQ$44&$AR$2:$AR$44,0),MATCH(L$1,$AS$1:$AX$1,0))","v":0}]
["Other Areas - No Water or Sewer","Brothel",null,"Entertainment","NR_1","Gross Floor Area",68,0,0,{"$f":"INDEX(CHARGES,MATCH($D1107&$F1107,$AQ$2:$AQ$44&$AR$2:$AR$44,0),MATCH(J$1,$AS$1:$AX$1,0))","v":0},{"$f":"INDEX(CHARGES,MATCH($D1107&$F1107,$AQ$2:$AQ$44&$AR$2:$AR$44,0),MATCH(K$1,$AS$1:$AX$1,0))","v":68},{"$f":"INDEX(CHARGES,MATCH($D1107&$F1107,$AQ$2:$AQ$44&$AR$2:$AR$44,0),MATCH(L$1,$AS$1:$AX$1,0))","v":0}]
["Other Areas - No Water or Sewer","Brothel",null,"Entertainment","NR_1","Impervious Area",5,0,0,{"$f":"INDEX(CHARGES,MATCH($D1108&$F1108,$AQ$2:$AQ$44&$AR$2:$AR$44,0),MATCH(J$1,$AS$1:$AX$1,0))","v":5},{"$f":"INDEX(CHARGES,MATCH($D1108&$F1108,$AQ$2:$AQ$44&$AR$2:$AR$44,0),MATCH(K$1,$AS$1:$AX$1,0))","v":0},{"$f":"INDEX(CHARGES,MATCH($D1108&$F1108,$AQ$2:$AQ$44&$AR$2:$AR$44,0),MATCH(L$1,$AS$1:$AX$1,0))","v":0}]
["Other Areas - No Water or Sewer","Bulk landscape supplies","Bulk landscape supplies","Commercial (bulk goods)","NR_1","Gross Floor Area",48,0,0,{"$f":"INDEX(CHARGES,MATCH($D1109&$F1109,$AQ$2:$AQ$44&$AR$2:$AR$44,0),MATCH(J$1,$AS$1:$AX$1,0))","v":0},{"$f":"INDEX(CHARGES,MATCH($D1109&$F1109,$AQ$2:$AQ$44&$AR$2:$AR$44,0),MATCH(K$1,$AS$1:$AX$1,0))","v":48},{"$f":"INDEX(CHARGES,MATCH($D1109&$F1109,$AQ$2:$AQ$44&$AR$2:$AR$44,0),MATCH(L$1,$AS$1:$AX$1,0))","v":0}]
["Other Areas - No Water or Sewer","Bulk landscape supplies","Bulk landscape supplies","Commercial (bulk goods)","NR_1","Impervious Area",5,0,0,{"$f":"INDEX(CHARGES,MATCH($D1110&$F1110,$AQ$2:$AQ$44&$AR$2:$AR$44,0),MATCH(J$1,$AS$1:$AX$1,0))","v":5},{"$f":"INDEX(CHARGES,MATCH($D1110&$F1110,$AQ$2:$AQ$44&$AR$2:$AR$44,0),MATCH(K$1,$AS$1:$AX$1,0))","v":0},{"$f":"INDEX(CHARGES,MATCH($D1110&$F1110,$AQ$2:$AQ$44&$AR$2:$AR$44,0),MATCH(L$1,$AS$1:$AX$1,0))","v":0}]
["Other Areas - No Water or Sewer","Caretaker's accommodation","Caretaker's accommodation","Residential uses","RU_1","2 or less bedrooms",5658,0,0,{"$f":"INDEX(CHARGES,MATCH($D1111&$F1111,$AQ$2:$AQ$44&$AR$2:$AR$44,0),MATCH(J$1,$AS$1:$AX$1,0))","v":209},{"$f":"INDEX(CHARGES,MATCH($D1111&$F1111,$AQ$2:$AQ$44&$AR$2:$AR$44,0),MATCH(K$1,$AS$1:$AX$1,0))","v":5239},{"$f":"INDEX(CHARGES,MATCH($D1111&$F1111,$AQ$2:$AQ$44&$AR$2:$AR$44,0),MATCH(L$1,$AS$1:$AX$1,0))","v":210}]
["Other Areas - No Water or Sewer","Caretaker's accommodation","Caretaker's accommodation","Residential uses","RU_1","3 or more bedrooms",7921,0,0,{"$f":"INDEX(CHARGES,MATCH($D1112&$F1112,$AQ$2:$AQ$44&$AR$2:$AR$44,0),MATCH(J$1,$AS$1:$AX$1,0))","v":293},{"$f":"INDEX(CHARGES,MATCH($D1112&$F1112,$AQ$2:$AQ$44&$AR$2:$AR$44,0),MATCH(K$1,$AS$1:$AX$1,0))","v":7335},{"$f":"INDEX(CHARGES,MATCH($D1112&$F1112,$AQ$2:$AQ$44&$AR$2:$AR$44,0),MATCH(L$1,$AS$1:$AX$1,0))","v":293}]
["Other Areas - No Water or Sewer","Car wash",null,"Other uses","NR_1","Gross Floor Area",0,0,0,{"$f":"INDEX(CHARGES,MATCH($D1113&$F1113,$AQ$2:$AQ$44&$AR$2:$AR$44,0),MATCH(J$1,$AS$1:$AX$1,0))","v":0},{"$f":"INDEX(CHARGES,MATCH($D1113&$F1113,$AQ$2:$AQ$44&$AR$2:$AR$44,0),MATCH(K$1,$AS$1:$AX$1,0))","v":0},{"$f":"INDEX(CHARGES,MATCH($D1113&$F1113,$AQ$2:$AQ$44&$AR$2:$AR$44,0),MATCH(L$1,$AS$1:$AX$1,0))","v":0}]
["Other Areas - No Water or Sewer","Car wash",null,"Other uses","NR_1","Impervious Area",0,0,0,{"$f":"INDEX(CHARGES,MATCH($D1114&$F1114,$AQ$2:$AQ$44&$AR$2:$AR$44,0),MATCH(J$1,$AS$1:$AX$1,0))","v":0},{"$f":"INDEX(CHARGES,MATCH($D1114&$F1114,$AQ$2:$AQ$44&$AR$2:$AR$44,0),MATCH(K$1,$AS$1:$AX$1,0))","v":0},{"$f":"INDEX(CHARGES,MATCH($D1114&$F1114,$AQ$2:$AQ$44&$AR$2:$AR$44,0),MATCH(L$1,$AS$1:$AX$1,0))","v":0}]
["Other Areas - No Water or Sewer","Cemetery","Cemetery","Minor uses","NR_3","Gross Floor Area",0,0,0,{"$f":"INDEX(CHARGES,MATCH($D1115&$F1115,$AQ$2:$AQ$44&$AR$2:$AR$44,0),MATCH(J$1,$AS$1:$AX$1,0))","v":0},{"$f":"INDEX(CHARGES,MATCH($D1115&$F1115,$AQ$2:$AQ$44&$AR$2:$AR$44,0),MATCH(K$1,$AS$1:$AX$1,0))","v":0},{"$f":"INDEX(CHARGES,MATCH($D1115&$F1115,$AQ$2:$AQ$44&$AR$2:$AR$44,0),MATCH(L$1,$AS$1:$AX$1,0))","v":0}]
["Other Areas - No Water or Sewer","Child care centre","Childcare centre","Educational Facility","NR_1","Gross Floor Area",48,0,0,{"$f":"INDEX(CHARGES,MATCH($D1116&$F1116,$AQ$2:$AQ$44&$AR$2:$AR$44,0),MATCH(J$1,$AS$1:$AX$1,0))","v":0},{"$f":"INDEX(CHARGES,MATCH($D1116&$F1116,$AQ$2:$AQ$44&$AR$2:$AR$44,0),MATCH(K$1,$AS$1:$AX$1,0))","v":48},{"$f":"INDEX(CHARGES,MATCH($D1116&$F1116,$AQ$2:$AQ$44&$AR$2:$AR$44,0),MATCH(L$1,$AS$1:$AX$1,0))","v":0}]
["Other Areas - No Water or Sewer","Child care centre","Childcare centre","Educational Facility","NR_1","Impervious Area",5,0,0,{"$f":"INDEX(CHARGES,MATCH($D1117&$F1117,$AQ$2:$AQ$44&$AR$2:$AR$44,0),MATCH(J$1,$AS$1:$AX$1,0))","v":5},{"$f":"INDEX(CHARGES,MATCH($D1117&$F1117,$AQ$2:$AQ$44&$AR$2:$AR$44,0),MATCH(K$1,$AS$1:$AX$1,0))","v":0},{"$f":"INDEX(CHARGES,MATCH($D1117&$F1117,$AQ$2:$AQ$44&$AR$2:$AR$44,0),MATCH(L$1,$AS$1:$AX$1,0))","v":0}]
["Other Areas - No Water or Sewer","Community residence","Community residence","Accommodation (long-term)","RU_2","bedroom that is not part of a suite",5658,0,0,{"$f":"INDEX(CHARGES,MATCH($D1118&$F1118,$AQ$2:$AQ$44&$AR$2:$AR$44,0),MATCH(J$1,$AS$1:$AX$1,0))","v":209},{"$f":"INDEX(CHARGES,MATCH($D1118&$F1118,$AQ$2:$AQ$44&$AR$2:$AR$44,0),MATCH(K$1,$AS$1:$AX$1,0))","v":5239},{"$f":"INDEX(CHARGES,MATCH($D1118&$F1118,$AQ$2:$AQ$44&$AR$2:$AR$44,0),MATCH(L$1,$AS$1:$AX$1,0))","v":210}]
["Other Areas - No Water or Sewer","Community residence","Community residence","Accommodation (long-term)","RU_2","2 or less bedrooms",5658,0,0,{"$f":"INDEX(CHARGES,MATCH($D1119&$F1119,$AQ$2:$AQ$44&$AR$2:$AR$44,0),MATCH(J$1,$AS$1:$AX$1,0))","v":209},{"$f":"INDEX(CHARGES,MATCH($D1119&$F1119,$AQ$2:$AQ$44&$AR$2:$AR$44,0),MATCH(K$1,$AS$1:$AX$1,0))","v":5239},{"$f":"INDEX(CHARGES,MATCH($D1119&$F1119,$AQ$2:$AQ$44&$AR$2:$AR$44,0),MATCH(L$1,$AS$1:$AX$1,0))","v":210}]
["Other Areas - No Water or Sewer","Community residence","Community residence","Accommodation (long-term)","RU_2","3 or more bedrooms",7921,0,0,{"$f":"INDEX(CHARGES,MATCH($D1120&$F1120,$AQ$2:$AQ$44&$AR$2:$AR$44,0),MATCH(J$1,$AS$1:$AX$1,0))","v":293},{"$f":"INDEX(CHARGES,MATCH($D1120&$F1120,$AQ$2:$AQ$44&$AR$2:$AR$44,0),MATCH(K$1,$AS$1:$AX$1,0))","v":7335},{"$f":"INDEX(CHARGES,MATCH($D1120&$F1120,$AQ$2:$AQ$44&$AR$2:$AR$44,0),MATCH(L$1,$AS$1:$AX$1,0))","v":293}]
["Other Areas - No Water or Sewer","Community use","Community use","Places of assembly","NR_1","Gross Floor Area",24,0,0,{"$f":"INDEX(CHARGES,MATCH($D1121&$F1121,$AQ$2:$AQ$44&$AR$2:$AR$44,0),MATCH(J$1,$AS$1:$AX$1,0))","v":0},{"$f":"INDEX(CHARGES,MATCH($D1121&$F1121,$AQ$2:$AQ$44&$AR$2:$AR$44,0),MATCH(K$1,$AS$1:$AX$1,0))","v":24},{"$f":"INDEX(CHARGES,MATCH($D1121&$F1121,$AQ$2:$AQ$44&$AR$2:$AR$44,0),MATCH(L$1,$AS$1:$AX$1,0))","v":0}]
["Other Areas - No Water or Sewer","Community use","Community use","Places of assembly","NR_1","Impervious Area",5,0,0,{"$f":"INDEX(CHARGES,MATCH($D1122&$F1122,$AQ$2:$AQ$44&$AR$2:$AR$44,0),MATCH(J$1,$AS$1:$AX$1,0))","v":5},{"$f":"INDEX(CHARGES,MATCH($D1122&$F1122,$AQ$2:$AQ$44&$AR$2:$AR$44,0),MATCH(K$1,$AS$1:$AX$1,0))","v":0},{"$f":"INDEX(CHARGES,MATCH($D1122&$F1122,$AQ$2:$AQ$44&$AR$2:$AR$44,0),MATCH(L$1,$AS$1:$AX$1,0))","v":0}]
["Other Areas - No Water or Sewer","Crematorium","Crematorium","Other uses","NR_1","Gross Floor Area",0,0,0,{"$f":"INDEX(CHARGES,MATCH($D1123&$F1123,$AQ$2:$AQ$44&$AR$2:$AR$44,0),MATCH(J$1,$AS$1:$AX$1,0))","v":0},{"$f":"INDEX(CHARGES,MATCH($D1123&$F1123,$AQ$2:$AQ$44&$AR$2:$AR$44,0),MATCH(K$1,$AS$1:$AX$1,0))","v":0},{"$f":"INDEX(CHARGES,MATCH($D1123&$F1123,$AQ$2:$AQ$44&$AR$2:$AR$44,0),MATCH(L$1,$AS$1:$AX$1,0))","v":0}]
["Other Areas - No Water or Sewer","Crematorium","Crematorium","Other uses","NR_1","Impervious Area",0,0,0,{"$f":"INDEX(CHARGES,MATCH($D1124&$F1124,$AQ$2:$AQ$44&$AR$2:$AR$44,0),MATCH(J$1,$AS$1:$AX$1,0))","v":0},{"$f":"INDEX(CHARGES,MATCH($D1124&$F1124,$AQ$2:$AQ$44&$AR$2:$AR$44,0),MATCH(K$1,$AS$1:$AX$1,0))","v":0},{"$f":"INDEX(CHARGES,MATCH($D1124&$F1124,$AQ$2:$AQ$44&$AR$2:$AR$44,0),MATCH(L$1,$AS$1:$AX$1,0))","v":0}]
["Other Areas - No Water or Sewer","Cropping","Cropping","Low impact rural","NR_3","Gross Floor Area",0,0,0,{"$f":"INDEX(CHARGES,MATCH($D1125&$F1125,$AQ$2:$AQ$44&$AR$2:$AR$44,0),MATCH(J$1,$AS$1:$AX$1,0))","v":0},{"$f":"INDEX(CHARGES,MATCH($D1125&$F1125,$AQ$2:$AQ$44&$AR$2:$AR$44,0),MATCH(K$1,$AS$1:$AX$1,0))","v":0},{"$f":"INDEX(CHARGES,MATCH($D1125&$F1125,$AQ$2:$AQ$44&$AR$2:$AR$44,0),MATCH(L$1,$AS$1:$AX$1,0))","v":0}]
["Other Areas - No Water or Sewer","Detention facility","Correctional facility","Essential services","NR_1","Gross Floor Area",48,0,0,{"$f":"INDEX(CHARGES,MATCH($D1126&$F1126,$AQ$2:$AQ$44&$AR$2:$AR$44,0),MATCH(J$1,$AS$1:$AX$1,0))","v":0},{"$f":"INDEX(CHARGES,MATCH($D1126&$F1126,$AQ$2:$AQ$44&$AR$2:$AR$44,0),MATCH(K$1,$AS$1:$AX$1,0))","v":48},{"$f":"INDEX(CHARGES,MATCH($D1126&$F1126,$AQ$2:$AQ$44&$AR$2:$AR$44,0),MATCH(L$1,$AS$1:$AX$1,0))","v":0}]
["Other Areas - No Water or Sewer","Detention facility","Correctional facility","Essential services","NR_1","Impervious Area",5,0,0,{"$f":"INDEX(CHARGES,MATCH($D1127&$F1127,$AQ$2:$AQ$44&$AR$2:$AR$44,0),MATCH(J$1,$AS$1:$AX$1,0))","v":5},{"$f":"INDEX(CHARGES,MATCH($D1127&$F1127,$AQ$2:$AQ$44&$AR$2:$AR$44,0),MATCH(K$1,$AS$1:$AX$1,0))","v":0},{"$f":"INDEX(CHARGES,MATCH($D1127&$F1127,$AQ$2:$AQ$44&$AR$2:$AR$44,0),MATCH(L$1,$AS$1:$AX$1,0))","v":0}]
["Other Areas - No Water or Sewer","Dual occupancy","Dual occupancy","Residential uses","RU_1","2 or less bedrooms",5658,0,0,{"$f":"INDEX(CHARGES,MATCH($D1128&$F1128,$AQ$2:$AQ$44&$AR$2:$AR$44,0),MATCH(J$1,$AS$1:$AX$1,0))","v":209},{"$f":"INDEX(CHARGES,MATCH($D1128&$F1128,$AQ$2:$AQ$44&$AR$2:$AR$44,0),MATCH(K$1,$AS$1:$AX$1,0))","v":5239},{"$f":"INDEX(CHARGES,MATCH($D1128&$F1128,$AQ$2:$AQ$44&$AR$2:$AR$44,0),MATCH(L$1,$AS$1:$AX$1,0))","v":210}]
["Other Areas - No Water or Sewer","Dual occupancy","Dual occupancy","Residential uses","RU_1","3 or more bedrooms",7921,0,0,{"$f":"INDEX(CHARGES,MATCH($D1129&$F1129,$AQ$2:$AQ$44&$AR$2:$AR$44,0),MATCH(J$1,$AS$1:$AX$1,0))","v":293},{"$f":"INDEX(CHARGES,MATCH($D1129&$F1129,$AQ$2:$AQ$44&$AR$2:$AR$44,0),MATCH(K$1,$AS$1:$AX$1,0))","v":7335},{"$f":"INDEX(CHARGES,MATCH($D1129&$F1129,$AQ$2:$AQ$44&$AR$2:$AR$44,0),MATCH(L$1,$AS$1:$AX$1,0))","v":293}]
["Other Areas - No Water or Sewer","Dwelling house","Dwelling house","Residential uses","RU_1","2 or less bedrooms",5658,0,0,{"$f":"INDEX(CHARGES,MATCH($D1130&$F1130,$AQ$2:$AQ$44&$AR$2:$AR$44,0),MATCH(J$1,$AS$1:$AX$1,0))","v":209},{"$f":"INDEX(CHARGES,MATCH($D1130&$F1130,$AQ$2:$AQ$44&$AR$2:$AR$44,0),MATCH(K$1,$AS$1:$AX$1,0))","v":5239},{"$f":"INDEX(CHARGES,MATCH($D1130&$F1130,$AQ$2:$AQ$44&$AR$2:$AR$44,0),MATCH(L$1,$AS$1:$AX$1,0))","v":210}]
["Other Areas - No Water or Sewer","Dwelling house","Dwelling house","Residential uses","RU_1","3 or more bedrooms",7921,0,0,{"$f":"INDEX(CHARGES,MATCH($D1131&$F1131,$AQ$2:$AQ$44&$AR$2:$AR$44,0),MATCH(J$1,$AS$1:$AX$1,0))","v":293},{"$f":"INDEX(CHARGES,MATCH($D1131&$F1131,$AQ$2:$AQ$44&$AR$2:$AR$44,0),MATCH(K$1,$AS$1:$AX$1,0))","v":7335},{"$f":"INDEX(CHARGES,MATCH($D1131&$F1131,$AQ$2:$AQ$44&$AR$2:$AR$44,0),MATCH(L$1,$AS$1:$AX$1,0))","v":293}]
["Other Areas - No Water or Sewer","Dwelling unit","Multiple dwelling","Residential uses","RU_1","2 or less bedrooms",5658,0,0,{"$f":"INDEX(CHARGES,MATCH($D1132&$F1132,$AQ$2:$AQ$44&$AR$2:$AR$44,0),MATCH(J$1,$AS$1:$AX$1,0))","v":209},{"$f":"INDEX(CHARGES,MATCH($D1132&$F1132,$AQ$2:$AQ$44&$AR$2:$AR$44,0),MATCH(K$1,$AS$1:$AX$1,0))","v":5239},{"$f":"INDEX(CHARGES,MATCH($D1132&$F1132,$AQ$2:$AQ$44&$AR$2:$AR$44,0),MATCH(L$1,$AS$1:$AX$1,0))","v":210}]
["Other Areas - No Water or Sewer","Dwelling unit","Multiple dwelling","Residential uses","RU_1","3 or more bedrooms",7921,0,0,{"$f":"INDEX(CHARGES,MATCH($D1133&$F1133,$AQ$2:$AQ$44&$AR$2:$AR$44,0),MATCH(J$1,$AS$1:$AX$1,0))","v":293},{"$f":"INDEX(CHARGES,MATCH($D1133&$F1133,$AQ$2:$AQ$44&$AR$2:$AR$44,0),MATCH(K$1,$AS$1:$AX$1,0))","v":7335},{"$f":"INDEX(CHARGES,MATCH($D1133&$F1133,$AQ$2:$AQ$44&$AR$2:$AR$44,0),MATCH(L$1,$AS$1:$AX$1,0))","v":293}]
["Other Areas - No Water or Sewer","Educational establishment other than an educational establishment for the Flying Start for Queensland Children program","Educational establishment other than an educational establishment for the Flying Start for Queensland Children program","Educational Facility","NR_1","Gross Floor Area",48,0,0,{"$f":"INDEX(CHARGES,MATCH($D1134&$F1134,$AQ$2:$AQ$44&$AR$2:$AR$44,0),MATCH(J$1,$AS$1:$AX$1,0))","v":0},{"$f":"INDEX(CHARGES,MATCH($D1134&$F1134,$AQ$2:$AQ$44&$AR$2:$AR$44,0),MATCH(K$1,$AS$1:$AX$1,0))","v":48},{"$f":"INDEX(CHARGES,MATCH($D1134&$F1134,$AQ$2:$AQ$44&$AR$2:$AR$44,0),MATCH(L$1,$AS$1:$AX$1,0))","v":0}]
["Other Areas - No Water or Sewer","Educational establishment other than an educational establishment for the Flying Start for Queensland Children program","Educational establishment other than an educational establishment for the Flying Start for Queensland Children program","Educational Facility","NR_1","Impervious Area",5,0,0,{"$f":"INDEX(CHARGES,MATCH($D1135&$F1135,$AQ$2:$AQ$44&$AR$2:$AR$44,0),MATCH(J$1,$AS$1:$AX$1,0))","v":5},{"$f":"INDEX(CHARGES,MATCH($D1135&$F1135,$AQ$2:$AQ$44&$AR$2:$AR$44,0),MATCH(K$1,$AS$1:$AX$1,0))","v":0},{"$f":"INDEX(CHARGES,MATCH($D1135&$F1135,$AQ$2:$AQ$44&$AR$2:$AR$44,0),MATCH(L$1,$AS$1:$AX$1,0))","v":0}]
["Other Areas - No Water or Sewer","Educational establishment that is an educational establishment for the Flying Start for Queensland Children program","Educational establishment that is an educational establishment for the Flying Start for Queensland Children program","Educational Facility","NR_1","Gross Floor Area",48,0,0,{"$f":"INDEX(CHARGES,MATCH($D1136&$F1136,$AQ$2:$AQ$44&$AR$2:$AR$44,0),MATCH(J$1,$AS$1:$AX$1,0))","v":0},{"$f":"INDEX(CHARGES,MATCH($D1136&$F1136,$AQ$2:$AQ$44&$AR$2:$AR$44,0),MATCH(K$1,$AS$1:$AX$1,0))","v":48},{"$f":"INDEX(CHARGES,MATCH($D1136&$F1136,$AQ$2:$AQ$44&$AR$2:$AR$44,0),MATCH(L$1,$AS$1:$AX$1,0))","v":0}]
["Other Areas - No Water or Sewer","Educational establishment that is an educational establishment for the Flying Start for Queensland Children program","Educational establishment that is an educational establishment for the Flying Start for Queensland Children program","Educational Facility","NR_1","Impervious Area",5,0,0,{"$f":"INDEX(CHARGES,MATCH($D1137&$F1137,$AQ$2:$AQ$44&$AR$2:$AR$44,0),MATCH(J$1,$AS$1:$AX$1,0))","v":5},{"$f":"INDEX(CHARGES,MATCH($D1137&$F1137,$AQ$2:$AQ$44&$AR$2:$AR$44,0),MATCH(K$1,$AS$1:$AX$1,0))","v":0},{"$f":"INDEX(CHARGES,MATCH($D1137&$F1137,$AQ$2:$AQ$44&$AR$2:$AR$44,0),MATCH(L$1,$AS$1:$AX$1,0))","v":0}]
["Other Areas - No Water or Sewer","Emergency services","Emergency services","Essential services","NR_1","Gross Floor Area",48,0,0,{"$f":"INDEX(CHARGES,MATCH($D1138&$F1138,$AQ$2:$AQ$44&$AR$2:$AR$44,0),MATCH(J$1,$AS$1:$AX$1,0))","v":0},{"$f":"INDEX(CHARGES,MATCH($D1138&$F1138,$AQ$2:$AQ$44&$AR$2:$AR$44,0),MATCH(K$1,$AS$1:$AX$1,0))","v":48},{"$f":"INDEX(CHARGES,MATCH($D1138&$F1138,$AQ$2:$AQ$44&$AR$2:$AR$44,0),MATCH(L$1,$AS$1:$AX$1,0))","v":0}]
["Other Areas - No Water or Sewer","Emergency services","Emergency services","Essential services","NR_1","Impervious Area",5,0,0,{"$f":"INDEX(CHARGES,MATCH($D1139&$F1139,$AQ$2:$AQ$44&$AR$2:$AR$44,0),MATCH(J$1,$AS$1:$AX$1,0))","v":5},{"$f":"INDEX(CHARGES,MATCH($D1139&$F1139,$AQ$2:$AQ$44&$AR$2:$AR$44,0),MATCH(K$1,$AS$1:$AX$1,0))","v":0},{"$f":"INDEX(CHARGES,MATCH($D1139&$F1139,$AQ$2:$AQ$44&$AR$2:$AR$44,0),MATCH(L$1,$AS$1:$AX$1,0))","v":0}]
["Other Areas - No Water or Sewer","Environment facility",null,"Other uses","NR_1","Gross Floor Area",0,0,0,{"$f":"INDEX(CHARGES,MATCH($D1140&$F1140,$AQ$2:$AQ$44&$AR$2:$AR$44,0),MATCH(J$1,$AS$1:$AX$1,0))","v":0},{"$f":"INDEX(CHARGES,MATCH($D1140&$F1140,$AQ$2:$AQ$44&$AR$2:$AR$44,0),MATCH(K$1,$AS$1:$AX$1,0))","v":0},{"$f":"INDEX(CHARGES,MATCH($D1140&$F1140,$AQ$2:$AQ$44&$AR$2:$AR$44,0),MATCH(L$1,$AS$1:$AX$1,0))","v":0}]
["Other Areas - No Water or Sewer","Environment facility",null,"Other uses","NR_1","Impervious Area",0,0,0,{"$f":"INDEX(CHARGES,MATCH($D1141&$F1141,$AQ$2:$AQ$44&$AR$2:$AR$44,0),MATCH(J$1,$AS$1:$AX$1,0))","v":0},{"$f":"INDEX(CHARGES,MATCH($D1141&$F1141,$AQ$2:$AQ$44&$AR$2:$AR$44,0),MATCH(K$1,$AS$1:$AX$1,0))","v":0},{"$f":"INDEX(CHARGES,MATCH($D1141&$F1141,$AQ$2:$AQ$44&$AR$2:$AR$44,0),MATCH(L$1,$AS$1:$AX$1,0))","v":0}]
["Other Areas - No Water or Sewer","Extractive industry","Extractive industry","Other uses","NR_1","Gross Floor Area",0,0,0,{"$f":"INDEX(CHARGES,MATCH($D1142&$F1142,$AQ$2:$AQ$44&$AR$2:$AR$44,0),MATCH(J$1,$AS$1:$AX$1,0))","v":0},{"$f":"INDEX(CHARGES,MATCH($D1142&$F1142,$AQ$2:$AQ$44&$AR$2:$AR$44,0),MATCH(K$1,$AS$1:$AX$1,0))","v":0},{"$f":"INDEX(CHARGES,MATCH($D1142&$F1142,$AQ$2:$AQ$44&$AR$2:$AR$44,0),MATCH(L$1,$AS$1:$AX$1,0))","v":0}]
["Other Areas - No Water or Sewer","Extractive industry","Extractive industry","Other uses","NR_1","Impervious Area",0,0,0,{"$f":"INDEX(CHARGES,MATCH($D1143&$F1143,$AQ$2:$AQ$44&$AR$2:$AR$44,0),MATCH(J$1,$AS$1:$AX$1,0))","v":0},{"$f":"INDEX(CHARGES,MATCH($D1143&$F1143,$AQ$2:$AQ$44&$AR$2:$AR$44,0),MATCH(K$1,$AS$1:$AX$1,0))","v":0},{"$f":"INDEX(CHARGES,MATCH($D1143&$F1143,$AQ$2:$AQ$44&$AR$2:$AR$44,0),MATCH(L$1,$AS$1:$AX$1,0))","v":0}]
["Other Areas - No Water or Sewer","Food and drink outlet","Food and drink outlet","Commercial (retail)","NR_1","Gross Floor Area",61,0,0,{"$f":"INDEX(CHARGES,MATCH($D1144&$F1144,$AQ$2:$AQ$44&$AR$2:$AR$44,0),MATCH(J$1,$AS$1:$AX$1,0))","v":0},{"$f":"INDEX(CHARGES,MATCH($D1144&$F1144,$AQ$2:$AQ$44&$AR$2:$AR$44,0),MATCH(K$1,$AS$1:$AX$1,0))","v":61},{"$f":"INDEX(CHARGES,MATCH($D1144&$F1144,$AQ$2:$AQ$44&$AR$2:$AR$44,0),MATCH(L$1,$AS$1:$AX$1,0))","v":0}]
["Other Areas - No Water or Sewer","Food and drink outlet","Food and drink outlet","Commercial (retail)","NR_1","Impervious Area",5,0,0,{"$f":"INDEX(CHARGES,MATCH($D1145&$F1145,$AQ$2:$AQ$44&$AR$2:$AR$44,0),MATCH(J$1,$AS$1:$AX$1,0))","v":5},{"$f":"INDEX(CHARGES,MATCH($D1145&$F1145,$AQ$2:$AQ$44&$AR$2:$AR$44,0),MATCH(K$1,$AS$1:$AX$1,0))","v":0},{"$f":"INDEX(CHARGES,MATCH($D1145&$F1145,$AQ$2:$AQ$44&$AR$2:$AR$44,0),MATCH(L$1,$AS$1:$AX$1,0))","v":0}]
["Other Areas - No Water or Sewer","Office","Office","Commercial (office)","NR_1","Gross Floor Area",48,0,0,{"$f":"INDEX(CHARGES,MATCH($D1146&$F1146,$AQ$2:$AQ$44&$AR$2:$AR$44,0),MATCH(J$1,$AS$1:$AX$1,0))","v":0},{"$f":"INDEX(CHARGES,MATCH($D1146&$F1146,$AQ$2:$AQ$44&$AR$2:$AR$44,0),MATCH(K$1,$AS$1:$AX$1,0))","v":48},{"$f":"INDEX(CHARGES,MATCH($D1146&$F1146,$AQ$2:$AQ$44&$AR$2:$AR$44,0),MATCH(L$1,$AS$1:$AX$1,0))","v":0}]
["Other Areas - No Water or Sewer","Office","Office","Commercial (office)","NR_1","Impervious Area",5,0,0,{"$f":"INDEX(CHARGES,MATCH($D1147&$F1147,$AQ$2:$AQ$44&$AR$2:$AR$44,0),MATCH(J$1,$AS$1:$AX$1,0))","v":5},{"$f":"INDEX(CHARGES,MATCH($D1147&$F1147,$AQ$2:$AQ$44&$AR$2:$AR$44,0),MATCH(K$1,$AS$1:$AX$1,0))","v":0},{"$f":"INDEX(CHARGES,MATCH($D1147&$F1147,$AQ$2:$AQ$44&$AR$2:$AR$44,0),MATCH(L$1,$AS$1:$AX$1,0))","v":0}]
["Other Areas - No Water or Sewer","Outdoor sales","Outdoor sales","Commercial (retail)","NR_1","Gross Floor Area",61,0,0,{"$f":"INDEX(CHARGES,MATCH($D1148&$F1148,$AQ$2:$AQ$44&$AR$2:$AR$44,0),MATCH(J$1,$AS$1:$AX$1,0))","v":0},{"$f":"INDEX(CHARGES,MATCH($D1148&$F1148,$AQ$2:$AQ$44&$AR$2:$AR$44,0),MATCH(K$1,$AS$1:$AX$1,0))","v":61},{"$f":"INDEX(CHARGES,MATCH($D1148&$F1148,$AQ$2:$AQ$44&$AR$2:$AR$44,0),MATCH(L$1,$AS$1:$AX$1,0))","v":0}]
["Other Areas - No Water or Sewer","Outdoor sales","Outdoor sales","Commercial (retail)","NR_1","Impervious Area",5,0,0,{"$f":"INDEX(CHARGES,MATCH($D1149&$F1149,$AQ$2:$AQ$44&$AR$2:$AR$44,0),MATCH(J$1,$AS$1:$AX$1,0))","v":5},{"$f":"INDEX(CHARGES,MATCH($D1149&$F1149,$AQ$2:$AQ$44&$AR$2:$AR$44,0),MATCH(K$1,$AS$1:$AX$1,0))","v":0},{"$f":"INDEX(CHARGES,MATCH($D1149&$F1149,$AQ$2:$AQ$44&$AR$2:$AR$44,0),MATCH(L$1,$AS$1:$AX$1,0))","v":0}]
["Other Areas - No Water or Sewer","Outdoor sport and recreation","Outdoor sport and recreation","Other uses","NR_2","Gross Floor Area - not court area",0,0,0,{"$f":"INDEX(CHARGES,MATCH($D1150&$F1150,$AQ$2:$AQ$44&$AR$2:$AR$44,0),MATCH(J$1,$AS$1:$AX$1,0))","v":0},{"$f":"INDEX(CHARGES,MATCH($D1150&$F1150,$AQ$2:$AQ$44&$AR$2:$AR$44,0),MATCH(K$1,$AS$1:$AX$1,0))","v":0},{"$f":"INDEX(CHARGES,MATCH($D1150&$F1150,$AQ$2:$AQ$44&$AR$2:$AR$44,0),MATCH(L$1,$AS$1:$AX$1,0))","v":0}]
["Other Areas - No Water or Sewer","Outdoor sport and recreation","Outdoor sport and recreation","Other uses","NR_2","Gross Floor Area - court area",0,0,0,{"$f":"INDEX(CHARGES,MATCH($D1151&$F1151,$AQ$2:$AQ$44&$AR$2:$AR$44,0),MATCH(J$1,$AS$1:$AX$1,0))","v":0},{"$f":"INDEX(CHARGES,MATCH($D1151&$F1151,$AQ$2:$AQ$44&$AR$2:$AR$44,0),MATCH(K$1,$AS$1:$AX$1,0))","v":0},{"$f":"INDEX(CHARGES,MATCH($D1151&$F1151,$AQ$2:$AQ$44&$AR$2:$AR$44,0),MATCH(L$1,$AS$1:$AX$1,0))","v":0}]
["Other Areas - No Water or Sewer","Outdoor sport and recreation","Outdoor sport and recreation","Other uses","NR_2","Impervious Area",0,0,0,{"$f":"INDEX(CHARGES,MATCH($D1152&$F1152,$AQ$2:$AQ$44&$AR$2:$AR$44,0),MATCH(J$1,$AS$1:$AX$1,0))","v":0},{"$f":"INDEX(CHARGES,MATCH($D1152&$F1152,$AQ$2:$AQ$44&$AR$2:$AR$44,0),MATCH(K$1,$AS$1:$AX$1,0))","v":0},{"$f":"INDEX(CHARGES,MATCH($D1152&$F1152,$AQ$2:$AQ$44&$AR$2:$AR$44,0),MATCH(L$1,$AS$1:$AX$1,0))","v":0}]
["Other Areas - No Water or Sewer","Outstation",null,"Other uses","NR_1","Gross Floor Area",0,0,0,{"$f":"INDEX(CHARGES,MATCH($D1153&$F1153,$AQ$2:$AQ$44&$AR$2:$AR$44,0),MATCH(J$1,$AS$1:$AX$1,0))","v":0},{"$f":"INDEX(CHARGES,MATCH($D1153&$F1153,$AQ$2:$AQ$44&$AR$2:$AR$44,0),MATCH(K$1,$AS$1:$AX$1,0))","v":0},{"$f":"INDEX(CHARGES,MATCH($D1153&$F1153,$AQ$2:$AQ$44&$AR$2:$AR$44,0),MATCH(L$1,$AS$1:$AX$1,0))","v":0}]
["Other Areas - No Water or Sewer","Outstation",null,"Other uses","NR_1","Impervious Area",0,0,0,{"$f":"INDEX(CHARGES,MATCH($D1154&$F1154,$AQ$2:$AQ$44&$AR$2:$AR$44,0),MATCH(J$1,$AS$1:$AX$1,0))","v":0},{"$f":"INDEX(CHARGES,MATCH($D1154&$F1154,$AQ$2:$AQ$44&$AR$2:$AR$44,0),MATCH(K$1,$AS$1:$AX$1,0))","v":0},{"$f":"INDEX(CHARGES,MATCH($D1154&$F1154,$AQ$2:$AQ$44&$AR$2:$AR$44,0),MATCH(L$1,$AS$1:$AX$1,0))","v":0}]
["Other Areas - No Water or Sewer","Park","Park","Minor uses","NR_3","Gross Floor Area",0,0,0,{"$f":"INDEX(CHARGES,MATCH($D1155&$F1155,$AQ$2:$AQ$44&$AR$2:$AR$44,0),MATCH(J$1,$AS$1:$AX$1,0))","v":0},{"$f":"INDEX(CHARGES,MATCH($D1155&$F1155,$AQ$2:$AQ$44&$AR$2:$AR$44,0),MATCH(K$1,$AS$1:$AX$1,0))","v":0},{"$f":"INDEX(CHARGES,MATCH($D1155&$F1155,$AQ$2:$AQ$44&$AR$2:$AR$44,0),MATCH(L$1,$AS$1:$AX$1,0))","v":0}]
["Other Areas - No Water or Sewer","Parking station",null,"Other uses","NR_1","Gross Floor Area",{"$f":"SUM(H1156:L1156)","v":0},0,0,{"$f":"INDEX(CHARGES,MATCH($D1156&$F1156,$AQ$2:$AQ$44&$AR$2:$AR$44,0),MATCH(J$1,$AS$1:$AX$1,0))","v":0},{"$f":"INDEX(CHARGES,MATCH($D1156&$F1156,$AQ$2:$AQ$44&$AR$2:$AR$44,0),MATCH(K$1,$AS$1:$AX$1,0))","v":0},{"$f":"INDEX(CHARGES,MATCH($D1156&$F1156,$AQ$2:$AQ$44&$AR$2:$AR$44,0),MATCH(L$1,$AS$1:$AX$1,0))","v":0}]
["Other Areas - No Water or Sewer","Parking station",null,"Other uses","NR_1","Impervious Area",0,0,0,{"$f":"INDEX(CHARGES,MATCH($D1157&$F1157,$AQ$2:$AQ$44&$AR$2:$AR$44,0),MATCH(J$1,$AS$1:$AX$1,0))","v":0},{"$f":"INDEX(CHARGES,MATCH($D1157&$F1157,$AQ$2:$AQ$44&$AR$2:$AR$44,0),MATCH(K$1,$AS$1:$AX$1,0))","v":0},{"$f":"INDEX(CHARGES,MATCH($D1157&$F1157,$AQ$2:$AQ$44&$AR$2:$AR$44,0),MATCH(L$1,$AS$1:$AX$1,0))","v":0}]
["Other Areas - No Water or Sewer","Permanent plantation","Permanent plantation","Low impact rural","NR_3","Gross Floor Area",0,0,0,{"$f":"INDEX(CHARGES,MATCH($D1158&$F1158,$AQ$2:$AQ$44&$AR$2:$AR$44,0),MATCH(J$1,$AS$1:$AX$1,0))","v":0},{"$f":"INDEX(CHARGES,MATCH($D1158&$F1158,$AQ$2:$AQ$44&$AR$2:$AR$44,0),MATCH(K$1,$AS$1:$AX$1,0))","v":0},{"$f":"INDEX(CHARGES,MATCH($D1158&$F1158,$AQ$2:$AQ$44&$AR$2:$AR$44,0),MATCH(L$1,$AS$1:$AX$1,0))","v":0}]
["Other Areas - No Water or Sewer","Function facility","Function facility","Places of assembly","NR_1","Gross Floor Area",24,0,0,{"$f":"INDEX(CHARGES,MATCH($D1159&$F1159,$AQ$2:$AQ$44&$AR$2:$AR$44,0),MATCH(J$1,$AS$1:$AX$1,0))","v":0},{"$f":"INDEX(CHARGES,MATCH($D1159&$F1159,$AQ$2:$AQ$44&$AR$2:$AR$44,0),MATCH(K$1,$AS$1:$AX$1,0))","v":24},{"$f":"INDEX(CHARGES,MATCH($D1159&$F1159,$AQ$2:$AQ$44&$AR$2:$AR$44,0),MATCH(L$1,$AS$1:$AX$1,0))","v":0}]
["Other Areas - No Water or Sewer","Function facility","Function facility","Places of assembly","NR_1","Impervious Area",5,0,0,{"$f":"INDEX(CHARGES,MATCH($D1160&$F1160,$AQ$2:$AQ$44&$AR$2:$AR$44,0),MATCH(J$1,$AS$1:$AX$1,0))","v":5},{"$f":"INDEX(CHARGES,MATCH($D1160&$F1160,$AQ$2:$AQ$44&$AR$2:$AR$44,0),MATCH(K$1,$AS$1:$AX$1,0))","v":0},{"$f":"INDEX(CHARGES,MATCH($D1160&$F1160,$AQ$2:$AQ$44&$AR$2:$AR$44,0),MATCH(L$1,$AS$1:$AX$1,0))","v":0}]
["Other Areas - No Water or Sewer","Funeral parlour","Funeral parlour","Places of assembly","NR_1","Gross Floor Area",24,0,0,{"$f":"INDEX(CHARGES,MATCH($D1161&$F1161,$AQ$2:$AQ$44&$AR$2:$AR$44,0),MATCH(J$1,$AS$1:$AX$1,0))","v":0},{"$f":"INDEX(CHARGES,MATCH($D1161&$F1161,$AQ$2:$AQ$44&$AR$2:$AR$44,0),MATCH(K$1,$AS$1:$AX$1,0))","v":24},{"$f":"INDEX(CHARGES,MATCH($D1161&$F1161,$AQ$2:$AQ$44&$AR$2:$AR$44,0),MATCH(L$1,$AS$1:$AX$1,0))","v":0}]
["Other Areas - No Water or Sewer","Funeral parlour","Funeral parlour","Places of assembly","NR_1","Impervious Area",5,0,0,{"$f":"INDEX(CHARGES,MATCH($D1162&$F1162,$AQ$2:$AQ$44&$AR$2:$AR$44,0),MATCH(J$1,$AS$1:$AX$1,0))","v":5},{"$f":"INDEX(CHARGES,MATCH($D1162&$F1162,$AQ$2:$AQ$44&$AR$2:$AR$44,0),MATCH(K$1,$AS$1:$AX$1,0))","v":0},{"$f":"INDEX(CHARGES,MATCH($D1162&$F1162,$AQ$2:$AQ$44&$AR$2:$AR$44,0),MATCH(L$1,$AS$1:$AX$1,0))","v":0}]
["Other Areas - No Water or Sewer","Garden centre","Garden centre","Commercial (bulk goods)","NR_1","Gross Floor Area",48,0,0,{"$f":"INDEX(CHARGES,MATCH($D1163&$F1163,$AQ$2:$AQ$44&$AR$2:$AR$44,0),MATCH(J$1,$AS$1:$AX$1,0))","v":0},{"$f":"INDEX(CHARGES,MATCH($D1163&$F1163,$AQ$2:$AQ$44&$AR$2:$AR$44,0),MATCH(K$1,$AS$1:$AX$1,0))","v":48},{"$f":"INDEX(CHARGES,MATCH($D1163&$F1163,$AQ$2:$AQ$44&$AR$2:$AR$44,0),MATCH(L$1,$AS$1:$AX$1,0))","v":0}]
["Other Areas - No Water or Sewer","Garden centre","Garden centre","Commercial (bulk goods)","NR_1","Impervious Area",5,0,0,{"$f":"INDEX(CHARGES,MATCH($D1164&$F1164,$AQ$2:$AQ$44&$AR$2:$AR$44,0),MATCH(J$1,$AS$1:$AX$1,0))","v":5},{"$f":"INDEX(CHARGES,MATCH($D1164&$F1164,$AQ$2:$AQ$44&$AR$2:$AR$44,0),MATCH(K$1,$AS$1:$AX$1,0))","v":0},{"$f":"INDEX(CHARGES,MATCH($D1164&$F1164,$AQ$2:$AQ$44&$AR$2:$AR$44,0),MATCH(L$1,$AS$1:$AX$1,0))","v":0}]
["Other Areas - No Water or Sewer","Hardware and trade supplies","Hardware and trade supplies","Commercial (bulk goods)","NR_1","Gross Floor Area",48,0,0,{"$f":"INDEX(CHARGES,MATCH($D1165&$F1165,$AQ$2:$AQ$44&$AR$2:$AR$44,0),MATCH(J$1,$AS$1:$AX$1,0))","v":0},{"$f":"INDEX(CHARGES,MATCH($D1165&$F1165,$AQ$2:$AQ$44&$AR$2:$AR$44,0),MATCH(K$1,$AS$1:$AX$1,0))","v":48},{"$f":"INDEX(CHARGES,MATCH($D1165&$F1165,$AQ$2:$AQ$44&$AR$2:$AR$44,0),MATCH(L$1,$AS$1:$AX$1,0))","v":0}]
["Other Areas - No Water or Sewer","Hardware and trade supplies","Hardware and trade supplies","Commercial (bulk goods)","NR_1","Impervious Area",5,0,0,{"$f":"INDEX(CHARGES,MATCH($D1166&$F1166,$AQ$2:$AQ$44&$AR$2:$AR$44,0),MATCH(J$1,$AS$1:$AX$1,0))","v":5},{"$f":"INDEX(CHARGES,MATCH($D1166&$F1166,$AQ$2:$AQ$44&$AR$2:$AR$44,0),MATCH(K$1,$AS$1:$AX$1,0))","v":0},{"$f":"INDEX(CHARGES,MATCH($D1166&$F1166,$AQ$2:$AQ$44&$AR$2:$AR$44,0),MATCH(L$1,$AS$1:$AX$1,0))","v":0}]
["Other Areas - No Water or Sewer","Health care services","Health care service","Essential services","NR_1","Gross Floor Area",48,0,0,{"$f":"INDEX(CHARGES,MATCH($D1167&$F1167,$AQ$2:$AQ$44&$AR$2:$AR$44,0),MATCH(J$1,$AS$1:$AX$1,0))","v":0},{"$f":"INDEX(CHARGES,MATCH($D1167&$F1167,$AQ$2:$AQ$44&$AR$2:$AR$44,0),MATCH(K$1,$AS$1:$AX$1,0))","v":48},{"$f":"INDEX(CHARGES,MATCH($D1167&$F1167,$AQ$2:$AQ$44&$AR$2:$AR$44,0),MATCH(L$1,$AS$1:$AX$1,0))","v":0}]
["Other Areas - No Water or Sewer","Health care services","Health care service","Essential services","NR_1","Impervious Area",5,0,0,{"$f":"INDEX(CHARGES,MATCH($D1168&$F1168,$AQ$2:$AQ$44&$AR$2:$AR$44,0),MATCH(J$1,$AS$1:$AX$1,0))","v":5},{"$f":"INDEX(CHARGES,MATCH($D1168&$F1168,$AQ$2:$AQ$44&$AR$2:$AR$44,0),MATCH(K$1,$AS$1:$AX$1,0))","v":0},{"$f":"INDEX(CHARGES,MATCH($D1168&$F1168,$AQ$2:$AQ$44&$AR$2:$AR$44,0),MATCH(L$1,$AS$1:$AX$1,0))","v":0}]
["Other Areas - No Water or Sewer","High impact industry","High impact industry","High impact industry or special industry","NR_1","Gross Floor Area",24,0,0,{"$f":"INDEX(CHARGES,MATCH($D1169&$F1169,$AQ$2:$AQ$44&$AR$2:$AR$44,0),MATCH(J$1,$AS$1:$AX$1,0))","v":0},{"$f":"INDEX(CHARGES,MATCH($D1169&$F1169,$AQ$2:$AQ$44&$AR$2:$AR$44,0),MATCH(K$1,$AS$1:$AX$1,0))","v":24},{"$f":"INDEX(CHARGES,MATCH($D1169&$F1169,$AQ$2:$AQ$44&$AR$2:$AR$44,0),MATCH(L$1,$AS$1:$AX$1,0))","v":0}]
["Other Areas - No Water or Sewer","High impact industry","High impact industry","High impact industry or special industry","NR_1","Impervious Area",5,0,0,{"$f":"INDEX(CHARGES,MATCH($D1170&$F1170,$AQ$2:$AQ$44&$AR$2:$AR$44,0),MATCH(J$1,$AS$1:$AX$1,0))","v":5},{"$f":"INDEX(CHARGES,MATCH($D1170&$F1170,$AQ$2:$AQ$44&$AR$2:$AR$44,0),MATCH(K$1,$AS$1:$AX$1,0))","v":0},{"$f":"INDEX(CHARGES,MATCH($D1170&$F1170,$AQ$2:$AQ$44&$AR$2:$AR$44,0),MATCH(L$1,$AS$1:$AX$1,0))","v":0}]
["Other Areas - No Water or Sewer","Home based business","Home based business","Minor uses","NR_3","Gross Floor Area",0,0,0,{"$f":"INDEX(CHARGES,MATCH($D1171&$F1171,$AQ$2:$AQ$44&$AR$2:$AR$44,0),MATCH(J$1,$AS$1:$AX$1,0))","v":0},{"$f":"INDEX(CHARGES,MATCH($D1171&$F1171,$AQ$2:$AQ$44&$AR$2:$AR$44,0),MATCH(K$1,$AS$1:$AX$1,0))","v":0},{"$f":"INDEX(CHARGES,MATCH($D1171&$F1171,$AQ$2:$AQ$44&$AR$2:$AR$44,0),MATCH(L$1,$AS$1:$AX$1,0))","v":0}]
["Other Areas - No Water or Sewer","Hospital","Hospital","Essential services","NR_1","Gross Floor Area",48,0,0,{"$f":"INDEX(CHARGES,MATCH($D1172&$F1172,$AQ$2:$AQ$44&$AR$2:$AR$44,0),MATCH(J$1,$AS$1:$AX$1,0))","v":0},{"$f":"INDEX(CHARGES,MATCH($D1172&$F1172,$AQ$2:$AQ$44&$AR$2:$AR$44,0),MATCH(K$1,$AS$1:$AX$1,0))","v":48},{"$f":"INDEX(CHARGES,MATCH($D1172&$F1172,$AQ$2:$AQ$44&$AR$2:$AR$44,0),MATCH(L$1,$AS$1:$AX$1,0))","v":0}]
["Other Areas - No Water or Sewer","Hospital","Hospital","Essential services","NR_1","Impervious Area",5,0,0,{"$f":"INDEX(CHARGES,MATCH($D1173&$F1173,$AQ$2:$AQ$44&$AR$2:$AR$44,0),MATCH(J$1,$AS$1:$AX$1,0))","v":5},{"$f":"INDEX(CHARGES,MATCH($D1173&$F1173,$AQ$2:$AQ$44&$AR$2:$AR$44,0),MATCH(K$1,$AS$1:$AX$1,0))","v":0},{"$f":"INDEX(CHARGES,MATCH($D1173&$F1173,$AQ$2:$AQ$44&$AR$2:$AR$44,0),MATCH(L$1,$AS$1:$AX$1,0))","v":0}]
["Other Areas - No Water or Sewer","Hotel - Accommodation component","Hotel","Accommodation (short-term)","RU_2","bedroom that is not part of a suite",{"$f":"SUM(H1174:L1174)","v":2829},0,0,{"$f":"INDEX(CHARGES,MATCH($D1174&$F1174,$AQ$2:$AQ$44&$AR$2:$AR$44,0),MATCH(J$1,$AS$1:$AX$1,0))","v":104},{"$f":"INDEX(CHARGES,MATCH($D1174&$F1174,$AQ$2:$AQ$44&$AR$2:$AR$44,0),MATCH(K$1,$AS$1:$AX$1,0))","v":2620},{"$f":"INDEX(CHARGES,MATCH($D1174&$F1174,$AQ$2:$AQ$44&$AR$2:$AR$44,0),MATCH(L$1,$AS$1:$AX$1,0))","v":105}]
["Other Areas - No Water or Sewer","Hotel - Accommodation component","Hotel","Accommodation (short-term)","RU_2","2 or less bedrooms",2829,0,0,{"$f":"INDEX(CHARGES,MATCH($D1175&$F1175,$AQ$2:$AQ$44&$AR$2:$AR$44,0),MATCH(J$1,$AS$1:$AX$1,0))","v":104},{"$f":"INDEX(CHARGES,MATCH($D1175&$F1175,$AQ$2:$AQ$44&$AR$2:$AR$44,0),MATCH(K$1,$AS$1:$AX$1,0))","v":2620},{"$f":"INDEX(CHARGES,MATCH($D1175&$F1175,$AQ$2:$AQ$44&$AR$2:$AR$44,0),MATCH(L$1,$AS$1:$AX$1,0))","v":105}]
["Other Areas - No Water or Sewer","Hotel - Accommodation component","Hotel","Accommodation (short-term)","RU_2","3 or more bedrooms",3961,0,0,{"$f":"INDEX(CHARGES,MATCH($D1176&$F1176,$AQ$2:$AQ$44&$AR$2:$AR$44,0),MATCH(J$1,$AS$1:$AX$1,0))","v":146},{"$f":"INDEX(CHARGES,MATCH($D1176&$F1176,$AQ$2:$AQ$44&$AR$2:$AR$44,0),MATCH(K$1,$AS$1:$AX$1,0))","v":3668},{"$f":"INDEX(CHARGES,MATCH($D1176&$F1176,$AQ$2:$AQ$44&$AR$2:$AR$44,0),MATCH(L$1,$AS$1:$AX$1,0))","v":147}]
["Other Areas - No Water or Sewer","Hotel - Entertainment component","Hotel","Entertainment","NR_1","Gross Floor Area",68,0,0,{"$f":"INDEX(CHARGES,MATCH($D1177&$F1177,$AQ$2:$AQ$44&$AR$2:$AR$44,0),MATCH(J$1,$AS$1:$AX$1,0))","v":0},{"$f":"INDEX(CHARGES,MATCH($D1177&$F1177,$AQ$2:$AQ$44&$AR$2:$AR$44,0),MATCH(K$1,$AS$1:$AX$1,0))","v":68},{"$f":"INDEX(CHARGES,MATCH($D1177&$F1177,$AQ$2:$AQ$44&$AR$2:$AR$44,0),MATCH(L$1,$AS$1:$AX$1,0))","v":0}]
["Other Areas - No Water or Sewer","Hotel - Entertainment component","Hotel","Entertainment","NR_1","Impervious Area",5,0,0,{"$f":"INDEX(CHARGES,MATCH($D1178&$F1178,$AQ$2:$AQ$44&$AR$2:$AR$44,0),MATCH(J$1,$AS$1:$AX$1,0))","v":5},{"$f":"INDEX(CHARGES,MATCH($D1178&$F1178,$AQ$2:$AQ$44&$AR$2:$AR$44,0),MATCH(K$1,$AS$1:$AX$1,0))","v":0},{"$f":"INDEX(CHARGES,MATCH($D1178&$F1178,$AQ$2:$AQ$44&$AR$2:$AR$44,0),MATCH(L$1,$AS$1:$AX$1,0))","v":0}]
["Other Areas - No Water or Sewer","Indoor sport and recreation","Indoor sport and recreation","Indoor sport and recreation","NR_2","Gross Floor Area - not court area",68,0,0,{"$f":"INDEX(CHARGES,MATCH($D1179&$F1179,$AQ$2:$AQ$44&$AR$2:$AR$44,0),MATCH(J$1,$AS$1:$AX$1,0))","v":0},{"$f":"INDEX(CHARGES,MATCH($D1179&$F1179,$AQ$2:$AQ$44&$AR$2:$AR$44,0),MATCH(K$1,$AS$1:$AX$1,0))","v":68},{"$f":"INDEX(CHARGES,MATCH($D1179&$F1179,$AQ$2:$AQ$44&$AR$2:$AR$44,0),MATCH(L$1,$AS$1:$AX$1,0))","v":0}]
["Other Areas - No Water or Sewer","Indoor sport and recreation","Indoor sport and recreation","Indoor sport and recreation","NR_2","Gross Floor Area - court area",7,0,0,{"$f":"INDEX(CHARGES,MATCH($D1180&$F1180,$AQ$2:$AQ$44&$AR$2:$AR$44,0),MATCH(J$1,$AS$1:$AX$1,0))","v":0},{"$f":"INDEX(CHARGES,MATCH($D1180&$F1180,$AQ$2:$AQ$44&$AR$2:$AR$44,0),MATCH(K$1,$AS$1:$AX$1,0))","v":7},{"$f":"INDEX(CHARGES,MATCH($D1180&$F1180,$AQ$2:$AQ$44&$AR$2:$AR$44,0),MATCH(L$1,$AS$1:$AX$1,0))","v":0}]
["Other Areas - No Water or Sewer","Indoor sport and recreation","Indoor sport and recreation","Indoor sport and recreation","NR_2","Impervious Area",5,0,0,{"$f":"INDEX(CHARGES,MATCH($D1181&$F1181,$AQ$2:$AQ$44&$AR$2:$AR$44,0),MATCH(J$1,$AS$1:$AX$1,0))","v":5},{"$f":"INDEX(CHARGES,MATCH($D1181&$F1181,$AQ$2:$AQ$44&$AR$2:$AR$44,0),MATCH(K$1,$AS$1:$AX$1,0))","v":0},{"$f":"INDEX(CHARGES,MATCH($D1181&$F1181,$AQ$2:$AQ$44&$AR$2:$AR$44,0),MATCH(L$1,$AS$1:$AX$1,0))","v":0}]
["Other Areas - No Water or Sewer","Intensive animal industry","Intensive animal industry","High impact rural","NR_3","Gross Floor Area",7,0,0,{"$f":"INDEX(CHARGES,MATCH($D1182&$F1182,$AQ$2:$AQ$44&$AR$2:$AR$44,0),MATCH(J$1,$AS$1:$AX$1,0))","v":0},{"$f":"INDEX(CHARGES,MATCH($D1182&$F1182,$AQ$2:$AQ$44&$AR$2:$AR$44,0),MATCH(K$1,$AS$1:$AX$1,0))","v":7},{"$f":"INDEX(CHARGES,MATCH($D1182&$F1182,$AQ$2:$AQ$44&$AR$2:$AR$44,0),MATCH(L$1,$AS$1:$AX$1,0))","v":0}]
["Other Areas - No Water or Sewer","Intensive horticulture","Intensive horticulture","High impact rural","NR_3","Gross Floor Area",7,0,0,{"$f":"INDEX(CHARGES,MATCH($D1183&$F1183,$AQ$2:$AQ$44&$AR$2:$AR$44,0),MATCH(J$1,$AS$1:$AX$1,0))","v":0},{"$f":"INDEX(CHARGES,MATCH($D1183&$F1183,$AQ$2:$AQ$44&$AR$2:$AR$44,0),MATCH(K$1,$AS$1:$AX$1,0))","v":7},{"$f":"INDEX(CHARGES,MATCH($D1183&$F1183,$AQ$2:$AQ$44&$AR$2:$AR$44,0),MATCH(L$1,$AS$1:$AX$1,0))","v":0}]
["Other Areas - No Water or Sewer","Landing","Landing","Minor uses","NR_3","Gross Floor Area",0,0,0,{"$f":"INDEX(CHARGES,MATCH($D1184&$F1184,$AQ$2:$AQ$44&$AR$2:$AR$44,0),MATCH(J$1,$AS$1:$AX$1,0))","v":0},{"$f":"INDEX(CHARGES,MATCH($D1184&$F1184,$AQ$2:$AQ$44&$AR$2:$AR$44,0),MATCH(K$1,$AS$1:$AX$1,0))","v":0},{"$f":"INDEX(CHARGES,MATCH($D1184&$F1184,$AQ$2:$AQ$44&$AR$2:$AR$44,0),MATCH(L$1,$AS$1:$AX$1,0))","v":0}]
["Other Areas - No Water or Sewer","Low impact industry","Low impact industry","Other industry","NR_1","Gross Floor Area",17,0,0,{"$f":"INDEX(CHARGES,MATCH($D1185&$F1185,$AQ$2:$AQ$44&$AR$2:$AR$44,0),MATCH(J$1,$AS$1:$AX$1,0))","v":0},{"$f":"INDEX(CHARGES,MATCH($D1185&$F1185,$AQ$2:$AQ$44&$AR$2:$AR$44,0),MATCH(K$1,$AS$1:$AX$1,0))","v":17},{"$f":"INDEX(CHARGES,MATCH($D1185&$F1185,$AQ$2:$AQ$44&$AR$2:$AR$44,0),MATCH(L$1,$AS$1:$AX$1,0))","v":0}]
["Other Areas - No Water or Sewer","Low impact industry","Low impact industry","Other industry","NR_1","Impervious Area",5,0,0,{"$f":"INDEX(CHARGES,MATCH($D1186&$F1186,$AQ$2:$AQ$44&$AR$2:$AR$44,0),MATCH(J$1,$AS$1:$AX$1,0))","v":5},{"$f":"INDEX(CHARGES,MATCH($D1186&$F1186,$AQ$2:$AQ$44&$AR$2:$AR$44,0),MATCH(K$1,$AS$1:$AX$1,0))","v":0},{"$f":"INDEX(CHARGES,MATCH($D1186&$F1186,$AQ$2:$AQ$44&$AR$2:$AR$44,0),MATCH(L$1,$AS$1:$AX$1,0))","v":0}]
["Other Areas - No Water or Sewer","Major electricity infrastructure","Utility installation","Other uses","NR_1","Gross Floor Area",0,0,0,{"$f":"INDEX(CHARGES,MATCH($D1187&$F1187,$AQ$2:$AQ$44&$AR$2:$AR$44,0),MATCH(J$1,$AS$1:$AX$1,0))","v":0},{"$f":"INDEX(CHARGES,MATCH($D1187&$F1187,$AQ$2:$AQ$44&$AR$2:$AR$44,0),MATCH(K$1,$AS$1:$AX$1,0))","v":0},{"$f":"INDEX(CHARGES,MATCH($D1187&$F1187,$AQ$2:$AQ$44&$AR$2:$AR$44,0),MATCH(L$1,$AS$1:$AX$1,0))","v":0}]
["Other Areas - No Water or Sewer","Major electricity infrastructure","Utility installation","Other uses","NR_1","Impervious Area",0,0,0,{"$f":"INDEX(CHARGES,MATCH($D1188&$F1188,$AQ$2:$AQ$44&$AR$2:$AR$44,0),MATCH(J$1,$AS$1:$AX$1,0))","v":0},{"$f":"INDEX(CHARGES,MATCH($D1188&$F1188,$AQ$2:$AQ$44&$AR$2:$AR$44,0),MATCH(K$1,$AS$1:$AX$1,0))","v":0},{"$f":"INDEX(CHARGES,MATCH($D1188&$F1188,$AQ$2:$AQ$44&$AR$2:$AR$44,0),MATCH(L$1,$AS$1:$AX$1,0))","v":0}]
["Other Areas - No Water or Sewer","Major sport, recreation and entertainment facility","Major sport, recreation and entertainment facility","Other uses","NR_1","Gross Floor Area",0,0,0,{"$f":"INDEX(CHARGES,MATCH($D1189&$F1189,$AQ$2:$AQ$44&$AR$2:$AR$44,0),MATCH(J$1,$AS$1:$AX$1,0))","v":0},{"$f":"INDEX(CHARGES,MATCH($D1189&$F1189,$AQ$2:$AQ$44&$AR$2:$AR$44,0),MATCH(K$1,$AS$1:$AX$1,0))","v":0},{"$f":"INDEX(CHARGES,MATCH($D1189&$F1189,$AQ$2:$AQ$44&$AR$2:$AR$44,0),MATCH(L$1,$AS$1:$AX$1,0))","v":0}]
["Other Areas - No Water or Sewer","Major sport, recreation and entertainment facility","Major sport, recreation and entertainment facility","Other uses","NR_1","Impervious Area",0,0,0,{"$f":"INDEX(CHARGES,MATCH($D1190&$F1190,$AQ$2:$AQ$44&$AR$2:$AR$44,0),MATCH(J$1,$AS$1:$AX$1,0))","v":0},{"$f":"INDEX(CHARGES,MATCH($D1190&$F1190,$AQ$2:$AQ$44&$AR$2:$AR$44,0),MATCH(K$1,$AS$1:$AX$1,0))","v":0},{"$f":"INDEX(CHARGES,MATCH($D1190&$F1190,$AQ$2:$AQ$44&$AR$2:$AR$44,0),MATCH(L$1,$AS$1:$AX$1,0))","v":0}]
["Other Areas - No Water or Sewer","Marine industry","Marine industry","Other industry","NR_1","Gross Floor Area",17,0,0,{"$f":"INDEX(CHARGES,MATCH($D1191&$F1191,$AQ$2:$AQ$44&$AR$2:$AR$44,0),MATCH(J$1,$AS$1:$AX$1,0))","v":0},{"$f":"INDEX(CHARGES,MATCH($D1191&$F1191,$AQ$2:$AQ$44&$AR$2:$AR$44,0),MATCH(K$1,$AS$1:$AX$1,0))","v":17},{"$f":"INDEX(CHARGES,MATCH($D1191&$F1191,$AQ$2:$AQ$44&$AR$2:$AR$44,0),MATCH(L$1,$AS$1:$AX$1,0))","v":0}]
["Other Areas - No Water or Sewer","Marine industry","Marine industry","Other industry","NR_1","Impervious Area",5,0,0,{"$f":"INDEX(CHARGES,MATCH($D1192&$F1192,$AQ$2:$AQ$44&$AR$2:$AR$44,0),MATCH(J$1,$AS$1:$AX$1,0))","v":5},{"$f":"INDEX(CHARGES,MATCH($D1192&$F1192,$AQ$2:$AQ$44&$AR$2:$AR$44,0),MATCH(K$1,$AS$1:$AX$1,0))","v":0},{"$f":"INDEX(CHARGES,MATCH($D1192&$F1192,$AQ$2:$AQ$44&$AR$2:$AR$44,0),MATCH(L$1,$AS$1:$AX$1,0))","v":0}]
["Other Areas - No Water or Sewer","Market","Market","Minor uses","NR_3","Gross Floor Area",0,0,0,{"$f":"INDEX(CHARGES,MATCH($D1193&$F1193,$AQ$2:$AQ$44&$AR$2:$AR$44,0),MATCH(J$1,$AS$1:$AX$1,0))","v":0},{"$f":"INDEX(CHARGES,MATCH($D1193&$F1193,$AQ$2:$AQ$44&$AR$2:$AR$44,0),MATCH(K$1,$AS$1:$AX$1,0))","v":0},{"$f":"INDEX(CHARGES,MATCH($D1193&$F1193,$AQ$2:$AQ$44&$AR$2:$AR$44,0),MATCH(L$1,$AS$1:$AX$1,0))","v":0}]
["Other Areas - No Water or Sewer","Medium impact industry","Medium impact industry","Other industry","NR_1","Gross Floor Area",17,0,0,{"$f":"INDEX(CHARGES,MATCH($D1194&$F1194,$AQ$2:$AQ$44&$AR$2:$AR$44,0),MATCH(J$1,$AS$1:$AX$1,0))","v":0},{"$f":"INDEX(CHARGES,MATCH($D1194&$F1194,$AQ$2:$AQ$44&$AR$2:$AR$44,0),MATCH(K$1,$AS$1:$AX$1,0))","v":17},{"$f":"INDEX(CHARGES,MATCH($D1194&$F1194,$AQ$2:$AQ$44&$AR$2:$AR$44,0),MATCH(L$1,$AS$1:$AX$1,0))","v":0}]
["Other Areas - No Water or Sewer","Medium impact industry","Medium impact industry","Other industry","NR_1","Impervious Area",5,0,0,{"$f":"INDEX(CHARGES,MATCH($D1195&$F1195,$AQ$2:$AQ$44&$AR$2:$AR$44,0),MATCH(J$1,$AS$1:$AX$1,0))","v":5},{"$f":"INDEX(CHARGES,MATCH($D1195&$F1195,$AQ$2:$AQ$44&$AR$2:$AR$44,0),MATCH(K$1,$AS$1:$AX$1,0))","v":0},{"$f":"INDEX(CHARGES,MATCH($D1195&$F1195,$AQ$2:$AQ$44&$AR$2:$AR$44,0),MATCH(L$1,$AS$1:$AX$1,0))","v":0}]
["Other Areas - No Water or Sewer","Motor sport facility","Motor sport facility","Other uses","NR_1","Gross Floor Area",0,0,0,{"$f":"INDEX(CHARGES,MATCH($D1196&$F1196,$AQ$2:$AQ$44&$AR$2:$AR$44,0),MATCH(J$1,$AS$1:$AX$1,0))","v":0},{"$f":"INDEX(CHARGES,MATCH($D1196&$F1196,$AQ$2:$AQ$44&$AR$2:$AR$44,0),MATCH(K$1,$AS$1:$AX$1,0))","v":0},{"$f":"INDEX(CHARGES,MATCH($D1196&$F1196,$AQ$2:$AQ$44&$AR$2:$AR$44,0),MATCH(L$1,$AS$1:$AX$1,0))","v":0}]
["Other Areas - No Water or Sewer","Motor sport facility","Motor sport facility","Other uses","NR_1","Impervious Area",0,0,0,{"$f":"INDEX(CHARGES,MATCH($D1197&$F1197,$AQ$2:$AQ$44&$AR$2:$AR$44,0),MATCH(J$1,$AS$1:$AX$1,0))","v":0},{"$f":"INDEX(CHARGES,MATCH($D1197&$F1197,$AQ$2:$AQ$44&$AR$2:$AR$44,0),MATCH(K$1,$AS$1:$AX$1,0))","v":0},{"$f":"INDEX(CHARGES,MATCH($D1197&$F1197,$AQ$2:$AQ$44&$AR$2:$AR$44,0),MATCH(L$1,$AS$1:$AX$1,0))","v":0}]
["Other Areas - No Water or Sewer","Multiple dwelling","Multiple dwelling","Residential uses","RU_1","2 or less bedrooms",5658,0,0,{"$f":"INDEX(CHARGES,MATCH($D1198&$F1198,$AQ$2:$AQ$44&$AR$2:$AR$44,0),MATCH(J$1,$AS$1:$AX$1,0))","v":209},{"$f":"INDEX(CHARGES,MATCH($D1198&$F1198,$AQ$2:$AQ$44&$AR$2:$AR$44,0),MATCH(K$1,$AS$1:$AX$1,0))","v":5239},{"$f":"INDEX(CHARGES,MATCH($D1198&$F1198,$AQ$2:$AQ$44&$AR$2:$AR$44,0),MATCH(L$1,$AS$1:$AX$1,0))","v":210}]
["Other Areas - No Water or Sewer","Multiple dwelling","Multiple dwelling","Residential uses","RU_1","3 or more bedrooms",7921,0,0,{"$f":"INDEX(CHARGES,MATCH($D1199&$F1199,$AQ$2:$AQ$44&$AR$2:$AR$44,0),MATCH(J$1,$AS$1:$AX$1,0))","v":293},{"$f":"INDEX(CHARGES,MATCH($D1199&$F1199,$AQ$2:$AQ$44&$AR$2:$AR$44,0),MATCH(K$1,$AS$1:$AX$1,0))","v":7335},{"$f":"INDEX(CHARGES,MATCH($D1199&$F1199,$AQ$2:$AQ$44&$AR$2:$AR$44,0),MATCH(L$1,$AS$1:$AX$1,0))","v":293}]
["Other Areas - No Water or Sewer","Nature-based tourism",null,"Other uses","NR_1","Gross Floor Area",0,0,0,{"$f":"INDEX(CHARGES,MATCH($D1200&$F1200,$AQ$2:$AQ$44&$AR$2:$AR$44,0),MATCH(J$1,$AS$1:$AX$1,0))","v":0},{"$f":"INDEX(CHARGES,MATCH($D1200&$F1200,$AQ$2:$AQ$44&$AR$2:$AR$44,0),MATCH(K$1,$AS$1:$AX$1,0))","v":0},{"$f":"INDEX(CHARGES,MATCH($D1200&$F1200,$AQ$2:$AQ$44&$AR$2:$AR$44,0),MATCH(L$1,$AS$1:$AX$1,0))","v":0}]
["Other Areas - No Water or Sewer","Nature-based tourism",null,"Other uses","NR_1","Impervious Area",0,0,0,{"$f":"INDEX(CHARGES,MATCH($D1201&$F1201,$AQ$2:$AQ$44&$AR$2:$AR$44,0),MATCH(J$1,$AS$1:$AX$1,0))","v":0},{"$f":"INDEX(CHARGES,MATCH($D1201&$F1201,$AQ$2:$AQ$44&$AR$2:$AR$44,0),MATCH(K$1,$AS$1:$AX$1,0))","v":0},{"$f":"INDEX(CHARGES,MATCH($D1201&$F1201,$AQ$2:$AQ$44&$AR$2:$AR$44,0),MATCH(L$1,$AS$1:$AX$1,0))","v":0}]
["Other Areas - No Water or Sewer","Nightclub entertainment facility","Nightclub entertainment facility","Entertainment","NR_1","Gross Floor Area",68,0,0,{"$f":"INDEX(CHARGES,MATCH($D1202&$F1202,$AQ$2:$AQ$44&$AR$2:$AR$44,0),MATCH(J$1,$AS$1:$AX$1,0))","v":0},{"$f":"INDEX(CHARGES,MATCH($D1202&$F1202,$AQ$2:$AQ$44&$AR$2:$AR$44,0),MATCH(K$1,$AS$1:$AX$1,0))","v":68},{"$f":"INDEX(CHARGES,MATCH($D1202&$F1202,$AQ$2:$AQ$44&$AR$2:$AR$44,0),MATCH(L$1,$AS$1:$AX$1,0))","v":0}]
["Other Areas - No Water or Sewer","Nightclub entertainment facility","Nightclub entertainment facility","Entertainment","NR_1","Impervious Area",5,0,0,{"$f":"INDEX(CHARGES,MATCH($D1203&$F1203,$AQ$2:$AQ$44&$AR$2:$AR$44,0),MATCH(J$1,$AS$1:$AX$1,0))","v":5},{"$f":"INDEX(CHARGES,MATCH($D1203&$F1203,$AQ$2:$AQ$44&$AR$2:$AR$44,0),MATCH(K$1,$AS$1:$AX$1,0))","v":0},{"$f":"INDEX(CHARGES,MATCH($D1203&$F1203,$AQ$2:$AQ$44&$AR$2:$AR$44,0),MATCH(L$1,$AS$1:$AX$1,0))","v":0}]
["Other Areas - No Water or Sewer","Non-resident workforce accommodation","Short-term accommodation","Accommodation (short-term)","RU_2","bedroom that is not part of a suite",2829,0,0,{"$f":"INDEX(CHARGES,MATCH($D1204&$F1204,$AQ$2:$AQ$44&$AR$2:$AR$44,0),MATCH(J$1,$AS$1:$AX$1,0))","v":104},{"$f":"INDEX(CHARGES,MATCH($D1204&$F1204,$AQ$2:$AQ$44&$AR$2:$AR$44,0),MATCH(K$1,$AS$1:$AX$1,0))","v":2620},{"$f":"INDEX(CHARGES,MATCH($D1204&$F1204,$AQ$2:$AQ$44&$AR$2:$AR$44,0),MATCH(L$1,$AS$1:$AX$1,0))","v":105}]
["Other Areas - No Water or Sewer","Non-resident workforce accommodation","Short-term accommodation","Accommodation (short-term)","RU_2","2 or less bedrooms",2829,0,0,{"$f":"INDEX(CHARGES,MATCH($D1205&$F1205,$AQ$2:$AQ$44&$AR$2:$AR$44,0),MATCH(J$1,$AS$1:$AX$1,0))","v":104},{"$f":"INDEX(CHARGES,MATCH($D1205&$F1205,$AQ$2:$AQ$44&$AR$2:$AR$44,0),MATCH(K$1,$AS$1:$AX$1,0))","v":2620},{"$f":"INDEX(CHARGES,MATCH($D1205&$F1205,$AQ$2:$AQ$44&$AR$2:$AR$44,0),MATCH(L$1,$AS$1:$AX$1,0))","v":105}]
["Other Areas - No Water or Sewer","Non-resident workforce accommodation","Short-term accommodation","Accommodation (short-term)","RU_2","3 or more bedrooms",3961,0,0,{"$f":"INDEX(CHARGES,MATCH($D1206&$F1206,$AQ$2:$AQ$44&$AR$2:$AR$44,0),MATCH(J$1,$AS$1:$AX$1,0))","v":146},{"$f":"INDEX(CHARGES,MATCH($D1206&$F1206,$AQ$2:$AQ$44&$AR$2:$AR$44,0),MATCH(K$1,$AS$1:$AX$1,0))","v":3668},{"$f":"INDEX(CHARGES,MATCH($D1206&$F1206,$AQ$2:$AQ$44&$AR$2:$AR$44,0),MATCH(L$1,$AS$1:$AX$1,0))","v":147}]
["Other Areas - No Water or Sewer","Place of worship","Place of worship","Places of assembly","NR_1","Gross Floor Area",24,0,0,{"$f":"INDEX(CHARGES,MATCH($D1207&$F1207,$AQ$2:$AQ$44&$AR$2:$AR$44,0),MATCH(J$1,$AS$1:$AX$1,0))","v":0},{"$f":"INDEX(CHARGES,MATCH($D1207&$F1207,$AQ$2:$AQ$44&$AR$2:$AR$44,0),MATCH(K$1,$AS$1:$AX$1,0))","v":24},{"$f":"INDEX(CHARGES,MATCH($D1207&$F1207,$AQ$2:$AQ$44&$AR$2:$AR$44,0),MATCH(L$1,$AS$1:$AX$1,0))","v":0}]
["Other Areas - No Water or Sewer","Place of worship","Place of worship","Places of assembly","NR_1","Impervious Area",5,0,0,{"$f":"INDEX(CHARGES,MATCH($D1208&$F1208,$AQ$2:$AQ$44&$AR$2:$AR$44,0),MATCH(J$1,$AS$1:$AX$1,0))","v":5},{"$f":"INDEX(CHARGES,MATCH($D1208&$F1208,$AQ$2:$AQ$44&$AR$2:$AR$44,0),MATCH(K$1,$AS$1:$AX$1,0))","v":0},{"$f":"INDEX(CHARGES,MATCH($D1208&$F1208,$AQ$2:$AQ$44&$AR$2:$AR$44,0),MATCH(L$1,$AS$1:$AX$1,0))","v":0}]
["Other Areas - No Water or Sewer","Port services","Port service","Other uses","NR_1","Gross Floor Area",0,0,0,{"$f":"INDEX(CHARGES,MATCH($D1209&$F1209,$AQ$2:$AQ$44&$AR$2:$AR$44,0),MATCH(J$1,$AS$1:$AX$1,0))","v":0},{"$f":"INDEX(CHARGES,MATCH($D1209&$F1209,$AQ$2:$AQ$44&$AR$2:$AR$44,0),MATCH(K$1,$AS$1:$AX$1,0))","v":0},{"$f":"INDEX(CHARGES,MATCH($D1209&$F1209,$AQ$2:$AQ$44&$AR$2:$AR$44,0),MATCH(L$1,$AS$1:$AX$1,0))","v":0}]
["Other Areas - No Water or Sewer","Port services","Port service","Other uses","NR_1","Impervious Area",0,0,0,{"$f":"INDEX(CHARGES,MATCH($D1210&$F1210,$AQ$2:$AQ$44&$AR$2:$AR$44,0),MATCH(J$1,$AS$1:$AX$1,0))","v":0},{"$f":"INDEX(CHARGES,MATCH($D1210&$F1210,$AQ$2:$AQ$44&$AR$2:$AR$44,0),MATCH(K$1,$AS$1:$AX$1,0))","v":0},{"$f":"INDEX(CHARGES,MATCH($D1210&$F1210,$AQ$2:$AQ$44&$AR$2:$AR$44,0),MATCH(L$1,$AS$1:$AX$1,0))","v":0}]
["Other Areas - No Water or Sewer","Relocatable home park","Relocatable home park","Accommodation (long-term)","RU_1","2 or less bedrooms",5658,0,0,{"$f":"INDEX(CHARGES,MATCH($D1211&$F1211,$AQ$2:$AQ$44&$AR$2:$AR$44,0),MATCH(J$1,$AS$1:$AX$1,0))","v":209},{"$f":"INDEX(CHARGES,MATCH($D1211&$F1211,$AQ$2:$AQ$44&$AR$2:$AR$44,0),MATCH(K$1,$AS$1:$AX$1,0))","v":5239},{"$f":"INDEX(CHARGES,MATCH($D1211&$F1211,$AQ$2:$AQ$44&$AR$2:$AR$44,0),MATCH(L$1,$AS$1:$AX$1,0))","v":210}]
["Other Areas - No Water or Sewer","Relocatable home park","Relocatable home park","Accommodation (long-term)","RU_1","3 or more bedrooms",7921,0,0,{"$f":"INDEX(CHARGES,MATCH($D1212&$F1212,$AQ$2:$AQ$44&$AR$2:$AR$44,0),MATCH(J$1,$AS$1:$AX$1,0))","v":293},{"$f":"INDEX(CHARGES,MATCH($D1212&$F1212,$AQ$2:$AQ$44&$AR$2:$AR$44,0),MATCH(K$1,$AS$1:$AX$1,0))","v":7335},{"$f":"INDEX(CHARGES,MATCH($D1212&$F1212,$AQ$2:$AQ$44&$AR$2:$AR$44,0),MATCH(L$1,$AS$1:$AX$1,0))","v":293}]
["Other Areas - No Water or Sewer","Renewable energy facility",null,"Other uses","NR_1","Gross Floor Area",0,0,0,{"$f":"INDEX(CHARGES,MATCH($D1213&$F1213,$AQ$2:$AQ$44&$AR$2:$AR$44,0),MATCH(J$1,$AS$1:$AX$1,0))","v":0},{"$f":"INDEX(CHARGES,MATCH($D1213&$F1213,$AQ$2:$AQ$44&$AR$2:$AR$44,0),MATCH(K$1,$AS$1:$AX$1,0))","v":0},{"$f":"INDEX(CHARGES,MATCH($D1213&$F1213,$AQ$2:$AQ$44&$AR$2:$AR$44,0),MATCH(L$1,$AS$1:$AX$1,0))","v":0}]
["Other Areas - No Water or Sewer","Renewable energy facility",null,"Other uses","NR_1","Impervious Area",0,0,0,{"$f":"INDEX(CHARGES,MATCH($D1214&$F1214,$AQ$2:$AQ$44&$AR$2:$AR$44,0),MATCH(J$1,$AS$1:$AX$1,0))","v":0},{"$f":"INDEX(CHARGES,MATCH($D1214&$F1214,$AQ$2:$AQ$44&$AR$2:$AR$44,0),MATCH(K$1,$AS$1:$AX$1,0))","v":0},{"$f":"INDEX(CHARGES,MATCH($D1214&$F1214,$AQ$2:$AQ$44&$AR$2:$AR$44,0),MATCH(L$1,$AS$1:$AX$1,0))","v":0}]
["Other Areas - No Water or Sewer","Research and technology industry","Low impact industry","Other industry","NR_1","Gross Floor Area",17,0,0,{"$f":"INDEX(CHARGES,MATCH($D1215&$F1215,$AQ$2:$AQ$44&$AR$2:$AR$44,0),MATCH(J$1,$AS$1:$AX$1,0))","v":0},{"$f":"INDEX(CHARGES,MATCH($D1215&$F1215,$AQ$2:$AQ$44&$AR$2:$AR$44,0),MATCH(K$1,$AS$1:$AX$1,0))","v":17},{"$f":"INDEX(CHARGES,MATCH($D1215&$F1215,$AQ$2:$AQ$44&$AR$2:$AR$44,0),MATCH(L$1,$AS$1:$AX$1,0))","v":0}]
["Other Areas - No Water or Sewer","Research and technology industry","Low impact industry","Other industry","NR_1","Impervious Area",5,0,0,{"$f":"INDEX(CHARGES,MATCH($D1216&$F1216,$AQ$2:$AQ$44&$AR$2:$AR$44,0),MATCH(J$1,$AS$1:$AX$1,0))","v":5},{"$f":"INDEX(CHARGES,MATCH($D1216&$F1216,$AQ$2:$AQ$44&$AR$2:$AR$44,0),MATCH(K$1,$AS$1:$AX$1,0))","v":0},{"$f":"INDEX(CHARGES,MATCH($D1216&$F1216,$AQ$2:$AQ$44&$AR$2:$AR$44,0),MATCH(L$1,$AS$1:$AX$1,0))","v":0}]
["Other Areas - No Water or Sewer","Residential care facility","Short-term accommodation","Accommodation (short-term)","RU_2","bedroom that is not part of a suite",2829,0,0,{"$f":"INDEX(CHARGES,MATCH($D1217&$F1217,$AQ$2:$AQ$44&$AR$2:$AR$44,0),MATCH(J$1,$AS$1:$AX$1,0))","v":104},{"$f":"INDEX(CHARGES,MATCH($D1217&$F1217,$AQ$2:$AQ$44&$AR$2:$AR$44,0),MATCH(K$1,$AS$1:$AX$1,0))","v":2620},{"$f":"INDEX(CHARGES,MATCH($D1217&$F1217,$AQ$2:$AQ$44&$AR$2:$AR$44,0),MATCH(L$1,$AS$1:$AX$1,0))","v":105}]
["Other Areas - No Water or Sewer","Residential care facility","Short-term accommodation","Accommodation (short-term)","RU_2","2 or less bedrooms",2829,0,0,{"$f":"INDEX(CHARGES,MATCH($D1218&$F1218,$AQ$2:$AQ$44&$AR$2:$AR$44,0),MATCH(J$1,$AS$1:$AX$1,0))","v":104},{"$f":"INDEX(CHARGES,MATCH($D1218&$F1218,$AQ$2:$AQ$44&$AR$2:$AR$44,0),MATCH(K$1,$AS$1:$AX$1,0))","v":2620},{"$f":"INDEX(CHARGES,MATCH($D1218&$F1218,$AQ$2:$AQ$44&$AR$2:$AR$44,0),MATCH(L$1,$AS$1:$AX$1,0))","v":105}]
["Other Areas - No Water or Sewer","Residential care facility","Short-term accommodation","Accommodation (short-term)","RU_2","3 or more bedrooms",3961,0,0,{"$f":"INDEX(CHARGES,MATCH($D1219&$F1219,$AQ$2:$AQ$44&$AR$2:$AR$44,0),MATCH(J$1,$AS$1:$AX$1,0))","v":146},{"$f":"INDEX(CHARGES,MATCH($D1219&$F1219,$AQ$2:$AQ$44&$AR$2:$AR$44,0),MATCH(K$1,$AS$1:$AX$1,0))","v":3668},{"$f":"INDEX(CHARGES,MATCH($D1219&$F1219,$AQ$2:$AQ$44&$AR$2:$AR$44,0),MATCH(L$1,$AS$1:$AX$1,0))","v":147}]
["Camooweal - No Water or Sewer","Resort complex - Accommodation component","Resort complex","Accommodation (short-term)","RU_2","bedroom that is not part of a suite",{"$f":"SUM(H1220:L1220)","v":2829},0,0,{"$f":"INDEX(CHARGES,MATCH($D1220&$F1220,$AQ$2:$AQ$44&$AR$2:$AR$44,0),MATCH(J$1,$AS$1:$AX$1,0))","v":104},{"$f":"INDEX(CHARGES,MATCH($D1220&$F1220,$AQ$2:$AQ$44&$AR$2:$AR$44,0),MATCH(K$1,$AS$1:$AX$1,0))","v":2620},{"$f":"INDEX(CHARGES,MATCH($D1220&$F1220,$AQ$2:$AQ$44&$AR$2:$AR$44,0),MATCH(L$1,$AS$1:$AX$1,0))","v":105}]
["Camooweal - No Water or Sewer","Resort complex - Accommodation component","Resort complex","Accommodation (short-term)","RU_2","2 or less bedrooms",{"$f":"SUM(H1221:L1221)","v":2829},0,0,{"$f":"INDEX(CHARGES,MATCH($D1221&$F1221,$AQ$2:$AQ$44&$AR$2:$AR$44,0),MATCH(J$1,$AS$1:$AX$1,0))","v":104},{"$f":"INDEX(CHARGES,MATCH($D1221&$F1221,$AQ$2:$AQ$44&$AR$2:$AR$44,0),MATCH(K$1,$AS$1:$AX$1,0))","v":2620},{"$f":"INDEX(CHARGES,MATCH($D1221&$F1221,$AQ$2:$AQ$44&$AR$2:$AR$44,0),MATCH(L$1,$AS$1:$AX$1,0))","v":105}]
["Camooweal - No Water or Sewer","Resort complex - Accommodation component","Resort complex","Accommodation (short-term)","RU_2","3 or more bedrooms",{"$f":"SUM(H1222:L1222)","v":3961},0,0,{"$f":"INDEX(CHARGES,MATCH($D1222&$F1222,$AQ$2:$AQ$44&$AR$2:$AR$44,0),MATCH(J$1,$AS$1:$AX$1,0))","v":146},{"$f":"INDEX(CHARGES,MATCH($D1222&$F1222,$AQ$2:$AQ$44&$AR$2:$AR$44,0),MATCH(K$1,$AS$1:$AX$1,0))","v":3668},{"$f":"INDEX(CHARGES,MATCH($D1222&$F1222,$AQ$2:$AQ$44&$AR$2:$AR$44,0),MATCH(L$1,$AS$1:$AX$1,0))","v":147}]
["Camooweal - No Water or Sewer","Resort complex - Entertainment component","Resort complex","Entertainment","NR_1","Gross Floor Area",{"$f":"SUM(H1223:L1223)","v":68},0,0,{"$f":"INDEX(CHARGES,MATCH($D1223&$F1223,$AQ$2:$AQ$44&$AR$2:$AR$44,0),MATCH(J$1,$AS$1:$AX$1,0))","v":0},{"$f":"INDEX(CHARGES,MATCH($D1223&$F1223,$AQ$2:$AQ$44&$AR$2:$AR$44,0),MATCH(K$1,$AS$1:$AX$1,0))","v":68},{"$f":"INDEX(CHARGES,MATCH($D1223&$F1223,$AQ$2:$AQ$44&$AR$2:$AR$44,0),MATCH(L$1,$AS$1:$AX$1,0))","v":0}]
["Camooweal - No Water or Sewer","Resort complex - Entertainment component","Resort complex","Entertainment","NR_1","Impervious Area",{"$f":"SUM(H1224:L1224)","v":5},0,0,{"$f":"INDEX(CHARGES,MATCH($D1224&$F1224,$AQ$2:$AQ$44&$AR$2:$AR$44,0),MATCH(J$1,$AS$1:$AX$1,0))","v":5},{"$f":"INDEX(CHARGES,MATCH($D1224&$F1224,$AQ$2:$AQ$44&$AR$2:$AR$44,0),MATCH(K$1,$AS$1:$AX$1,0))","v":0},{"$f":"INDEX(CHARGES,MATCH($D1224&$F1224,$AQ$2:$AQ$44&$AR$2:$AR$44,0),MATCH(L$1,$AS$1:$AX$1,0))","v":0}]
["Other Areas - No Water or Sewer","Retirement facility","Retirement facility","Accommodation (long-term)","RU_2","bedroom that is not part of a suite",{"$f":"SUM(H1225:L1225)","v":5658},0,0,{"$f":"INDEX(CHARGES,MATCH($D1225&$F1225,$AQ$2:$AQ$44&$AR$2:$AR$44,0),MATCH(J$1,$AS$1:$AX$1,0))","v":209},{"$f":"INDEX(CHARGES,MATCH($D1225&$F1225,$AQ$2:$AQ$44&$AR$2:$AR$44,0),MATCH(K$1,$AS$1:$AX$1,0))","v":5239},{"$f":"INDEX(CHARGES,MATCH($D1225&$F1225,$AQ$2:$AQ$44&$AR$2:$AR$44,0),MATCH(L$1,$AS$1:$AX$1,0))","v":210}]
["Other Areas - No Water or Sewer","Retirement facility","Retirement facility","Accommodation (long-term)","RU_2","2 or less bedrooms",5658,0,0,{"$f":"INDEX(CHARGES,MATCH($D1226&$F1226,$AQ$2:$AQ$44&$AR$2:$AR$44,0),MATCH(J$1,$AS$1:$AX$1,0))","v":209},{"$f":"INDEX(CHARGES,MATCH($D1226&$F1226,$AQ$2:$AQ$44&$AR$2:$AR$44,0),MATCH(K$1,$AS$1:$AX$1,0))","v":5239},{"$f":"INDEX(CHARGES,MATCH($D1226&$F1226,$AQ$2:$AQ$44&$AR$2:$AR$44,0),MATCH(L$1,$AS$1:$AX$1,0))","v":210}]
["Other Areas - No Water or Sewer","Retirement facility","Retirement facility","Accommodation (long-term)","RU_2","3 or more bedrooms",7921,0,0,{"$f":"INDEX(CHARGES,MATCH($D1227&$F1227,$AQ$2:$AQ$44&$AR$2:$AR$44,0),MATCH(J$1,$AS$1:$AX$1,0))","v":293},{"$f":"INDEX(CHARGES,MATCH($D1227&$F1227,$AQ$2:$AQ$44&$AR$2:$AR$44,0),MATCH(K$1,$AS$1:$AX$1,0))","v":7335},{"$f":"INDEX(CHARGES,MATCH($D1227&$F1227,$AQ$2:$AQ$44&$AR$2:$AR$44,0),MATCH(L$1,$AS$1:$AX$1,0))","v":293}]
["Other Areas - No Water or Sewer","Roadside stall","Roadside stall","Minor uses","NR_3","Gross Floor Area",0,0,0,{"$f":"INDEX(CHARGES,MATCH($D1228&$F1228,$AQ$2:$AQ$44&$AR$2:$AR$44,0),MATCH(J$1,$AS$1:$AX$1,0))","v":0},{"$f":"INDEX(CHARGES,MATCH($D1228&$F1228,$AQ$2:$AQ$44&$AR$2:$AR$44,0),MATCH(K$1,$AS$1:$AX$1,0))","v":0},{"$f":"INDEX(CHARGES,MATCH($D1228&$F1228,$AQ$2:$AQ$44&$AR$2:$AR$44,0),MATCH(L$1,$AS$1:$AX$1,0))","v":0}]
["Other Areas - No Water or Sewer","Rooming accommodation","Rooming accommodation","Accommodation (long-term)","RU_2","bedroom that is not part of a suite",5658,0,0,{"$f":"INDEX(CHARGES,MATCH($D1229&$F1229,$AQ$2:$AQ$44&$AR$2:$AR$44,0),MATCH(J$1,$AS$1:$AX$1,0))","v":209},{"$f":"INDEX(CHARGES,MATCH($D1229&$F1229,$AQ$2:$AQ$44&$AR$2:$AR$44,0),MATCH(K$1,$AS$1:$AX$1,0))","v":5239},{"$f":"INDEX(CHARGES,MATCH($D1229&$F1229,$AQ$2:$AQ$44&$AR$2:$AR$44,0),MATCH(L$1,$AS$1:$AX$1,0))","v":210}]
["Other Areas - No Water or Sewer","Rooming accommodation","Rooming accommodation","Accommodation (long-term)","RU_2","2 or less bedrooms",5658,0,0,{"$f":"INDEX(CHARGES,MATCH($D1230&$F1230,$AQ$2:$AQ$44&$AR$2:$AR$44,0),MATCH(J$1,$AS$1:$AX$1,0))","v":209},{"$f":"INDEX(CHARGES,MATCH($D1230&$F1230,$AQ$2:$AQ$44&$AR$2:$AR$44,0),MATCH(K$1,$AS$1:$AX$1,0))","v":5239},{"$f":"INDEX(CHARGES,MATCH($D1230&$F1230,$AQ$2:$AQ$44&$AR$2:$AR$44,0),MATCH(L$1,$AS$1:$AX$1,0))","v":210}]
["Other Areas - No Water or Sewer","Rooming accommodation","Rooming accommodation","Accommodation (long-term)","RU_2","3 or more bedrooms",7921,0,0,{"$f":"INDEX(CHARGES,MATCH($D1231&$F1231,$AQ$2:$AQ$44&$AR$2:$AR$44,0),MATCH(J$1,$AS$1:$AX$1,0))","v":293},{"$f":"INDEX(CHARGES,MATCH($D1231&$F1231,$AQ$2:$AQ$44&$AR$2:$AR$44,0),MATCH(K$1,$AS$1:$AX$1,0))","v":7335},{"$f":"INDEX(CHARGES,MATCH($D1231&$F1231,$AQ$2:$AQ$44&$AR$2:$AR$44,0),MATCH(L$1,$AS$1:$AX$1,0))","v":293}]
["Other Areas - No Water or Sewer","Rural industry","Rural industry","Other industry","NR_1","Gross Floor Area",17,0,0,{"$f":"INDEX(CHARGES,MATCH($D1232&$F1232,$AQ$2:$AQ$44&$AR$2:$AR$44,0),MATCH(J$1,$AS$1:$AX$1,0))","v":0},{"$f":"INDEX(CHARGES,MATCH($D1232&$F1232,$AQ$2:$AQ$44&$AR$2:$AR$44,0),MATCH(K$1,$AS$1:$AX$1,0))","v":17},{"$f":"INDEX(CHARGES,MATCH($D1232&$F1232,$AQ$2:$AQ$44&$AR$2:$AR$44,0),MATCH(L$1,$AS$1:$AX$1,0))","v":0}]
["Other Areas - No Water or Sewer","Rural industry","Rural industry","Other industry","NR_1","Impervious Area",5,0,0,{"$f":"INDEX(CHARGES,MATCH($D1233&$F1233,$AQ$2:$AQ$44&$AR$2:$AR$44,0),MATCH(J$1,$AS$1:$AX$1,0))","v":5},{"$f":"INDEX(CHARGES,MATCH($D1233&$F1233,$AQ$2:$AQ$44&$AR$2:$AR$44,0),MATCH(K$1,$AS$1:$AX$1,0))","v":0},{"$f":"INDEX(CHARGES,MATCH($D1233&$F1233,$AQ$2:$AQ$44&$AR$2:$AR$44,0),MATCH(L$1,$AS$1:$AX$1,0))","v":0}]
["Other Areas - No Water or Sewer","Rural workers accommodation","Short-term accommodation","Accommodation (short-term)","RU_2","bedroom that is not part of a suite",2829,0,0,{"$f":"INDEX(CHARGES,MATCH($D1234&$F1234,$AQ$2:$AQ$44&$AR$2:$AR$44,0),MATCH(J$1,$AS$1:$AX$1,0))","v":104},{"$f":"INDEX(CHARGES,MATCH($D1234&$F1234,$AQ$2:$AQ$44&$AR$2:$AR$44,0),MATCH(K$1,$AS$1:$AX$1,0))","v":2620},{"$f":"INDEX(CHARGES,MATCH($D1234&$F1234,$AQ$2:$AQ$44&$AR$2:$AR$44,0),MATCH(L$1,$AS$1:$AX$1,0))","v":105}]
["Other Areas - No Water or Sewer","Rural workers accommodation","Short-term accommodation","Accommodation (short-term)","RU_2","2 or less bedrooms",2829,0,0,{"$f":"INDEX(CHARGES,MATCH($D1235&$F1235,$AQ$2:$AQ$44&$AR$2:$AR$44,0),MATCH(J$1,$AS$1:$AX$1,0))","v":104},{"$f":"INDEX(CHARGES,MATCH($D1235&$F1235,$AQ$2:$AQ$44&$AR$2:$AR$44,0),MATCH(K$1,$AS$1:$AX$1,0))","v":2620},{"$f":"INDEX(CHARGES,MATCH($D1235&$F1235,$AQ$2:$AQ$44&$AR$2:$AR$44,0),MATCH(L$1,$AS$1:$AX$1,0))","v":105}]
["Other Areas - No Water or Sewer","Rural workers accommodation","Short-term accommodation","Accommodation (short-term)","RU_2","3 or more bedrooms",3961,0,0,{"$f":"INDEX(CHARGES,MATCH($D1236&$F1236,$AQ$2:$AQ$44&$AR$2:$AR$44,0),MATCH(J$1,$AS$1:$AX$1,0))","v":146},{"$f":"INDEX(CHARGES,MATCH($D1236&$F1236,$AQ$2:$AQ$44&$AR$2:$AR$44,0),MATCH(K$1,$AS$1:$AX$1,0))","v":3668},{"$f":"INDEX(CHARGES,MATCH($D1236&$F1236,$AQ$2:$AQ$44&$AR$2:$AR$44,0),MATCH(L$1,$AS$1:$AX$1,0))","v":147}]
["Other Areas - No Water or Sewer","Sales office","Sales office","Commercial (office)","NR_1","Gross Floor Area",48,0,0,{"$f":"INDEX(CHARGES,MATCH($D1237&$F1237,$AQ$2:$AQ$44&$AR$2:$AR$44,0),MATCH(J$1,$AS$1:$AX$1,0))","v":0},{"$f":"INDEX(CHARGES,MATCH($D1237&$F1237,$AQ$2:$AQ$44&$AR$2:$AR$44,0),MATCH(K$1,$AS$1:$AX$1,0))","v":48},{"$f":"INDEX(CHARGES,MATCH($D1237&$F1237,$AQ$2:$AQ$44&$AR$2:$AR$44,0),MATCH(L$1,$AS$1:$AX$1,0))","v":0}]
["Other Areas - No Water or Sewer","Sales office","Sales office","Commercial (office)","NR_1","Impervious Area",5,0,0,{"$f":"INDEX(CHARGES,MATCH($D1238&$F1238,$AQ$2:$AQ$44&$AR$2:$AR$44,0),MATCH(J$1,$AS$1:$AX$1,0))","v":5},{"$f":"INDEX(CHARGES,MATCH($D1238&$F1238,$AQ$2:$AQ$44&$AR$2:$AR$44,0),MATCH(K$1,$AS$1:$AX$1,0))","v":0},{"$f":"INDEX(CHARGES,MATCH($D1238&$F1238,$AQ$2:$AQ$44&$AR$2:$AR$44,0),MATCH(L$1,$AS$1:$AX$1,0))","v":0}]
["Other Areas - No Water or Sewer","Service industry","Service industry","Commercial (retail)","NR_1","Gross Floor Area",61,0,0,{"$f":"INDEX(CHARGES,MATCH($D1239&$F1239,$AQ$2:$AQ$44&$AR$2:$AR$44,0),MATCH(J$1,$AS$1:$AX$1,0))","v":0},{"$f":"INDEX(CHARGES,MATCH($D1239&$F1239,$AQ$2:$AQ$44&$AR$2:$AR$44,0),MATCH(K$1,$AS$1:$AX$1,0))","v":61},{"$f":"INDEX(CHARGES,MATCH($D1239&$F1239,$AQ$2:$AQ$44&$AR$2:$AR$44,0),MATCH(L$1,$AS$1:$AX$1,0))","v":0}]
["Other Areas - No Water or Sewer","Service industry","Service industry","Commercial (retail)","NR_1","Impervious Area",5,0,0,{"$f":"INDEX(CHARGES,MATCH($D1240&$F1240,$AQ$2:$AQ$44&$AR$2:$AR$44,0),MATCH(J$1,$AS$1:$AX$1,0))","v":5},{"$f":"INDEX(CHARGES,MATCH($D1240&$F1240,$AQ$2:$AQ$44&$AR$2:$AR$44,0),MATCH(K$1,$AS$1:$AX$1,0))","v":0},{"$f":"INDEX(CHARGES,MATCH($D1240&$F1240,$AQ$2:$AQ$44&$AR$2:$AR$44,0),MATCH(L$1,$AS$1:$AX$1,0))","v":0}]
["Other Areas - No Water or Sewer","Service station","Service station","Commercial (retail)","NR_1","Gross Floor Area",61,0,0,{"$f":"INDEX(CHARGES,MATCH($D1241&$F1241,$AQ$2:$AQ$44&$AR$2:$AR$44,0),MATCH(J$1,$AS$1:$AX$1,0))","v":0},{"$f":"INDEX(CHARGES,MATCH($D1241&$F1241,$AQ$2:$AQ$44&$AR$2:$AR$44,0),MATCH(K$1,$AS$1:$AX$1,0))","v":61},{"$f":"INDEX(CHARGES,MATCH($D1241&$F1241,$AQ$2:$AQ$44&$AR$2:$AR$44,0),MATCH(L$1,$AS$1:$AX$1,0))","v":0}]
["Other Areas - No Water or Sewer","Service station","Service station","Commercial (retail)","NR_1","Impervious Area",5,0,0,{"$f":"INDEX(CHARGES,MATCH($D1242&$F1242,$AQ$2:$AQ$44&$AR$2:$AR$44,0),MATCH(J$1,$AS$1:$AX$1,0))","v":5},{"$f":"INDEX(CHARGES,MATCH($D1242&$F1242,$AQ$2:$AQ$44&$AR$2:$AR$44,0),MATCH(K$1,$AS$1:$AX$1,0))","v":0},{"$f":"INDEX(CHARGES,MATCH($D1242&$F1242,$AQ$2:$AQ$44&$AR$2:$AR$44,0),MATCH(L$1,$AS$1:$AX$1,0))","v":0}]
["Other Areas - No Water or Sewer","Shop","Shop","Commercial (retail)","NR_1","Gross Floor Area",61,0,0,{"$f":"INDEX(CHARGES,MATCH($D1243&$F1243,$AQ$2:$AQ$44&$AR$2:$AR$44,0),MATCH(J$1,$AS$1:$AX$1,0))","v":0},{"$f":"INDEX(CHARGES,MATCH($D1243&$F1243,$AQ$2:$AQ$44&$AR$2:$AR$44,0),MATCH(K$1,$AS$1:$AX$1,0))","v":61},{"$f":"INDEX(CHARGES,MATCH($D1243&$F1243,$AQ$2:$AQ$44&$AR$2:$AR$44,0),MATCH(L$1,$AS$1:$AX$1,0))","v":0}]
["Other Areas - No Water or Sewer","Shop","Shop","Commercial (retail)","NR_1","Impervious Area",5,0,0,{"$f":"INDEX(CHARGES,MATCH($D1244&$F1244,$AQ$2:$AQ$44&$AR$2:$AR$44,0),MATCH(J$1,$AS$1:$AX$1,0))","v":5},{"$f":"INDEX(CHARGES,MATCH($D1244&$F1244,$AQ$2:$AQ$44&$AR$2:$AR$44,0),MATCH(K$1,$AS$1:$AX$1,0))","v":0},{"$f":"INDEX(CHARGES,MATCH($D1244&$F1244,$AQ$2:$AQ$44&$AR$2:$AR$44,0),MATCH(L$1,$AS$1:$AX$1,0))","v":0}]
["Other Areas - No Water or Sewer","Shopping centre","Shopping centre","Commercial (retail)","NR_1","Gross Floor Area",61,0,0,{"$f":"INDEX(CHARGES,MATCH($D1245&$F1245,$AQ$2:$AQ$44&$AR$2:$AR$44,0),MATCH(J$1,$AS$1:$AX$1,0))","v":0},{"$f":"INDEX(CHARGES,MATCH($D1245&$F1245,$AQ$2:$AQ$44&$AR$2:$AR$44,0),MATCH(K$1,$AS$1:$AX$1,0))","v":61},{"$f":"INDEX(CHARGES,MATCH($D1245&$F1245,$AQ$2:$AQ$44&$AR$2:$AR$44,0),MATCH(L$1,$AS$1:$AX$1,0))","v":0}]
["Other Areas - No Water or Sewer","Shopping centre","Shopping centre","Commercial (retail)","NR_1","Impervious Area",5,0,0,{"$f":"INDEX(CHARGES,MATCH($D1246&$F1246,$AQ$2:$AQ$44&$AR$2:$AR$44,0),MATCH(J$1,$AS$1:$AX$1,0))","v":5},{"$f":"INDEX(CHARGES,MATCH($D1246&$F1246,$AQ$2:$AQ$44&$AR$2:$AR$44,0),MATCH(K$1,$AS$1:$AX$1,0))","v":0},{"$f":"INDEX(CHARGES,MATCH($D1246&$F1246,$AQ$2:$AQ$44&$AR$2:$AR$44,0),MATCH(L$1,$AS$1:$AX$1,0))","v":0}]
["Other Areas - No Water or Sewer","Short-term accommodation","Short-term accommodation","Accommodation (short-term)","RU_2","bedroom that is not part of a suite",2829,0,0,{"$f":"INDEX(CHARGES,MATCH($D1247&$F1247,$AQ$2:$AQ$44&$AR$2:$AR$44,0),MATCH(J$1,$AS$1:$AX$1,0))","v":104},{"$f":"INDEX(CHARGES,MATCH($D1247&$F1247,$AQ$2:$AQ$44&$AR$2:$AR$44,0),MATCH(K$1,$AS$1:$AX$1,0))","v":2620},{"$f":"INDEX(CHARGES,MATCH($D1247&$F1247,$AQ$2:$AQ$44&$AR$2:$AR$44,0),MATCH(L$1,$AS$1:$AX$1,0))","v":105}]
["Other Areas - No Water or Sewer","Short-term accommodation","Short-term accommodation","Accommodation (short-term)","RU_2","2 or less bedrooms",2829,0,0,{"$f":"INDEX(CHARGES,MATCH($D1248&$F1248,$AQ$2:$AQ$44&$AR$2:$AR$44,0),MATCH(J$1,$AS$1:$AX$1,0))","v":104},{"$f":"INDEX(CHARGES,MATCH($D1248&$F1248,$AQ$2:$AQ$44&$AR$2:$AR$44,0),MATCH(K$1,$AS$1:$AX$1,0))","v":2620},{"$f":"INDEX(CHARGES,MATCH($D1248&$F1248,$AQ$2:$AQ$44&$AR$2:$AR$44,0),MATCH(L$1,$AS$1:$AX$1,0))","v":105}]
["Other Areas - No Water or Sewer","Short-term accommodation","Short-term accommodation","Accommodation (short-term)","RU_2","3 or more bedrooms",3961,0,0,{"$f":"INDEX(CHARGES,MATCH($D1249&$F1249,$AQ$2:$AQ$44&$AR$2:$AR$44,0),MATCH(J$1,$AS$1:$AX$1,0))","v":146},{"$f":"INDEX(CHARGES,MATCH($D1249&$F1249,$AQ$2:$AQ$44&$AR$2:$AR$44,0),MATCH(K$1,$AS$1:$AX$1,0))","v":3668},{"$f":"INDEX(CHARGES,MATCH($D1249&$F1249,$AQ$2:$AQ$44&$AR$2:$AR$44,0),MATCH(L$1,$AS$1:$AX$1,0))","v":147}]
["Other Areas - No Water or Sewer","Showroom","Showroom","Commercial (bulk goods)","NR_1","Gross Floor Area",48,0,0,{"$f":"INDEX(CHARGES,MATCH($D1250&$F1250,$AQ$2:$AQ$44&$AR$2:$AR$44,0),MATCH(J$1,$AS$1:$AX$1,0))","v":0},{"$f":"INDEX(CHARGES,MATCH($D1250&$F1250,$AQ$2:$AQ$44&$AR$2:$AR$44,0),MATCH(K$1,$AS$1:$AX$1,0))","v":48},{"$f":"INDEX(CHARGES,MATCH($D1250&$F1250,$AQ$2:$AQ$44&$AR$2:$AR$44,0),MATCH(L$1,$AS$1:$AX$1,0))","v":0}]
["Other Areas - No Water or Sewer","Showroom","Showroom","Commercial (bulk goods)","NR_1","Impervious Area",5,0,0,{"$f":"INDEX(CHARGES,MATCH($D1251&$F1251,$AQ$2:$AQ$44&$AR$2:$AR$44,0),MATCH(J$1,$AS$1:$AX$1,0))","v":5},{"$f":"INDEX(CHARGES,MATCH($D1251&$F1251,$AQ$2:$AQ$44&$AR$2:$AR$44,0),MATCH(K$1,$AS$1:$AX$1,0))","v":0},{"$f":"INDEX(CHARGES,MATCH($D1251&$F1251,$AQ$2:$AQ$44&$AR$2:$AR$44,0),MATCH(L$1,$AS$1:$AX$1,0))","v":0}]
["Other Areas - No Water or Sewer","Special industry","Special industry","High impact industry or special industry","NR_1","Gross Floor Area",24,0,0,{"$f":"INDEX(CHARGES,MATCH($D1252&$F1252,$AQ$2:$AQ$44&$AR$2:$AR$44,0),MATCH(J$1,$AS$1:$AX$1,0))","v":0},{"$f":"INDEX(CHARGES,MATCH($D1252&$F1252,$AQ$2:$AQ$44&$AR$2:$AR$44,0),MATCH(K$1,$AS$1:$AX$1,0))","v":24},{"$f":"INDEX(CHARGES,MATCH($D1252&$F1252,$AQ$2:$AQ$44&$AR$2:$AR$44,0),MATCH(L$1,$AS$1:$AX$1,0))","v":0}]
["Other Areas - No Water or Sewer","Special industry","Special industry","High impact industry or special industry","NR_1","Impervious Area",5,0,0,{"$f":"INDEX(CHARGES,MATCH($D1253&$F1253,$AQ$2:$AQ$44&$AR$2:$AR$44,0),MATCH(J$1,$AS$1:$AX$1,0))","v":5},{"$f":"INDEX(CHARGES,MATCH($D1253&$F1253,$AQ$2:$AQ$44&$AR$2:$AR$44,0),MATCH(K$1,$AS$1:$AX$1,0))","v":0},{"$f":"INDEX(CHARGES,MATCH($D1253&$F1253,$AQ$2:$AQ$44&$AR$2:$AR$44,0),MATCH(L$1,$AS$1:$AX$1,0))","v":0}]
["Other Areas - No Water or Sewer","Substation","Utility installation","Other uses","NR_1","Gross Floor Area",0,0,0,{"$f":"INDEX(CHARGES,MATCH($D1254&$F1254,$AQ$2:$AQ$44&$AR$2:$AR$44,0),MATCH(J$1,$AS$1:$AX$1,0))","v":0},{"$f":"INDEX(CHARGES,MATCH($D1254&$F1254,$AQ$2:$AQ$44&$AR$2:$AR$44,0),MATCH(K$1,$AS$1:$AX$1,0))","v":0},{"$f":"INDEX(CHARGES,MATCH($D1254&$F1254,$AQ$2:$AQ$44&$AR$2:$AR$44,0),MATCH(L$1,$AS$1:$AX$1,0))","v":0}]
["Other Areas - No Water or Sewer","Substation","Utility installation","Other uses","NR_1","Impervious Area",0,0,0,{"$f":"INDEX(CHARGES,MATCH($D1255&$F1255,$AQ$2:$AQ$44&$AR$2:$AR$44,0),MATCH(J$1,$AS$1:$AX$1,0))","v":0},{"$f":"INDEX(CHARGES,MATCH($D1255&$F1255,$AQ$2:$AQ$44&$AR$2:$AR$44,0),MATCH(K$1,$AS$1:$AX$1,0))","v":0},{"$f":"INDEX(CHARGES,MATCH($D1255&$F1255,$AQ$2:$AQ$44&$AR$2:$AR$44,0),MATCH(L$1,$AS$1:$AX$1,0))","v":0}]
["Other Areas - No Water or Sewer","Telecommunications facility","Utility installation","Other uses","NR_1","Gross Floor Area",0,0,0,{"$f":"INDEX(CHARGES,MATCH($D1256&$F1256,$AQ$2:$AQ$44&$AR$2:$AR$44,0),MATCH(J$1,$AS$1:$AX$1,0))","v":0},{"$f":"INDEX(CHARGES,MATCH($D1256&$F1256,$AQ$2:$AQ$44&$AR$2:$AR$44,0),MATCH(K$1,$AS$1:$AX$1,0))","v":0},{"$f":"INDEX(CHARGES,MATCH($D1256&$F1256,$AQ$2:$AQ$44&$AR$2:$AR$44,0),MATCH(L$1,$AS$1:$AX$1,0))","v":0}]
["Other Areas - No Water or Sewer","Telecommunications facility","Utility installation","Other uses","NR_1","Impervious Area",0,0,0,{"$f":"INDEX(CHARGES,MATCH($D1257&$F1257,$AQ$2:$AQ$44&$AR$2:$AR$44,0),MATCH(J$1,$AS$1:$AX$1,0))","v":0},{"$f":"INDEX(CHARGES,MATCH($D1257&$F1257,$AQ$2:$AQ$44&$AR$2:$AR$44,0),MATCH(K$1,$AS$1:$AX$1,0))","v":0},{"$f":"INDEX(CHARGES,MATCH($D1257&$F1257,$AQ$2:$AQ$44&$AR$2:$AR$44,0),MATCH(L$1,$AS$1:$AX$1,0))","v":0}]
["Other Areas - No Water or Sewer","Theatre","Theatre","Entertainment","NR_1","Gross Floor Area",68,0,0,{"$f":"INDEX(CHARGES,MATCH($D1258&$F1258,$AQ$2:$AQ$44&$AR$2:$AR$44,0),MATCH(J$1,$AS$1:$AX$1,0))","v":0},{"$f":"INDEX(CHARGES,MATCH($D1258&$F1258,$AQ$2:$AQ$44&$AR$2:$AR$44,0),MATCH(K$1,$AS$1:$AX$1,0))","v":68},{"$f":"INDEX(CHARGES,MATCH($D1258&$F1258,$AQ$2:$AQ$44&$AR$2:$AR$44,0),MATCH(L$1,$AS$1:$AX$1,0))","v":0}]
["Other Areas - No Water or Sewer","Theatre","Theatre","Entertainment","NR_1","Impervious Area",5,0,0,{"$f":"INDEX(CHARGES,MATCH($D1259&$F1259,$AQ$2:$AQ$44&$AR$2:$AR$44,0),MATCH(J$1,$AS$1:$AX$1,0))","v":5},{"$f":"INDEX(CHARGES,MATCH($D1259&$F1259,$AQ$2:$AQ$44&$AR$2:$AR$44,0),MATCH(K$1,$AS$1:$AX$1,0))","v":0},{"$f":"INDEX(CHARGES,MATCH($D1259&$F1259,$AQ$2:$AQ$44&$AR$2:$AR$44,0),MATCH(L$1,$AS$1:$AX$1,0))","v":0}]
["Other Areas - No Water or Sewer","Tourist attraction","Tourist attraction","Other uses","NR_1","Gross Floor Area",0,0,0,{"$f":"INDEX(CHARGES,MATCH($D1260&$F1260,$AQ$2:$AQ$44&$AR$2:$AR$44,0),MATCH(J$1,$AS$1:$AX$1,0))","v":0},{"$f":"INDEX(CHARGES,MATCH($D1260&$F1260,$AQ$2:$AQ$44&$AR$2:$AR$44,0),MATCH(K$1,$AS$1:$AX$1,0))","v":0},{"$f":"INDEX(CHARGES,MATCH($D1260&$F1260,$AQ$2:$AQ$44&$AR$2:$AR$44,0),MATCH(L$1,$AS$1:$AX$1,0))","v":0}]
["Other Areas - No Water or Sewer","Tourist attraction","Tourist attraction","Other uses","NR_1","Impervious Area",0,0,0,{"$f":"INDEX(CHARGES,MATCH($D1261&$F1261,$AQ$2:$AQ$44&$AR$2:$AR$44,0),MATCH(J$1,$AS$1:$AX$1,0))","v":0},{"$f":"INDEX(CHARGES,MATCH($D1261&$F1261,$AQ$2:$AQ$44&$AR$2:$AR$44,0),MATCH(K$1,$AS$1:$AX$1,0))","v":0},{"$f":"INDEX(CHARGES,MATCH($D1261&$F1261,$AQ$2:$AQ$44&$AR$2:$AR$44,0),MATCH(L$1,$AS$1:$AX$1,0))","v":0}]
["Other Areas - No Water or Sewer","Tourist park","Tourist park","Accommodation (short-term)","RU_3","group of 2 sites/cabins or less",2829,0,0,{"$f":"INDEX(CHARGES,MATCH($D1262&$F1262,$AQ$2:$AQ$44&$AR$2:$AR$44,0),MATCH(J$1,$AS$1:$AX$1,0))","v":104},{"$f":"INDEX(CHARGES,MATCH($D1262&$F1262,$AQ$2:$AQ$44&$AR$2:$AR$44,0),MATCH(K$1,$AS$1:$AX$1,0))","v":2620},{"$f":"INDEX(CHARGES,MATCH($D1262&$F1262,$AQ$2:$AQ$44&$AR$2:$AR$44,0),MATCH(L$1,$AS$1:$AX$1,0))","v":105}]
["Other Areas - No Water or Sewer","Tourist park","Tourist park","Accommodation (short-term)","RU_3","group of 3 sites/cabins",3961,0,0,{"$f":"INDEX(CHARGES,MATCH($D1263&$F1263,$AQ$2:$AQ$44&$AR$2:$AR$44,0),MATCH(J$1,$AS$1:$AX$1,0))","v":146},{"$f":"INDEX(CHARGES,MATCH($D1263&$F1263,$AQ$2:$AQ$44&$AR$2:$AR$44,0),MATCH(K$1,$AS$1:$AX$1,0))","v":3668},{"$f":"INDEX(CHARGES,MATCH($D1263&$F1263,$AQ$2:$AQ$44&$AR$2:$AR$44,0),MATCH(L$1,$AS$1:$AX$1,0))","v":147}]
["Other Areas - No Water or Sewer","Transport depot","Low impact industry","Other industry","NR_1","Gross Floor Area",17,0,0,{"$f":"INDEX(CHARGES,MATCH($D1264&$F1264,$AQ$2:$AQ$44&$AR$2:$AR$44,0),MATCH(J$1,$AS$1:$AX$1,0))","v":0},{"$f":"INDEX(CHARGES,MATCH($D1264&$F1264,$AQ$2:$AQ$44&$AR$2:$AR$44,0),MATCH(K$1,$AS$1:$AX$1,0))","v":17},{"$f":"INDEX(CHARGES,MATCH($D1264&$F1264,$AQ$2:$AQ$44&$AR$2:$AR$44,0),MATCH(L$1,$AS$1:$AX$1,0))","v":0}]
["Other Areas - No Water or Sewer","Transport depot","Low impact industry","Other industry","NR_1","Impervious Area",5,0,0,{"$f":"INDEX(CHARGES,MATCH($D1265&$F1265,$AQ$2:$AQ$44&$AR$2:$AR$44,0),MATCH(J$1,$AS$1:$AX$1,0))","v":5},{"$f":"INDEX(CHARGES,MATCH($D1265&$F1265,$AQ$2:$AQ$44&$AR$2:$AR$44,0),MATCH(K$1,$AS$1:$AX$1,0))","v":0},{"$f":"INDEX(CHARGES,MATCH($D1265&$F1265,$AQ$2:$AQ$44&$AR$2:$AR$44,0),MATCH(L$1,$AS$1:$AX$1,0))","v":0}]
["Other Areas - No Water or Sewer","Utility installation","Utility installation","Other uses","NR_1","Gross Floor Area",0,0,0,{"$f":"INDEX(CHARGES,MATCH($D1266&$F1266,$AQ$2:$AQ$44&$AR$2:$AR$44,0),MATCH(J$1,$AS$1:$AX$1,0))","v":0},{"$f":"INDEX(CHARGES,MATCH($D1266&$F1266,$AQ$2:$AQ$44&$AR$2:$AR$44,0),MATCH(K$1,$AS$1:$AX$1,0))","v":0},{"$f":"INDEX(CHARGES,MATCH($D1266&$F1266,$AQ$2:$AQ$44&$AR$2:$AR$44,0),MATCH(L$1,$AS$1:$AX$1,0))","v":0}]
["Other Areas - No Water or Sewer","Utility installation","Utility installation","Other uses","NR_1","Impervious Area",0,0,0,{"$f":"INDEX(CHARGES,MATCH($D1267&$F1267,$AQ$2:$AQ$44&$AR$2:$AR$44,0),MATCH(J$1,$AS$1:$AX$1,0))","v":0},{"$f":"INDEX(CHARGES,MATCH($D1267&$F1267,$AQ$2:$AQ$44&$AR$2:$AR$44,0),MATCH(K$1,$AS$1:$AX$1,0))","v":0},{"$f":"INDEX(CHARGES,MATCH($D1267&$F1267,$AQ$2:$AQ$44&$AR$2:$AR$44,0),MATCH(L$1,$AS$1:$AX$1,0))","v":0}]
["Other Areas - No Water or Sewer","Veterinary services","Veterinary services","Essential services","NR_1","Gross Floor Area",48,0,0,{"$f":"INDEX(CHARGES,MATCH($D1268&$F1268,$AQ$2:$AQ$44&$AR$2:$AR$44,0),MATCH(J$1,$AS$1:$AX$1,0))","v":0},{"$f":"INDEX(CHARGES,MATCH($D1268&$F1268,$AQ$2:$AQ$44&$AR$2:$AR$44,0),MATCH(K$1,$AS$1:$AX$1,0))","v":48},{"$f":"INDEX(CHARGES,MATCH($D1268&$F1268,$AQ$2:$AQ$44&$AR$2:$AR$44,0),MATCH(L$1,$AS$1:$AX$1,0))","v":0}]
["Other Areas - No Water or Sewer","Veterinary services","Veterinary services","Essential services","NR_1","Impervious Area",5,0,0,{"$f":"INDEX(CHARGES,MATCH($D1269&$F1269,$AQ$2:$AQ$44&$AR$2:$AR$44,0),MATCH(J$1,$AS$1:$AX$1,0))","v":5},{"$f":"INDEX(CHARGES,MATCH($D1269&$F1269,$AQ$2:$AQ$44&$AR$2:$AR$44,0),MATCH(K$1,$AS$1:$AX$1,0))","v":0},{"$f":"INDEX(CHARGES,MATCH($D1269&$F1269,$AQ$2:$AQ$44&$AR$2:$AR$44,0),MATCH(L$1,$AS$1:$AX$1,0))","v":0}]
["Other Areas - No Water or Sewer","Warehouse","Warehouse","Other industry","NR_1","Gross Floor Area",17,0,0,{"$f":"INDEX(CHARGES,MATCH($D1270&$F1270,$AQ$2:$AQ$44&$AR$2:$AR$44,0),MATCH(J$1,$AS$1:$AX$1,0))","v":0},{"$f":"INDEX(CHARGES,MATCH($D1270&$F1270,$AQ$2:$AQ$44&$AR$2:$AR$44,0),MATCH(K$1,$AS$1:$AX$1,0))","v":17},{"$f":"INDEX(CHARGES,MATCH($D1270&$F1270,$AQ$2:$AQ$44&$AR$2:$AR$44,0),MATCH(L$1,$AS$1:$AX$1,0))","v":0}]
["Other Areas - No Water or Sewer","Warehouse","Warehouse","Other industry","NR_1","Impervious Area",5,0,0,{"$f":"INDEX(CHARGES,MATCH($D1271&$F1271,$AQ$2:$AQ$44&$AR$2:$AR$44,0),MATCH(J$1,$AS$1:$AX$1,0))","v":5},{"$f":"INDEX(CHARGES,MATCH($D1271&$F1271,$AQ$2:$AQ$44&$AR$2:$AR$44,0),MATCH(K$1,$AS$1:$AX$1,0))","v":0},{"$f":"INDEX(CHARGES,MATCH($D1271&$F1271,$AQ$2:$AQ$44&$AR$2:$AR$44,0),MATCH(L$1,$AS$1:$AX$1,0))","v":0}]
["Other Areas - No Water or Sewer","Wholesale nursery","Wholesale nursery","High impact rural","NR_3","Gross Floor Area",7,0,0,{"$f":"INDEX(CHARGES,MATCH($D1272&$F1272,$AQ$2:$AQ$44&$AR$2:$AR$44,0),MATCH(J$1,$AS$1:$AX$1,0))","v":0},{"$f":"INDEX(CHARGES,MATCH($D1272&$F1272,$AQ$2:$AQ$44&$AR$2:$AR$44,0),MATCH(K$1,$AS$1:$AX$1,0))","v":7},{"$f":"INDEX(CHARGES,MATCH($D1272&$F1272,$AQ$2:$AQ$44&$AR$2:$AR$44,0),MATCH(L$1,$AS$1:$AX$1,0))","v":0}]
["Other Areas - No Water or Sewer","Winery","Winery","High impact rural","NR_3","Gross Floor Area",7,0,0,{"$f":"INDEX(CHARGES,MATCH($D1273&$F1273,$AQ$2:$AQ$44&$AR$2:$AR$44,0),MATCH(J$1,$AS$1:$AX$1,0))","v":0},{"$f":"INDEX(CHARGES,MATCH($D1273&$F1273,$AQ$2:$AQ$44&$AR$2:$AR$44,0),MATCH(K$1,$AS$1:$AX$1,0))","v":7},{"$f":"INDEX(CHARGES,MATCH($D1273&$F1273,$AQ$2:$AQ$44&$AR$2:$AR$44,0),MATCH(L$1,$AS$1:$AX$1,0))","v":0}]
["Other Areas - No Water or Sewer","Reconfiguring a lot - Residential","Reconfiguring a lot - Residential","Residential uses","ROL","Lots",7921,0,0,{"$f":"INDEX(CHARGES,MATCH($D1274&$F1274,$AQ$2:$AQ$44&$AR$2:$AR$44,0),MATCH(J$1,$AS$1:$AX$1,0))","v":293},{"$f":"INDEX(CHARGES,MATCH($D1274&$F1274,$AQ$2:$AQ$44&$AR$2:$AR$44,0),MATCH(K$1,$AS$1:$AX$1,0))","v":7335},{"$f":"INDEX(CHARGES,MATCH($D1274&$F1274,$AQ$2:$AQ$44&$AR$2:$AR$44,0),MATCH(L$1,$AS$1:$AX$1,0))","v":293}]
["Other Areas - No Water or Sewer","Reconfiguring a lot - Non residential","Reconfiguring a lot - Non residential","Non-residential uses","ROL","Lots",9535,0,0,{"$f":"INDEX(CHARGES,MATCH($D1275&$F1275,$AQ$2:$AQ$44&$AR$2:$AR$44,0),MATCH(J$1,$AS$1:$AX$1,0))","v":293},{"$f":"INDEX(CHARGES,MATCH($D1275&$F1275,$AQ$2:$AQ$44&$AR$2:$AR$44,0),MATCH(K$1,$AS$1:$AX$1,0))","v":9242},{"$f":"INDEX(CHARGES,MATCH($D1275&$F1275,$AQ$2:$AQ$44&$AR$2:$AR$44,0),MATCH(L$1,$AS$1:$AX$1,0))","v":0}]